{"text_format":"1","workbook":"xlsx","n_sheets":5,"sheets":["Instructions","Company Setup","Periodic Inputs","Marketing Calendar","Calendar"],"not_rendered":{"charts":0,"images":4,"macros":1,"external_links":0,"defined_names":24,"comments":0,"pivot_tables":0},"unopened":[],"bounds":{"document_bytes":16777216,"sheet_cells":100000,"rows_first":2000,"rows_last":500,"rows_between":2000,"halvings":0,"cell_chars":16384,"cell_head_chars":4096},"cells_cut":0,"cells_raw":0,"read":"whole","date_system":"1900"}

{"sheet":"Instructions","index":0,"n_rows":53,"n_cols":19,"rows_kept":53,"cut":false,"hidden":false,"merged":[]}
[null,null,null,null,null,null,null,null,null,null,null,null,null,null,null,null,"Pick Month List"]
[null,null,null,"Enter the calendar year here:  ",2018,"  (Accepts any year between 2000 and 2100)",null,null,null,null,null,null,null,null,null,null,"January"]
[]
[null,null,null,null,null,"Enter the first accounting month of your fiscal year:  ","January",null,null,null,null,null,null,null,null,null,"February"]
[null,null,null,null,null,null,null,null,null,null,null,null,null,null,null,null,"March"]
[null,"All remaining entries are made in the Company Setup and Periodic Inputs pages.  All cells that accept input",null,null,null,null,null,null,null,null,null,null,null,null,null,null,"April","Month List"]
[null,"are color tinted to help easily find where to enter information.  All other cells are locked to prevent errors.",null,null,null,null,null,null,null,null,null,null,null,null,null,null,"May","January",1]
[null,null,null,null,null,null,null,null,null,null,null,null,null,null,null,null,"June","February",2]
[null,"       Inputs are organized into Company Setup and Periodic Inputs.  Marketing items that occur on specific",null,null,null,null,null,null,null,null,null,null,null,null,null,null,"July","March",3]
[null,"dates are entered in Periodic Inputs; most other information is entered in Company Setup. If telemarketing is",null,null,null,null,null,null,null,null,null,null,null,null,null,null,"August","April",4]
[null,"planned it will be a special case. The monthly budget should be entered in a Telemarketing column on the ",null,null,null,null,null,null,null,null,null,null,null,null,null,null,"September","May",5]
[null,"Company Setup page and telemarketing days scheduled on the Periodic Inputs page.",null,null,null,null,null,null,null,null,null,"     ",null,null,null,null,"October","June",6]
[null,null,null,null,null,null,null,null,null,null,null,null," ",null,null,null,"November","July",7]
[null,"Company Setup Input Examples:",null,null,null,null,null,null,null,null,null,null,null,null,null,null,"December","August",8]
[null,"  *  Company name",null,null,null,null,null,null,null,null,null,null,null,null,null,null,null,"September",9]
[null,"  *  Monthly budget projections, advertising expenses and percentage allocations",null,null,null,null,null,null,null,null,null,null,null,null,null,null,null,"October",10]
[null,"  *  Four columns have user defined names.  If the column heading is yellow you may enter a category name",null,null,null,null,null,null,null,null,null,null,null,null,null,null,null,"November",11]
[null,"     to customize this planner to fit your marketing plans. The column header names and budget you enter here ",null,null,null,null,null,null,null,null,null,null,null,null,null,null,null,"December",12]
[null,"     will be shown in the monthly and annual summary Marketing Calendar pages."]
[null,"  *  Code table for up to fourteen periodic advertising categories; use the default codes and/or create your own."]
[]
[null," Periodic Inputs Examples:"]
[null,"  *  Enter information for each calendar date using these rules:"]
[null,"      -  Entries for up to four rows under each Marketing Calendar date are entered in a single row to the right "]
[null,"         of each Periodic Input date. "]
[null,"      -  Enter a Code, short description and Cost for each marketing item, one item per color group."]
[null,"      -  Same color fields are one row on the Marketing Calendar for each date; blue is row 1, yellow is row 2, etc."]
[null,"      -  Code and cost fields in Periodic Inputs are linked in specific ways to the Marketing Calendar and cannot "]
[null,"          be used to enter descriptive text information."]
[null,"      -  If more room is needed for description use other text fields on the same Input row if available, but enter"]
[null,"          code and cost for each item only once per day."]
[null,"  *  Schedule Telemarketing days by typing a \"T\" in the green column. Telemarketing schedule will display as"]
[null,"      a shaded bar on the Marketing Calendar and monthly cost will be included in summary at bottom of page."]
[null,"      Note:  Holiday dates on this page are shown in red"]
[]
[null,"Printing Instructions:"]
[null,"      Print the Marketing Calendar by clicking"]
[null,"      on the Printer icon or File / Print from the"]
[null,"      menu bar with Print range All selected."]
[]
[null,"      To print selected months, click on Preview"]
[null,"      icon or File / Print from the menu bar to "]
[null,"      bring up this Print window and type the"]
[null,"      month numbers (1-12) to print in the"]
[null,"      From and To boxes after Page(s)."]
[]
[null,"      In this example, the Marketing Calendar "]
[null,"      for month 6 will be printed.",null,null,null,"Page 13 is the Annual Marketing Summary."]
[]
[null,"Printable Accounting Calendar"]
[null,"      Click on the Calendar tab and then the printer icon on the toolbar."]
[]
["©","Bedrock Markets, Inc. 2000- 2100   100 Year Marketing Calendar ver 5.0"]

{"sheet":"Company Setup","index":1,"n_rows":37,"n_cols":12,"rows_kept":37,"cut":false,"hidden":false,"merged":[[1,4,1,5]]}
[]
[null,null,null,"Company Name: ","ABC Heating and Air"]
[]
[null,null,null,null,"Enter Monthly Budgets and Forecasts in each column",null,null,null,"Budget ","Budget"]
[null,null,null,"Revenue","Reviews","SEO","Shows & Contests","Community Events","% Target","Variance"]
[{"$f":"StartMonth","v":"January"},null,1,86677,null,null,null,null,0.05,{"$f":"IF(I6>0,SUM(E6:H6)-I6*D6,0)","v":-4333.8500000000004},{"$f":"VLOOKUP(StartMonth,MonthLookup,2)","v":1},{"$f":"I6*D6","v":4333.8500000000004}]
[{"$f":"VLOOKUP(IF(K6=12,1,K6+1),Monthlookup2,2)","v":"February"},null,2,86677,null,null,null,null,0.05,{"$f":"IF(I7>0,SUM(E7:H7)-I7*D7,0)","v":-4333.8500000000004},{"$f":"IF(K6=12,1,K6+1)","v":2},{"$f":"I7*D7","v":4333.8500000000004}]
[{"$f":"VLOOKUP(IF(K7=12,1,K7+1),Monthlookup2,2)","v":"March"},null,3,86677,null,null,null,null,0.05,-4333.8500000000004,{"$f":"IF(K7=12,1,K7+1)","v":3},4333.8500000000004]
["April",null,4,86677,null,null,null,null,0.05,-4333.8500000000004,4,4333.8500000000004]
["May",null,5,86677,null,null,null,null,0.05,-4333.8500000000004,5,4333.8500000000004]
["June",null,6,86677,null,null,null,null,0.05,-4333.8500000000004,6,4333.8500000000004]
["July",null,7,86677,null,null,null,null,0.05,-4333.8500000000004,7,4333.8500000000004]
["August",null,8,86677,null,null,null,null,0.05,-4333.8500000000004,8,4333.8500000000004]
["September",null,9,86677,null,null,null,null,0.05,-4333.8500000000004,9,4333.8500000000004]
["October",null,10,86677,null,null,null,null,0.05,-4333.8500000000004,10,4333.8500000000004]
["November",null,11,86677,null,null,null,null,0.05,-4333.8500000000004,11,4333.8500000000004]
["December",null,12,86677,null,null,null,null,0.05,-4333.8500000000004,12,4333.8500000000004]
[null,null,null,null,null,null,null,null,null,{"$f":"SUM(J6:J17)","v":-52006.19999999999}]
[null,"  *  Four columns have user defined names.  If the column heading is yellow you may enter a category name"]
[null,"     to customize this planner to fit your marketing plans. The column header names and budget you enter here "]
["Code Categories","     will be shown in the monthly and annual summary Marketing Calendar pages.",null,"Description","Yellow column headings may be changed.  Marketing Calendar pages will summarize these categories."]
[null,"W",null,"Website","  < Set up Codes for advertising categories in these sixteen rows. Use single character codes and up to ",null,null,null,null,null,null,{"$f":"IF(ISTEXT(B30),UPPER(B30)&\"=\"&PROPER(D30)&\", \",\"\")","v":"B=Broadcast, "}]
[null,"L",null,"Letter","     15 characters for descriptions.  These are requirements for the program to work correctly and for",null,null,null,null,null,null,{"$f":"IF(ISTEXT(B23),UPPER(B23)&\"=\"&PROPER(D23)&\", \",\"\")","v":"L=Letter, "}]
[null,"P",null,"Postcard","     your entries to fit in the spaces on the calendar.",null,null,null,null,null,null,"P=Postcard, "]
[null,"F",null,"Flyer",null,null,null,null,null,null,null,"F=Flyer, "]
[null,"H",null,"Hanger","     You may remove, change or add any codes in this table before you begin using the calendar.",null,null,null,null,null,null,"H=Hanger, "]
[null,"I",null,"Newspaper Ads",null,null,null,null,null,null,null,"I=Newspaper Ads, "]
[null,"N",null,"Newsletter","     CAUTION:",null,null,null,null,null,null,"N=Newsletter, "]
[null,"E",null,"E-Mail","     If you remove or change codes after making entries in the Periodic Input page, any cost information",null,null,null,null,null,null,"E=E-Mail, "]
[null,"B",null,"Broadcast","     for the deleted or changed codes may not be included correctly in monthly summary calculations.",null,null,null,null,null,null,{"$f":"IF(ISTEXT(#REF!),UPPER(#REF!)&\"=\"&PROPER(#REF!)&\", \",\"\")","v":""}]
[null,"A",null,"Banner Ads",null,null,null,null,null,null,null,{"$f":"IF(ISTEXT(B31),UPPER(B31)&\"=\"&PROPER(D31)&\", \",\"\")","v":"A=Banner Ads, "}]
[null,"Y",null,"Yellow Pages",null,null,null,null,null,null,null,{"$f":"IF(ISTEXT(B32),UPPER(B32)&\"=\"&PROPER(D32)&\", \",\"\")","v":"Y=Yellow Pages, "}]
[null,null,null,null,null,null,null,null,null,null,null,{"$f":"IF(ISTEXT(B33),UPPER(B33)&\"=\"&PROPER(D33)&\", \",\"\")","v":""}]
[null,null,null,null,null,null,null,null,null,null,null,""]
[null,null,null,null,null,null,null,null,null,null,null,""]
[]
[" © Bedrock Markets, Inc. 2000 -2100"]

{"sheet":"Periodic Inputs","index":2,"n_rows":389,"n_cols":15,"rows_kept":389,"cut":false,"hidden":false,"merged":[[4,3,4,13]]}
[" Type codes and text in columns to right of date.  What you type will appear on Marketing Calendar in descending rows under each date."]
[" Enter odes and corresponding costs in the same color section and date for the program to calculate it into the marketing summaries."]
[null,null,"t"]
[null,"      type \"T\"  in this column only to schedule Telemarketing days.  Select code and enter in Code columns from the codes below."]
[null,null,null,{"$f":"'Company Setup'!L22&'Company Setup'!L23&'Company Setup'!L24&'Company Setup'!L25&'Company Setup'!L26&'Company Setup'!L27&'Company Setup'!L28&'Company Setup'!L29&'Company Setup'!L30&'Company Setup'!L31&'Company Setup'!L32&'Company Setup'!L33&'Company Setup'!L34&'Company Setup'!L35","v":"B=Broadcast, L=Letter, P=Postcard, F=Flyer, H=Hanger, I=Newspaper Ads, N=Newsletter, E=E-Mail, A=Banner Ads, Y=Yellow Pages, "}]
["Date","Day","Tele- market","Code 1","Row 1 Text","Row 1 Cost","Code 2","Row 2 Text","Row 2 Cost","Code 3","Row 3 Text","Row 3 Cost","Code 4","Row 4 Text","Row 4 Cost"]
["00:00:00"]
[{"$f":"Calendar!S4","v":"2018-01-01"},{"$f":"VLOOKUP(WEEKDAY(A8,1),DayTable,2,FALSE)","v":"M"}]
[{"$f":"1+A8","v":"2018-01-02"},{"$f":"VLOOKUP(WEEKDAY(A9,1),DayTable,2,FALSE)","v":"T"}]
[{"$f":"1+A9","v":"2018-01-03"},"W"]
["2018-01-04","Th"]
["2018-01-05","F"]
["2018-01-06","Sa"]
["2018-01-07","Su"]
["2018-01-08","M"]
["2018-01-09","T"]
["2018-01-10","W"]
["2018-01-11","Th"]
["2018-01-12","F"]
["2018-01-13","Sa"]
["2018-01-14","Su"]
["2018-01-15","M"]
[{"$f":"1+A22","v":"2018-01-16"},"T"]
["2018-01-17","W"]
["2018-01-18","Th"]
["2018-01-19","F"]
["2018-01-20","Sa"]
["2018-01-21","Su"]
["2018-01-22","M"]
["2018-01-23","T"]
["2018-01-24","W"]
["2018-01-25","Th"]
["2018-01-26","F"]
["2018-01-27","Sa"]
["2018-01-28","Su"]
["2018-01-29","M"]
["2018-01-30","T"]
["2018-01-31","W"]
["2018-02-01","Th"]
["2018-02-02","F"]
["2018-02-03","Sa"]
["2018-02-04","Su"]
["2018-02-05","M"]
["2018-02-06","T"]
["2018-02-07","W"]
["2018-02-08","Th"]
["2018-02-09","F"]
["2018-02-10","Sa"]
["2018-02-11","Su"]
["2018-02-12","M"]
["2018-02-13","T"]
["2018-02-14","W"]
["2018-02-15","Th"]
["2018-02-16","F"]
[{"$f":"1+A54","v":"2018-02-17"},"Sa"]
[{"$f":"1+A55","v":"2018-02-18"},"Su"]
[{"$f":"1+A56","v":"2018-02-19"},"M"]
[{"$f":"1+A57","v":"2018-02-20"},"T"]
[{"$f":"1+A58","v":"2018-02-21"},"W"]
["2018-02-22","Th"]
["2018-02-23","F"]
["2018-02-24","Sa"]
["2018-02-25","Su"]
["2018-02-26","M"]
["2018-02-27","T"]
["2018-02-28","W"]
["2018-03-01","Th"]
["2018-03-02","F"]
["2018-03-03","Sa"]
["2018-03-04","Su"]
["2018-03-05","M"]
["2018-03-06",{"$f":"VLOOKUP(WEEKDAY(A72,1),DayTable,2,FALSE)","v":"T"}]
["2018-03-07","W"]
[{"$f":"1+A73","v":"2018-03-08"},"Th"]
["2018-03-09","F"]
["2018-03-10","Sa"]
["2018-03-11","Su"]
["2018-03-12","M"]
["2018-03-13","T"]
["2018-03-14","W"]
["2018-03-15","Th"]
["2018-03-16","F"]
["2018-03-17","Sa"]
["2018-03-18","Su"]
["2018-03-19","M"]
["2018-03-20","T"]
["2018-03-21","W"]
["2018-03-22","Th"]
["2018-03-23","F"]
["2018-03-24","Sa"]
["2018-03-25","Su"]
["2018-03-26","M"]
[{"$f":"1+A92","v":"2018-03-27"},"T"]
["2018-03-28","W"]
["2018-03-29","Th"]
["2018-03-30","F"]
["2018-03-31","Sa"]
["2018-04-01","Su"]
["2018-04-02","M"]
["2018-04-03","T"]
["2018-04-04","W"]
["2018-04-05","Th"]
["2018-04-06","F"]
["2018-04-07","Sa"]
["2018-04-08","Su"]
["2018-04-09","M"]
["2018-04-10","T"]
["2018-04-11","W"]
["2018-04-12","Th"]
["2018-04-13","F"]
["2018-04-14","Sa"]
["2018-04-15","Su"]
["2018-04-16","M"]
["2018-04-17","T"]
["2018-04-18","W"]
["2018-04-19","Th"]
["2018-04-20","F"]
["2018-04-21","Sa"]
["2018-04-22","Su"]
["2018-04-23","M"]
["2018-04-24","T"]
["2018-04-25","W"]
["2018-04-26","Th"]
["2018-04-27","F"]
["2018-04-28","Sa"]
["2018-04-29","Su"]
["2018-04-30","M"]
["2018-05-01","T"]
["2018-05-02","W"]
["2018-05-03","Th"]
["2018-05-04","F"]
["2018-05-05","Sa"]
["2018-05-06","Su"]
["2018-05-07","M"]
["2018-05-08","T"]
["2018-05-09",{"$f":"VLOOKUP(WEEKDAY(A136,1),DayTable,2,FALSE)","v":"W"}]
["2018-05-10","Th"]
[{"$f":"1+A137","v":"2018-05-11"},"F"]
["2018-05-12","Sa"]
["2018-05-13","Su"]
["2018-05-14","M"]
["2018-05-15","T"]
["2018-05-16","W"]
["2018-05-17","Th"]
["2018-05-18","F"]
["2018-05-19","Sa"]
["2018-05-20","Su"]
["2018-05-21","M"]
["2018-05-22","T"]
["2018-05-23","W"]
["2018-05-24","Th"]
["2018-05-25","F"]
["2018-05-26","Sa"]
["2018-05-27","Su"]
["2018-05-28","M"]
["2018-05-29","T"]
["2018-05-30","W"]
["2018-05-31","Th"]
[{"$f":"1+A158","v":"2018-06-01"},"F"]
["2018-06-02","Sa"]
["2018-06-03","Su"]
["2018-06-04","M"]
["2018-06-05","T"]
["2018-06-06","W"]
["2018-06-07","Th"]
["2018-06-08","F"]
["2018-06-09","Sa"]
["2018-06-10","Su"]
["2018-06-11","M"]
["2018-06-12","T"]
["2018-06-13","W"]
["2018-06-14","Th"]
["2018-06-15","F"]
["2018-06-16","Sa"]
["2018-06-17","Su"]
["2018-06-18","M"]
["2018-06-19","T"]
["2018-06-20","W"]
["2018-06-21","Th"]
["2018-06-22","F"]
["2018-06-23","Sa"]
["2018-06-24","Su"]
["2018-06-25","M"]
["2018-06-26","T"]
["2018-06-27","W"]
["2018-06-28","Th"]
["2018-06-29","F"]
["2018-06-30","Sa"]
["2018-07-01","Su"]
["2018-07-02","M"]
[{"$f":"1+A190","v":"2018-07-03"},"T"]
["2018-07-04","W"]
["2018-07-05","Th"]
["2018-07-06","F"]
["2018-07-07","Sa"]
["2018-07-08","Su"]
["2018-07-09","M"]
["2018-07-10","T"]
["2018-07-11","W"]
["2018-07-12",{"$f":"VLOOKUP(WEEKDAY(A200,1),DayTable,2,FALSE)","v":"Th"}]
["2018-07-13","F"]
[{"$f":"1+A201","v":"2018-07-14"},"Sa"]
["2018-07-15","Su"]
["2018-07-16","M"]
["2018-07-17","T"]
["2018-07-18","W"]
["2018-07-19","Th"]
["2018-07-20","F"]
["2018-07-21","Sa"]
["2018-07-22","Su"]
["2018-07-23","M"]
["2018-07-24","T"]
["2018-07-25","W"]
["2018-07-26","Th"]
["2018-07-27","F"]
["2018-07-28","Sa"]
["2018-07-29","Su"]
["2018-07-30","M"]
["2018-07-31","T"]
["2018-08-01","W"]
["2018-08-02","Th"]
["2018-08-03","F"]
["2018-08-04","Sa"]
["2018-08-05","Su"]
["2018-08-06","M"]
["2018-08-07","T"]
["2018-08-08","W"]
["2018-08-09","Th"]
["2018-08-10","F"]
["2018-08-11","Sa"]
["2018-08-12","Su"]
["2018-08-13","M"]
["2018-08-14","T"]
["2018-08-15","W"]
["2018-08-16","Th"]
["2018-08-17","F"]
["2018-08-18","Sa"]
["2018-08-19","Su"]
["2018-08-20","M"]
["2018-08-21","T"]
["2018-08-22","W"]
["2018-08-23","Th"]
["2018-08-24","F"]
["2018-08-25","Sa"]
["2018-08-26","Su"]
["2018-08-27","M"]
["2018-08-28","T"]
["2018-08-29","W"]
["2018-08-30","Th"]
["2018-08-31","F"]
[{"$f":"1+A250","v":"2018-09-01"},"Sa"]
[{"$f":"1+A251","v":"2018-09-02"},"Su"]
["2018-09-03","M"]
["2018-09-04","T"]
["2018-09-05","W"]
["2018-09-06","Th"]
["2018-09-07","F"]
["2018-09-08","Sa"]
["2018-09-09","Su"]
["2018-09-10","M"]
["2018-09-11","T"]
["2018-09-12","W"]
["2018-09-13","Th"]
["2018-09-14",{"$f":"VLOOKUP(WEEKDAY(A264,1),DayTable,2,FALSE)","v":"F"}]
["2018-09-15","Sa"]
[{"$f":"1+A265","v":"2018-09-16"},"Su"]
["2018-09-17","M"]
["2018-09-18","T"]
["2018-09-19","W"]
["2018-09-20","Th"]
["2018-09-21","F"]
["2018-09-22","Sa"]
["2018-09-23","Su"]
["2018-09-24","M"]
["2018-09-25","T"]
["2018-09-26","W"]
["2018-09-27","Th"]
["2018-09-28","F"]
["2018-09-29","Sa"]
["2018-09-30","Su"]
["2018-10-01","M"]
["2018-10-02","T"]
["2018-10-03","W"]
["2018-10-04","Th"]
["2018-10-05","F"]
["2018-10-06","Sa"]
["2018-10-07","Su"]
["2018-10-08","M"]
["2018-10-09","T"]
["2018-10-10","W"]
["2018-10-11","Th"]
["2018-10-12","F"]
["2018-10-13","Sa"]
["2018-10-14","Su"]
["2018-10-15","M"]
["2018-10-16","T"]
["2018-10-17","W"]
["2018-10-18","Th"]
["2018-10-19","F"]
["2018-10-20","Sa"]
["2018-10-21","Su"]
["2018-10-22","M"]
["2018-10-23","T"]
["2018-10-24","W"]
["2018-10-25","Th"]
["2018-10-26","F"]
["2018-10-27","Sa"]
["2018-10-28","Su"]
["2018-10-29","M"]
["2018-10-30","T"]
["2018-10-31","W"]
["2018-11-01","Th"]
["2018-11-02","F"]
["2018-11-03","Sa"]
["2018-11-04","Su"]
["2018-11-05","M"]
["2018-11-06","T"]
["2018-11-07","W"]
["2018-11-08","Th"]
["2018-11-09","F"]
["2018-11-10","Sa"]
["2018-11-11","Su"]
["2018-11-12","M"]
["2018-11-13","T"]
["2018-11-14","W"]
["2018-11-15","Th"]
["2018-11-16","F"]
["2018-11-17",{"$f":"VLOOKUP(WEEKDAY(A328,1),DayTable,2,FALSE)","v":"Sa"}]
["2018-11-18","Su"]
[{"$f":"1+A329","v":"2018-11-19"},"M"]
["2018-11-20","T"]
[{"$f":"1+A331","v":"2018-11-21"},"W"]
["2018-11-22","Th"]
["2018-11-23","F"]
["2018-11-24","Sa"]
["2018-11-25","Su"]
["2018-11-26","M"]
[{"$f":"1+A337","v":"2018-11-27"},"T"]
[{"$f":"1+A338","v":"2018-11-28"},"W"]
[{"$f":"1+A339","v":"2018-11-29"},"Th"]
["2018-11-30","F"]
["2018-12-01","Sa"]
["2018-12-02","Su"]
["2018-12-03","M"]
["2018-12-04","T"]
["2018-12-05","W"]
["2018-12-06","Th"]
["2018-12-07","F"]
["2018-12-08","Sa"]
["2018-12-09","Su"]
["2018-12-10","M"]
["2018-12-11","T"]
["2018-12-12","W"]
["2018-12-13","Th"]
["2018-12-14","F"]
["2018-12-15","Sa"]
["2018-12-16","Su"]
["2018-12-17","M"]
["2018-12-18","T"]
["2018-12-19","W"]
["2018-12-20","Th"]
["2018-12-21","F"]
["2018-12-22","Sa"]
["2018-12-23","Su"]
[{"$f":"1+A364","v":"2018-12-24"},"M"]
[{"$f":"1+A365","v":"2018-12-25"},"T"]
["2018-12-26","W"]
["2018-12-27","Th"]
["2018-12-28","F"]
[{"$f":"1+A369","v":"2018-12-29"},"Sa"]
["2018-12-30","Su"]
["2018-12-31","M"]
["2019-01-01","T"]
["2019-01-02","W"]
["2019-01-03","Th"]
["2019-01-04","F"]
["2019-01-05","Sa"]
[{"$f":"1+A377","v":"2019-01-06"},"Su","t","b","Row 1 Text",334,null,null,null,null,null,null,null,"Row 4 Text",337]
["2019-01-07","M","t","b","Row 1 Text",335,null,null,null,null,null,null,null,"Row 4 Text",338]
["2019-01-08","T","t","b","Row 1 Text",336,null,null,null,null,null,null,null,"Row 4 Text",339]
["2019-01-09","W","t","b","Row 1 Text",337,null,null,null,null,null,null,null,"Row 4 Text",340]
["2019-01-10","Th","t","b","Row 1 Text",338,null,null,null,null,null,null,null,"Row 4 Text",341]
["2019-01-11","F","t","b","Row 1 Text",339,null,null,null,null,null,null,null,"Row 4 Text",342]
["2019-01-12","Sa","t","b","Row 1 Text",340,null,null,null,null,null,null,null,"Row 4 Text",343]
[]
[]
[{"$f":"\"12/31/\"&(CurrYear+1)","v":"12/31/2019"}]
[]
[null,"©","Bedrock Markets, Inc. 2002 -- 2012"]

{"sheet":"Marketing Calendar","index":3,"n_rows":681,"n_cols":57,"rows_kept":681,"cut":false,"hidden":false,"merged":[]}
[0,0.67,null,null,1,null,null,null,null,2,null,null,null,null,3,null,null,null,null,4,null,null,null,null,null,5,null,null,null,null,null,6,null,null,null,null,7]
[]
[null,null,null,null,{"$f":"VLOOKUP(StartMonth,MonthLookup,2)","v":1},{"$f":"StartMonth&\" \"&CurrYear","v":"January 2018"},null,null,null,null,null,null,null,null,null,{"$f":"\"   \"&'Company Setup'!E2","v":"   ABC Heating and Air"},null,null,null,null,null,null,null,null,null,null,null,null,null,null,null,null,null,null,null,null,null,null,null,null,"Important!  Add 2 spaces after code - very necessary"]
[]
[null,null,null,null,"Sunday",null,null,null,null,"Monday",null,null,null,null,"Tuesday",null,null,null,null,"Wednesday",null,null,null,null,null,"Thursday",null,null,null,null,null,"Friday",null,null,null,null,"Saturday",null,null,null,"Code:",{"$f":"UPPER('Company Setup'!$B30)&\"  \"","v":"B  "},{"$f":"UPPER('Company Setup'!$B23)&\"  \"","v":"L  "},{"$f":"UPPER('Company Setup'!$B24)&\"  \"","v":"P  "},{"$f":"UPPER('Company Setup'!$B25)&\"  \"","v":"F  "},{"$f":"UPPER('Company Setup'!$B26)&\"  \"","v":"H  "},{"$f":"UPPER('Company Setup'!$B27)&\"  \"","v":"I  "},{"$f":"UPPER('Company Setup'!$B28)&\"  \"","v":"N  "},{"$f":"UPPER('Company Setup'!$B29)&\"  \"","v":"E  "},{"$f":"IF(ISTEXT('Company Setup'!#REF!),UPPER('Company Setup'!#REF!)&\"  \",\"\")","v":""},{"$f":"IF(ISTEXT('Company Setup'!$B31),UPPER('Company Setup'!$B31)&\"  \",\"\")","v":"A  "},{"$f":"IF(ISTEXT('Company Setup'!$B32),UPPER('Company Setup'!$B32)&\"  \",\"\")","v":"Y  "},{"$f":"IF(ISTEXT('Company Setup'!$B33),UPPER('Company Setup'!$B33)&\"  \",\"\")","v":""},{"$f":"IF(ISTEXT('Company Setup'!$B34),UPPER('Company Setup'!$B34)&\"  \",\"\")","v":""},{"$f":"IF(ISTEXT('Company Setup'!$B35),UPPER('Company Setup'!$B35)&\"  \",\"\")","v":""}]
[null,null,null,null,null,{"$f":"IF(Calendar!$U4=E$1,Calendar!$S4,0)","v":"00:00:00"},null,null,null,null,{"$f":"IF(Calendar!$U4=J$1,Calendar!$S4,IF(F6>0,1+F6,0))","v":"2018-01-01"},null,null,null,null,{"$f":"IF(Calendar!$U4=O$1,Calendar!$S4,IF(K6>0,1+K6,0))","v":"2018-01-02"},null,null,null,null,null,{"$f":"IF(Calendar!$U4=T$1,Calendar!$S4,IF(P6>0,1+P6,0))","v":"2018-01-03"},null,null,null,null,{"$f":"IF(Calendar!$U4=Z$1,Calendar!$S4,IF(V6>0,1+V6,0))","v":"2018-01-04"},null,null,null,null,null,{"$f":"IF(Calendar!$U4=AF$1,Calendar!$S4,IF(AA6>0,1+AA6,0))","v":"2018-01-05"},null,null,null,null,{"$f":"IF(Calendar!$U4=AK$1,Calendar!$S4,IF(AG6>0,1+AG6,0))","v":"2018-01-06"}]
[null,null,null,null,{"$f":"IF(Calendar!B6=1,1,0)","v":0},{"$f":"IF(F6>0,VLOOKUP(F6,Holidays,2),0)","v":0},null,null,null,{"$f":"IF(E7>0,1+E7,IF(Calendar!C6=1,1,0))","v":1},{"$f":"IF(K6>0,VLOOKUP(K6,Holidays,2),0)","v":"New Years Day"},null,null,null,{"$f":"IF(J7>0,1+J7,IF(Calendar!D6=1,1,0))","v":2},{"$f":"IF(P6>0,VLOOKUP(P6,Holidays,2),0)","v":0},null,null,null,{"$f":"IF(O7>0,1+J7,IF(Calendar!E6=1,1,0))","v":2},{"$f":"IF(V6>0,VLOOKUP(V6,Holidays,2),0)","v":0},null,null,null,null,{"$f":"IF(T7>0,1+T7,IF(Calendar!F6=1,1,0))","v":3},{"$f":"IF(AA6>0,VLOOKUP(AA6,Holidays,2),0)","v":0},null,null,null,null,{"$f":"IF(Z7>0,1+Z7,IF(Calendar!G6=1,1,0))","v":4},{"$f":"IF(AG6>0,VLOOKUP(AG6,Holidays,2),0)","v":0},null,null,null,{"$f":"IF(AF7>0,1+AF7,1)","v":5},{"$f":"IF(AL6>0,VLOOKUP(AL6,Holidays,2),0)","v":0}]
[{"$f":"UPPER(VLOOKUP(F6,Inputs,4,FALSE))&\"  \"","v":"  "},null,null,null,{"$f":"IF(F6>0,IF(LEN(A8)>2,A8&VLOOKUP(F6,Inputs,5,FALSE),VLOOKUP(F6,Inputs,5,FALSE)),\"\")","v":""},null,{"$f":"IF(F6>0,VLOOKUP(F6,Inputs,6,FALSE),\"\")","v":""},{"$f":"IF(K6>1,UPPER(VLOOKUP(K6,Inputs,4,FALSE))&\"  \",0)","v":"  "},null,{"$f":"IF(K6>0,IF(LEN(H8)>2,H8&VLOOKUP(K6,Inputs,5,FALSE),VLOOKUP(K6,Inputs,5,FALSE)),\"\")","v":0},null,{"$f":"IF(K6>0,VLOOKUP(K6,Inputs,6,FALSE),\"\")","v":0},{"$f":"IF(P6>1,UPPER(VLOOKUP(P6,Inputs,4,FALSE))&\"  \",0)","v":"  "},null,{"$f":"IF(P6>0,IF(LEN(M8)>2,M8&VLOOKUP(P6,Inputs,5,FALSE),VLOOKUP(P6,Inputs,5,FALSE)),\"\")","v":0},null,{"$f":"IF(P6>0,VLOOKUP(P6,Inputs,6,FALSE),\"\")","v":0},{"$f":"IF(V6>1,UPPER(VLOOKUP(V6,Inputs,4,FALSE))&\"  \",0)","v":"  "},null,{"$f":"IF(V6>0,IF(LEN(R8)>2,R8&VLOOKUP(V6,Inputs,5,FALSE),VLOOKUP(V6,Inputs,5,FALSE)),\"\")","v":0},null,null,{"$f":"IF(V6>0,VLOOKUP(V6,Inputs,6,FALSE),\"\")","v":0},{"$f":"IF(AA6>1,UPPER(VLOOKUP(AA6,Inputs,4,FALSE))&\"  \",0)","v":"  "},null,{"$f":"IF(AA6>0,IF(LEN(X8)>2,X8&VLOOKUP(AA6,Inputs,5,FALSE),VLOOKUP(AA6,Inputs,5,FALSE)),\"\")","v":0},null,null,{"$f":"IF(AA6>0,VLOOKUP(AA6,Inputs,6,FALSE),\"\")","v":0},{"$f":"IF(AG6>1,UPPER(VLOOKUP(AG6,Inputs,4,FALSE))&\"  \",0)","v":"  "},null,{"$f":"IF(AG6>0,IF(LEN(AD8)>2,AD8&VLOOKUP(AG6,Inputs,5,FALSE),VLOOKUP(AG6,Inputs,5,FALSE)),\"\")","v":0},null,{"$f":"IF(AG6>0,VLOOKUP(AG6,Inputs,6,FALSE),\"\")","v":0},{"$f":"UPPER(VLOOKUP(AL6,Inputs,4,FALSE))&\"  \"","v":"  "},null,{"$f":"IF(LEN(AI8)>2,AI8&VLOOKUP(AL6,Inputs,5,FALSE),VLOOKUP(AL6,Inputs,5,FALSE))","v":0},null,{"$f":"VLOOKUP(AL6,Inputs,6,FALSE)","v":0},null,{"$f":"A8","v":"  "},{"$f":"IF($A8=AP$5,$G8,0)+IF($H8=AP$5,$L8,0)+IF($M8=AP$5,$Q8,0)+IF($R8=AP$5,$W8,0)+IF($X8=AP$5,AC8,0)+IF($AD8=AP$5,AH8,0)+IF(AI8=AP$5,AM8,0)","v":0},{"$f":"IF($A8=AQ$5,$G8,0)+IF($H8=AQ$5,$L8,0)+IF($M8=AQ$5,$Q8,0)+IF($R8=AQ$5,$W8,0)+IF($X8=AQ$5,$AC8,0)+IF($AD8=AQ$5,$AH8,0)+IF($AI8=AQ$5,$AM8,0)","v":0},0,0,0,0,0,0,0,0,0,0,0,0]
[{"$f":"UPPER(VLOOKUP(F6,Inputs,7,FALSE))&\"  \"","v":"  "},null,null,null,{"$f":"IF(F6>0,IF(LEN(A9)>2,A9&VLOOKUP(F6,Inputs,8,FALSE),VLOOKUP(F6,Inputs,8,FALSE)),\"\")","v":""},null,{"$f":"IF(F6>0,VLOOKUP(F6,Inputs,9,FALSE),\"\")","v":""},{"$f":"IF(K6>1,UPPER(VLOOKUP(K6,Inputs,7,FALSE))&\"  \",0)","v":"  "},null,{"$f":"IF(K6>0,IF(LEN(H9)>2,H9&VLOOKUP(K6,Inputs,8,FALSE),VLOOKUP(K6,Inputs,8,FALSE)),\"\")","v":0},null,{"$f":"IF(K6>0,VLOOKUP(K6,Inputs,9,FALSE),\"\")","v":0},{"$f":"IF(P6>1,UPPER(VLOOKUP(P6,Inputs,7,FALSE))&\"  \",0)","v":"  "},null,{"$f":"IF(P6>0,IF(LEN(M9)>2,M9&VLOOKUP(P6,Inputs,8,FALSE),VLOOKUP(P6,Inputs,8,FALSE)),\"\")","v":0},null,{"$f":"IF(P6>0,VLOOKUP(P6,Inputs,9,FALSE),\"\")","v":0},{"$f":"IF(V6>1,UPPER(VLOOKUP(V6,Inputs,7,FALSE))&\"  \",0)","v":"  "},null,{"$f":"IF(V6>0,IF(LEN(R9)>2,R9&VLOOKUP(V6,Inputs,8,FALSE),VLOOKUP(V6,Inputs,8,FALSE)),\"\")","v":0},null,null,{"$f":"IF(V6>0,VLOOKUP(V6,Inputs,9,FALSE),\"\")","v":0},{"$f":"IF(AA6>1,UPPER(VLOOKUP(AA6,Inputs,7,FALSE))&\"  \",0)","v":"  "},null,{"$f":"IF(AA6>0,IF(LEN(X9)>2,X9&VLOOKUP(AA6,Inputs,8,FALSE),VLOOKUP(AA6,Inputs,8,FALSE)),\"\")","v":0},null,null,{"$f":"IF(AA6>0,VLOOKUP(AA6,Inputs,9,FALSE),\"\")","v":0},{"$f":"IF(AG6>1,UPPER(VLOOKUP(AG6,Inputs,7,FALSE))&\"  \",0)","v":"  "},null,{"$f":"IF(AG6>0,IF(LEN(AD9)>2,AD9&VLOOKUP(AG6,Inputs,8,FALSE),VLOOKUP(AG6,Inputs,8,FALSE)),\"\")","v":0},null,{"$f":"IF(AG6>0,VLOOKUP(AG6,Inputs,9,FALSE),\"\")","v":0},{"$f":"UPPER(VLOOKUP(AL6,Inputs,7,FALSE))&\"  \"","v":"  "},null,{"$f":"IF(LEN(AI9)>2,AI9&VLOOKUP(AL6,Inputs,8,FALSE),VLOOKUP(AL6,Inputs,8,FALSE))","v":0},null,{"$f":"VLOOKUP(AL6,Inputs,9,FALSE)","v":0},null,null,{"$f":"IF($A9=AP$5,$G9,0)+IF($H9=AP$5,$L9,0)+IF($M9=AP$5,$Q9,0)+IF($R9=AP$5,$W9,0)+IF($X9=AP$5,AC9,0)+IF($AD9=AP$5,AH9,0)+IF(AI9=AP$5,AM9,0)","v":0},0,0,0,0,0,0,0,0,0,0,0,0,0,null,"530-345-3280"]
[{"$f":"UPPER(VLOOKUP(F6,Inputs,10,FALSE))&\"  \"","v":"  "},null,null,null,{"$f":"IF(F6>0,IF(LEN(A10)>2,A10&VLOOKUP(F6,Inputs,11,FALSE),VLOOKUP(F6,Inputs,11,FALSE)),\"\")","v":""},null,{"$f":"IF(F6>0,VLOOKUP(F6,Inputs,12,FALSE),\"\")","v":""},{"$f":"IF(K6>1,UPPER(VLOOKUP(K6,Inputs,10,FALSE))&\"  \",0)","v":"  "},null,{"$f":"IF(K6>0,IF(LEN(H10)>0,H10&VLOOKUP(K6,Inputs,11,FALSE),VLOOKUP(K6,Inputs,11,FALSE)),\"\")","v":"  "},null,{"$f":"IF(K6>0,VLOOKUP(K6,Inputs,12,FALSE),\"\")","v":0},{"$f":"IF(P6>1,UPPER(VLOOKUP(P6,Inputs,10,FALSE))&\"  \",0)","v":"  "},null,{"$f":"IF(P6>0,IF(LEN(M10)>0,M10&VLOOKUP(P6,Inputs,11,FALSE),VLOOKUP(P6,Inputs,11,FALSE)),\"\")","v":"  "},null,{"$f":"IF(P6>0,VLOOKUP(P6,Inputs,12,FALSE),\"\")","v":0},{"$f":"IF(V6>1,UPPER(VLOOKUP(V6,Inputs,10,FALSE))&\"  \",0)","v":"  "},null,{"$f":"IF(V6>0,IF(LEN(R10)>0,R10&VLOOKUP(V6,Inputs,11,FALSE),VLOOKUP(V6,Inputs,11,FALSE)),\"\")","v":"  "},null,null,{"$f":"IF(V6>0,VLOOKUP(V6,Inputs,12,FALSE),\"\")","v":0},{"$f":"IF(AA6>1,UPPER(VLOOKUP(AA6,Inputs,10,FALSE))&\"  \",0)","v":"  "},null,{"$f":"IF(AA6>0,IF(LEN(X10)>0,X10&VLOOKUP(AA6,Inputs,11,FALSE),VLOOKUP(AA6,Inputs,11,FALSE)),\"\")","v":"  "},null,null,{"$f":"IF(AA6>0,VLOOKUP(AA6,Inputs,12,FALSE),\"\")","v":0},{"$f":"IF(AG6>1,UPPER(VLOOKUP(AG6,Inputs,10,FALSE))&\"  \",0)","v":"  "},null,{"$f":"IF(AG6>0,IF(LEN(AD10)>0,AD10&VLOOKUP(AG6,Inputs,11,FALSE),VLOOKUP(AG6,Inputs,11,FALSE)),\"\")","v":"  "},null,{"$f":"IF(AG6>0,VLOOKUP(AG6,Inputs,12,FALSE),\"\")","v":0},{"$f":"UPPER(VLOOKUP(AL6,Inputs,10,FALSE))&\"  \"","v":"  "},null,{"$f":"IF(LEN(AI10)>2,AI10&VLOOKUP(AL6,Inputs,11,FALSE),VLOOKUP(AL6,Inputs,11,FALSE))","v":0},null,{"$f":"VLOOKUP(AL6,Inputs,12,FALSE)","v":0},null,null,{"$f":"IF($A10=AP$5,$G10,0)+IF($H10=AP$5,$L10,0)+IF($M10=AP$5,$Q10,0)+IF($R10=AP$5,$W10,0)+IF($X10=AP$5,AC10,0)+IF($AD10=AP$5,AH10,0)+IF(AI10=AP$5,AM10,0)","v":0},0,0,0,0,0,0,0,0,0,0,0,0,0,null,"2540 Zanella Way, Suite 20"]
[{"$f":"UPPER(VLOOKUP(F6,Inputs,13,FALSE))&\"  \"","v":"  "},null,null,null,{"$f":"IF(F6>0,IF(LEN(A11)>2,A11&VLOOKUP(F6,Inputs,14,FALSE),VLOOKUP(F6,Inputs,14,FALSE)),\"\")","v":""},null,{"$f":"IF(F6>0,VLOOKUP(F6,Inputs,15,FALSE),\"\")","v":""},{"$f":"IF(K6>1,UPPER(VLOOKUP(K6,Inputs,13,FALSE))&\"  \",0)","v":"  "},null,{"$f":"IF(K6>0,IF(LEN(H11)>2,H11&VLOOKUP(K6,Inputs,14,FALSE),VLOOKUP(K6,Inputs,14,FALSE)),\"\")","v":0},null,{"$f":"IF(K6>0,VLOOKUP(K6,Inputs,15,FALSE),\"\")","v":0},{"$f":"IF(P6>1,UPPER(VLOOKUP(P6,Inputs,13,FALSE))&\"  \",0)","v":"  "},null,{"$f":"IF(P6>0,IF(LEN(M11)>2,M11&VLOOKUP(P6,Inputs,14,FALSE),VLOOKUP(P6,Inputs,14,FALSE)),\"\")","v":0},null,{"$f":"IF(P6>0,VLOOKUP(P6,Inputs,15,FALSE),\"\")","v":0},{"$f":"IF(V6>1,UPPER(VLOOKUP(V6,Inputs,13,FALSE))&\"  \",0)","v":"  "},null,{"$f":"IF(V6>0,IF(LEN(R11)>2,R11&VLOOKUP(V6,Inputs,14,FALSE),VLOOKUP(V6,Inputs,14,FALSE)),\"\")","v":0},null,null,{"$f":"IF(V6>0,VLOOKUP(V6,Inputs,15,FALSE),\"\")","v":0},{"$f":"IF(AA6>1,UPPER(VLOOKUP(AA6,Inputs,13,FALSE))&\"  \",0)","v":"  "},null,{"$f":"IF(AA6>0,IF(LEN(X11)>2,X11&VLOOKUP(AA6,Inputs,14,FALSE),VLOOKUP(AA6,Inputs,14,FALSE)),\"\")","v":0},null,null,{"$f":"IF(AA6>0,VLOOKUP(AA6,Inputs,15,FALSE),\"\")","v":0},{"$f":"IF(AG6>1,UPPER(VLOOKUP(AG6,Inputs,13,FALSE))&\"  \",0)","v":"  "},null,{"$f":"IF(AG6>0,IF(LEN(AD11)>2,AD11&VLOOKUP(AG6,Inputs,14,FALSE),VLOOKUP(AG6,Inputs,14,FALSE)),\"\")","v":0},null,{"$f":"IF(AG6>0,VLOOKUP(AG6,Inputs,15,FALSE),\"\")","v":0},{"$f":"UPPER(VLOOKUP(AL6,Inputs,13,FALSE))&\"  \"","v":"  "},null,{"$f":"IF(LEN(AI11)>2,AI11&VLOOKUP(AL6,Inputs,14,FALSE),VLOOKUP(AL6,Inputs,14,FALSE))","v":0},null,{"$f":"VLOOKUP(AL6,Inputs,15,FALSE)","v":0},null,null,{"$f":"IF($A11=AP$5,$G11,0)+IF($H11=AP$5,$L11,0)+IF($M11=AP$5,$Q11,0)+IF($R11=AP$5,$W11,0)+IF($X11=AP$5,AC11,0)+IF($AD11=AP$5,AH11,0)+IF(AI11=AP$5,AM11,0)","v":0},0,0,0,0,0,0,0,0,0,0,0,0,0,null,"    Chico, CA 95928"]
[null,null,null,null,null,{"$f":"IF(F6>0,IF(VLOOKUP(F6,Inputs,3,FALSE)=\"T\",\"Telemarketing\",0),\"\")","v":""},null,null,null,null,{"$f":"IF(F6>0,IF(VLOOKUP(F6,Inputs,3,FALSE)=\"T\",0,IF(VLOOKUP(K6,Inputs,3,FALSE)=\"T\",\"Telemarketing\",0)),IF(VLOOKUP(K6,Inputs,3,FALSE)=\"T\",\"Telemarketing\",0))","v":0},null,null,null,null,{"$f":"IF(K6>0,IF(VLOOKUP(K6,Inputs,3,FALSE)=\"T\",0,IF(VLOOKUP(P6,Inputs,3,FALSE)=\"T\",\"Telemarketing\",0)),IF(VLOOKUP(P6,Inputs,3,FALSE)=\"T\",\"Telemarketing\",0))","v":0},null,null,null,null,null,{"$f":"IF(P6>0,IF(VLOOKUP(P6,Inputs,3,FALSE)=\"T\",0,IF(VLOOKUP(V6,Inputs,3,FALSE)=\"T\",\"Telemarketing\",0)),IF(VLOOKUP(V6,Inputs,3,FALSE)=\"T\",\"Telemarketing\",0))","v":0},null,null,null,null,{"$f":"IF(V6>0,IF(VLOOKUP(V6,Inputs,3,FALSE)=\"T\",0,IF(VLOOKUP(AA6,Inputs,3,FALSE)=\"T\",\"Telemarketing\",0)),IF(VLOOKUP(AA6,Inputs,3,FALSE)=\"T\",\"Telemarketing\",0))","v":0},null,null,null,null,null,{"$f":"IF(AA6>0,IF(VLOOKUP(AA6,Inputs,3,FALSE)=\"T\",0,IF(VLOOKUP(AG6,Inputs,3,FALSE)=\"T\",\"Telemarketing\",0)),IF(VLOOKUP(AG6,Inputs,3,FALSE)=\"T\",\"Telemarketing\",0))","v":0},null,null,null,null,{"$f":"IF(AG6>0,IF(VLOOKUP(AG6,Inputs,3,FALSE)=\"T\",0,IF(VLOOKUP(AL6,Inputs,3,FALSE)=\"T\",\"Telemarketing\",0)),IF(VLOOKUP(AL6,Inputs,3,FALSE)=\"T\",\"Telemarketing\",0))","v":0}]
[null,null,null,null,null,{"$f":"1+AL6","v":"2018-01-07"},null,null,null,null,{"$f":"1+F13","v":"2018-01-08"},null,null,null,null,{"$f":"1+K13","v":"2018-01-09"},null,null,null,null,null,{"$f":"1+P13","v":"2018-01-10"},null,null,null,null,{"$f":"1+V13","v":"2018-01-11"},null,null,null,null,null,{"$f":"1+AA13","v":"2018-01-12"},null,null,null,null,{"$f":"1+AG13","v":"2018-01-13"}]
[null,null,null,null,{"$f":"DAY(F13)","v":7},{"$f":"VLOOKUP(F13,Holidays,2)","v":0},null,null,null,{"$f":"DAY(K13)","v":8},{"$f":"VLOOKUP(K13,Holidays,2)","v":0},null,null,null,{"$f":"DAY(P13)","v":9},{"$f":"VLOOKUP(P13,Holidays,2)","v":0},null,null,null,{"$f":"DAY(V13)","v":10},{"$f":"VLOOKUP(V13,Holidays,2)","v":0},null,null,null,null,{"$f":"DAY(AA13)","v":11},{"$f":"VLOOKUP(AA13,Holidays,2)","v":0},null,null,null,null,{"$f":"DAY(AG13)","v":12},{"$f":"VLOOKUP(AG13,Holidays,2)","v":0},null,null,null,{"$f":"DAY(AL13)","v":13},{"$f":"VLOOKUP(AL13,Holidays,2)","v":0}]
[{"$f":"UPPER(VLOOKUP(F13,Inputs,4,FALSE))&\"  \"","v":"  "},null,null,null,{"$f":"IF(LEN(A15)>2,A15&VLOOKUP(F13,Inputs,5,FALSE),VLOOKUP(F13,Inputs,5,FALSE))","v":0},null,{"$f":"IF(F13>0,VLOOKUP(F13,Inputs,6,FALSE),\"\")","v":0},{"$f":"UPPER(VLOOKUP(K13,Inputs,4,FALSE))&\"  \"","v":"  "},null,{"$f":"IF(LEN(H15)>2,H15&VLOOKUP(K13,Inputs,5,FALSE),VLOOKUP(K13,Inputs,5,FALSE))","v":0},null,{"$f":"IF(K13>0,VLOOKUP(K13,Inputs,6,FALSE),\"\")","v":0},{"$f":"UPPER(VLOOKUP(P13,Inputs,4,FALSE))&\"  \"","v":"  "},null,{"$f":"IF(LEN(M15)>2,M15&VLOOKUP(P13,Inputs,5,FALSE),VLOOKUP(P13,Inputs,5,FALSE))","v":0},null,{"$f":"IF(P13>0,VLOOKUP(P13,Inputs,6,FALSE),\"\")","v":0},{"$f":"UPPER(VLOOKUP(V13,Inputs,4,FALSE))&\"  \"","v":"  "},null,{"$f":"IF(LEN(R15)>2,R15&VLOOKUP(V13,Inputs,5,FALSE),VLOOKUP(V13,Inputs,5,FALSE))","v":0},null,null,{"$f":"IF(V13>0,VLOOKUP(V13,Inputs,6,FALSE),\"\")","v":0},{"$f":"UPPER(VLOOKUP(AA13,Inputs,4,FALSE))&\"  \"","v":"  "},null,{"$f":"IF(LEN(X15)>2,X15&VLOOKUP(AA13,Inputs,5,FALSE),VLOOKUP(AA13,Inputs,5,FALSE))","v":0},null,null,{"$f":"IF(AA13>0,VLOOKUP(AA13,Inputs,6,FALSE),\"\")","v":0},{"$f":"UPPER(VLOOKUP(AG13,Inputs,4,FALSE))&\"  \"","v":"  "},null,{"$f":"IF(LEN(AD15)>2,AD15&VLOOKUP(AG13,Inputs,5,FALSE),VLOOKUP(AG13,Inputs,5,FALSE))","v":0},null,{"$f":"IF(AG13>0,VLOOKUP(AG13,Inputs,6,FALSE),\"\")","v":0},{"$f":"UPPER(VLOOKUP(AL13,Inputs,4,FALSE))&\"  \"","v":"  "},null,{"$f":"IF(LEN(AI15)>2,AI15&VLOOKUP(AL13,Inputs,5,FALSE),VLOOKUP(AL13,Inputs,5,FALSE))","v":0},null,{"$f":"IF(AL13>0,VLOOKUP(AL13,Inputs,6,FALSE),\"\")","v":0},null,null,{"$f":"IF($A15=AP$5,$G15,0)+IF($H15=AP$5,$L15,0)+IF($M15=AP$5,$Q15,0)+IF($R15=AP$5,$W15,0)+IF($X15=AP$5,AC15,0)+IF($AD15=AP$5,AH15,0)+IF(AI15=AP$5,AM15,0)","v":0},{"$f":"IF($A15=AQ$5,$G15,0)+IF($H15=AQ$5,$L15,0)+IF($M15=AQ$5,$Q15,0)+IF($R15=AQ$5,$W15,0)+IF($X15=AQ$5,$AC15,0)+IF($AD15=AQ$5,$AH15,0)+IF($AI15=AQ$5,$AM15,0)","v":0},0,0,0,0,0,0,0,0,0,0,0,0,null,"      TheBedrock.com"]
[{"$f":"UPPER(VLOOKUP(F13,Inputs,7,FALSE))&\"  \"","v":"  "},null,null,null,{"$f":"IF(LEN(A16)>2,A16&VLOOKUP(F13,Inputs,8,FALSE),VLOOKUP(F13,Inputs,8,FALSE))","v":0},null,{"$f":"IF(F13>0,VLOOKUP(F13,Inputs,9,FALSE),\"\")","v":0},{"$f":"UPPER(VLOOKUP(K13,Inputs,7,FALSE))&\"  \"","v":"  "},null,{"$f":"IF(LEN(H16)>2,H16&VLOOKUP(K13,Inputs,8,FALSE),VLOOKUP(K13,Inputs,8,FALSE))","v":0},null,{"$f":"IF(K13>0,VLOOKUP(K13,Inputs,9,FALSE),\"\")","v":0},{"$f":"UPPER(VLOOKUP(P13,Inputs,7,FALSE))&\"  \"","v":"  "},null,{"$f":"IF(LEN(M16)>2,M16&VLOOKUP(P13,Inputs,8,FALSE),VLOOKUP(P13,Inputs,8,FALSE))","v":0},null,{"$f":"IF(P13>0,VLOOKUP(P13,Inputs,9,FALSE),\"\")","v":0},{"$f":"UPPER(VLOOKUP(V13,Inputs,7,FALSE))&\"  \"","v":"  "},null,{"$f":"IF(LEN(R16)>2,R16&VLOOKUP(V13,Inputs,8,FALSE),VLOOKUP(V13,Inputs,8,FALSE))","v":0},null,null,{"$f":"IF(V13>0,VLOOKUP(V13,Inputs,9,FALSE),\"\")","v":0},{"$f":"UPPER(VLOOKUP(AA13,Inputs,7,FALSE))&\"  \"","v":"  "},null,{"$f":"IF(LEN(X16)>2,X16&VLOOKUP(AA13,Inputs,8,FALSE),VLOOKUP(AA13,Inputs,8,FALSE))","v":0},null,null,{"$f":"IF(AA13>0,VLOOKUP(AA13,Inputs,9,FALSE),\"\")","v":0},{"$f":"UPPER(VLOOKUP(AG13,Inputs,7,FALSE))&\"  \"","v":"  "},null,{"$f":"IF(LEN(AD16)>2,AD16&VLOOKUP(AG13,Inputs,8,FALSE),VLOOKUP(AG13,Inputs,8,FALSE))","v":0},null,{"$f":"IF(AG13>0,VLOOKUP(AG13,Inputs,9,FALSE),\"\")","v":0},{"$f":"UPPER(VLOOKUP(AL13,Inputs,7,FALSE))&\"  \"","v":"  "},null,{"$f":"IF(LEN(AI16)>2,AI16&VLOOKUP(AL13,Inputs,8,FALSE),VLOOKUP(AL13,Inputs,8,FALSE))","v":0},null,{"$f":"IF(AL13>0,VLOOKUP(AL13,Inputs,9,FALSE),\"\")","v":0},null,null,{"$f":"IF($A16=AP$5,$G16,0)+IF($H16=AP$5,$L16,0)+IF($M16=AP$5,$Q16,0)+IF($R16=AP$5,$W16,0)+IF($X16=AP$5,AC16,0)+IF($AD16=AP$5,AH16,0)+IF(AI16=AP$5,AM16,0)","v":0},0,0,0,0,0,0,0,0,0,0,0,0,0]
[{"$f":"UPPER(VLOOKUP(F13,Inputs,10,FALSE))&\"  \"","v":"  "},null,null,null,{"$f":"IF(LEN(A17)>2,A17&VLOOKUP(F13,Inputs,11,FALSE),VLOOKUP(F13,Inputs,11,FALSE))","v":0},null,{"$f":"IF(F13>0,VLOOKUP(F13,Inputs,12,FALSE),\"\")","v":0},{"$f":"UPPER(VLOOKUP(K13,Inputs,10,FALSE))&\"  \"","v":"  "},null,{"$f":"IF(LEN(H17)>2,H17&VLOOKUP(K13,Inputs,11,FALSE),VLOOKUP(K13,Inputs,11,FALSE))","v":0},null,{"$f":"IF(K13>0,VLOOKUP(K13,Inputs,12,FALSE),\"\")","v":0},{"$f":"UPPER(VLOOKUP(P13,Inputs,10,FALSE))&\"  \"","v":"  "},null,{"$f":"IF(LEN(M17)>2,M17&VLOOKUP(P13,Inputs,11,FALSE),VLOOKUP(P13,Inputs,11,FALSE))","v":0},null,{"$f":"IF(P13>0,VLOOKUP(P13,Inputs,12,FALSE),\"\")","v":0},{"$f":"UPPER(VLOOKUP(V13,Inputs,10,FALSE))&\"  \"","v":"  "},null,{"$f":"IF(LEN(R17)>2,R17&VLOOKUP(V13,Inputs,11,FALSE),VLOOKUP(V13,Inputs,11,FALSE))","v":0},null,null,{"$f":"IF(V13>0,VLOOKUP(V13,Inputs,12,FALSE),\"\")","v":0},{"$f":"UPPER(VLOOKUP(AA13,Inputs,10,FALSE))&\"  \"","v":"  "},null,{"$f":"IF(LEN(X17)>2,X17&VLOOKUP(AA13,Inputs,11,FALSE),VLOOKUP(AA13,Inputs,11,FALSE))","v":0},null,null,{"$f":"IF(AA13>0,VLOOKUP(AA13,Inputs,12,FALSE),\"\")","v":0},{"$f":"UPPER(VLOOKUP(AG13,Inputs,10,FALSE))&\"  \"","v":"  "},null,{"$f":"IF(LEN(AD17)>2,AD17&VLOOKUP(AG13,Inputs,11,FALSE),VLOOKUP(AG13,Inputs,11,FALSE))","v":0},null,{"$f":"IF(AG13>0,VLOOKUP(AG13,Inputs,12,FALSE),\"\")","v":0},{"$f":"UPPER(VLOOKUP(AL13,Inputs,10,FALSE))&\"  \"","v":"  "},null,{"$f":"IF(LEN(AI17)>2,AI17&VLOOKUP(AL13,Inputs,11,FALSE),VLOOKUP(AL13,Inputs,11,FALSE))","v":0},null,{"$f":"IF(AL13>0,VLOOKUP(AL13,Inputs,12,FALSE),\"\")","v":0},null,null,{"$f":"IF($A17=AP$5,$G17,0)+IF($H17=AP$5,$L17,0)+IF($M17=AP$5,$Q17,0)+IF($R17=AP$5,$W17,0)+IF($X17=AP$5,AC17,0)+IF($AD17=AP$5,AH17,0)+IF(AI17=AP$5,AM17,0)","v":0},0,0,0,0,0,0,0,0,0,0,0,0,0]
[{"$f":"UPPER(VLOOKUP(F13,Inputs,13,FALSE))&\"  \"","v":"  "},null,null,null,{"$f":"IF(LEN(A18)>2,A18&VLOOKUP(F13,Inputs,14,FALSE),VLOOKUP(F13,Inputs,14,FALSE))","v":0},null,{"$f":"IF(F13>0,VLOOKUP(F13,Inputs,15,FALSE),\"\")","v":0},{"$f":"UPPER(VLOOKUP(K13,Inputs,13,FALSE))&\"  \"","v":"  "},null,{"$f":"IF(LEN(H18)>2,H18&VLOOKUP(K13,Inputs,14,FALSE),VLOOKUP(K13,Inputs,14,FALSE))","v":0},null,{"$f":"IF(K13>0,VLOOKUP(K13,Inputs,15,FALSE),\"\")","v":0},{"$f":"UPPER(VLOOKUP(P13,Inputs,13,FALSE))&\"  \"","v":"  "},null,{"$f":"IF(LEN(M18)>2,M18&VLOOKUP(P13,Inputs,14,FALSE),VLOOKUP(P13,Inputs,14,FALSE))","v":0},null,{"$f":"IF(P13>0,VLOOKUP(P13,Inputs,15,FALSE),\"\")","v":0},{"$f":"UPPER(VLOOKUP(V13,Inputs,13,FALSE))&\"  \"","v":"  "},null,{"$f":"IF(LEN(R18)>2,R18&VLOOKUP(V13,Inputs,14,FALSE),VLOOKUP(V13,Inputs,14,FALSE))","v":0},null,null,{"$f":"IF(V13>0,VLOOKUP(V13,Inputs,15,FALSE),\"\")","v":0},{"$f":"UPPER(VLOOKUP(AA13,Inputs,13,FALSE))&\"  \"","v":"  "},null,{"$f":"IF(LEN(X18)>2,X18&VLOOKUP(AA13,Inputs,14,FALSE),VLOOKUP(AA13,Inputs,14,FALSE))","v":0},null,null,{"$f":"IF(AA13>0,VLOOKUP(AA13,Inputs,15,FALSE),\"\")","v":0},{"$f":"UPPER(VLOOKUP(AG13,Inputs,13,FALSE))&\"  \"","v":"  "},null,{"$f":"IF(LEN(AD18)>2,AD18&VLOOKUP(AG13,Inputs,14,FALSE),VLOOKUP(AG13,Inputs,14,FALSE))","v":0},null,{"$f":"IF(AG13>0,VLOOKUP(AG13,Inputs,15,FALSE),\"\")","v":0},{"$f":"UPPER(VLOOKUP(AL13,Inputs,13,FALSE))&\"  \"","v":"  "},null,{"$f":"IF(LEN(AI18)>2,AI18&VLOOKUP(AL13,Inputs,14,FALSE),VLOOKUP(AL13,Inputs,14,FALSE))","v":0},null,{"$f":"IF(AL13>0,VLOOKUP(AL13,Inputs,15,FALSE),\"\")","v":0},null,null,{"$f":"IF($A18=AP$5,$G18,0)+IF($H18=AP$5,$L18,0)+IF($M18=AP$5,$Q18,0)+IF($R18=AP$5,$W18,0)+IF($X18=AP$5,AC18,0)+IF($AD18=AP$5,AH18,0)+IF(AI18=AP$5,AM18,0)","v":0},0,0,0,0,0,0,0,0,0,0,0,0,0]
[null,null,null,null,null,{"$f":"IF(F13>0,IF(VLOOKUP(F13,Inputs,3,FALSE)=\"T\",\"Telemarketing\",0),\"\")","v":0},null,null,null,null,{"$f":"IF(VLOOKUP(K13-1,Inputs,3,FALSE)=\"T\",0,IF(VLOOKUP(K13,Inputs,3,FALSE)=\"T\",\"Telemarketing\",0))","v":0},null,null,null,null,{"$f":"IF(VLOOKUP(P13-1,Inputs,3,FALSE)=\"T\",0,IF(VLOOKUP(P13,Inputs,3,FALSE)=\"T\",\"Telemarketing\",0))","v":0},null,null,null,null,null,{"$f":"IF(VLOOKUP(V13-1,Inputs,3,FALSE)=\"T\",0,IF(VLOOKUP(V13,Inputs,3,FALSE)=\"T\",\"Telemarketing\",0))","v":0},null,null,null,null,{"$f":"IF(VLOOKUP(AA13-1,Inputs,3,FALSE)=\"T\",0,IF(VLOOKUP(AA13,Inputs,3,FALSE)=\"T\",\"Telemarketing\",0))","v":0},null,null,null,null,null,{"$f":"IF(VLOOKUP(AG13-1,Inputs,3,FALSE)=\"T\",0,IF(VLOOKUP(AG13,Inputs,3,FALSE)=\"T\",\"Telemarketing\",0))","v":0},null,null,null,null,{"$f":"IF(VLOOKUP(AL13-1,Inputs,3,FALSE)=\"T\",0,IF(VLOOKUP(AL13,Inputs,3,FALSE)=\"T\",\"Telemarketing\",0))","v":0}]
[null,null,null,null,null,{"$f":"1+AL13","v":"2018-01-14"},null,null,null,null,{"$f":"1+F20","v":"2018-01-15"},null,null,null,null,{"$f":"1+K20","v":"2018-01-16"},null,null,null,null,null,{"$f":"1+P20","v":"2018-01-17"},null,null,null,null,{"$f":"1+V20","v":"2018-01-18"},null,null,null,null,null,{"$f":"1+AA20","v":"2018-01-19"},null,null,null,null,{"$f":"1+AG20","v":"2018-01-20"}]
[null,null,null,null,{"$f":"DAY(F20)","v":14},{"$f":"VLOOKUP(F20,Holidays,2)","v":0},null,null,null,{"$f":"DAY(K20)","v":15},{"$f":"VLOOKUP(K20,Holidays,2)","v":"MLK Birthday"},null,null,null,{"$f":"DAY(P20)","v":16},{"$f":"VLOOKUP(P20,Holidays,2)","v":""},null,null,null,{"$f":"DAY(V20)","v":17},{"$f":"VLOOKUP(V20,Holidays,2)","v":""},null,null,null,null,{"$f":"DAY(AA20)","v":18},{"$f":"VLOOKUP(AA20,Holidays,2)","v":""},null,null,null,null,{"$f":"DAY(AG20)","v":19},{"$f":"VLOOKUP(AG20,Holidays,2)","v":""},null,null,null,{"$f":"DAY(AL20)","v":20},{"$f":"VLOOKUP(AL20,Holidays,2)","v":""}]
[{"$f":"UPPER(VLOOKUP(F20,Inputs,4,FALSE))&\"  \"","v":"  "},null,null,null,{"$f":"IF(LEN(A22)>2,A22&VLOOKUP(F20,Inputs,5,FALSE),VLOOKUP(F20,Inputs,5,FALSE))","v":0},null,{"$f":"IF(F20>0,VLOOKUP(F20,Inputs,6,FALSE),\"\")","v":0},{"$f":"UPPER(VLOOKUP(K20,Inputs,4,FALSE))&\"  \"","v":"  "},null,{"$f":"IF(LEN(H22)>2,H22&VLOOKUP(K20,Inputs,5,FALSE),VLOOKUP(K20,Inputs,5,FALSE))","v":0},null,{"$f":"IF(K20>0,VLOOKUP(K20,Inputs,6,FALSE),\"\")","v":0},{"$f":"UPPER(VLOOKUP(P20,Inputs,4,FALSE))&\"  \"","v":"  "},null,{"$f":"IF(LEN(M22)>2,M22&VLOOKUP(P20,Inputs,5,FALSE),VLOOKUP(P20,Inputs,5,FALSE))","v":0},null,{"$f":"IF(P20>0,VLOOKUP(P20,Inputs,6,FALSE),\"\")","v":0},{"$f":"UPPER(VLOOKUP(V20,Inputs,4,FALSE))&\"  \"","v":"  "},null,{"$f":"IF(LEN(R22)>2,R22&VLOOKUP(V20,Inputs,5,FALSE),VLOOKUP(V20,Inputs,5,FALSE))","v":0},null,null,{"$f":"IF(V20>0,VLOOKUP(V20,Inputs,6,FALSE),\"\")","v":0},{"$f":"UPPER(VLOOKUP(AA20,Inputs,4,FALSE))&\"  \"","v":"  "},null,{"$f":"IF(LEN(X22)>2,X22&VLOOKUP(AA20,Inputs,5,FALSE),VLOOKUP(AA20,Inputs,5,FALSE))","v":0},null,null,{"$f":"IF(AA20>0,VLOOKUP(AA20,Inputs,6,FALSE),\"\")","v":0},{"$f":"UPPER(VLOOKUP(AG20,Inputs,4,FALSE))&\"  \"","v":"  "},null,{"$f":"IF(LEN(AD22)>2,AD22&VLOOKUP(AG20,Inputs,5,FALSE),VLOOKUP(AG20,Inputs,5,FALSE))","v":0},null,{"$f":"IF(AG20>0,VLOOKUP(AG20,Inputs,6,FALSE),\"\")","v":0},{"$f":"UPPER(VLOOKUP(AL20,Inputs,4,FALSE))&\"  \"","v":"  "},null,{"$f":"IF(LEN(AI22)>2,AI22&VLOOKUP(AL20,Inputs,5,FALSE),VLOOKUP(AL20,Inputs,5,FALSE))","v":0},null,{"$f":"IF(AL20>0,VLOOKUP(AL20,Inputs,6,FALSE),\"\")","v":0},null,null,{"$f":"IF($A22=AP$5,$G22,0)+IF($H22=AP$5,$L22,0)+IF($M22=AP$5,$Q22,0)+IF($R22=AP$5,$W22,0)+IF($X22=AP$5,AC22,0)+IF($AD22=AP$5,AH22,0)+IF(AI22=AP$5,AM22,0)","v":0},{"$f":"IF($A22=AQ$5,$G22,0)+IF($H22=AQ$5,$L22,0)+IF($M22=AQ$5,$Q22,0)+IF($R22=AQ$5,$W22,0)+IF($X22=AQ$5,$AC22,0)+IF($AD22=AQ$5,$AH22,0)+IF($AI22=AQ$5,$AM22,0)","v":0},0,0,0,0,0,0,0,0,0,0,0,0]
[{"$f":"UPPER(VLOOKUP(F20,Inputs,7,FALSE))&\"  \"","v":"  "},null,null,null,{"$f":"IF(LEN(A23)>2,A23&VLOOKUP(F20,Inputs,8,FALSE),VLOOKUP(F20,Inputs,8,FALSE))","v":0},null,{"$f":"IF(F20>0,VLOOKUP(F20,Inputs,9,FALSE),\"\")","v":0},{"$f":"UPPER(VLOOKUP(K20,Inputs,7,FALSE))&\"  \"","v":"  "},null,{"$f":"IF(LEN(H23)>2,H23&VLOOKUP(K20,Inputs,8,FALSE),VLOOKUP(K20,Inputs,8,FALSE))","v":0},null,{"$f":"IF(K20>0,VLOOKUP(K20,Inputs,9,FALSE),\"\")","v":0},{"$f":"UPPER(VLOOKUP(P20,Inputs,7,FALSE))&\"  \"","v":"  "},null,{"$f":"IF(LEN(M23)>2,M23&VLOOKUP(P20,Inputs,8,FALSE),VLOOKUP(P20,Inputs,8,FALSE))","v":0},null,{"$f":"IF(P20>0,VLOOKUP(P20,Inputs,9,FALSE),\"\")","v":0},{"$f":"UPPER(VLOOKUP(V20,Inputs,7,FALSE))&\"  \"","v":"  "},null,{"$f":"IF(LEN(R23)>2,R23&VLOOKUP(V20,Inputs,8,FALSE),VLOOKUP(V20,Inputs,8,FALSE))","v":0},null,null,{"$f":"IF(V20>0,VLOOKUP(V20,Inputs,9,FALSE),\"\")","v":0},{"$f":"UPPER(VLOOKUP(AA20,Inputs,7,FALSE))&\"  \"","v":"  "},null,{"$f":"IF(LEN(X23)>2,X23&VLOOKUP(AA20,Inputs,8,FALSE),VLOOKUP(AA20,Inputs,8,FALSE))","v":0},null,null,{"$f":"IF(AA20>0,VLOOKUP(AA20,Inputs,9,FALSE),\"\")","v":0},{"$f":"UPPER(VLOOKUP(AG20,Inputs,7,FALSE))&\"  \"","v":"  "},null,{"$f":"IF(LEN(AD23)>2,AD23&VLOOKUP(AG20,Inputs,8,FALSE),VLOOKUP(AG20,Inputs,8,FALSE))","v":0},null,{"$f":"IF(AG20>0,VLOOKUP(AG20,Inputs,9,FALSE),\"\")","v":0},{"$f":"UPPER(VLOOKUP(AL20,Inputs,7,FALSE))&\"  \"","v":"  "},null,{"$f":"IF(LEN(AI23)>2,AI23&VLOOKUP(AL20,Inputs,8,FALSE),VLOOKUP(AL20,Inputs,8,FALSE))","v":0},null,{"$f":"IF(AL20>0,VLOOKUP(AL20,Inputs,9,FALSE),\"\")","v":0},null,null,{"$f":"IF($A23=AP$5,$G23,0)+IF($H23=AP$5,$L23,0)+IF($M23=AP$5,$Q23,0)+IF($R23=AP$5,$W23,0)+IF($X23=AP$5,AC23,0)+IF($AD23=AP$5,AH23,0)+IF(AI23=AP$5,AM23,0)","v":0},0,0,0,0,0,0,0,0,0,0,0,0,0]
[{"$f":"UPPER(VLOOKUP(F20,Inputs,10,FALSE))&\"  \"","v":"  "},null,null,null,{"$f":"IF(LEN(A24)>2,A24&VLOOKUP(F20,Inputs,11,FALSE),VLOOKUP(F20,Inputs,11,FALSE))","v":0},null,{"$f":"IF(F20>0,VLOOKUP(F20,Inputs,12,FALSE),\"\")","v":0},{"$f":"UPPER(VLOOKUP(K20,Inputs,10,FALSE))&\"  \"","v":"  "},null,{"$f":"IF(LEN(H24)>2,H24&VLOOKUP(K20,Inputs,11,FALSE),VLOOKUP(K20,Inputs,11,FALSE))","v":0},null,{"$f":"IF(K20>0,VLOOKUP(K20,Inputs,12,FALSE),\"\")","v":0},{"$f":"UPPER(VLOOKUP(P20,Inputs,10,FALSE))&\"  \"","v":"  "},null,{"$f":"IF(LEN(M24)>2,M24&VLOOKUP(P20,Inputs,11,FALSE),VLOOKUP(P20,Inputs,11,FALSE))","v":0},null,{"$f":"IF(P20>0,VLOOKUP(P20,Inputs,12,FALSE),\"\")","v":0},{"$f":"UPPER(VLOOKUP(V20,Inputs,10,FALSE))&\"  \"","v":"  "},null,{"$f":"IF(LEN(R24)>2,R24&VLOOKUP(V20,Inputs,11,FALSE),VLOOKUP(V20,Inputs,11,FALSE))","v":0},null,null,{"$f":"IF(V20>0,VLOOKUP(V20,Inputs,12,FALSE),\"\")","v":0},{"$f":"UPPER(VLOOKUP(AA20,Inputs,10,FALSE))&\"  \"","v":"  "},null,{"$f":"IF(LEN(X24)>2,X24&VLOOKUP(AA20,Inputs,11,FALSE),VLOOKUP(AA20,Inputs,11,FALSE))","v":0},null,null,{"$f":"IF(AA20>0,VLOOKUP(AA20,Inputs,12,FALSE),\"\")","v":0},{"$f":"UPPER(VLOOKUP(AG20,Inputs,10,FALSE))&\"  \"","v":"  "},null,{"$f":"IF(LEN(AD24)>2,AD24&VLOOKUP(AG20,Inputs,11,FALSE),VLOOKUP(AG20,Inputs,11,FALSE))","v":0},null,{"$f":"IF(AG20>0,VLOOKUP(AG20,Inputs,12,FALSE),\"\")","v":0},{"$f":"UPPER(VLOOKUP(AL20,Inputs,10,FALSE))&\"  \"","v":"  "},null,{"$f":"IF(LEN(AI24)>2,AI24&VLOOKUP(AL20,Inputs,11,FALSE),VLOOKUP(AL20,Inputs,11,FALSE))","v":0},null,{"$f":"IF(AL20>0,VLOOKUP(AL20,Inputs,12,FALSE),\"\")","v":0},null,null,{"$f":"IF($A24=AP$5,$G24,0)+IF($H24=AP$5,$L24,0)+IF($M24=AP$5,$Q24,0)+IF($R24=AP$5,$W24,0)+IF($X24=AP$5,AC24,0)+IF($AD24=AP$5,AH24,0)+IF(AI24=AP$5,AM24,0)","v":0},0,0,0,0,0,0,0,0,0,0,0,0,0]
[{"$f":"UPPER(VLOOKUP(F20,Inputs,13,FALSE))&\"  \"","v":"  "},null,null,null,{"$f":"IF(LEN(A25)>2,A25&VLOOKUP(F20,Inputs,14,FALSE),VLOOKUP(F20,Inputs,14,FALSE))","v":0},null,{"$f":"IF(F20>0,VLOOKUP(F20,Inputs,15,FALSE),\"\")","v":0},{"$f":"UPPER(VLOOKUP(K20,Inputs,13,FALSE))&\"  \"","v":"  "},null,{"$f":"IF(LEN(H25)>2,H25&VLOOKUP(K20,Inputs,14,FALSE),VLOOKUP(K20,Inputs,14,FALSE))","v":0},null,{"$f":"IF(K20>0,VLOOKUP(K20,Inputs,15,FALSE),\"\")","v":0},{"$f":"UPPER(VLOOKUP(P20,Inputs,13,FALSE))&\"  \"","v":"  "},null,{"$f":"IF(LEN(M25)>2,M25&VLOOKUP(P20,Inputs,14,FALSE),VLOOKUP(P20,Inputs,14,FALSE))","v":0},null,{"$f":"IF(P20>0,VLOOKUP(P20,Inputs,15,FALSE),\"\")","v":0},{"$f":"UPPER(VLOOKUP(V20,Inputs,13,FALSE))&\"  \"","v":"  "},null,{"$f":"IF(LEN(R25)>2,R25&VLOOKUP(V20,Inputs,14,FALSE),VLOOKUP(V20,Inputs,14,FALSE))","v":0},null,null,{"$f":"IF(V20>0,VLOOKUP(V20,Inputs,15,FALSE),\"\")","v":0},{"$f":"UPPER(VLOOKUP(AA20,Inputs,13,FALSE))&\"  \"","v":"  "},null,{"$f":"IF(LEN(X25)>2,X25&VLOOKUP(AA20,Inputs,14,FALSE),VLOOKUP(AA20,Inputs,14,FALSE))","v":0},null,null,{"$f":"IF(AA20>0,VLOOKUP(AA20,Inputs,15,FALSE),\"\")","v":0},{"$f":"UPPER(VLOOKUP(AG20,Inputs,13,FALSE))&\"  \"","v":"  "},null,{"$f":"IF(LEN(AD25)>2,AD25&VLOOKUP(AG20,Inputs,14,FALSE),VLOOKUP(AG20,Inputs,14,FALSE))","v":0},null,{"$f":"IF(AG20>0,VLOOKUP(AG20,Inputs,15,FALSE),\"\")","v":0},{"$f":"UPPER(VLOOKUP(AL20,Inputs,13,FALSE))&\"  \"","v":"  "},null,{"$f":"IF(LEN(AI25)>2,AI25&VLOOKUP(AL20,Inputs,14,FALSE),VLOOKUP(AL20,Inputs,14,FALSE))","v":0},null,{"$f":"IF(AL20>0,VLOOKUP(AL20,Inputs,15,FALSE),\"\")","v":0},null,null,{"$f":"IF($A25=AP$5,$G25,0)+IF($H25=AP$5,$L25,0)+IF($M25=AP$5,$Q25,0)+IF($R25=AP$5,$W25,0)+IF($X25=AP$5,AC25,0)+IF($AD25=AP$5,AH25,0)+IF(AI25=AP$5,AM25,0)","v":0},0,0,0,0,0,0,0,0,0,0,0,0,0]
[null,null,null,null,null,{"$f":"IF(F20>0,IF(VLOOKUP(F20,Inputs,3,FALSE)=\"T\",\"Telemarketing\",0),\"\")","v":0},null,null,null,null,{"$f":"IF(VLOOKUP(K20-1,Inputs,3,FALSE)=\"T\",0,IF(VLOOKUP(K20,Inputs,3,FALSE)=\"T\",\"Telemarketing\",0))","v":0},null,null,null,null,{"$f":"IF(VLOOKUP(P20-1,Inputs,3,FALSE)=\"T\",0,IF(VLOOKUP(P20,Inputs,3,FALSE)=\"T\",\"Telemarketing\",0))","v":0},null,null,null,null,null,{"$f":"IF(VLOOKUP(V20-1,Inputs,3,FALSE)=\"T\",0,IF(VLOOKUP(V20,Inputs,3,FALSE)=\"T\",\"Telemarketing\",0))","v":0},null,null,null,null,{"$f":"IF(VLOOKUP(AA20-1,Inputs,3,FALSE)=\"T\",0,IF(VLOOKUP(AA20,Inputs,3,FALSE)=\"T\",\"Telemarketing\",0))","v":0},null,null,null,null,null,{"$f":"IF(VLOOKUP(AG20-1,Inputs,3,FALSE)=\"T\",0,IF(VLOOKUP(AG20,Inputs,3,FALSE)=\"T\",\"Telemarketing\",0))","v":0},null,null,null,null,{"$f":"IF(VLOOKUP(AL20-1,Inputs,3,FALSE)=\"T\",0,IF(VLOOKUP(AL20,Inputs,3,FALSE)=\"T\",\"Telemarketing\",0))","v":0}]
[null,null,null,null,null,{"$f":"1+AL20","v":"2018-01-21"},null,null,null,null,{"$f":"1+F27","v":"2018-01-22"},null,null,null,null,{"$f":"1+K27","v":"2018-01-23"},null,null,null,null,null,{"$f":"1+P27","v":"2018-01-24"},null,null,null,null,{"$f":"1+V27","v":"2018-01-25"},null,null,null,null,null,{"$f":"1+AA27","v":"2018-01-26"},null,null,null,null,{"$f":"1+AG27","v":"2018-01-27"}]
[null,null,null,null,{"$f":"DAY(F27)","v":21},{"$f":"VLOOKUP(F27,Holidays,2)","v":""},null,null,null,{"$f":"DAY(K27)","v":22},{"$f":"VLOOKUP(K27,Holidays,2)","v":0},null,null,null,{"$f":"DAY(P27)","v":23},{"$f":"VLOOKUP(P27,Holidays,2)","v":0},null,null,null,{"$f":"DAY(V27)","v":24},{"$f":"VLOOKUP(V27,Holidays,2)","v":0},null,null,null,null,{"$f":"DAY(AA27)","v":25},{"$f":"VLOOKUP(AA27,Holidays,2)","v":0},null,null,null,null,{"$f":"DAY(AG27)","v":26},{"$f":"VLOOKUP(AG27,Holidays,2)","v":0},null,null,null,{"$f":"DAY(AL27)","v":27},{"$f":"VLOOKUP(AL27,Holidays,2)","v":0}]
[{"$f":"UPPER(VLOOKUP(F27,Inputs,4,FALSE))&\"  \"","v":"  "},null,null,null,{"$f":"IF(LEN(A29)>2,A29&VLOOKUP(F27,Inputs,5,FALSE),VLOOKUP(F27,Inputs,5,FALSE))","v":0},null,{"$f":"IF(F27>0,VLOOKUP(F27,Inputs,6,FALSE),\"\")","v":0},{"$f":"UPPER(VLOOKUP(K27,Inputs,4,FALSE))&\"  \"","v":"  "},null,{"$f":"IF(LEN(H29)>2,H29&VLOOKUP(K27,Inputs,5,FALSE),VLOOKUP(K27,Inputs,5,FALSE))","v":0},null,{"$f":"IF(K27>0,VLOOKUP(K27,Inputs,6,FALSE),\"\")","v":0},{"$f":"UPPER(VLOOKUP(P27,Inputs,4,FALSE))&\"  \"","v":"  "},null,{"$f":"IF(LEN(M29)>2,M29&VLOOKUP(P27,Inputs,5,FALSE),VLOOKUP(P27,Inputs,5,FALSE))","v":0},null,{"$f":"IF(P27>0,VLOOKUP(P27,Inputs,6,FALSE),\"\")","v":0},{"$f":"UPPER(VLOOKUP(V27,Inputs,4,FALSE))&\"  \"","v":"  "},null,{"$f":"IF(LEN(R29)>2,R29&VLOOKUP(V27,Inputs,5,FALSE),VLOOKUP(V27,Inputs,5,FALSE))","v":0},null,null,{"$f":"IF(V27>0,VLOOKUP(V27,Inputs,6,FALSE),\"\")","v":0},{"$f":"UPPER(VLOOKUP(AA27,Inputs,4,FALSE))&\"  \"","v":"  "},null,{"$f":"IF(LEN(X29)>2,X29&VLOOKUP(AA27,Inputs,5,FALSE),VLOOKUP(AA27,Inputs,5,FALSE))","v":0},null,null,{"$f":"IF(AA27>0,VLOOKUP(AA27,Inputs,6,FALSE),\"\")","v":0},{"$f":"UPPER(VLOOKUP(AG27,Inputs,4,FALSE))&\"  \"","v":"  "},null,{"$f":"IF(LEN(AD29)>2,AD29&VLOOKUP(AG27,Inputs,5,FALSE),VLOOKUP(AG27,Inputs,5,FALSE))","v":0},null,{"$f":"IF(AG27>0,VLOOKUP(AG27,Inputs,6,FALSE),\"\")","v":0},{"$f":"UPPER(VLOOKUP(AL27,Inputs,4,FALSE))&\"  \"","v":"  "},null,{"$f":"IF(LEN(AI29)>2,AI29&VLOOKUP(AL27,Inputs,5,FALSE),VLOOKUP(AL27,Inputs,5,FALSE))","v":0},null,{"$f":"IF(AL27>0,VLOOKUP(AL27,Inputs,6,FALSE),\"\")","v":0},null,null,{"$f":"IF($A29=AP$5,$G29,0)+IF($H29=AP$5,$L29,0)+IF($M29=AP$5,$Q29,0)+IF($R29=AP$5,$W29,0)+IF($X29=AP$5,AC29,0)+IF($AD29=AP$5,AH29,0)+IF(AI29=AP$5,AM29,0)","v":0},{"$f":"IF($A29=AQ$5,$G29,0)+IF($H29=AQ$5,$L29,0)+IF($M29=AQ$5,$Q29,0)+IF($R29=AQ$5,$W29,0)+IF($X29=AQ$5,$AC29,0)+IF($AD29=AQ$5,$AH29,0)+IF($AI29=AQ$5,$AM29,0)","v":0},0,0,0,0,0,0,0,0,0,0,0,0]
[{"$f":"UPPER(VLOOKUP(F27,Inputs,7,FALSE))&\"  \"","v":"  "},null,null,null,{"$f":"IF(LEN(A30)>2,A30&VLOOKUP(F27,Inputs,8,FALSE),VLOOKUP(F27,Inputs,8,FALSE))","v":0},null,{"$f":"IF(F27>0,VLOOKUP(F27,Inputs,9,FALSE),\"\")","v":0},{"$f":"UPPER(VLOOKUP(K27,Inputs,7,FALSE))&\"  \"","v":"  "},null,{"$f":"IF(LEN(H30)>2,H30&VLOOKUP(K27,Inputs,8,FALSE),VLOOKUP(K27,Inputs,8,FALSE))","v":0},null,{"$f":"IF(K27>0,VLOOKUP(K27,Inputs,9,FALSE),\"\")","v":0},{"$f":"UPPER(VLOOKUP(P27,Inputs,7,FALSE))&\"  \"","v":"  "},null,{"$f":"IF(LEN(M30)>2,M30&VLOOKUP(P27,Inputs,8,FALSE),VLOOKUP(P27,Inputs,8,FALSE))","v":0},null,{"$f":"IF(P27>0,VLOOKUP(P27,Inputs,9,FALSE),\"\")","v":0},{"$f":"UPPER(VLOOKUP(V27,Inputs,7,FALSE))&\"  \"","v":"  "},null,{"$f":"IF(LEN(R30)>2,R30&VLOOKUP(V27,Inputs,8,FALSE),VLOOKUP(V27,Inputs,8,FALSE))","v":0},null,null,{"$f":"IF(V27>0,VLOOKUP(V27,Inputs,9,FALSE),\"\")","v":0},{"$f":"UPPER(VLOOKUP(AA27,Inputs,7,FALSE))&\"  \"","v":"  "},null,{"$f":"IF(LEN(X30)>2,X30&VLOOKUP(AA27,Inputs,8,FALSE),VLOOKUP(AA27,Inputs,8,FALSE))","v":0},null,null,{"$f":"IF(AA27>0,VLOOKUP(AA27,Inputs,9,FALSE),\"\")","v":0},{"$f":"UPPER(VLOOKUP(AG27,Inputs,7,FALSE))&\"  \"","v":"  "},null,{"$f":"IF(LEN(AD30)>2,AD30&VLOOKUP(AG27,Inputs,8,FALSE),VLOOKUP(AG27,Inputs,8,FALSE))","v":0},null,{"$f":"IF(AG27>0,VLOOKUP(AG27,Inputs,9,FALSE),\"\")","v":0},{"$f":"UPPER(VLOOKUP(AL27,Inputs,7,FALSE))&\"  \"","v":"  "},null,{"$f":"IF(LEN(AI30)>2,AI30&VLOOKUP(AL27,Inputs,8,FALSE),VLOOKUP(AL27,Inputs,8,FALSE))","v":0},null,{"$f":"IF(AL27>0,VLOOKUP(AL27,Inputs,9,FALSE),\"\")","v":0},null,null,{"$f":"IF($A30=AP$5,$G30,0)+IF($H30=AP$5,$L30,0)+IF($M30=AP$5,$Q30,0)+IF($R30=AP$5,$W30,0)+IF($X30=AP$5,AC30,0)+IF($AD30=AP$5,AH30,0)+IF(AI30=AP$5,AM30,0)","v":0},0,0,0,0,0,0,0,0,0,0,0,0,0]
[{"$f":"UPPER(VLOOKUP(F27,Inputs,10,FALSE))&\"  \"","v":"  "},null,null,null,{"$f":"IF(LEN(A31)>2,A31&VLOOKUP(F27,Inputs,11,FALSE),VLOOKUP(F27,Inputs,11,FALSE))","v":0},null,{"$f":"IF(F27>0,VLOOKUP(F27,Inputs,12,FALSE),\"\")","v":0},{"$f":"UPPER(VLOOKUP(K27,Inputs,10,FALSE))&\"  \"","v":"  "},null,{"$f":"IF(LEN(H31)>2,H31&VLOOKUP(K27,Inputs,11,FALSE),VLOOKUP(K27,Inputs,11,FALSE))","v":0},null,{"$f":"IF(K27>0,VLOOKUP(K27,Inputs,12,FALSE),\"\")","v":0},{"$f":"UPPER(VLOOKUP(P27,Inputs,10,FALSE))&\"  \"","v":"  "},null,{"$f":"IF(LEN(M31)>2,M31&VLOOKUP(P27,Inputs,11,FALSE),VLOOKUP(P27,Inputs,11,FALSE))","v":0},null,{"$f":"IF(P27>0,VLOOKUP(P27,Inputs,12,FALSE),\"\")","v":0},{"$f":"UPPER(VLOOKUP(V27,Inputs,10,FALSE))&\"  \"","v":"  "},null,{"$f":"IF(LEN(R31)>2,R31&VLOOKUP(V27,Inputs,11,FALSE),VLOOKUP(V27,Inputs,11,FALSE))","v":0},null,null,{"$f":"IF(V27>0,VLOOKUP(V27,Inputs,12,FALSE),\"\")","v":0},{"$f":"UPPER(VLOOKUP(AA27,Inputs,10,FALSE))&\"  \"","v":"  "},null,{"$f":"IF(LEN(X31)>2,X31&VLOOKUP(AA27,Inputs,11,FALSE),VLOOKUP(AA27,Inputs,11,FALSE))","v":0},null,null,{"$f":"IF(AA27>0,VLOOKUP(AA27,Inputs,12,FALSE),\"\")","v":0},{"$f":"UPPER(VLOOKUP(AG27,Inputs,10,FALSE))&\"  \"","v":"  "},null,{"$f":"IF(LEN(AD31)>2,AD31&VLOOKUP(AG27,Inputs,11,FALSE),VLOOKUP(AG27,Inputs,11,FALSE))","v":0},null,{"$f":"IF(AG27>0,VLOOKUP(AG27,Inputs,12,FALSE),\"\")","v":0},{"$f":"UPPER(VLOOKUP(AL27,Inputs,10,FALSE))&\"  \"","v":"  "},null,{"$f":"IF(LEN(AI31)>2,AI31&VLOOKUP(AL27,Inputs,11,FALSE),VLOOKUP(AL27,Inputs,11,FALSE))","v":0},null,{"$f":"IF(AL27>0,VLOOKUP(AL27,Inputs,12,FALSE),\"\")","v":0},null,null,{"$f":"IF($A31=AP$5,$G31,0)+IF($H31=AP$5,$L31,0)+IF($M31=AP$5,$Q31,0)+IF($R31=AP$5,$W31,0)+IF($X31=AP$5,AC31,0)+IF($AD31=AP$5,AH31,0)+IF(AI31=AP$5,AM31,0)","v":0},0,0,0,0,0,0,0,0,0,0,0,0,0]
[{"$f":"UPPER(VLOOKUP(F27,Inputs,13,FALSE))&\"  \"","v":"  "},null,null,null,{"$f":"IF(LEN(A32)>2,A32&VLOOKUP(F27,Inputs,14,FALSE),VLOOKUP(F27,Inputs,14,FALSE))","v":0},null,{"$f":"IF(F27>0,VLOOKUP(F27,Inputs,15,FALSE),\"\")","v":0},{"$f":"UPPER(VLOOKUP(K27,Inputs,13,FALSE))&\"  \"","v":"  "},null,{"$f":"IF(LEN(H32)>2,H32&VLOOKUP(K27,Inputs,14,FALSE),VLOOKUP(K27,Inputs,14,FALSE))","v":0},null,{"$f":"IF(K27>0,VLOOKUP(K27,Inputs,15,FALSE),\"\")","v":0},{"$f":"UPPER(VLOOKUP(P27,Inputs,13,FALSE))&\"  \"","v":"  "},null,{"$f":"IF(LEN(M32)>2,M32&VLOOKUP(P27,Inputs,14,FALSE),VLOOKUP(P27,Inputs,14,FALSE))","v":0},null,{"$f":"IF(P27>0,VLOOKUP(P27,Inputs,15,FALSE),\"\")","v":0},{"$f":"UPPER(VLOOKUP(V27,Inputs,13,FALSE))&\"  \"","v":"  "},null,{"$f":"IF(LEN(R32)>2,R32&VLOOKUP(V27,Inputs,14,FALSE),VLOOKUP(V27,Inputs,14,FALSE))","v":0},null,null,{"$f":"IF(V27>0,VLOOKUP(V27,Inputs,15,FALSE),\"\")","v":0},{"$f":"UPPER(VLOOKUP(AA27,Inputs,13,FALSE))&\"  \"","v":"  "},null,{"$f":"IF(LEN(X32)>2,X32&VLOOKUP(AA27,Inputs,14,FALSE),VLOOKUP(AA27,Inputs,14,FALSE))","v":0},null,null,{"$f":"IF(AA27>0,VLOOKUP(AA27,Inputs,15,FALSE),\"\")","v":0},{"$f":"UPPER(VLOOKUP(AG27,Inputs,13,FALSE))&\"  \"","v":"  "},null,{"$f":"IF(LEN(AD32)>2,AD32&VLOOKUP(AG27,Inputs,14,FALSE),VLOOKUP(AG27,Inputs,14,FALSE))","v":0},null,{"$f":"IF(AG27>0,VLOOKUP(AG27,Inputs,15,FALSE),\"\")","v":0},{"$f":"UPPER(VLOOKUP(AL27,Inputs,13,FALSE))&\"  \"","v":"  "},null,{"$f":"IF(LEN(AI32)>2,AI32&VLOOKUP(AL27,Inputs,14,FALSE),VLOOKUP(AL27,Inputs,14,FALSE))","v":0},null,{"$f":"IF(AL27>0,VLOOKUP(AL27,Inputs,15,FALSE),\"\")","v":0},null,null,{"$f":"IF($A32=AP$5,$G32,0)+IF($H32=AP$5,$L32,0)+IF($M32=AP$5,$Q32,0)+IF($R32=AP$5,$W32,0)+IF($X32=AP$5,AC32,0)+IF($AD32=AP$5,AH32,0)+IF(AI32=AP$5,AM32,0)","v":0},0,0,0,0,0,0,0,0,0,0,0,0,0]
[null,null,null,null,null,{"$f":"IF(F27>0,IF(VLOOKUP(F27,Inputs,3,FALSE)=\"T\",\"Telemarketing\",0),\"\")","v":0},null,null,null,null,{"$f":"IF(VLOOKUP(K27-1,Inputs,3,FALSE)=\"T\",0,IF(VLOOKUP(K27,Inputs,3,FALSE)=\"T\",\"Telemarketing\",0))","v":0},null,null,null,null,{"$f":"IF(VLOOKUP(P27-1,Inputs,3,FALSE)=\"T\",0,IF(VLOOKUP(P27,Inputs,3,FALSE)=\"T\",\"Telemarketing\",0))","v":0},null,null,null,null,null,{"$f":"IF(VLOOKUP(V27-1,Inputs,3,FALSE)=\"T\",0,IF(VLOOKUP(V27,Inputs,3,FALSE)=\"T\",\"Telemarketing\",0))","v":0},null,null,null,null,{"$f":"IF(VLOOKUP(AA27-1,Inputs,3,FALSE)=\"T\",0,IF(VLOOKUP(AA27,Inputs,3,FALSE)=\"T\",\"Telemarketing\",0))","v":0},null,null,null,null,null,{"$f":"IF(VLOOKUP(AG27-1,Inputs,3,FALSE)=\"T\",0,IF(VLOOKUP(AG27,Inputs,3,FALSE)=\"T\",\"Telemarketing\",0))","v":0},null,null,null,null,{"$f":"IF(VLOOKUP(AL27-1,Inputs,3,FALSE)=\"T\",0,IF(VLOOKUP(AL27,Inputs,3,FALSE)=\"T\",\"Telemarketing\",0))","v":0}]
[null,null,null,null,null,{"$f":"IF(AL27>0,IF(MONTH(1+AL27)=VLOOKUP(StartMonth,MonthLookup,2),1+AL27,0),0)","v":"2018-01-28"},null,null,null,null,{"$f":"IF(F34>0,IF(MONTH(1+F34)=VLOOKUP(StartMonth,MonthLookup,2),1+F34,0),0)","v":"2018-01-29"},null,null,null,null,{"$f":"IF(K34>0,IF(MONTH(1+K34)=VLOOKUP(StartMonth,MonthLookup,2),1+K34,0),0)","v":"2018-01-30"},null,null,null,null,null,{"$f":"IF(P34>0,IF(MONTH(1+P34)=VLOOKUP(StartMonth,MonthLookup,2),1+P34,0),0)","v":"2018-01-31"},null,null,null,null,{"$f":"IF(V34>0,IF(MONTH(1+V34)=VLOOKUP(StartMonth,MonthLookup,2),1+V34,0),0)","v":"00:00:00"},null,null,null,null,null,{"$f":"IF(AA34>0,IF(MONTH(1+AA34)=VLOOKUP(StartMonth,MonthLookup,2),1+AA34,0),0)","v":"00:00:00"},null,null,null,null,{"$f":"IF(AG34>0,IF(MONTH(1+AG34)=VLOOKUP(StartMonth,MonthLookup,2),1+AG34,0),0)","v":"00:00:00"}]
[null,null,null,null,{"$f":"IF(MONTH(F34)=VLOOKUP(StartMonth,MonthLookup,2),DAY(F34),0)","v":28},{"$f":"VLOOKUP(F34,Holidays,2)","v":0},null,null,null,{"$f":"IF(MONTH(K34)=VLOOKUP(StartMonth,MonthLookup,2),DAY(K34),0)","v":29},{"$f":"VLOOKUP(K34,Holidays,2)","v":0},null,null,null,{"$f":"IF(MONTH(P34)=VLOOKUP(StartMonth,MonthLookup,2),DAY(P34),0)","v":30},{"$f":"VLOOKUP(P34,Holidays,2)","v":0},null,null,null,{"$f":"IF(MONTH(V34)=VLOOKUP(StartMonth,MonthLookup,2),DAY(V34),0)","v":31},{"$f":"VLOOKUP(V34,Holidays,2)","v":0},null,null,null,null,{"$f":"IF(MONTH(AA34)=VLOOKUP(StartMonth,MonthLookup,2),DAY(AA34),0)","v":0},{"$f":"VLOOKUP(AA34,Holidays,2)","v":0},null,null,null,null,{"$f":"IF(MONTH(AG34)=VLOOKUP(StartMonth,MonthLookup,2),DAY(AG34),0)","v":0},{"$f":"VLOOKUP(AG34,Holidays,2)","v":0},null,null,null,{"$f":"IF(MONTH(AL34)=VLOOKUP(StartMonth,MonthLookup,2),DAY(AL34),0)","v":0},{"$f":"VLOOKUP(AL34,Holidays,2)","v":0}]
[{"$f":"UPPER(VLOOKUP(F34,Inputs,4,FALSE))&\"  \"","v":"  "},null,null,null,{"$f":"IF(LEN(A36)>2,A36&VLOOKUP(F34,Inputs,5,FALSE),VLOOKUP(F34,Inputs,5,FALSE))","v":0},null,{"$f":"IF(F34>0,VLOOKUP(F34,Inputs,6,FALSE),\"\")","v":0},{"$f":"UPPER(VLOOKUP(K34,Inputs,4,FALSE))&\"  \"","v":"  "},null,{"$f":"IF(LEN(H36)>2,H36&VLOOKUP(K34,Inputs,5,FALSE),VLOOKUP(K34,Inputs,5,FALSE))","v":0},null,{"$f":"IF(K34>0,VLOOKUP(K34,Inputs,6,FALSE),\"\")","v":0},{"$f":"UPPER(VLOOKUP(P34,Inputs,4,FALSE))&\"  \"","v":"  "},null,{"$f":"IF(LEN(M36)>2,M36&VLOOKUP(P34,Inputs,5,FALSE),VLOOKUP(P34,Inputs,5,FALSE))","v":0},null,{"$f":"IF(P34>0,VLOOKUP(P34,Inputs,6,FALSE),\"\")","v":0},{"$f":"IF(MONTH(V34)=A51,UPPER(VLOOKUP(V34,Inputs,4,FALSE))&\"  \",\"\")","v":"  "},null,{"$f":"IF(MONTH(V34)=A51,IF(LEN(R36)>0,R36&VLOOKUP(V34,Inputs,5,FALSE),VLOOKUP(V34,Inputs,5,FALSE)),\"\")","v":"  "},null,null,{"$f":"IF(MONTH(V34)=A51,IF(V34>0,VLOOKUP(V34,Inputs,6,FALSE),\"\"),0)","v":0},{"$f":"IF(MONTH(AA34)=A51,UPPER(VLOOKUP(AA34,Inputs,4,FALSE))&\"  \",\"\")","v":"  "},null,{"$f":"IF(MONTH(AA34)=A51,IF(LEN(X36)>0,X36&VLOOKUP(AA34,Inputs,5,FALSE),VLOOKUP(AA34,Inputs,5,FALSE)),\"\")","v":"  "},null,null,{"$f":"IF(MONTH(AA34)=A51,IF(AA34>0,VLOOKUP(AA34,Inputs,6,FALSE),\"\"),0)","v":""},{"$f":"IF(MONTH(AG34)=A51,UPPER(VLOOKUP(AG34,Inputs,4,FALSE))&\"  \",\"\")","v":"  "},null,{"$f":"IF(MONTH(AG34)=A51,IF(LEN(AD36)>0,AD36&VLOOKUP(AG34,Inputs,5,FALSE),VLOOKUP(AG34,Inputs,5,FALSE)),\"\")","v":"  "},null,{"$f":"IF(MONTH(AG34)=A51,IF(AG34>0,VLOOKUP(AG34,Inputs,6,FALSE),\"\"),0)","v":""},{"$f":"IF(MONTH(AL34)=A51,UPPER(VLOOKUP(AL34,Inputs,4,FALSE))&\"  \",\"\")","v":"  "},null,{"$f":"IF(MONTH(AL34)=A51,IF(LEN(AI36)>0,AI36&VLOOKUP(AL34,Inputs,5,FALSE),VLOOKUP(AL34,Inputs,5,FALSE)),\"\")","v":"  "},null,{"$f":"IF(MONTH(AL34)=A51,IF(AL34>0,VLOOKUP(AL34,Inputs,6,FALSE),\"\"),0)","v":""},null,null,{"$f":"IF($A36=AP$5,$G36,0)+IF($H36=AP$5,$L36,0)+IF($M36=AP$5,$Q36,0)+IF($R36=AP$5,$W36,0)+IF($X36=AP$5,AC36,0)+IF($AD36=AP$5,AH36,0)+IF(AI36=AP$5,AM36,0)","v":0},{"$f":"IF($A36=AQ$5,$G36,0)+IF($H36=AQ$5,$L36,0)+IF($M36=AQ$5,$Q36,0)+IF($R36=AQ$5,$W36,0)+IF($X36=AQ$5,$AC36,0)+IF($AD36=AQ$5,$AH36,0)+IF($AI36=AQ$5,$AM36,0)","v":0},0,0,0,0,0,0,0,0,0,0,0,0]
[{"$f":"UPPER(VLOOKUP(F34,Inputs,7,FALSE))&\"  \"","v":"  "},null,null,null,{"$f":"IF(LEN(A37)>2,A37&VLOOKUP(F34,Inputs,8,FALSE),VLOOKUP(F34,Inputs,8,FALSE))","v":0},null,{"$f":"IF(F34>0,VLOOKUP(F34,Inputs,9,FALSE),\"\")","v":0},{"$f":"UPPER(VLOOKUP(K34,Inputs,7,FALSE))&\"  \"","v":"  "},null,{"$f":"IF(LEN(H37)>2,H37&VLOOKUP(K34,Inputs,8,FALSE),VLOOKUP(K34,Inputs,8,FALSE))","v":0},null,{"$f":"IF(K34>0,VLOOKUP(K34,Inputs,9,FALSE),\"\")","v":0},{"$f":"UPPER(VLOOKUP(P34,Inputs,7,FALSE))&\"  \"","v":"  "},null,{"$f":"IF(LEN(M37)>2,M37&VLOOKUP(P34,Inputs,8,FALSE),VLOOKUP(P34,Inputs,8,FALSE))","v":0},null,{"$f":"IF(P34>0,VLOOKUP(P34,Inputs,9,FALSE),\"\")","v":0},{"$f":"IF(MONTH(V34)=A51,UPPER(VLOOKUP(V34,Inputs,7,FALSE))&\"  \",\"\")","v":"  "},null,{"$f":"IF(MONTH(V34)=A51,IF(LEN(R37)>0,R37&VLOOKUP(V34,Inputs,8,FALSE),VLOOKUP(V34,Inputs,8,FALSE)),\"\")","v":"  "},null,null,{"$f":"IF(MONTH(V34)=A51,IF(V34>0,VLOOKUP(V34,Inputs,9,FALSE),\"\"),0)","v":0},{"$f":"IF(MONTH(AA34)=A51,UPPER(VLOOKUP(AA34,Inputs,7,FALSE))&\"  \",\"\")","v":"  "},null,{"$f":"IF(MONTH(AA34)=A51,IF(LEN(X37)>0,X37&VLOOKUP(AA34,Inputs,8,FALSE),VLOOKUP(AA34,Inputs,8,FALSE)),\"\")","v":"  "},null,null,{"$f":"IF(MONTH(AA34)=A51,IF(AA34>0,VLOOKUP(AA34,Inputs,9,FALSE),\"\"),0)","v":""},{"$f":"IF(MONTH(AG34)=A51,UPPER(VLOOKUP(AG34,Inputs,7,FALSE))&\"  \",\"\")","v":"  "},null,{"$f":"IF(MONTH(AG34)=A51,IF(LEN(AD37)>0,AD37&VLOOKUP(AG34,Inputs,8,FALSE),VLOOKUP(AG34,Inputs,8,FALSE)),\"\")","v":"  "},null,{"$f":"IF(MONTH(AG34)=A51,IF(AG34>0,VLOOKUP(AG34,Inputs,9,FALSE),\"\"),0)","v":""},{"$f":"IF(MONTH(AL34)=A51,UPPER(VLOOKUP(AL34,Inputs,7,FALSE))&\"  \",\"\")","v":"  "},null,{"$f":"IF(MONTH(AL34)=A51,IF(LEN(AI37)>0,AI37&VLOOKUP(AL34,Inputs,8,FALSE),VLOOKUP(AL34,Inputs,8,FALSE)),\"\")","v":"  "},null,{"$f":"IF(MONTH(AL34)=A51,IF(AL34>0,VLOOKUP(AL34,Inputs,9,FALSE),\"\"),0)","v":""},null,null,{"$f":"IF($A37=AP$5,$G37,0)+IF($H37=AP$5,$L37,0)+IF($M37=AP$5,$Q37,0)+IF($R37=AP$5,$W37,0)+IF($X37=AP$5,AC37,0)+IF($AD37=AP$5,AH37,0)+IF(AI37=AP$5,AM37,0)","v":0},0,0,0,0,0,0,0,0,0,0,0,0,0]
[{"$f":"UPPER(VLOOKUP(F34,Inputs,10,FALSE))&\"  \"","v":"  "},null,null,null,{"$f":"IF(LEN(A38)>2,A38&VLOOKUP(F34,Inputs,11,FALSE),VLOOKUP(F34,Inputs,11,FALSE))","v":0},null,{"$f":"IF(F34>0,VLOOKUP(F34,Inputs,12,FALSE),\"\")","v":0},{"$f":"UPPER(VLOOKUP(K34,Inputs,10,FALSE))&\"  \"","v":"  "},null,{"$f":"IF(LEN(H38)>2,H38&VLOOKUP(K34,Inputs,11,FALSE),VLOOKUP(K34,Inputs,11,FALSE))","v":0},null,{"$f":"IF(K34>0,VLOOKUP(K34,Inputs,12,FALSE),\"\")","v":0},{"$f":"UPPER(VLOOKUP(P34,Inputs,10,FALSE))&\"  \"","v":"  "},null,{"$f":"IF(LEN(M38)>2,M38&VLOOKUP(P34,Inputs,11,FALSE),VLOOKUP(P34,Inputs,11,FALSE))","v":0},null,{"$f":"IF(P34>0,VLOOKUP(P34,Inputs,12,FALSE),\"\")","v":0},{"$f":"IF(MONTH(V34)=A51,UPPER(VLOOKUP(V34,Inputs,10,FALSE))&\"  \",\"\")","v":"  "},null,{"$f":"IF(MONTH(V34)=A51,IF(LEN(R38)>0,R38&VLOOKUP(V34,Inputs,11,FALSE),VLOOKUP(V34,Inputs,11,FALSE)),\"\")","v":"  "},null,null,{"$f":"IF(MONTH(V34)=A51,IF(V34>0,VLOOKUP(V34,Inputs,12,FALSE),\"\"),0)","v":0},{"$f":"IF(MONTH(AA34)=A51,UPPER(VLOOKUP(AA34,Inputs,10,FALSE))&\"  \",\"\")","v":"  "},null,{"$f":"IF(MONTH(AA34)=A51,IF(LEN(X38)>0,X38&VLOOKUP(AA34,Inputs,11,FALSE),VLOOKUP(AA34,Inputs,11,FALSE)),\"\")","v":"  "},null,null,{"$f":"IF(MONTH(AA34)=A51,IF(AA34>0,VLOOKUP(AA34,Inputs,12,FALSE),\"\"),0)","v":""},{"$f":"IF(MONTH(AG34)=A51,UPPER(VLOOKUP(AG34,Inputs,10,FALSE))&\"  \",\"\")","v":"  "},null,{"$f":"IF(MONTH(AG34)=A51,IF(LEN(AD38)>0,AD38&VLOOKUP(AG34,Inputs,11,FALSE),VLOOKUP(AG34,Inputs,11,FALSE)),\"\")","v":"  "},null,{"$f":"IF(MONTH(AG34)=A51,IF(AG34>0,VLOOKUP(AG34,Inputs,12,FALSE),\"\"),0)","v":""},{"$f":"IF(MONTH(AL34)=A51,UPPER(VLOOKUP(AL34,Inputs,10,FALSE))&\"  \",\"\")","v":"  "},null,{"$f":"IF(MONTH(AL34)=A51,IF(LEN(AI38)>0,AI38&VLOOKUP(AL34,Inputs,11,FALSE),VLOOKUP(AL34,Inputs,11,FALSE)),\"\")","v":"  "},null,{"$f":"IF(MONTH(AL34)=A51,IF(AL34>0,VLOOKUP(AL34,Inputs,12,FALSE),\"\"),0)","v":""},null,null,{"$f":"IF($A38=AP$5,$G38,0)+IF($H38=AP$5,$L38,0)+IF($M38=AP$5,$Q38,0)+IF($R38=AP$5,$W38,0)+IF($X38=AP$5,AC38,0)+IF($AD38=AP$5,AH38,0)+IF(AI38=AP$5,AM38,0)","v":0},0,0,0,0,0,0,0,0,0,0,0,0,0]
[{"$f":"UPPER(VLOOKUP(F34,Inputs,13,FALSE))&\"  \"","v":"  "},null,null,null,{"$f":"IF(LEN(A39)>2,A39&VLOOKUP(F34,Inputs,14,FALSE),VLOOKUP(F34,Inputs,14,FALSE))","v":0},null,{"$f":"IF(F34>0,VLOOKUP(F34,Inputs,15,FALSE),\"\")","v":0},{"$f":"UPPER(VLOOKUP(K34,Inputs,13,FALSE))&\"  \"","v":"  "},null,{"$f":"IF(LEN(H39)>2,H39&VLOOKUP(K34,Inputs,14,FALSE),VLOOKUP(K34,Inputs,14,FALSE))","v":0},null,{"$f":"IF(K34>0,VLOOKUP(K34,Inputs,15,FALSE),\"\")","v":0},{"$f":"UPPER(VLOOKUP(P34,Inputs,13,FALSE))&\"  \"","v":"  "},null,{"$f":"IF(LEN(M39)>2,M39&VLOOKUP(P34,Inputs,14,FALSE),VLOOKUP(P34,Inputs,14,FALSE))","v":0},null,{"$f":"IF(P34>0,VLOOKUP(P34,Inputs,15,FALSE),\"\")","v":0},{"$f":"IF(MONTH(V34)=A51,UPPER(VLOOKUP(V34,Inputs,13,FALSE))&\"  \",\"\")","v":"  "},null,{"$f":"IF(MONTH(V34)=A51,IF(LEN(R39)>0,R39&VLOOKUP(V34,Inputs,14,FALSE),VLOOKUP(V34,Inputs,14,FALSE)),\"\")","v":"  "},null,null,{"$f":"IF(MONTH(V34)=A51,IF(V34>0,VLOOKUP(V34,Inputs,15,FALSE),\"\"),0)","v":0},{"$f":"IF(MONTH(AA34)=A51,UPPER(VLOOKUP(AA34,Inputs,13,FALSE))&\"  \",\"\")","v":"  "},null,{"$f":"IF(MONTH(AA34)=A51,IF(LEN(X39)>0,X39&VLOOKUP(AA34,Inputs,14,FALSE),VLOOKUP(AA34,Inputs,14,FALSE)),\"\")","v":"  "},null,null,{"$f":"IF(MONTH(AA34)=A51,IF(AA34>0,VLOOKUP(AA34,Inputs,15,FALSE),\"\"),0)","v":""},{"$f":"IF(MONTH(AG34)=A51,UPPER(VLOOKUP(AG34,Inputs,13,FALSE))&\"  \",\"\")","v":"  "},null,{"$f":"IF(MONTH(AG34)=A51,IF(LEN(AD39)>0,AD39&VLOOKUP(AG34,Inputs,14,FALSE),VLOOKUP(AG34,Inputs,14,FALSE)),\"\")","v":"  "},null,{"$f":"IF(MONTH(AG34)=A51,IF(AG34>0,VLOOKUP(AG34,Inputs,15,FALSE),\"\"),0)","v":""},{"$f":"IF(MONTH(AL34)=A51,UPPER(VLOOKUP(AL34,Inputs,13,FALSE))&\"  \",\"\")","v":"  "},null,{"$f":"IF(MONTH(AL34)=A51,IF(LEN(AI39)>0,AI39&VLOOKUP(AL34,Inputs,14,FALSE),VLOOKUP(AL34,Inputs,14,FALSE)),\"\")","v":"  "},null,{"$f":"IF(MONTH(AL34)=A51,IF(AL34>0,VLOOKUP(AL34,Inputs,15,FALSE),\"\"),0)","v":""},null,null,{"$f":"IF($A39=AP$5,$G39,0)+IF($H39=AP$5,$L39,0)+IF($M39=AP$5,$Q39,0)+IF($R39=AP$5,$W39,0)+IF($X39=AP$5,AC39,0)+IF($AD39=AP$5,AH39,0)+IF(AI39=AP$5,AM39,0)","v":0},0,0,0,0,0,0,0,0,0,0,0,0,0]
[null,null,null,null,null,{"$f":"IF(F34>0,IF(VLOOKUP(F34,Inputs,3,FALSE)=\"T\",\"Telemarketing\",0),\"\")","v":0},null,null,null,null,{"$f":"IF(VLOOKUP(K34-1,Inputs,3,FALSE)=\"T\",0,IF(VLOOKUP(K34,Inputs,3,FALSE)=\"T\",\"Telemarketing\",0))","v":0},null,null,null,null,{"$f":"IF(VLOOKUP(P34-1,Inputs,3,FALSE)=\"T\",0,IF(VLOOKUP(P34,Inputs,3,FALSE)=\"T\",\"Telemarketing\",0))","v":0},null,null,null,null,null,{"$f":"IF(VLOOKUP(V34-1,Inputs,3,FALSE)=\"T\",0,IF(VLOOKUP(V34,Inputs,3,FALSE)=\"T\",\"Telemarketing\",0))","v":0},null,null,null,null,{"$f":"IF(VLOOKUP(AA34-1,Inputs,3,FALSE)=\"T\",0,IF(VLOOKUP(AA34,Inputs,3,FALSE)=\"T\",\"Telemarketing\",0))","v":{"$error":"#N/A"}},null,null,null,null,null,{"$f":"IF(VLOOKUP(AG34-1,Inputs,3,FALSE)=\"T\",0,IF(VLOOKUP(AG34,Inputs,3,FALSE)=\"T\",\"Telemarketing\",0))","v":{"$error":"#N/A"}},null,null,null,null,{"$f":"IF(VLOOKUP(AL34-1,Inputs,3,FALSE)=\"T\",0,IF(VLOOKUP(AL34,Inputs,3,FALSE)=\"T\",\"Telemarketing\",0))","v":{"$error":"#N/A"}}]
[null,null,null,null,null,{"$f":"IF(AL34>0,IF(MONTH(1+AL34)=VLOOKUP(StartMonth,MonthLookup,2),1+AL34,0),0)","v":"00:00:00"},null,null,null,null,{"$f":"IF(F41>0,IF(MONTH(1+F41)=VLOOKUP(StartMonth,MonthLookup,2),1+F41,0),0)","v":"00:00:00"}]
[null,null,null,null,{"$f":"IF(MONTH(F41)=VLOOKUP(StartMonth,MonthLookup,2),DAY(F41),0)","v":0},{"$f":"VLOOKUP(F41,Holidays,2)","v":0},null,null,null,{"$f":"IF(MONTH(K41)=VLOOKUP(StartMonth,MonthLookup,2),DAY(K41),0)","v":0},{"$f":"VLOOKUP(K41,Holidays,2)","v":0}]
[{"$f":"IF(MONTH(F$41)=A$51,UPPER(VLOOKUP(F$41,Inputs,4,FALSE))&\"  \",\"\")","v":"  "},null,null,null,{"$f":"IF(MONTH(F41)=A51,IF(LEN(A43)>0,A43&VLOOKUP(F41,Inputs,5,FALSE),VLOOKUP(F41,Inputs,5,FALSE)),\"\")","v":"  "},null,{"$f":"IF(MONTH(F41)=A51,IF(F41>0,VLOOKUP(F41,Inputs,6,FALSE),\"\"),0)","v":""},{"$f":"IF(MONTH(K41)=A51,UPPER(VLOOKUP(K41,Inputs,4,FALSE))&\"  \",\"\")","v":"  "},null,{"$f":"IF(MONTH(K41)=A51,IF(LEN(H43)>2,H43&VLOOKUP(K41,Inputs,5,FALSE),VLOOKUP(K41,Inputs,5,FALSE)),\"\")","v":0},null,{"$f":"IF(MONTH(K41)=A51,IF(K41>0,VLOOKUP(K41,Inputs,6,FALSE),\"\"),0)","v":""},null,null,null,null,null,null,null,null,null,null,null,null,null,null,null,null,null,null,null,null,null,null,null,null,null,null,null,null,null,{"$f":"IF($A43=AP$5,$G43,0)+IF($H43=AP$5,$L43,0)+IF($M43=AP$5,$Q43,0)+IF($R43=AP$5,$W43,0)+IF($X43=AP$5,AC43,0)+IF($AD43=AP$5,AH43,0)+IF(AI43=AP$5,AM43,0)","v":0},{"$f":"IF($A43=AQ$5,$G43,0)+IF($H43=AQ$5,$L43,0)+IF($M43=AQ$5,$Q43,0)+IF($R43=AQ$5,$W43,0)+IF($X43=AQ$5,$AC43,0)+IF($AD43=AQ$5,$AH43,0)+IF($AI43=AQ$5,$AM43,0)","v":0},0,0,0,0,0,0,0,0,0,0,0,0]
[{"$f":"IF(MONTH(F$41)=A$51,UPPER(VLOOKUP(F$41,Inputs,4,FALSE))&\"  \",\"\")","v":"  "},null,null,null,{"$f":"IF(MONTH(F41)=A51,IF(LEN(A44)>0,A44&VLOOKUP(F41,Inputs,8,FALSE),VLOOKUP(F41,Inputs,8,FALSE)),\"\")","v":"  "},null,{"$f":"IF(MONTH(F41)=A51,IF(F41>0,VLOOKUP(F41,Inputs,9,FALSE),\"\"),0)","v":""},{"$f":"IF(MONTH(K41)=A51,UPPER(VLOOKUP(K41,Inputs,7,FALSE))&\"  \",\"\")","v":"  "},null,{"$f":"IF(MONTH(K41)=A51,IF(LEN(H44)>2,H44&VLOOKUP(K41,Inputs,8,FALSE),VLOOKUP(K41,Inputs,8,FALSE)),\"\")","v":0},null,{"$f":"IF(MONTH(K41)=A51,IF(K41>0,VLOOKUP(K41,Inputs,9,FALSE),\"\"),0)","v":""},null,null,null,null,null,null,null,null,null,null,null,null,null,null,null,null,null,null,null,null,null,null,null,null,null,null,null,null,null,{"$f":"IF($A44=AP$5,$G44,0)+IF($H44=AP$5,$L44,0)+IF($M44=AP$5,$Q44,0)+IF($R44=AP$5,$W44,0)+IF($X44=AP$5,AC44,0)+IF($AD44=AP$5,AH44,0)+IF(AI44=AP$5,AM44,0)","v":0},0,0,0,0,0,0,0,0,0,0,0,0,0]
[{"$f":"IF(MONTH(F$41)=A$51,UPPER(VLOOKUP(F$41,Inputs,4,FALSE))&\"  \",\"\")","v":"  "},null,null,null,{"$f":"IF(MONTH(F41)=A51,IF(LEN(A45)>0,A45&VLOOKUP(F41,Inputs,11,FALSE),VLOOKUP(F41,Inputs,11,FALSE)),\"\")","v":"  "},null,{"$f":"IF(MONTH(F41)=A51,IF(F41>0,VLOOKUP(F41,Inputs,12,FALSE),\"\"),0)","v":""},{"$f":"IF(MONTH(K41)=A51,UPPER(VLOOKUP(K41,Inputs,10,FALSE))&\"  \",\"\")","v":"  "},null,{"$f":"IF(MONTH(K41)=A51,IF(LEN(H45)>2,H45&VLOOKUP(K41,Inputs,11,FALSE),VLOOKUP(K41,Inputs,11,FALSE)),\"\")","v":0},null,{"$f":"IF(MONTH(K41)=A51,IF(K41>0,VLOOKUP(K41,Inputs,12,FALSE),\"\"),0)","v":""},null,null,null,null,null,null,null,null,null,null,null,null,null,null,null,null,null,null,null,null,null,null,null,null,null,null,null,null,null,{"$f":"IF($A45=AP$5,$G45,0)+IF($H45=AP$5,$L45,0)+IF($M45=AP$5,$Q45,0)+IF($R45=AP$5,$W45,0)+IF($X45=AP$5,AC45,0)+IF($AD45=AP$5,AH45,0)+IF(AI45=AP$5,AM45,0)","v":0},0,0,0,0,0,0,0,0,0,0,0,0,0]
[{"$f":"IF(MONTH(F$41)=A$51,UPPER(VLOOKUP(F$41,Inputs,4,FALSE))&\"  \",\"\")","v":"  "},null,null,null,{"$f":"IF(MONTH(F41)=A51,IF(LEN(A46)>0,A46&VLOOKUP(F41,Inputs,14,FALSE),VLOOKUP(F41,Inputs,14,FALSE)),\"\")","v":"  "},null,{"$f":"IF(MONTH(F41)=A51,IF(F41>0,VLOOKUP(F41,Inputs,15,FALSE),\"\"),0)","v":""},{"$f":"IF(MONTH(K41)=A51,UPPER(VLOOKUP(K41,Inputs,13,FALSE))&\"  \",\"\")","v":"  "},null,{"$f":"IF(MONTH(K41)=A51,IF(LEN(H46)>2,H46&VLOOKUP(K41,Inputs,14,FALSE),VLOOKUP(K41,Inputs,14,FALSE)),\"\")","v":0},null,{"$f":"IF(MONTH(K41)=A51,IF(K41>0,VLOOKUP(K41,Inputs,15,FALSE),\"\"),0)","v":""},null,null,null,null,null,null,null,null,null,null,null,null,null,null,null,null,null,null,null,null,null,null,null,null,null,null,null,null,null,{"$f":"IF($A46=AP$5,$G46,0)+IF($H46=AP$5,$L46,0)+IF($M46=AP$5,$Q46,0)+IF($R46=AP$5,$W46,0)+IF($X46=AP$5,AC46,0)+IF($AD46=AP$5,AH46,0)+IF(AI46=AP$5,AM46,0)","v":0},0,0,0,0,0,0,0,0,0,0,0,0,0]
[null,null,null,null,null,{"$f":"IF(F41>0,IF(VLOOKUP(F41,Inputs,3,FALSE)=\"T\",\"Telemarketing\",0),\"\")","v":""},null,null,null,null,{"$f":"IF(VLOOKUP(K41-1,Inputs,3,FALSE)=\"T\",0,IF(VLOOKUP(K41,Inputs,3,FALSE)=\"T\",\"Telemarketing\",0))","v":{"$error":"#N/A"}},null,null,null,null,null,null,null,null,null,null,null,null,null,null,null,null,null,null,null,null,null,null,null,null,null,null,null,null,null,null,{"$f":"SUM(AP7:AP46)","v":0},0,0,0,0,0,0,0,{"$f":"SUM(AX7:AX46)","v":0},0,0,0,0,0]
[]
[null,null,null,null,{"$f":"\"CODE KEY:  \"&'Company Setup'!L$22&'Company Setup'!L$23&'Company Setup'!L$24&'Company Setup'!L$25&'Company Setup'!L$26&'Company Setup'!L$27&'Company Setup'!L$28&'Company Setup'!L$29&'Company Setup'!L$30&'Company Setup'!L$31&'Company Setup'!L$32&'Company Setup'!L$33&'Company Setup'!L$33&'Company Setup'!L$34&'Company Setup'!L$35","v":"CODE KEY:  B=Broadcast, L=Letter, P=Postcard, F=Flyer, H=Hanger, I=Newspaper Ads, N=Newsletter, E=E-Mail, A=Banner Ads, Y=Yellow Pages, "}]
[null,null,null,null,null,null,null,null,null,null,null,null,null,null,null,null,null,null,null,null,null,null,null,null,null,{"$f":"'Company Setup'!D$30","v":"Broadcast"},{"$f":"AP47","v":0},null,null,null,null,null,null,{"$f":"'Company Setup'!D$29","v":"E-Mail"},null,null,{"$f":"AW47","v":0}]
[{"$f":"VLOOKUP(StartMonth,MonthLookup,2)","v":1},null,null,null,null,null,"Revenue Budget",null,null,{"$f":"VLOOKUP(A52,ClientTable,2,FALSE)","v":86677},null,null,null,null,null,{"$f":"'Company Setup'!$E$5","v":"Reviews"},{"$f":"VLOOKUP(A52,ClientTable,3)","v":0},null,null,null,null,null,null,null,null,{"$f":"'Company Setup'!D$23","v":"Letter"},{"$f":"AQ47","v":0},null,null,null,null,null,null,{"$f":"'Company Setup'!D30","v":"Broadcast"},null,null,{"$f":"AX47","v":0}]
[{"$f":"VLOOKUP(A51,ClientTable,9)","v":1},null,null,null,null,null,"Monthly Marketing Budget",null,null,{"$f":"VLOOKUP(A52,ClientTable,7,FALSE)*VLOOKUP(A52,ClientTable,2,FALSE)","v":4333.8500000000004},null,null,null,null,null,{"$f":"'Company Setup'!$F$5","v":"SEO"},{"$f":"VLOOKUP(A52,ClientTable,4)","v":0},null,null,null,null,null,null,null,null,{"$f":"'Company Setup'!D$24","v":"Postcard"},{"$f":"AR47","v":0},null,null,null,null,null,null,{"$f":"'Company Setup'!D$31","v":"Banner Ads"},null,null,{"$f":"AY47","v":0}]
[null,null,null,null,null,null,"Month's End Marketing Cost",null,null,{"$f":"SUM(AK50:AK55)+SUM(AA50:AA56)+SUM(Q50:Q56)","v":0},null,null,null,null,null,{"$f":"'Company Setup'!$H$5","v":"Community Events"},{"$f":"VLOOKUP(A52,ClientTable,5)","v":0},null,null,null,null,null,null,null,null,{"$f":"'Company Setup'!D$25","v":"Flyer"},{"$f":"AS47","v":0},null,null,null,null,null,null,{"$f":"'Company Setup'!D$32","v":"Yellow Pages"},null,null,{"$f":"AZ47","v":0}]
[null,null,null,null,null,null,"Variance",null,null,{"$f":"J53-J52","v":-4333.8500000000004},null,null,null,null,null,{"$f":"'Company Setup'!G5","v":"Shows & Contests"},{"$f":"VLOOKUP(A52,ClientTable,6)","v":0},null,null,null,null,null,null,null,null,{"$f":"'Company Setup'!D$26","v":"Hanger"},{"$f":"AT47","v":0},null,null,null,null,null,null,{"$f":"'Company Setup'!D$33","v":0},null,null,{"$f":"BA47","v":0}]
[null,null,null,null,null,null,null,null,null,null,null,null,null,null,null,null,null,null,null,null,null,null,null,null,null,{"$f":"'Company Setup'!D$27","v":"Newspaper Ads"},{"$f":"AU47","v":0},null,null,null,null,null,null,{"$f":"'Company Setup'!D$34","v":0},null,null,{"$f":"BB47","v":0}]
[null,null,null,{"$f":"MONTH(StartMonth)","v":{"$error":"#VALUE!"}},"©","Bedrock Markets, Inc. 2000 - 2100",null,null,null,null,null,null,null,null,null,null,null,null,null,null,null,null,null,null,null,{"$f":"'Company Setup'!D$28","v":"Newsletter"},{"$f":"AV47","v":0},null,null,null,null,null,null,{"$f":"'Company Setup'!D$35","v":0},null,null,{"$f":"BC47","v":0}]
[]
[null,null,null,null,{"$f":"IF(E3=12,1,E3+1)","v":2},{"$f":"VLOOKUP(E58,Monthlookup2,2)&\" \"&YEAR(Calendar!S40)","v":"February 2018"},null,null,null,null,null,null,null,null,null,{"$f":"P$3","v":"   ABC Heating and Air"},null,null,null,null,null,null,null,null,null,null,null,null,null,null,null,null,null,null,null,null,null,null,null,null,"Importante!  Add 2 spaces after code - es muy neccesita"]
[]
[null,null,null,null,"Sunday",null,null,null,null,"Monday",null,null,null,null,"Tuesday",null,null,null,null,"Wednesday",null,null,null,null,null,"Thursday",null,null,null,null,null,"Friday",null,null,null,null,"Saturday"]
[null,null,null,null,null,{"$f":"IF(VLOOKUP(DATE(RIGHT($F58,4),$A107,1),Calendar,3)=1,DATE(RIGHT($F58,4),$A107,1),0)","v":"00:00:00"},null,null,null,null,{"$f":"IF(E62>0,F61+1,IF(VLOOKUP(DATE(RIGHT($F58,4),$A107,1),Calendar,3)=2,DATE(RIGHT($F58,4),$A107,1),0))","v":"00:00:00"},null,null,null,null,{"$f":"IF(J62>0,K61+1,IF(VLOOKUP(DATE(RIGHT($F58,4),$A107,1),Calendar,3)=3,DATE(RIGHT($F58,4),$A107,1),0))","v":"00:00:00"},null,null,null,null,null,{"$f":"IF(O62>0,P61+1,IF(VLOOKUP(DATE(RIGHT($F58,4),$A107,1),Calendar,3)=4,DATE(RIGHT($F58,4),$A107,1),0))","v":"00:00:00"},null,null,null,null,{"$f":"IF(T62>0,V61+1,IF(VLOOKUP(DATE(RIGHT($F58,4),$A107,1),Calendar,3)=5,DATE(RIGHT($F58,4),$A107,1),0))","v":"2018-02-01"},null,null,null,null,null,{"$f":"IF(Z62>0,AA61+1,IF(VLOOKUP(DATE(RIGHT($F58,4),$A107,1),Calendar,3)=6,DATE(RIGHT($F58,4),$A107,1),0))","v":"2018-02-02"},null,null,null,null,{"$f":"IF(AF62>0,AG61+1,IF(VLOOKUP(DATE(RIGHT($F58,4),$A107,1),Calendar,3)=7,DATE(RIGHT($F58,4),$A107,1),0))","v":"2018-02-03"}]
[null,null,null,null,{"$f":"DAY(F61)","v":0},{"$f":"IF(F61>0,VLOOKUP(F61,Holidays,2),0)","v":0},null,null,null,{"$f":"DAY(K61)","v":0},{"$f":"IF(K61>0,VLOOKUP(K61,Holidays,2),0)","v":0},null,null,null,{"$f":"DAY(P61)","v":0},{"$f":"IF(P61>0,VLOOKUP(P61,Holidays,2),0)","v":0},null,null,null,{"$f":"DAY(V61)","v":0},{"$f":"IF(V61>0,VLOOKUP(V61,Holidays,2),0)","v":0},null,null,null,null,{"$f":"DAY(AA61)","v":1},{"$f":"IF(AA61>0,VLOOKUP(AA61,Holidays,2),0)","v":0},null,null,null,null,{"$f":"DAY(AG61)","v":2},{"$f":"IF(AG61>0,VLOOKUP(AG61,Holidays,2),0)","v":0},null,null,null,{"$f":"DAY(AL61)","v":3},{"$f":"IF(AL61>0,VLOOKUP(AL61,Holidays,2),0)","v":0}]
[{"$f":"IF(F61>1,UPPER(VLOOKUP(F61,Inputs,4,FALSE))&\"  \",0)","v":0},null,null,null,{"$f":"IF(F61>0,IF(LEN(A63)>2,A63&VLOOKUP(F61,Inputs,5,FALSE),VLOOKUP(F61,Inputs,5,FALSE)),\"\")","v":""},null,{"$f":"IF(F61>0,VLOOKUP(F61,Inputs,6,FALSE),\"\")","v":""},{"$f":"IF(K61>1,UPPER(VLOOKUP(K61,Inputs,4,FALSE))&\"  \",0)","v":0},null,{"$f":"IF(K61>0,IF(LEN(H63)>2,H63&VLOOKUP(K61,Inputs,5,FALSE),VLOOKUP(K61,Inputs,5,FALSE)),\"\")","v":""},null,{"$f":"IF(K61>0,VLOOKUP(K61,Inputs,6,FALSE),\"\")","v":""},{"$f":"IF(P61>1,UPPER(VLOOKUP(P61,Inputs,4,FALSE))&\"  \",0)","v":0},null,{"$f":"IF(P61>0,IF(LEN(M63)>2,M63&VLOOKUP(P61,Inputs,5,FALSE),VLOOKUP(P61,Inputs,5,FALSE)),\"\")","v":""},null,{"$f":"IF(P61>0,VLOOKUP(P61,Inputs,6,FALSE),\"\")","v":""},{"$f":"IF(V61>1,UPPER(VLOOKUP(V61,Inputs,4,FALSE))&\"  \",0)","v":0},null,{"$f":"IF(V61>0,IF(LEN(R63)>2,R63&VLOOKUP(V61,Inputs,5,FALSE),VLOOKUP(V61,Inputs,5,FALSE)),\"\")","v":""},null,null,{"$f":"IF(V61>0,VLOOKUP(V61,Inputs,6,FALSE),\"\")","v":""},{"$f":"IF(AA61>1,UPPER(VLOOKUP(AA61,Inputs,4,FALSE))&\"  \",0)","v":"  "},null,{"$f":"IF(AA61>0,IF(LEN(X63)>2,X63&VLOOKUP(AA61,Inputs,5,FALSE),VLOOKUP(AA61,Inputs,5,FALSE)),\"\")","v":0},null,null,{"$f":"IF(AA61>0,VLOOKUP(AA61,Inputs,6,FALSE),\"\")","v":0},{"$f":"IF(AG61>1,UPPER(VLOOKUP(AG61,Inputs,4,FALSE))&\"  \",0)","v":"  "},null,{"$f":"IF(AG61>0,IF(LEN(AD63)>2,AD63&VLOOKUP(AG61,Inputs,5,FALSE),VLOOKUP(AG61,Inputs,5,FALSE)),\"\")","v":0},null,{"$f":"IF(AG61>0,VLOOKUP(AG61,Inputs,6,FALSE),\"\")","v":0},{"$f":"UPPER(VLOOKUP(AL61,Inputs,4,FALSE))&\"  \"","v":"  "},null,{"$f":"IF(LEN(AI63)>2,AI63&VLOOKUP(AL61,Inputs,5,FALSE),VLOOKUP(AL61,Inputs,5,FALSE))","v":0},null,{"$f":"VLOOKUP(AL61,Inputs,6,FALSE)","v":0},null,null,{"$f":"IF($A63=AP$5,$G63,0)+IF($H63=AP$5,$L63,0)+IF($M63=AP$5,$Q63,0)+IF($R63=AP$5,$W63,0)+IF($X63=AP$5,AC63,0)+IF($AD63=AP$5,AH63,0)+IF(AI63=AP$5,AM63,0)","v":0},{"$f":"IF($A63=AQ$5,$G63,0)+IF($H63=AQ$5,$L63,0)+IF($M63=AQ$5,$Q63,0)+IF($R63=AQ$5,$W63,0)+IF($X63=AQ$5,$AC63,0)+IF($AD63=AQ$5,$AH63,0)+IF($AI63=AQ$5,$AM63,0)","v":0},0,0,0,0,0,0,0,0,0,0,0,0]
[{"$f":"IF(F61>1,UPPER(VLOOKUP(F61,Inputs,7,FALSE))&\"  \",0)","v":0},null,null,null,{"$f":"IF(F61>0,IF(LEN(A64)>2,A64&VLOOKUP(F61,Inputs,8,FALSE),VLOOKUP(F61,Inputs,8,FALSE)),\"\")","v":""},null,{"$f":"IF(F61>0,VLOOKUP(F61,Inputs,9,FALSE),\"\")","v":""},{"$f":"IF(K61>1,UPPER(VLOOKUP(K61,Inputs,7,FALSE))&\"  \",0)","v":0},null,{"$f":"IF(K61>0,IF(LEN(H64)>2,H64&VLOOKUP(K61,Inputs,8,FALSE),VLOOKUP(K61,Inputs,8,FALSE)),\"\")","v":""},null,{"$f":"IF(K61>0,VLOOKUP(K61,Inputs,9,FALSE),\"\")","v":""},{"$f":"IF(P61>1,UPPER(VLOOKUP(P61,Inputs,7,FALSE))&\"  \",0)","v":0},null,{"$f":"IF(P61>0,IF(LEN(M64)>2,M64&VLOOKUP(P61,Inputs,8,FALSE),VLOOKUP(P61,Inputs,8,FALSE)),\"\")","v":""},null,{"$f":"IF(P61>0,VLOOKUP(P61,Inputs,9,FALSE),\"\")","v":""},{"$f":"IF(V61>1,UPPER(VLOOKUP(V61,Inputs,7,FALSE))&\"  \",0)","v":0},null,{"$f":"IF(V61>0,IF(LEN(R64)>2,R64&VLOOKUP(V61,Inputs,8,FALSE),VLOOKUP(V61,Inputs,8,FALSE)),\"\")","v":""},null,null,{"$f":"IF(V61>0,VLOOKUP(V61,Inputs,9,FALSE),\"\")","v":""},{"$f":"IF(AA61>1,UPPER(VLOOKUP(AA61,Inputs,7,FALSE))&\"  \",0)","v":"  "},null,{"$f":"IF(AA61>0,IF(LEN(X64)>2,X64&VLOOKUP(AA61,Inputs,8,FALSE),VLOOKUP(AA61,Inputs,8,FALSE)),\"\")","v":0},null,null,{"$f":"IF(AA61>0,VLOOKUP(AA61,Inputs,9,FALSE),\"\")","v":0},{"$f":"IF(AG61>1,UPPER(VLOOKUP(AG61,Inputs,7,FALSE))&\"  \",0)","v":"  "},null,{"$f":"IF(AG61>0,IF(LEN(AD64)>2,AD64&VLOOKUP(AG61,Inputs,8,FALSE),VLOOKUP(AG61,Inputs,8,FALSE)),\"\")","v":0},null,{"$f":"IF(AG61>0,VLOOKUP(AG61,Inputs,9,FALSE),\"\")","v":0},{"$f":"UPPER(VLOOKUP(AL61,Inputs,7,FALSE))&\"  \"","v":"  "},null,{"$f":"IF(LEN(AI64)>2,AI64&VLOOKUP(AL61,Inputs,8,FALSE),VLOOKUP(AL61,Inputs,8,FALSE))","v":0},null,{"$f":"VLOOKUP(AL61,Inputs,9,FALSE)","v":0},null,null,{"$f":"IF($A64=AP$5,$G64,0)+IF($H64=AP$5,$L64,0)+IF($M64=AP$5,$Q64,0)+IF($R64=AP$5,$W64,0)+IF($X64=AP$5,AC64,0)+IF($AD64=AP$5,AH64,0)+IF(AI64=AP$5,AM64,0)","v":0},0,0,0,0,0,0,0,0,0,0,0,0,0,null,"530-345-3280"]
[{"$f":"IF(F61>1,UPPER(VLOOKUP(F61,Inputs,10,FALSE))&\"  \",0)","v":0},null,null,null,{"$f":"IF(F61>0,IF(LEN(A65)>2,A65&VLOOKUP(F61,Inputs,11,FALSE),VLOOKUP(F61,Inputs,11,FALSE)),\"\")","v":""},null,{"$f":"IF(F61>0,VLOOKUP(F61,Inputs,12,FALSE),\"\")","v":""},{"$f":"IF(K61>1,UPPER(VLOOKUP(K61,Inputs,10,FALSE))&\"  \",0)","v":0},null,{"$f":"IF(K61>0,IF(LEN(H65)>0,H65&VLOOKUP(K61,Inputs,11,FALSE),VLOOKUP(K61,Inputs,11,FALSE)),\"\")","v":""},null,{"$f":"IF(K61>0,VLOOKUP(K61,Inputs,12,FALSE),\"\")","v":""},{"$f":"IF(P61>1,UPPER(VLOOKUP(P61,Inputs,10,FALSE))&\"  \",0)","v":0},null,{"$f":"IF(P61>0,IF(LEN(M65)>0,M65&VLOOKUP(P61,Inputs,11,FALSE),VLOOKUP(P61,Inputs,11,FALSE)),\"\")","v":""},null,{"$f":"IF(P61>0,VLOOKUP(P61,Inputs,12,FALSE),\"\")","v":""},{"$f":"IF(V61>1,UPPER(VLOOKUP(V61,Inputs,10,FALSE))&\"  \",0)","v":0},null,{"$f":"IF(V61>0,IF(LEN(R65)>0,R65&VLOOKUP(V61,Inputs,11,FALSE),VLOOKUP(V61,Inputs,11,FALSE)),\"\")","v":""},null,null,{"$f":"IF(V61>0,VLOOKUP(V61,Inputs,12,FALSE),\"\")","v":""},{"$f":"IF(AA61>1,UPPER(VLOOKUP(AA61,Inputs,10,FALSE))&\"  \",0)","v":"  "},null,{"$f":"IF(AA61>0,IF(LEN(X65)>0,X65&VLOOKUP(AA61,Inputs,11,FALSE),VLOOKUP(AA61,Inputs,11,FALSE)),\"\")","v":"  "},null,null,{"$f":"IF(AA61>0,VLOOKUP(AA61,Inputs,12,FALSE),\"\")","v":0},{"$f":"IF(AG61>1,UPPER(VLOOKUP(AG61,Inputs,10,FALSE))&\"  \",0)","v":"  "},null,{"$f":"IF(AG61>0,IF(LEN(AD65)>0,AD65&VLOOKUP(AG61,Inputs,11,FALSE),VLOOKUP(AG61,Inputs,11,FALSE)),\"\")","v":"  "},null,{"$f":"IF(AG61>0,VLOOKUP(AG61,Inputs,12,FALSE),\"\")","v":0},{"$f":"UPPER(VLOOKUP(AL61,Inputs,10,FALSE))&\"  \"","v":"  "},null,{"$f":"IF(LEN(AI65)>2,AI65&VLOOKUP(AL61,Inputs,11,FALSE),VLOOKUP(AL61,Inputs,11,FALSE))","v":0},null,{"$f":"VLOOKUP(AL61,Inputs,12,FALSE)","v":0},null,null,{"$f":"IF($A65=AP$5,$G65,0)+IF($H65=AP$5,$L65,0)+IF($M65=AP$5,$Q65,0)+IF($R65=AP$5,$W65,0)+IF($X65=AP$5,AC65,0)+IF($AD65=AP$5,AH65,0)+IF(AI65=AP$5,AM65,0)","v":0},0,0,0,0,0,0,0,0,0,0,0,0,0,null,"2540 Zanella Way, Suite 20"]
[{"$f":"IF(F61>1,UPPER(VLOOKUP(F61,Inputs,13,FALSE))&\"  \",0)","v":0},null,null,null,{"$f":"IF(F61>0,IF(LEN(A66)>2,A66&VLOOKUP(F61,Inputs,14,FALSE),VLOOKUP(F61,Inputs,14,FALSE)),\"\")","v":""},null,{"$f":"IF(F61>0,VLOOKUP(F61,Inputs,15,FALSE),\"\")","v":""},{"$f":"IF(K61>1,UPPER(VLOOKUP(K61,Inputs,13,FALSE))&\"  \",0)","v":0},null,{"$f":"IF(K61>0,IF(LEN(H66)>2,H66&VLOOKUP(K61,Inputs,14,FALSE),VLOOKUP(K61,Inputs,14,FALSE)),\"\")","v":""},null,{"$f":"IF(K61>0,VLOOKUP(K61,Inputs,15,FALSE),\"\")","v":""},{"$f":"IF(P61>1,UPPER(VLOOKUP(P61,Inputs,13,FALSE))&\"  \",0)","v":0},null,{"$f":"IF(P61>0,IF(LEN(M66)>2,M66&VLOOKUP(P61,Inputs,14,FALSE),VLOOKUP(P61,Inputs,14,FALSE)),\"\")","v":""},null,{"$f":"IF(P61>0,VLOOKUP(P61,Inputs,15,FALSE),\"\")","v":""},{"$f":"IF(V61>1,UPPER(VLOOKUP(V61,Inputs,13,FALSE))&\"  \",0)","v":0},null,{"$f":"IF(V61>0,IF(LEN(R66)>2,R66&VLOOKUP(V61,Inputs,14,FALSE),VLOOKUP(V61,Inputs,14,FALSE)),\"\")","v":""},null,null,{"$f":"IF(V61>0,VLOOKUP(V61,Inputs,15,FALSE),\"\")","v":""},{"$f":"IF(AA61>1,UPPER(VLOOKUP(AA61,Inputs,13,FALSE))&\"  \",0)","v":"  "},null,{"$f":"IF(AA61>0,IF(LEN(X66)>2,X66&VLOOKUP(AA61,Inputs,14,FALSE),VLOOKUP(AA61,Inputs,14,FALSE)),\"\")","v":0},null,null,{"$f":"IF(AA61>0,VLOOKUP(AA61,Inputs,15,FALSE),\"\")","v":0},{"$f":"IF(AG61>1,UPPER(VLOOKUP(AG61,Inputs,13,FALSE))&\"  \",0)","v":"  "},null,{"$f":"IF(AG61>0,IF(LEN(AD66)>2,AD66&VLOOKUP(AG61,Inputs,14,FALSE),VLOOKUP(AG61,Inputs,14,FALSE)),\"\")","v":0},null,{"$f":"IF(AG61>0,VLOOKUP(AG61,Inputs,15,FALSE),\"\")","v":0},{"$f":"UPPER(VLOOKUP(AL61,Inputs,13,FALSE))&\"  \"","v":"  "},null,{"$f":"IF(LEN(AI66)>2,AI66&VLOOKUP(AL61,Inputs,14,FALSE),VLOOKUP(AL61,Inputs,14,FALSE))","v":0},null,{"$f":"VLOOKUP(AL61,Inputs,15,FALSE)","v":0},null,null,{"$f":"IF($A66=AP$5,$G66,0)+IF($H66=AP$5,$L66,0)+IF($M66=AP$5,$Q66,0)+IF($R66=AP$5,$W66,0)+IF($X66=AP$5,AC66,0)+IF($AD66=AP$5,AH66,0)+IF(AI66=AP$5,AM66,0)","v":0},0,0,0,0,0,0,0,0,0,0,0,0,0,null,"    Chico, CA 95928"]
[null,null,null,null,null,{"$f":"IF(F61>0,IF(VLOOKUP(F61,Inputs,3,FALSE)=\"T\",\"Telemarketing\",0),\"\")","v":""},null,null,null,null,{"$f":"IF(F61>0,IF(VLOOKUP(F61,Inputs,3,FALSE)=\"T\",0,IF(VLOOKUP(K61,Inputs,3,FALSE)=\"T\",\"Telemarketing\",0)),IF(VLOOKUP(K61,Inputs,3,FALSE)=\"T\",\"Telemarketing\",0))","v":0},null,null,null,null,{"$f":"IF(K61>0,IF(VLOOKUP(K61,Inputs,3,FALSE)=\"T\",0,IF(VLOOKUP(P61,Inputs,3,FALSE)=\"T\",\"Telemarketing\",0)),IF(VLOOKUP(P61,Inputs,3,FALSE)=\"T\",\"Telemarketing\",0))","v":0},null,null,null,null,null,{"$f":"IF(P61>0,IF(VLOOKUP(P61,Inputs,3,FALSE)=\"T\",0,IF(VLOOKUP(V61,Inputs,3,FALSE)=\"T\",\"Telemarketing\",0)),IF(VLOOKUP(V61,Inputs,3,FALSE)=\"T\",\"Telemarketing\",0))","v":0},null,null,null,null,{"$f":"IF(V61>0,IF(VLOOKUP(V61,Inputs,3,FALSE)=\"T\",0,IF(VLOOKUP(AA61,Inputs,3,FALSE)=\"T\",\"Telemarketing\",0)),IF(VLOOKUP(AA61,Inputs,3,FALSE)=\"T\",\"Telemarketing\",0))","v":0},null,null,null,null,null,{"$f":"IF(AA61>0,IF(VLOOKUP(AA61,Inputs,3,FALSE)=\"T\",0,IF(VLOOKUP(AG61,Inputs,3,FALSE)=\"T\",\"Telemarketing\",0)),IF(VLOOKUP(AG61,Inputs,3,FALSE)=\"T\",\"Telemarketing\",0))","v":0},null,null,null,null,{"$f":"IF(AG61>0,IF(VLOOKUP(AG61,Inputs,3,FALSE)=\"T\",0,IF(VLOOKUP(AL61,Inputs,3,FALSE)=\"T\",\"Telemarketing\",0)),IF(VLOOKUP(AL61,Inputs,3,FALSE)=\"T\",\"Telemarketing\",0))","v":0}]
[null,null,null,null,null,{"$f":"1+AL61","v":"2018-02-04"},null,null,null,null,{"$f":"1+F68","v":"2018-02-05"},null,null,null,null,{"$f":"1+K68","v":"2018-02-06"},null,null,null,null,null,{"$f":"1+P68","v":"2018-02-07"},null,null,null,null,{"$f":"1+V68","v":"2018-02-08"},null,null,null,null,null,{"$f":"1+AA68","v":"2018-02-09"},null,null,null,null,{"$f":"1+AG68","v":"2018-02-10"}]
[null,null,null,null,{"$f":"DAY(F68)","v":4},{"$f":"IF(F68>0,VLOOKUP(F68,Holidays,2),0)","v":0},null,null,null,{"$f":"DAY(K68)","v":5},{"$f":"IF(K68>0,VLOOKUP(K68,Holidays,2),0)","v":0},null,null,null,{"$f":"DAY(P68)","v":6},{"$f":"IF(P68>0,VLOOKUP(P68,Holidays,2),0)","v":0},null,null,null,{"$f":"DAY(V68)","v":7},{"$f":"IF(V68>0,VLOOKUP(V68,Holidays,2),0)","v":0},null,null,null,null,{"$f":"DAY(AA68)","v":8},{"$f":"IF(AA68>0,VLOOKUP(AA68,Holidays,2),0)","v":0},null,null,null,null,{"$f":"DAY(AG68)","v":9},{"$f":"IF(AG68>0,VLOOKUP(AG68,Holidays,2),0)","v":0},null,null,null,{"$f":"DAY(AL68)","v":10},{"$f":"IF(AL68>0,VLOOKUP(AL68,Holidays,2),0)","v":0}]
[{"$f":"UPPER(VLOOKUP(F68,Inputs,4,FALSE))&\"  \"","v":"  "},null,null,null,{"$f":"IF(LEN(A70)>2,A70&VLOOKUP(F68,Inputs,5,FALSE),VLOOKUP(F68,Inputs,5,FALSE))","v":0},null,{"$f":"IF(F68>0,VLOOKUP(F68,Inputs,6,FALSE),\"\")","v":0},{"$f":"UPPER(VLOOKUP(K68,Inputs,4,FALSE))&\"  \"","v":"  "},null,{"$f":"IF(LEN(H70)>2,H70&VLOOKUP(K68,Inputs,5,FALSE),VLOOKUP(K68,Inputs,5,FALSE))","v":0},null,{"$f":"IF(K68>0,VLOOKUP(K68,Inputs,6,FALSE),\"\")","v":0},{"$f":"UPPER(VLOOKUP(P68,Inputs,4,FALSE))&\"  \"","v":"  "},null,{"$f":"IF(LEN(M70)>2,M70&VLOOKUP(P68,Inputs,5,FALSE),VLOOKUP(P68,Inputs,5,FALSE))","v":0},null,{"$f":"IF(P68>0,VLOOKUP(P68,Inputs,6,FALSE),\"\")","v":0},{"$f":"UPPER(VLOOKUP(V68,Inputs,4,FALSE))&\"  \"","v":"  "},null,{"$f":"IF(LEN(R70)>2,R70&VLOOKUP(V68,Inputs,5,FALSE),VLOOKUP(V68,Inputs,5,FALSE))","v":0},null,null,{"$f":"IF(V68>0,VLOOKUP(V68,Inputs,6,FALSE),\"\")","v":0},{"$f":"UPPER(VLOOKUP(AA68,Inputs,4,FALSE))&\"  \"","v":"  "},null,{"$f":"IF(LEN(X70)>2,X70&VLOOKUP(AA68,Inputs,5,FALSE),VLOOKUP(AA68,Inputs,5,FALSE))","v":0},null,null,{"$f":"IF(AA68>0,VLOOKUP(AA68,Inputs,6,FALSE),\"\")","v":0},{"$f":"UPPER(VLOOKUP(AG68,Inputs,4,FALSE))&\"  \"","v":"  "},null,{"$f":"IF(LEN(AD70)>2,AD70&VLOOKUP(AG68,Inputs,5,FALSE),VLOOKUP(AG68,Inputs,5,FALSE))","v":0},null,{"$f":"IF(AG68>0,VLOOKUP(AG68,Inputs,6,FALSE),\"\")","v":0},{"$f":"UPPER(VLOOKUP(AL68,Inputs,4,FALSE))&\"  \"","v":"  "},null,{"$f":"IF(LEN(AI70)>2,AI70&VLOOKUP(AL68,Inputs,5,FALSE),VLOOKUP(AL68,Inputs,5,FALSE))","v":0},null,{"$f":"IF(AL68>0,VLOOKUP(AL68,Inputs,6,FALSE),\"\")","v":0},null,null,{"$f":"IF($A70=AP$5,$G70,0)+IF($H70=AP$5,$L70,0)+IF($M70=AP$5,$Q70,0)+IF($R70=AP$5,$W70,0)+IF($X70=AP$5,AC70,0)+IF($AD70=AP$5,AH70,0)+IF(AI70=AP$5,AM70,0)","v":0},{"$f":"IF($A70=AQ$5,$G70,0)+IF($H70=AQ$5,$L70,0)+IF($M70=AQ$5,$Q70,0)+IF($R70=AQ$5,$W70,0)+IF($X70=AQ$5,$AC70,0)+IF($AD70=AQ$5,$AH70,0)+IF($AI70=AQ$5,$AM70,0)","v":0},0,0,0,0,0,0,0,0,0,0,0,0,null,"      TheBedrock.com"]
[{"$f":"UPPER(VLOOKUP(F68,Inputs,7,FALSE))&\"  \"","v":"  "},null,null,null,{"$f":"IF(LEN(A71)>2,A71&VLOOKUP(F68,Inputs,8,FALSE),VLOOKUP(F68,Inputs,8,FALSE))","v":0},null,{"$f":"IF(F68>0,VLOOKUP(F68,Inputs,9,FALSE),\"\")","v":0},{"$f":"UPPER(VLOOKUP(K68,Inputs,7,FALSE))&\"  \"","v":"  "},null,{"$f":"IF(LEN(H71)>2,H71&VLOOKUP(K68,Inputs,8,FALSE),VLOOKUP(K68,Inputs,8,FALSE))","v":0},null,{"$f":"IF(K68>0,VLOOKUP(K68,Inputs,9,FALSE),\"\")","v":0},{"$f":"UPPER(VLOOKUP(P68,Inputs,7,FALSE))&\"  \"","v":"  "},null,{"$f":"IF(LEN(M71)>2,M71&VLOOKUP(P68,Inputs,8,FALSE),VLOOKUP(P68,Inputs,8,FALSE))","v":0},null,{"$f":"IF(P68>0,VLOOKUP(P68,Inputs,9,FALSE),\"\")","v":0},{"$f":"UPPER(VLOOKUP(V68,Inputs,7,FALSE))&\"  \"","v":"  "},null,{"$f":"IF(LEN(R71)>2,R71&VLOOKUP(V68,Inputs,8,FALSE),VLOOKUP(V68,Inputs,8,FALSE))","v":0},null,null,{"$f":"IF(V68>0,VLOOKUP(V68,Inputs,9,FALSE),\"\")","v":0},{"$f":"UPPER(VLOOKUP(AA68,Inputs,7,FALSE))&\"  \"","v":"  "},null,{"$f":"IF(LEN(X71)>2,X71&VLOOKUP(AA68,Inputs,8,FALSE),VLOOKUP(AA68,Inputs,8,FALSE))","v":0},null,null,{"$f":"IF(AA68>0,VLOOKUP(AA68,Inputs,9,FALSE),\"\")","v":0},{"$f":"UPPER(VLOOKUP(AG68,Inputs,7,FALSE))&\"  \"","v":"  "},null,{"$f":"IF(LEN(AD71)>2,AD71&VLOOKUP(AG68,Inputs,8,FALSE),VLOOKUP(AG68,Inputs,8,FALSE))","v":0},null,{"$f":"IF(AG68>0,VLOOKUP(AG68,Inputs,9,FALSE),\"\")","v":0},{"$f":"UPPER(VLOOKUP(AL68,Inputs,7,FALSE))&\"  \"","v":"  "},null,{"$f":"IF(LEN(AI71)>2,AI71&VLOOKUP(AL68,Inputs,8,FALSE),VLOOKUP(AL68,Inputs,8,FALSE))","v":0},null,{"$f":"IF(AL68>0,VLOOKUP(AL68,Inputs,9,FALSE),\"\")","v":0},null,null,{"$f":"IF($A71=AP$5,$G71,0)+IF($H71=AP$5,$L71,0)+IF($M71=AP$5,$Q71,0)+IF($R71=AP$5,$W71,0)+IF($X71=AP$5,AC71,0)+IF($AD71=AP$5,AH71,0)+IF(AI71=AP$5,AM71,0)","v":0},0,0,0,0,0,0,0,0,0,0,0,0,0]
[{"$f":"UPPER(VLOOKUP(F68,Inputs,10,FALSE))&\"  \"","v":"  "},null,null,null,{"$f":"IF(LEN(A72)>2,A72&VLOOKUP(F68,Inputs,11,FALSE),VLOOKUP(F68,Inputs,11,FALSE))","v":0},null,{"$f":"IF(F68>0,VLOOKUP(F68,Inputs,12,FALSE),\"\")","v":0},{"$f":"UPPER(VLOOKUP(K68,Inputs,10,FALSE))&\"  \"","v":"  "},null,{"$f":"IF(LEN(H72)>2,H72&VLOOKUP(K68,Inputs,11,FALSE),VLOOKUP(K68,Inputs,11,FALSE))","v":0},null,{"$f":"IF(K68>0,VLOOKUP(K68,Inputs,12,FALSE),\"\")","v":0},{"$f":"UPPER(VLOOKUP(P68,Inputs,10,FALSE))&\"  \"","v":"  "},null,{"$f":"IF(LEN(M72)>2,M72&VLOOKUP(P68,Inputs,11,FALSE),VLOOKUP(P68,Inputs,11,FALSE))","v":0},null,{"$f":"IF(P68>0,VLOOKUP(P68,Inputs,12,FALSE),\"\")","v":0},{"$f":"UPPER(VLOOKUP(V68,Inputs,10,FALSE))&\"  \"","v":"  "},null,{"$f":"IF(LEN(R72)>2,R72&VLOOKUP(V68,Inputs,11,FALSE),VLOOKUP(V68,Inputs,11,FALSE))","v":0},null,null,{"$f":"IF(V68>0,VLOOKUP(V68,Inputs,12,FALSE),\"\")","v":0},{"$f":"UPPER(VLOOKUP(AA68,Inputs,10,FALSE))&\"  \"","v":"  "},null,{"$f":"IF(LEN(X72)>2,X72&VLOOKUP(AA68,Inputs,11,FALSE),VLOOKUP(AA68,Inputs,11,FALSE))","v":0},null,null,{"$f":"IF(AA68>0,VLOOKUP(AA68,Inputs,12,FALSE),\"\")","v":0},{"$f":"UPPER(VLOOKUP(AG68,Inputs,10,FALSE))&\"  \"","v":"  "},null,{"$f":"IF(LEN(AD72)>2,AD72&VLOOKUP(AG68,Inputs,11,FALSE),VLOOKUP(AG68,Inputs,11,FALSE))","v":0},null,{"$f":"IF(AG68>0,VLOOKUP(AG68,Inputs,12,FALSE),\"\")","v":0},{"$f":"UPPER(VLOOKUP(AL68,Inputs,10,FALSE))&\"  \"","v":"  "},null,{"$f":"IF(LEN(AI72)>2,AI72&VLOOKUP(AL68,Inputs,11,FALSE),VLOOKUP(AL68,Inputs,11,FALSE))","v":0},null,{"$f":"IF(AL68>0,VLOOKUP(AL68,Inputs,12,FALSE),\"\")","v":0},null,null,{"$f":"IF($A72=AP$5,$G72,0)+IF($H72=AP$5,$L72,0)+IF($M72=AP$5,$Q72,0)+IF($R72=AP$5,$W72,0)+IF($X72=AP$5,AC72,0)+IF($AD72=AP$5,AH72,0)+IF(AI72=AP$5,AM72,0)","v":0},0,0,0,0,0,0,0,0,0,0,0,0,0]
[{"$f":"UPPER(VLOOKUP(F68,Inputs,13,FALSE))&\"  \"","v":"  "},null,null,null,{"$f":"IF(LEN(A73)>2,A73&VLOOKUP(F68,Inputs,14,FALSE),VLOOKUP(F68,Inputs,14,FALSE))","v":0},null,{"$f":"IF(F68>0,VLOOKUP(F68,Inputs,15,FALSE),\"\")","v":0},{"$f":"UPPER(VLOOKUP(K68,Inputs,13,FALSE))&\"  \"","v":"  "},null,{"$f":"IF(LEN(H73)>2,H73&VLOOKUP(K68,Inputs,14,FALSE),VLOOKUP(K68,Inputs,14,FALSE))","v":0},null,{"$f":"IF(K68>0,VLOOKUP(K68,Inputs,15,FALSE),\"\")","v":0},{"$f":"UPPER(VLOOKUP(P68,Inputs,13,FALSE))&\"  \"","v":"  "},null,{"$f":"IF(LEN(M73)>2,M73&VLOOKUP(P68,Inputs,14,FALSE),VLOOKUP(P68,Inputs,14,FALSE))","v":0},null,{"$f":"IF(P68>0,VLOOKUP(P68,Inputs,15,FALSE),\"\")","v":0},{"$f":"UPPER(VLOOKUP(V68,Inputs,13,FALSE))&\"  \"","v":"  "},null,{"$f":"IF(LEN(R73)>2,R73&VLOOKUP(V68,Inputs,14,FALSE),VLOOKUP(V68,Inputs,14,FALSE))","v":0},null,null,{"$f":"IF(V68>0,VLOOKUP(V68,Inputs,15,FALSE),\"\")","v":0},{"$f":"UPPER(VLOOKUP(AA68,Inputs,13,FALSE))&\"  \"","v":"  "},null,{"$f":"IF(LEN(X73)>2,X73&VLOOKUP(AA68,Inputs,14,FALSE),VLOOKUP(AA68,Inputs,14,FALSE))","v":0},null,null,{"$f":"IF(AA68>0,VLOOKUP(AA68,Inputs,15,FALSE),\"\")","v":0},{"$f":"UPPER(VLOOKUP(AG68,Inputs,13,FALSE))&\"  \"","v":"  "},null,{"$f":"IF(LEN(AD73)>2,AD73&VLOOKUP(AG68,Inputs,14,FALSE),VLOOKUP(AG68,Inputs,14,FALSE))","v":0},null,{"$f":"IF(AG68>0,VLOOKUP(AG68,Inputs,15,FALSE),\"\")","v":0},{"$f":"UPPER(VLOOKUP(AL68,Inputs,13,FALSE))&\"  \"","v":"  "},null,{"$f":"IF(LEN(AI73)>2,AI73&VLOOKUP(AL68,Inputs,14,FALSE),VLOOKUP(AL68,Inputs,14,FALSE))","v":0},null,{"$f":"IF(AL68>0,VLOOKUP(AL68,Inputs,15,FALSE),\"\")","v":0},null,null,{"$f":"IF($A73=AP$5,$G73,0)+IF($H73=AP$5,$L73,0)+IF($M73=AP$5,$Q73,0)+IF($R73=AP$5,$W73,0)+IF($X73=AP$5,AC73,0)+IF($AD73=AP$5,AH73,0)+IF(AI73=AP$5,AM73,0)","v":0},0,0,0,0,0,0,0,0,0,0,0,0,0]
[null,null,null,null,null,{"$f":"IF(F68>0,IF(VLOOKUP(F68,Inputs,3,FALSE)=\"T\",\"Telemarketing\",0),\"\")","v":0},null,null,null,null,{"$f":"IF(VLOOKUP(K68-1,Inputs,3,FALSE)=\"T\",0,IF(VLOOKUP(K68,Inputs,3,FALSE)=\"T\",\"Telemarketing\",0))","v":0},null,null,null,null,{"$f":"IF(VLOOKUP(P68-1,Inputs,3,FALSE)=\"T\",0,IF(VLOOKUP(P68,Inputs,3,FALSE)=\"T\",\"Telemarketing\",0))","v":0},null,null,null,null,null,{"$f":"IF(VLOOKUP(V68-1,Inputs,3,FALSE)=\"T\",0,IF(VLOOKUP(V68,Inputs,3,FALSE)=\"T\",\"Telemarketing\",0))","v":0},null,null,null,null,{"$f":"IF(VLOOKUP(AA68-1,Inputs,3,FALSE)=\"T\",0,IF(VLOOKUP(AA68,Inputs,3,FALSE)=\"T\",\"Telemarketing\",0))","v":0},null,null,null,null,null,{"$f":"IF(VLOOKUP(AG68-1,Inputs,3,FALSE)=\"T\",0,IF(VLOOKUP(AG68,Inputs,3,FALSE)=\"T\",\"Telemarketing\",0))","v":0},null,null,null,null,{"$f":"IF(VLOOKUP(AL68-1,Inputs,3,FALSE)=\"T\",0,IF(VLOOKUP(AL68,Inputs,3,FALSE)=\"T\",\"Telemarketing\",0))","v":0}]
[null,null,null,null,null,{"$f":"1+AL68","v":"2018-02-11"},null,null,null,null,{"$f":"1+F75","v":"2018-02-12"},null,null,null,null,{"$f":"1+K75","v":"2018-02-13"},null,null,null,null,null,{"$f":"1+P75","v":"2018-02-14"},null,null,null,null,{"$f":"1+V75","v":"2018-02-15"},null,null,null,null,null,{"$f":"1+AA75","v":"2018-02-16"},null,null,null,null,{"$f":"1+AG75","v":"2018-02-17"}]
[null,null,null,null,{"$f":"DAY(F75)","v":11},{"$f":"IF(F75>0,VLOOKUP(F75,Holidays,2),0)","v":0},null,null,null,{"$f":"DAY(K75)","v":12},{"$f":"IF(K75>0,VLOOKUP(K75,Holidays,2),0)","v":"Presidents Day"},null,null,null,{"$f":"DAY(P75)","v":13},{"$f":"IF(P75>0,VLOOKUP(P75,Holidays,2),0)","v":""},null,null,null,{"$f":"DAY(V75)","v":14},{"$f":"IF(V75>0,VLOOKUP(V75,Holidays,2),0)","v":""},null,null,null,null,{"$f":"DAY(AA75)","v":15},{"$f":"IF(AA75>0,VLOOKUP(AA75,Holidays,2),0)","v":""},null,null,null,null,{"$f":"DAY(AG75)","v":16},{"$f":"IF(AG75>0,VLOOKUP(AG75,Holidays,2),0)","v":""},null,null,null,{"$f":"DAY(AL75)","v":17},{"$f":"IF(AL75>0,VLOOKUP(AL75,Holidays,2),0)","v":""}]
[{"$f":"UPPER(VLOOKUP(F75,Inputs,4,FALSE))&\"  \"","v":"  "},null,null,null,{"$f":"IF(LEN(A77)>2,A77&VLOOKUP(F75,Inputs,5,FALSE),VLOOKUP(F75,Inputs,5,FALSE))","v":0},null,{"$f":"IF(F75>0,VLOOKUP(F75,Inputs,6,FALSE),\"\")","v":0},{"$f":"UPPER(VLOOKUP(K75,Inputs,4,FALSE))&\"  \"","v":"  "},null,{"$f":"IF(LEN(H77)>2,H77&VLOOKUP(K75,Inputs,5,FALSE),VLOOKUP(K75,Inputs,5,FALSE))","v":0},null,{"$f":"IF(K75>0,VLOOKUP(K75,Inputs,6,FALSE),\"\")","v":0},{"$f":"UPPER(VLOOKUP(P75,Inputs,4,FALSE))&\"  \"","v":"  "},null,{"$f":"IF(LEN(M77)>2,M77&VLOOKUP(P75,Inputs,5,FALSE),VLOOKUP(P75,Inputs,5,FALSE))","v":0},null,{"$f":"IF(P75>0,VLOOKUP(P75,Inputs,6,FALSE),\"\")","v":0},{"$f":"UPPER(VLOOKUP(V75,Inputs,4,FALSE))&\"  \"","v":"  "},null,{"$f":"IF(LEN(R77)>2,R77&VLOOKUP(V75,Inputs,5,FALSE),VLOOKUP(V75,Inputs,5,FALSE))","v":0},null,null,{"$f":"IF(V75>0,VLOOKUP(V75,Inputs,6,FALSE),\"\")","v":0},{"$f":"UPPER(VLOOKUP(AA75,Inputs,4,FALSE))&\"  \"","v":"  "},null,{"$f":"IF(LEN(X77)>2,X77&VLOOKUP(AA75,Inputs,5,FALSE),VLOOKUP(AA75,Inputs,5,FALSE))","v":0},null,null,{"$f":"IF(AA75>0,VLOOKUP(AA75,Inputs,6,FALSE),\"\")","v":0},{"$f":"UPPER(VLOOKUP(AG75,Inputs,4,FALSE))&\"  \"","v":"  "},null,{"$f":"IF(LEN(AD77)>2,AD77&VLOOKUP(AG75,Inputs,5,FALSE),VLOOKUP(AG75,Inputs,5,FALSE))","v":0},null,{"$f":"IF(AG75>0,VLOOKUP(AG75,Inputs,6,FALSE),\"\")","v":0},{"$f":"UPPER(VLOOKUP(AL75,Inputs,4,FALSE))&\"  \"","v":"  "},null,{"$f":"IF(LEN(AI77)>2,AI77&VLOOKUP(AL75,Inputs,5,FALSE),VLOOKUP(AL75,Inputs,5,FALSE))","v":0},null,{"$f":"IF(AL75>0,VLOOKUP(AL75,Inputs,6,FALSE),\"\")","v":0},null,null,{"$f":"IF($A77=AP$5,$G77,0)+IF($H77=AP$5,$L77,0)+IF($M77=AP$5,$Q77,0)+IF($R77=AP$5,$W77,0)+IF($X77=AP$5,AC77,0)+IF($AD77=AP$5,AH77,0)+IF(AI77=AP$5,AM77,0)","v":0},{"$f":"IF($A77=AQ$5,$G77,0)+IF($H77=AQ$5,$L77,0)+IF($M77=AQ$5,$Q77,0)+IF($R77=AQ$5,$W77,0)+IF($X77=AQ$5,$AC77,0)+IF($AD77=AQ$5,$AH77,0)+IF($AI77=AQ$5,$AM77,0)","v":0},0,0,0,0,0,0,0,0,0,0,0,0]
[{"$f":"UPPER(VLOOKUP(F75,Inputs,7,FALSE))&\"  \"","v":"  "},null,null,null,{"$f":"IF(LEN(A78)>2,A78&VLOOKUP(F75,Inputs,8,FALSE),VLOOKUP(F75,Inputs,8,FALSE))","v":0},null,{"$f":"IF(F75>0,VLOOKUP(F75,Inputs,9,FALSE),\"\")","v":0},{"$f":"UPPER(VLOOKUP(K75,Inputs,7,FALSE))&\"  \"","v":"  "},null,{"$f":"IF(LEN(H78)>2,H78&VLOOKUP(K75,Inputs,8,FALSE),VLOOKUP(K75,Inputs,8,FALSE))","v":0},null,{"$f":"IF(K75>0,VLOOKUP(K75,Inputs,9,FALSE),\"\")","v":0},{"$f":"UPPER(VLOOKUP(P75,Inputs,7,FALSE))&\"  \"","v":"  "},null,{"$f":"IF(LEN(M78)>2,M78&VLOOKUP(P75,Inputs,8,FALSE),VLOOKUP(P75,Inputs,8,FALSE))","v":0},null,{"$f":"IF(P75>0,VLOOKUP(P75,Inputs,9,FALSE),\"\")","v":0},{"$f":"UPPER(VLOOKUP(V75,Inputs,7,FALSE))&\"  \"","v":"  "},null,{"$f":"IF(LEN(R78)>2,R78&VLOOKUP(V75,Inputs,8,FALSE),VLOOKUP(V75,Inputs,8,FALSE))","v":0},null,null,{"$f":"IF(V75>0,VLOOKUP(V75,Inputs,9,FALSE),\"\")","v":0},{"$f":"UPPER(VLOOKUP(AA75,Inputs,7,FALSE))&\"  \"","v":"  "},null,{"$f":"IF(LEN(X78)>2,X78&VLOOKUP(AA75,Inputs,8,FALSE),VLOOKUP(AA75,Inputs,8,FALSE))","v":0},null,null,{"$f":"IF(AA75>0,VLOOKUP(AA75,Inputs,9,FALSE),\"\")","v":0},{"$f":"UPPER(VLOOKUP(AG75,Inputs,7,FALSE))&\"  \"","v":"  "},null,{"$f":"IF(LEN(AD78)>2,AD78&VLOOKUP(AG75,Inputs,8,FALSE),VLOOKUP(AG75,Inputs,8,FALSE))","v":0},null,{"$f":"IF(AG75>0,VLOOKUP(AG75,Inputs,9,FALSE),\"\")","v":0},{"$f":"UPPER(VLOOKUP(AL75,Inputs,7,FALSE))&\"  \"","v":"  "},null,{"$f":"IF(LEN(AI78)>2,AI78&VLOOKUP(AL75,Inputs,8,FALSE),VLOOKUP(AL75,Inputs,8,FALSE))","v":0},null,{"$f":"IF(AL75>0,VLOOKUP(AL75,Inputs,9,FALSE),\"\")","v":0},null,null,{"$f":"IF($A78=AP$5,$G78,0)+IF($H78=AP$5,$L78,0)+IF($M78=AP$5,$Q78,0)+IF($R78=AP$5,$W78,0)+IF($X78=AP$5,AC78,0)+IF($AD78=AP$5,AH78,0)+IF(AI78=AP$5,AM78,0)","v":0},0,0,0,0,0,0,0,0,0,0,0,0,0]
[{"$f":"UPPER(VLOOKUP(F75,Inputs,10,FALSE))&\"  \"","v":"  "},null,null,null,{"$f":"IF(LEN(A79)>2,A79&VLOOKUP(F75,Inputs,11,FALSE),VLOOKUP(F75,Inputs,11,FALSE))","v":0},null,{"$f":"IF(F75>0,VLOOKUP(F75,Inputs,12,FALSE),\"\")","v":0},{"$f":"UPPER(VLOOKUP(K75,Inputs,10,FALSE))&\"  \"","v":"  "},null,{"$f":"IF(LEN(H79)>2,H79&VLOOKUP(K75,Inputs,11,FALSE),VLOOKUP(K75,Inputs,11,FALSE))","v":0},null,{"$f":"IF(K75>0,VLOOKUP(K75,Inputs,12,FALSE),\"\")","v":0},{"$f":"UPPER(VLOOKUP(P75,Inputs,10,FALSE))&\"  \"","v":"  "},null,{"$f":"IF(LEN(M79)>2,M79&VLOOKUP(P75,Inputs,11,FALSE),VLOOKUP(P75,Inputs,11,FALSE))","v":0},null,{"$f":"IF(P75>0,VLOOKUP(P75,Inputs,12,FALSE),\"\")","v":0},{"$f":"UPPER(VLOOKUP(V75,Inputs,10,FALSE))&\"  \"","v":"  "},null,{"$f":"IF(LEN(R79)>2,R79&VLOOKUP(V75,Inputs,11,FALSE),VLOOKUP(V75,Inputs,11,FALSE))","v":0},null,null,{"$f":"IF(V75>0,VLOOKUP(V75,Inputs,12,FALSE),\"\")","v":0},{"$f":"UPPER(VLOOKUP(AA75,Inputs,10,FALSE))&\"  \"","v":"  "},null,{"$f":"IF(LEN(X79)>2,X79&VLOOKUP(AA75,Inputs,11,FALSE),VLOOKUP(AA75,Inputs,11,FALSE))","v":0},null,null,{"$f":"IF(AA75>0,VLOOKUP(AA75,Inputs,12,FALSE),\"\")","v":0},{"$f":"UPPER(VLOOKUP(AG75,Inputs,10,FALSE))&\"  \"","v":"  "},null,{"$f":"IF(LEN(AD79)>2,AD79&VLOOKUP(AG75,Inputs,11,FALSE),VLOOKUP(AG75,Inputs,11,FALSE))","v":0},null,{"$f":"IF(AG75>0,VLOOKUP(AG75,Inputs,12,FALSE),\"\")","v":0},{"$f":"UPPER(VLOOKUP(AL75,Inputs,10,FALSE))&\"  \"","v":"  "},null,{"$f":"IF(LEN(AI79)>2,AI79&VLOOKUP(AL75,Inputs,11,FALSE),VLOOKUP(AL75,Inputs,11,FALSE))","v":0},null,{"$f":"IF(AL75>0,VLOOKUP(AL75,Inputs,12,FALSE),\"\")","v":0},null,null,{"$f":"IF($A79=AP$5,$G79,0)+IF($H79=AP$5,$L79,0)+IF($M79=AP$5,$Q79,0)+IF($R79=AP$5,$W79,0)+IF($X79=AP$5,AC79,0)+IF($AD79=AP$5,AH79,0)+IF(AI79=AP$5,AM79,0)","v":0},0,0,0,0,0,0,0,0,0,0,0,0,0]
[{"$f":"UPPER(VLOOKUP(F75,Inputs,13,FALSE))&\"  \"","v":"  "},null,null,null,{"$f":"IF(LEN(A80)>2,A80&VLOOKUP(F75,Inputs,14,FALSE),VLOOKUP(F75,Inputs,14,FALSE))","v":0},null,{"$f":"IF(F75>0,VLOOKUP(F75,Inputs,15,FALSE),\"\")","v":0},{"$f":"UPPER(VLOOKUP(K75,Inputs,13,FALSE))&\"  \"","v":"  "},null,{"$f":"IF(LEN(H80)>2,H80&VLOOKUP(K75,Inputs,14,FALSE),VLOOKUP(K75,Inputs,14,FALSE))","v":0},null,{"$f":"IF(K75>0,VLOOKUP(K75,Inputs,15,FALSE),\"\")","v":0},{"$f":"UPPER(VLOOKUP(P75,Inputs,13,FALSE))&\"  \"","v":"  "},null,{"$f":"IF(LEN(M80)>2,M80&VLOOKUP(P75,Inputs,14,FALSE),VLOOKUP(P75,Inputs,14,FALSE))","v":0},null,{"$f":"IF(P75>0,VLOOKUP(P75,Inputs,15,FALSE),\"\")","v":0},{"$f":"UPPER(VLOOKUP(V75,Inputs,13,FALSE))&\"  \"","v":"  "},null,{"$f":"IF(LEN(R80)>2,R80&VLOOKUP(V75,Inputs,14,FALSE),VLOOKUP(V75,Inputs,14,FALSE))","v":0},null,null,{"$f":"IF(V75>0,VLOOKUP(V75,Inputs,15,FALSE),\"\")","v":0},{"$f":"UPPER(VLOOKUP(AA75,Inputs,13,FALSE))&\"  \"","v":"  "},null,{"$f":"IF(LEN(X80)>2,X80&VLOOKUP(AA75,Inputs,14,FALSE),VLOOKUP(AA75,Inputs,14,FALSE))","v":0},null,null,{"$f":"IF(AA75>0,VLOOKUP(AA75,Inputs,15,FALSE),\"\")","v":0},{"$f":"UPPER(VLOOKUP(AG75,Inputs,13,FALSE))&\"  \"","v":"  "},null,{"$f":"IF(LEN(AD80)>2,AD80&VLOOKUP(AG75,Inputs,14,FALSE),VLOOKUP(AG75,Inputs,14,FALSE))","v":0},null,{"$f":"IF(AG75>0,VLOOKUP(AG75,Inputs,15,FALSE),\"\")","v":0},{"$f":"UPPER(VLOOKUP(AL75,Inputs,13,FALSE))&\"  \"","v":"  "},null,{"$f":"IF(LEN(AI80)>2,AI80&VLOOKUP(AL75,Inputs,14,FALSE),VLOOKUP(AL75,Inputs,14,FALSE))","v":0},null,{"$f":"IF(AL75>0,VLOOKUP(AL75,Inputs,15,FALSE),\"\")","v":0},null,null,{"$f":"IF($A80=AP$5,$G80,0)+IF($H80=AP$5,$L80,0)+IF($M80=AP$5,$Q80,0)+IF($R80=AP$5,$W80,0)+IF($X80=AP$5,AC80,0)+IF($AD80=AP$5,AH80,0)+IF(AI80=AP$5,AM80,0)","v":0},0,0,0,0,0,0,0,0,0,0,0,0,0]
[null,null,null,null,null,{"$f":"IF(F75>0,IF(VLOOKUP(F75,Inputs,3,FALSE)=\"T\",\"Telemarketing\",0),\"\")","v":0},null,null,null,null,{"$f":"IF(VLOOKUP(K75-1,Inputs,3,FALSE)=\"T\",0,IF(VLOOKUP(K75,Inputs,3,FALSE)=\"T\",\"Telemarketing\",0))","v":0},null,null,null,null,{"$f":"IF(VLOOKUP(P75-1,Inputs,3,FALSE)=\"T\",0,IF(VLOOKUP(P75,Inputs,3,FALSE)=\"T\",\"Telemarketing\",0))","v":0},null,null,null,null,null,{"$f":"IF(VLOOKUP(V75-1,Inputs,3,FALSE)=\"T\",0,IF(VLOOKUP(V75,Inputs,3,FALSE)=\"T\",\"Telemarketing\",0))","v":0},null,null,null,null,{"$f":"IF(VLOOKUP(AA75-1,Inputs,3,FALSE)=\"T\",0,IF(VLOOKUP(AA75,Inputs,3,FALSE)=\"T\",\"Telemarketing\",0))","v":0},null,null,null,null,null,{"$f":"IF(VLOOKUP(AG75-1,Inputs,3,FALSE)=\"T\",0,IF(VLOOKUP(AG75,Inputs,3,FALSE)=\"T\",\"Telemarketing\",0))","v":0},null,null,null,null,{"$f":"IF(VLOOKUP(AL75-1,Inputs,3,FALSE)=\"T\",0,IF(VLOOKUP(AL75,Inputs,3,FALSE)=\"T\",\"Telemarketing\",0))","v":0}]
[null,null,null,null,null,{"$f":"1+AL75","v":"2018-02-18"},null,null,null,null,{"$f":"1+F82","v":"2018-02-19"},null,null,null,null,{"$f":"1+K82","v":"2018-02-20"},null,null,null,null,null,{"$f":"1+P82","v":"2018-02-21"},null,null,null,null,{"$f":"1+V82","v":"2018-02-22"},null,null,null,null,null,{"$f":"1+AA82","v":"2018-02-23"},null,null,null,null,{"$f":"1+AG82","v":"2018-02-24"}]
[null,null,null,null,{"$f":"DAY(F82)","v":18},{"$f":"IF(F82>0,VLOOKUP(F82,Holidays,2),0)","v":""},null,null,null,{"$f":"DAY(K82)","v":19},{"$f":"IF(K82>0,VLOOKUP(K82,Holidays,2),0)","v":0},null,null,null,{"$f":"DAY(P82)","v":20},{"$f":"IF(P82>0,VLOOKUP(P82,Holidays,2),0)","v":0},null,null,null,{"$f":"DAY(V82)","v":21},{"$f":"IF(V82>0,VLOOKUP(V82,Holidays,2),0)","v":0},null,null,null,null,{"$f":"DAY(AA82)","v":22},{"$f":"IF(AA82>0,VLOOKUP(AA82,Holidays,2),0)","v":0},null,null,null,null,{"$f":"DAY(AG82)","v":23},{"$f":"IF(AG82>0,VLOOKUP(AG82,Holidays,2),0)","v":0},null,null,null,{"$f":"DAY(AL82)","v":24},{"$f":"IF(AL82>0,VLOOKUP(AL82,Holidays,2),0)","v":0}]
[{"$f":"UPPER(VLOOKUP(F82,Inputs,4,FALSE))&\"  \"","v":"  "},null,null,null,{"$f":"IF(LEN(A84)>2,A84&VLOOKUP(F82,Inputs,5,FALSE),VLOOKUP(F82,Inputs,5,FALSE))","v":0},null,{"$f":"IF(F82>0,VLOOKUP(F82,Inputs,6,FALSE),\"\")","v":0},{"$f":"UPPER(VLOOKUP(K82,Inputs,4,FALSE))&\"  \"","v":"  "},null,{"$f":"IF(LEN(H84)>2,H84&VLOOKUP(K82,Inputs,5,FALSE),VLOOKUP(K82,Inputs,5,FALSE))","v":0},null,{"$f":"IF(K82>0,VLOOKUP(K82,Inputs,6,FALSE),\"\")","v":0},{"$f":"UPPER(VLOOKUP(P82,Inputs,4,FALSE))&\"  \"","v":"  "},null,{"$f":"IF(LEN(M84)>2,M84&VLOOKUP(P82,Inputs,5,FALSE),VLOOKUP(P82,Inputs,5,FALSE))","v":0},null,{"$f":"IF(P82>0,VLOOKUP(P82,Inputs,6,FALSE),\"\")","v":0},{"$f":"UPPER(VLOOKUP(V82,Inputs,4,FALSE))&\"  \"","v":"  "},null,{"$f":"IF(LEN(R84)>2,R84&VLOOKUP(V82,Inputs,5,FALSE),VLOOKUP(V82,Inputs,5,FALSE))","v":0},null,null,{"$f":"IF(V82>0,VLOOKUP(V82,Inputs,6,FALSE),\"\")","v":0},{"$f":"UPPER(VLOOKUP(AA82,Inputs,4,FALSE))&\"  \"","v":"  "},null,{"$f":"IF(LEN(X84)>2,X84&VLOOKUP(AA82,Inputs,5,FALSE),VLOOKUP(AA82,Inputs,5,FALSE))","v":0},null,null,{"$f":"IF(AA82>0,VLOOKUP(AA82,Inputs,6,FALSE),\"\")","v":0},{"$f":"UPPER(VLOOKUP(AG82,Inputs,4,FALSE))&\"  \"","v":"  "},null,{"$f":"IF(LEN(AD84)>2,AD84&VLOOKUP(AG82,Inputs,5,FALSE),VLOOKUP(AG82,Inputs,5,FALSE))","v":0},null,{"$f":"IF(AG82>0,VLOOKUP(AG82,Inputs,6,FALSE),\"\")","v":0},{"$f":"UPPER(VLOOKUP(AL82,Inputs,4,FALSE))&\"  \"","v":"  "},null,{"$f":"IF(LEN(AI84)>2,AI84&VLOOKUP(AL82,Inputs,5,FALSE),VLOOKUP(AL82,Inputs,5,FALSE))","v":0},null,{"$f":"IF(AL82>0,VLOOKUP(AL82,Inputs,6,FALSE),\"\")","v":0},null,null,{"$f":"IF($A84=AP$5,$G84,0)+IF($H84=AP$5,$L84,0)+IF($M84=AP$5,$Q84,0)+IF($R84=AP$5,$W84,0)+IF($X84=AP$5,AC84,0)+IF($AD84=AP$5,AH84,0)+IF(AI84=AP$5,AM84,0)","v":0},{"$f":"IF($A84=AQ$5,$G84,0)+IF($H84=AQ$5,$L84,0)+IF($M84=AQ$5,$Q84,0)+IF($R84=AQ$5,$W84,0)+IF($X84=AQ$5,$AC84,0)+IF($AD84=AQ$5,$AH84,0)+IF($AI84=AQ$5,$AM84,0)","v":0},0,0,0,0,0,0,0,0,0,0,0,0]
[{"$f":"UPPER(VLOOKUP(F82,Inputs,7,FALSE))&\"  \"","v":"  "},null,null,null,{"$f":"IF(LEN(A85)>2,A85&VLOOKUP(F82,Inputs,8,FALSE),VLOOKUP(F82,Inputs,8,FALSE))","v":0},null,{"$f":"IF(F82>0,VLOOKUP(F82,Inputs,9,FALSE),\"\")","v":0},{"$f":"UPPER(VLOOKUP(K82,Inputs,7,FALSE))&\"  \"","v":"  "},null,{"$f":"IF(LEN(H85)>2,H85&VLOOKUP(K82,Inputs,8,FALSE),VLOOKUP(K82,Inputs,8,FALSE))","v":0},null,{"$f":"IF(K82>0,VLOOKUP(K82,Inputs,9,FALSE),\"\")","v":0},{"$f":"UPPER(VLOOKUP(P82,Inputs,7,FALSE))&\"  \"","v":"  "},null,{"$f":"IF(LEN(M85)>2,M85&VLOOKUP(P82,Inputs,8,FALSE),VLOOKUP(P82,Inputs,8,FALSE))","v":0},null,{"$f":"IF(P82>0,VLOOKUP(P82,Inputs,9,FALSE),\"\")","v":0},{"$f":"UPPER(VLOOKUP(V82,Inputs,7,FALSE))&\"  \"","v":"  "},null,{"$f":"IF(LEN(R85)>2,R85&VLOOKUP(V82,Inputs,8,FALSE),VLOOKUP(V82,Inputs,8,FALSE))","v":0},null,null,{"$f":"IF(V82>0,VLOOKUP(V82,Inputs,9,FALSE),\"\")","v":0},{"$f":"UPPER(VLOOKUP(AA82,Inputs,7,FALSE))&\"  \"","v":"  "},null,{"$f":"IF(LEN(X85)>2,X85&VLOOKUP(AA82,Inputs,8,FALSE),VLOOKUP(AA82,Inputs,8,FALSE))","v":0},null,null,{"$f":"IF(AA82>0,VLOOKUP(AA82,Inputs,9,FALSE),\"\")","v":0},{"$f":"UPPER(VLOOKUP(AG82,Inputs,7,FALSE))&\"  \"","v":"  "},null,{"$f":"IF(LEN(AD85)>2,AD85&VLOOKUP(AG82,Inputs,8,FALSE),VLOOKUP(AG82,Inputs,8,FALSE))","v":0},null,{"$f":"IF(AG82>0,VLOOKUP(AG82,Inputs,9,FALSE),\"\")","v":0},{"$f":"UPPER(VLOOKUP(AL82,Inputs,7,FALSE))&\"  \"","v":"  "},null,{"$f":"IF(LEN(AI85)>2,AI85&VLOOKUP(AL82,Inputs,8,FALSE),VLOOKUP(AL82,Inputs,8,FALSE))","v":0},null,{"$f":"IF(AL82>0,VLOOKUP(AL82,Inputs,9,FALSE),\"\")","v":0},null,null,{"$f":"IF($A85=AP$5,$G85,0)+IF($H85=AP$5,$L85,0)+IF($M85=AP$5,$Q85,0)+IF($R85=AP$5,$W85,0)+IF($X85=AP$5,AC85,0)+IF($AD85=AP$5,AH85,0)+IF(AI85=AP$5,AM85,0)","v":0},0,0,0,0,0,0,0,0,0,0,0,0,0]
[{"$f":"UPPER(VLOOKUP(F82,Inputs,10,FALSE))&\"  \"","v":"  "},null,null,null,{"$f":"IF(LEN(A86)>2,A86&VLOOKUP(F82,Inputs,11,FALSE),VLOOKUP(F82,Inputs,11,FALSE))","v":0},null,{"$f":"IF(F82>0,VLOOKUP(F82,Inputs,12,FALSE),\"\")","v":0},{"$f":"UPPER(VLOOKUP(K82,Inputs,10,FALSE))&\"  \"","v":"  "},null,{"$f":"IF(LEN(H86)>2,H86&VLOOKUP(K82,Inputs,11,FALSE),VLOOKUP(K82,Inputs,11,FALSE))","v":0},null,{"$f":"IF(K82>0,VLOOKUP(K82,Inputs,12,FALSE),\"\")","v":0},{"$f":"UPPER(VLOOKUP(P82,Inputs,10,FALSE))&\"  \"","v":"  "},null,{"$f":"IF(LEN(M86)>2,M86&VLOOKUP(P82,Inputs,11,FALSE),VLOOKUP(P82,Inputs,11,FALSE))","v":0},null,{"$f":"IF(P82>0,VLOOKUP(P82,Inputs,12,FALSE),\"\")","v":0},{"$f":"UPPER(VLOOKUP(V82,Inputs,10,FALSE))&\"  \"","v":"  "},null,{"$f":"IF(LEN(R86)>2,R86&VLOOKUP(V82,Inputs,11,FALSE),VLOOKUP(V82,Inputs,11,FALSE))","v":0},null,null,{"$f":"IF(V82>0,VLOOKUP(V82,Inputs,12,FALSE),\"\")","v":0},{"$f":"UPPER(VLOOKUP(AA82,Inputs,10,FALSE))&\"  \"","v":"  "},null,{"$f":"IF(LEN(X86)>2,X86&VLOOKUP(AA82,Inputs,11,FALSE),VLOOKUP(AA82,Inputs,11,FALSE))","v":0},null,null,{"$f":"IF(AA82>0,VLOOKUP(AA82,Inputs,12,FALSE),\"\")","v":0},{"$f":"UPPER(VLOOKUP(AG82,Inputs,10,FALSE))&\"  \"","v":"  "},null,{"$f":"IF(LEN(AD86)>2,AD86&VLOOKUP(AG82,Inputs,11,FALSE),VLOOKUP(AG82,Inputs,11,FALSE))","v":0},null,{"$f":"IF(AG82>0,VLOOKUP(AG82,Inputs,12,FALSE),\"\")","v":0},{"$f":"UPPER(VLOOKUP(AL82,Inputs,10,FALSE))&\"  \"","v":"  "},null,{"$f":"IF(LEN(AI86)>2,AI86&VLOOKUP(AL82,Inputs,11,FALSE),VLOOKUP(AL82,Inputs,11,FALSE))","v":0},null,{"$f":"IF(AL82>0,VLOOKUP(AL82,Inputs,12,FALSE),\"\")","v":0},null,null,{"$f":"IF($A86=AP$5,$G86,0)+IF($H86=AP$5,$L86,0)+IF($M86=AP$5,$Q86,0)+IF($R86=AP$5,$W86,0)+IF($X86=AP$5,AC86,0)+IF($AD86=AP$5,AH86,0)+IF(AI86=AP$5,AM86,0)","v":0},0,0,0,0,0,0,0,0,0,0,0,0,0]
[{"$f":"UPPER(VLOOKUP(F82,Inputs,13,FALSE))&\"  \"","v":"  "},null,null,null,{"$f":"IF(LEN(A87)>2,A87&VLOOKUP(F82,Inputs,14,FALSE),VLOOKUP(F82,Inputs,14,FALSE))","v":0},null,{"$f":"IF(F82>0,VLOOKUP(F82,Inputs,15,FALSE),\"\")","v":0},{"$f":"UPPER(VLOOKUP(K82,Inputs,13,FALSE))&\"  \"","v":"  "},null,{"$f":"IF(LEN(H87)>2,H87&VLOOKUP(K82,Inputs,14,FALSE),VLOOKUP(K82,Inputs,14,FALSE))","v":0},null,{"$f":"IF(K82>0,VLOOKUP(K82,Inputs,15,FALSE),\"\")","v":0},{"$f":"UPPER(VLOOKUP(P82,Inputs,13,FALSE))&\"  \"","v":"  "},null,{"$f":"IF(LEN(M87)>2,M87&VLOOKUP(P82,Inputs,14,FALSE),VLOOKUP(P82,Inputs,14,FALSE))","v":0},null,{"$f":"IF(P82>0,VLOOKUP(P82,Inputs,15,FALSE),\"\")","v":0},{"$f":"UPPER(VLOOKUP(V82,Inputs,13,FALSE))&\"  \"","v":"  "},null,{"$f":"IF(LEN(R87)>2,R87&VLOOKUP(V82,Inputs,14,FALSE),VLOOKUP(V82,Inputs,14,FALSE))","v":0},null,null,{"$f":"IF(V82>0,VLOOKUP(V82,Inputs,15,FALSE),\"\")","v":0},{"$f":"UPPER(VLOOKUP(AA82,Inputs,13,FALSE))&\"  \"","v":"  "},null,{"$f":"IF(LEN(X87)>2,X87&VLOOKUP(AA82,Inputs,14,FALSE),VLOOKUP(AA82,Inputs,14,FALSE))","v":0},null,null,{"$f":"IF(AA82>0,VLOOKUP(AA82,Inputs,15,FALSE),\"\")","v":0},{"$f":"UPPER(VLOOKUP(AG82,Inputs,13,FALSE))&\"  \"","v":"  "},null,{"$f":"IF(LEN(AD87)>2,AD87&VLOOKUP(AG82,Inputs,14,FALSE),VLOOKUP(AG82,Inputs,14,FALSE))","v":0},null,{"$f":"IF(AG82>0,VLOOKUP(AG82,Inputs,15,FALSE),\"\")","v":0},{"$f":"UPPER(VLOOKUP(AL82,Inputs,13,FALSE))&\"  \"","v":"  "},null,{"$f":"IF(LEN(AI87)>2,AI87&VLOOKUP(AL82,Inputs,14,FALSE),VLOOKUP(AL82,Inputs,14,FALSE))","v":0},null,{"$f":"IF(AL82>0,VLOOKUP(AL82,Inputs,15,FALSE),\"\")","v":0},null,null,{"$f":"IF($A87=AP$5,$G87,0)+IF($H87=AP$5,$L87,0)+IF($M87=AP$5,$Q87,0)+IF($R87=AP$5,$W87,0)+IF($X87=AP$5,AC87,0)+IF($AD87=AP$5,AH87,0)+IF(AI87=AP$5,AM87,0)","v":0},0,0,0,0,0,0,0,0,0,0,0,0,0]
[null,null,null,null,null,{"$f":"IF(F82>0,IF(VLOOKUP(F82,Inputs,3,FALSE)=\"T\",\"Telemarketing\",0),\"\")","v":0},null,null,null,null,{"$f":"IF(VLOOKUP(K82-1,Inputs,3,FALSE)=\"T\",0,IF(VLOOKUP(K82,Inputs,3,FALSE)=\"T\",\"Telemarketing\",0))","v":0},null,null,null,null,{"$f":"IF(VLOOKUP(P82-1,Inputs,3,FALSE)=\"T\",0,IF(VLOOKUP(P82,Inputs,3,FALSE)=\"T\",\"Telemarketing\",0))","v":0},null,null,null,null,null,{"$f":"IF(VLOOKUP(V82-1,Inputs,3,FALSE)=\"T\",0,IF(VLOOKUP(V82,Inputs,3,FALSE)=\"T\",\"Telemarketing\",0))","v":0},null,null,null,null,{"$f":"IF(VLOOKUP(AA82-1,Inputs,3,FALSE)=\"T\",0,IF(VLOOKUP(AA82,Inputs,3,FALSE)=\"T\",\"Telemarketing\",0))","v":0},null,null,null,null,null,{"$f":"IF(VLOOKUP(AG82-1,Inputs,3,FALSE)=\"T\",0,IF(VLOOKUP(AG82,Inputs,3,FALSE)=\"T\",\"Telemarketing\",0))","v":0},null,null,null,null,{"$f":"IF(VLOOKUP(AL82-1,Inputs,3,FALSE)=\"T\",0,IF(VLOOKUP(AL82,Inputs,3,FALSE)=\"T\",\"Telemarketing\",0))","v":0}]
[null,null,null,null,null,{"$f":"IF(AL82>0,IF(MONTH(1+AL82)=$A107,1+AL82,0),0)","v":"2018-02-25"},null,null,null,null,{"$f":"IF(F89>0,IF(MONTH(1+F89)=$A107,1+F89,0),0)","v":"2018-02-26"},null,null,null,null,{"$f":"IF(K89>0,IF(MONTH(1+K89)=$A107,1+K89,0),0)","v":"2018-02-27"},null,null,null,null,null,{"$f":"IF(P89>0,IF(MONTH(1+P89)=$A107,1+P89,0),0)","v":"2018-02-28"},null,null,null,null,{"$f":"IF(V89>0,IF(MONTH(1+V89)=$A107,1+V89,0),0)","v":"00:00:00"},null,null,null,null,null,{"$f":"IF(AA89>0,IF(MONTH(1+AA89)=$A107,1+AA89,0),0)","v":"00:00:00"},null,null,null,null,{"$f":"IF(AG89>0,IF(MONTH(1+AG89)=$A107,1+AG89,0),0)","v":"00:00:00"}]
[null,null,null,null,{"$f":"DAY(F89)","v":25},{"$f":"VLOOKUP(F89,Holidays,2)","v":0},null,null,null,{"$f":"DAY(K89)","v":26},{"$f":"VLOOKUP(K89,Holidays,2)","v":0},null,null,null,{"$f":"DAY(P89)","v":27},{"$f":"VLOOKUP(P89,Holidays,2)","v":0},null,null,null,{"$f":"DAY(V89)","v":28},{"$f":"VLOOKUP(V89,Holidays,2)","v":0},null,null,null,null,{"$f":"DAY(AA89)","v":0},{"$f":"VLOOKUP(AA89,Holidays,2)","v":0},null,null,null,null,{"$f":"DAY(AG89)","v":0},{"$f":"VLOOKUP(AG89,Holidays,2)","v":0},null,null,null,{"$f":"DAY(AL89)","v":0},{"$f":"VLOOKUP(AL89,Holidays,2)","v":0}]
[{"$f":"UPPER(VLOOKUP(F89,Inputs,4,FALSE))&\"  \"","v":"  "},null,null,null,{"$f":"IF(LEN(A91)>2,A91&VLOOKUP(F89,Inputs,5,FALSE),VLOOKUP(F89,Inputs,5,FALSE))","v":0},null,{"$f":"IF(F89>0,VLOOKUP(F89,Inputs,6,FALSE),\"\")","v":0},{"$f":"UPPER(VLOOKUP(K89,Inputs,4,FALSE))&\"  \"","v":"  "},null,{"$f":"IF(LEN(H91)>2,H91&VLOOKUP(K89,Inputs,5,FALSE),VLOOKUP(K89,Inputs,5,FALSE))","v":0},null,{"$f":"IF(K89>0,VLOOKUP(K89,Inputs,6,FALSE),\"\")","v":0},{"$f":"UPPER(VLOOKUP(P89,Inputs,4,FALSE))&\"  \"","v":"  "},null,{"$f":"IF(LEN(M91)>2,M91&VLOOKUP(P89,Inputs,5,FALSE),VLOOKUP(P89,Inputs,5,FALSE))","v":0},null,{"$f":"IF(P89>0,VLOOKUP(P89,Inputs,6,FALSE),\"\")","v":0},{"$f":"IF(MONTH(V89)=A107,UPPER(VLOOKUP(V89,Inputs,4,FALSE))&\"  \",\"\")","v":"  "},null,{"$f":"IF(MONTH(V89)=A107,IF(LEN(R91)>0,R91&VLOOKUP(V89,Inputs,5,FALSE),VLOOKUP(V89,Inputs,5,FALSE)),\"\")","v":"  "},null,null,{"$f":"IF(MONTH(V89)=A107,IF(V89>0,VLOOKUP(V89,Inputs,6,FALSE),\"\"),0)","v":0},{"$f":"IF(MONTH(AA89)=A107,UPPER(VLOOKUP(AA89,Inputs,4,FALSE))&\"  \",\"\")","v":""},null,{"$f":"IF(MONTH(AA89)=A107,IF(LEN(X91)>0,X91&VLOOKUP(AA89,Inputs,5,FALSE),VLOOKUP(AA89,Inputs,5,FALSE)),\"\")","v":""},null,null,{"$f":"IF(MONTH(AA89)=A107,IF(AA89>0,VLOOKUP(AA89,Inputs,6,FALSE),\"\"),0)","v":0},{"$f":"IF(MONTH(AG89)=A107,UPPER(VLOOKUP(AG89,Inputs,4,FALSE))&\"  \",\"\")","v":""},null,{"$f":"IF(MONTH(AG89)=A107,IF(LEN(AD91)>0,AD91&VLOOKUP(AG89,Inputs,5,FALSE),VLOOKUP(AG89,Inputs,5,FALSE)),\"\")","v":""},null,{"$f":"IF(MONTH(AG89)=A107,IF(AG89>0,VLOOKUP(AG89,Inputs,6,FALSE),\"\"),0)","v":0},{"$f":"IF(MONTH(AL89)=A107,UPPER(VLOOKUP(AL89,Inputs,4,FALSE))&\"  \",\"\")","v":""},null,{"$f":"IF(MONTH(AL89)=A107,IF(LEN(AI91)>0,AI91&VLOOKUP(AL89,Inputs,5,FALSE),VLOOKUP(AL89,Inputs,5,FALSE)),\"\")","v":""},null,{"$f":"IF(MONTH(AL89)=A107,IF(AL89>0,VLOOKUP(AL89,Inputs,6,FALSE),\"\"),0)","v":0},null,null,{"$f":"IF($A91=AP$5,$G91,0)+IF($H91=AP$5,$L91,0)+IF($M91=AP$5,$Q91,0)+IF($R91=AP$5,$W91,0)+IF($X91=AP$5,AC91,0)+IF($AD91=AP$5,AH91,0)+IF(AI91=AP$5,AM91,0)","v":0},{"$f":"IF($A91=AQ$5,$G91,0)+IF($H91=AQ$5,$L91,0)+IF($M91=AQ$5,$Q91,0)+IF($R91=AQ$5,$W91,0)+IF($X91=AQ$5,$AC91,0)+IF($AD91=AQ$5,$AH91,0)+IF($AI91=AQ$5,$AM91,0)","v":0},0,0,0,0,0,0,0,0,0,0,0,0]
[{"$f":"UPPER(VLOOKUP(F89,Inputs,7,FALSE))&\"  \"","v":"  "},null,null,null,{"$f":"IF(LEN(A92)>2,A92&VLOOKUP(F89,Inputs,8,FALSE),VLOOKUP(F89,Inputs,8,FALSE))","v":0},null,{"$f":"IF(F89>0,VLOOKUP(F89,Inputs,9,FALSE),\"\")","v":0},{"$f":"UPPER(VLOOKUP(K89,Inputs,7,FALSE))&\"  \"","v":"  "},null,{"$f":"IF(LEN(H92)>2,H92&VLOOKUP(K89,Inputs,8,FALSE),VLOOKUP(K89,Inputs,8,FALSE))","v":0},null,{"$f":"IF(K89>0,VLOOKUP(K89,Inputs,9,FALSE),\"\")","v":0},{"$f":"UPPER(VLOOKUP(P89,Inputs,7,FALSE))&\"  \"","v":"  "},null,{"$f":"IF(LEN(M92)>2,M92&VLOOKUP(P89,Inputs,8,FALSE),VLOOKUP(P89,Inputs,8,FALSE))","v":0},null,{"$f":"IF(P89>0,VLOOKUP(P89,Inputs,9,FALSE),\"\")","v":0},{"$f":"IF(MONTH(V89)=A107,UPPER(VLOOKUP(V89,Inputs,7,FALSE))&\"  \",\"\")","v":"  "},null,{"$f":"IF(MONTH(V89)=A107,IF(LEN(R92)>0,R92&VLOOKUP(V89,Inputs,8,FALSE),VLOOKUP(V89,Inputs,8,FALSE)),\"\")","v":"  "},null,null,{"$f":"IF(MONTH(V89)=A107,IF(V89>0,VLOOKUP(V89,Inputs,9,FALSE),\"\"),0)","v":0},{"$f":"IF(MONTH(AA89)=A107,UPPER(VLOOKUP(AA89,Inputs,7,FALSE))&\"  \",\"\")","v":""},null,{"$f":"IF(MONTH(AA89)=A107,IF(LEN(X92)>0,X92&VLOOKUP(AA89,Inputs,8,FALSE),VLOOKUP(AA89,Inputs,8,FALSE)),\"\")","v":""},null,null,{"$f":"IF(MONTH(AA89)=A107,IF(AA89>0,VLOOKUP(AA89,Inputs,9,FALSE),\"\"),0)","v":0},{"$f":"IF(MONTH(AG89)=A107,UPPER(VLOOKUP(AG89,Inputs,7,FALSE))&\"  \",\"\")","v":""},null,{"$f":"IF(MONTH(AG89)=A107,IF(LEN(AD92)>0,AD92&VLOOKUP(AG89,Inputs,8,FALSE),VLOOKUP(AG89,Inputs,8,FALSE)),\"\")","v":""},null,{"$f":"IF(MONTH(AG89)=A107,IF(AG89>0,VLOOKUP(AG89,Inputs,9,FALSE),\"\"),0)","v":0},{"$f":"IF(MONTH(AL89)=A107,UPPER(VLOOKUP(AL89,Inputs,7,FALSE))&\"  \",\"\")","v":""},null,{"$f":"IF(MONTH(AL89)=A107,IF(LEN(AI92)>0,AI92&VLOOKUP(AL89,Inputs,8,FALSE),VLOOKUP(AL89,Inputs,8,FALSE)),\"\")","v":""},null,{"$f":"IF(MONTH(AL89)=A107,IF(AL89>0,VLOOKUP(AL89,Inputs,9,FALSE),\"\"),0)","v":0},null,null,{"$f":"IF($A92=AP$5,$G92,0)+IF($H92=AP$5,$L92,0)+IF($M92=AP$5,$Q92,0)+IF($R92=AP$5,$W92,0)+IF($X92=AP$5,AC92,0)+IF($AD92=AP$5,AH92,0)+IF(AI92=AP$5,AM92,0)","v":0},0,0,0,0,0,0,0,0,0,0,0,0,0]
[{"$f":"UPPER(VLOOKUP(F89,Inputs,10,FALSE))&\"  \"","v":"  "},null,null,null,{"$f":"IF(LEN(A93)>2,A93&VLOOKUP(F89,Inputs,11,FALSE),VLOOKUP(F89,Inputs,11,FALSE))","v":0},null,{"$f":"IF(F89>0,VLOOKUP(F89,Inputs,12,FALSE),\"\")","v":0},{"$f":"UPPER(VLOOKUP(K89,Inputs,10,FALSE))&\"  \"","v":"  "},null,{"$f":"IF(LEN(H93)>2,H93&VLOOKUP(K89,Inputs,11,FALSE),VLOOKUP(K89,Inputs,11,FALSE))","v":0},null,{"$f":"IF(K89>0,VLOOKUP(K89,Inputs,12,FALSE),\"\")","v":0},{"$f":"UPPER(VLOOKUP(P89,Inputs,10,FALSE))&\"  \"","v":"  "},null,{"$f":"IF(LEN(M93)>2,M93&VLOOKUP(P89,Inputs,11,FALSE),VLOOKUP(P89,Inputs,11,FALSE))","v":0},null,{"$f":"IF(P89>0,VLOOKUP(P89,Inputs,12,FALSE),\"\")","v":0},{"$f":"IF(MONTH(V89)=A107,UPPER(VLOOKUP(V89,Inputs,10,FALSE))&\"  \",\"\")","v":"  "},null,{"$f":"IF(MONTH(V89)=A107,IF(LEN(R93)>0,R93&VLOOKUP(V89,Inputs,11,FALSE),VLOOKUP(V89,Inputs,11,FALSE)),\"\")","v":"  "},null,null,{"$f":"IF(MONTH(V89)=A107,IF(V89>0,VLOOKUP(V89,Inputs,12,FALSE),\"\"),0)","v":0},{"$f":"IF(MONTH(AA89)=A107,UPPER(VLOOKUP(AA89,Inputs,10,FALSE))&\"  \",\"\")","v":""},null,{"$f":"IF(MONTH(AA89)=A107,IF(LEN(X93)>0,X93&VLOOKUP(AA89,Inputs,11,FALSE),VLOOKUP(AA89,Inputs,11,FALSE)),\"\")","v":""},null,null,{"$f":"IF(MONTH(AA89)=A107,IF(AA89>0,VLOOKUP(AA89,Inputs,12,FALSE),\"\"),0)","v":0},{"$f":"IF(MONTH(AG89)=A107,UPPER(VLOOKUP(AG89,Inputs,10,FALSE))&\"  \",\"\")","v":""},null,{"$f":"IF(MONTH(AG89)=A107,IF(LEN(AD93)>0,AD93&VLOOKUP(AG89,Inputs,11,FALSE),VLOOKUP(AG89,Inputs,11,FALSE)),\"\")","v":""},null,{"$f":"IF(MONTH(AG89)=A107,IF(AG89>0,VLOOKUP(AG89,Inputs,12,FALSE),\"\"),0)","v":0},{"$f":"IF(MONTH(AL89)=A107,UPPER(VLOOKUP(AL89,Inputs,10,FALSE))&\"  \",\"\")","v":""},null,{"$f":"IF(MONTH(AL89)=A107,IF(LEN(AI93)>0,AI93&VLOOKUP(AL89,Inputs,11,FALSE),VLOOKUP(AL89,Inputs,11,FALSE)),\"\")","v":""},null,{"$f":"IF(MONTH(AL89)=A107,IF(AL89>0,VLOOKUP(AL89,Inputs,12,FALSE),\"\"),0)","v":0},null,null,{"$f":"IF($A93=AP$5,$G93,0)+IF($H93=AP$5,$L93,0)+IF($M93=AP$5,$Q93,0)+IF($R93=AP$5,$W93,0)+IF($X93=AP$5,AC93,0)+IF($AD93=AP$5,AH93,0)+IF(AI93=AP$5,AM93,0)","v":0},0,0,0,0,0,0,0,0,0,0,0,0,0]
[{"$f":"UPPER(VLOOKUP(F89,Inputs,13,FALSE))&\"  \"","v":"  "},null,null,null,{"$f":"IF(LEN(A94)>2,A94&VLOOKUP(F89,Inputs,14,FALSE),VLOOKUP(F89,Inputs,14,FALSE))","v":0},null,{"$f":"IF(F89>0,VLOOKUP(F89,Inputs,15,FALSE),\"\")","v":0},{"$f":"UPPER(VLOOKUP(K89,Inputs,13,FALSE))&\"  \"","v":"  "},null,{"$f":"IF(LEN(H94)>2,H94&VLOOKUP(K89,Inputs,14,FALSE),VLOOKUP(K89,Inputs,14,FALSE))","v":0},null,{"$f":"IF(K89>0,VLOOKUP(K89,Inputs,15,FALSE),\"\")","v":0},{"$f":"UPPER(VLOOKUP(P89,Inputs,13,FALSE))&\"  \"","v":"  "},null,{"$f":"IF(LEN(M94)>2,M94&VLOOKUP(P89,Inputs,14,FALSE),VLOOKUP(P89,Inputs,14,FALSE))","v":0},null,{"$f":"IF(P89>0,VLOOKUP(P89,Inputs,15,FALSE),\"\")","v":0},{"$f":"IF(MONTH(V89)=A107,UPPER(VLOOKUP(V89,Inputs,13,FALSE))&\"  \",\"\")","v":"  "},null,{"$f":"IF(MONTH(V89)=A107,IF(LEN(R94)>0,R94&VLOOKUP(V89,Inputs,14,FALSE),VLOOKUP(V89,Inputs,14,FALSE)),\"\")","v":"  "},null,null,{"$f":"IF(MONTH(V89)=A107,IF(V89>0,VLOOKUP(V89,Inputs,15,FALSE),\"\"),0)","v":0},{"$f":"IF(MONTH(AA89)=A107,UPPER(VLOOKUP(AA89,Inputs,13,FALSE))&\"  \",\"\")","v":""},null,{"$f":"IF(MONTH(AA89)=A107,IF(LEN(X94)>0,X94&VLOOKUP(AA89,Inputs,14,FALSE),VLOOKUP(AA89,Inputs,14,FALSE)),\"\")","v":""},null,null,{"$f":"IF(MONTH(AA89)=A107,IF(AA89>0,VLOOKUP(AA89,Inputs,15,FALSE),\"\"),0)","v":0},{"$f":"IF(MONTH(AG89)=A107,UPPER(VLOOKUP(AG89,Inputs,13,FALSE))&\"  \",\"\")","v":""},null,{"$f":"IF(MONTH(AG89)=A107,IF(LEN(AD94)>0,AD94&VLOOKUP(AG89,Inputs,14,FALSE),VLOOKUP(AG89,Inputs,14,FALSE)),\"\")","v":""},null,{"$f":"IF(MONTH(AG89)=A107,IF(AG89>0,VLOOKUP(AG89,Inputs,15,FALSE),\"\"),0)","v":0},{"$f":"IF(MONTH(AL89)=A107,UPPER(VLOOKUP(AL89,Inputs,13,FALSE))&\"  \",\"\")","v":""},null,{"$f":"IF(MONTH(AL89)=A107,IF(LEN(AI94)>0,AI94&VLOOKUP(AL89,Inputs,14,FALSE),VLOOKUP(AL89,Inputs,14,FALSE)),\"\")","v":""},null,{"$f":"IF(MONTH(AL89)=A107,IF(AL89>0,VLOOKUP(AL89,Inputs,15,FALSE),\"\"),0)","v":0},null,null,{"$f":"IF($A94=AP$5,$G94,0)+IF($H94=AP$5,$L94,0)+IF($M94=AP$5,$Q94,0)+IF($R94=AP$5,$W94,0)+IF($X94=AP$5,AC94,0)+IF($AD94=AP$5,AH94,0)+IF(AI94=AP$5,AM94,0)","v":0},0,0,0,0,0,0,0,0,0,0,0,0,0]
[null,null,null,null,null,{"$f":"IF(F89>0,IF(VLOOKUP(F89,Inputs,3,FALSE)=\"T\",\"Telemarketing\",0),\"\")","v":0},null,null,null,null,{"$f":"IF(VLOOKUP(K89-1,Inputs,3,FALSE)=\"T\",0,IF(VLOOKUP(K89,Inputs,3,FALSE)=\"T\",\"Telemarketing\",0))","v":0},null,null,null,null,{"$f":"IF(VLOOKUP(P89-1,Inputs,3,FALSE)=\"T\",0,IF(VLOOKUP(P89,Inputs,3,FALSE)=\"T\",\"Telemarketing\",0))","v":0},null,null,null,null,null,{"$f":"IF(VLOOKUP(V89-1,Inputs,3,FALSE)=\"T\",0,IF(VLOOKUP(V89,Inputs,3,FALSE)=\"T\",\"Telemarketing\",0))","v":0},null,null,null,null,{"$f":"IF(VLOOKUP(AA89-1,Inputs,3,FALSE)=\"T\",0,IF(VLOOKUP(AA89,Inputs,3,FALSE)=\"T\",\"Telemarketing\",0))","v":{"$error":"#N/A"}},null,null,null,null,null,{"$f":"IF(VLOOKUP(AG89-1,Inputs,3,FALSE)=\"T\",0,IF(VLOOKUP(AG89,Inputs,3,FALSE)=\"T\",\"Telemarketing\",0))","v":{"$error":"#N/A"}},null,null,null,null,{"$f":"IF(VLOOKUP(AL89-1,Inputs,3,FALSE)=\"T\",0,IF(VLOOKUP(AL89,Inputs,3,FALSE)=\"T\",\"Telemarketing\",0))","v":{"$error":"#N/A"}}]
[null,null,null,null,null,{"$f":"IF(AL89>0,IF(MONTH(1+AL89)=$A107,1+AL89,0),0)","v":"00:00:00"},null,null,null,null,{"$f":"IF(F96>0,IF(MONTH(1+F96)=$A107,1+F96,0),0)","v":"00:00:00"},null,null,null,null,null,null,null,null,null,null,null,null,null,null,null,null,null,null,null,null,null,null,null,null,null,null,{"$f":"IF(AG96>0,IF(MONTH(1+AG96)=$A107,1+AG96,0),0)","v":"00:00:00"}]
[null,null,null,null,{"$f":"DAY(F96)","v":0},{"$f":"VLOOKUP(F96,Holidays,2)","v":0},null,null,null,{"$f":"DAY(K96)","v":0},{"$f":"VLOOKUP(K96,Holidays,2)","v":0},null,null,null,{"$f":"DAY(P96)","v":0},{"$f":"VLOOKUP(P96,Holidays,2)","v":0},null,null,null,{"$f":"DAY(V96)","v":0},{"$f":"VLOOKUP(V96,Holidays,2)","v":0},null,null,null,null,{"$f":"DAY(AA96)","v":0},{"$f":"VLOOKUP(AA96,Holidays,2)","v":0},null,null,null,null,{"$f":"DAY(AG96)","v":0},{"$f":"VLOOKUP(AG96,Holidays,2)","v":0},null,null,null,{"$f":"DAY(AL96)","v":0},{"$f":"VLOOKUP(AL96,Holidays,2)","v":0}]
[{"$f":"IF(MONTH(F$96)=A$107,UPPER(VLOOKUP(F$96,Inputs,4,FALSE))&\"  \",\"\")","v":""},null,null,null,{"$f":"IF(MONTH(F96)=A107,IF(LEN(A98)>0,A98&VLOOKUP(F96,Inputs,5,FALSE),VLOOKUP(F96,Inputs,5,FALSE)),\"\")","v":""},null,{"$f":"IF(MONTH(F96)=A107,IF(F96>0,VLOOKUP(F96,Inputs,6,FALSE),\"\"),0)","v":0},{"$f":"IF(MONTH(K96)=A107,UPPER(VLOOKUP(K96,Inputs,4,FALSE))&\"  \",\"\")","v":""},null,{"$f":"IF(MONTH(K96)=A107,IF(LEN(H98)>2,H98&VLOOKUP(K96,Inputs,5,FALSE),VLOOKUP(K96,Inputs,5,FALSE)),\"\")","v":""},null,{"$f":"IF(MONTH(K96)=A107,IF(K96>0,VLOOKUP(K96,Inputs,6,FALSE),\"\"),0)","v":0},null,null,null,null,{"$f":"IF(MONTH(P96)=A107,IF(P96>0,VLOOKUP(P96,Inputs,6,FALSE),\"\"),0)","v":0},null,null,null,null,null,null,null,null,null,null,null,null,null,null,null,null,null,null,null,null,null,null,null,null,{"$f":"IF($A98=AP$5,$G98,0)+IF($H98=AP$5,$L98,0)+IF($M98=AP$5,$Q98,0)+IF($R98=AP$5,$W98,0)+IF($X98=AP$5,AC98,0)+IF($AD98=AP$5,AH98,0)+IF(AI98=AP$5,AM98,0)","v":0},{"$f":"IF($A98=AQ$5,$G98,0)+IF($H98=AQ$5,$L98,0)+IF($M98=AQ$5,$Q98,0)+IF($R98=AQ$5,$W98,0)+IF($X98=AQ$5,$AC98,0)+IF($AD98=AQ$5,$AH98,0)+IF($AI98=AQ$5,$AM98,0)","v":0},0,0,0,0,0,0,0,0,0,0,0,0]
[{"$f":"IF(MONTH(F$96)=A$107,UPPER(VLOOKUP(F$96,Inputs,4,FALSE))&\"  \",\"\")","v":""},null,null,null,{"$f":"IF(MONTH(F96)=A107,IF(LEN(A99)>0,A99&VLOOKUP(F96,Inputs,8,FALSE),VLOOKUP(F96,Inputs,8,FALSE)),\"\")","v":""},null,{"$f":"IF(MONTH(F96)=A107,IF(F96>0,VLOOKUP(F96,Inputs,9,FALSE),\"\"),0)","v":0},{"$f":"IF(MONTH(K96)=A107,UPPER(VLOOKUP(K96,Inputs,7,FALSE))&\"  \",\"\")","v":""},null,{"$f":"IF(MONTH(K96)=A107,IF(LEN(H99)>2,H99&VLOOKUP(K96,Inputs,8,FALSE),VLOOKUP(K96,Inputs,8,FALSE)),\"\")","v":""},null,{"$f":"IF(MONTH(K96)=A107,IF(K96>0,VLOOKUP(K96,Inputs,9,FALSE),\"\"),0)","v":0},null,null,null,null,{"$f":"IF(MONTH(P96)=A107,IF(P96>0,VLOOKUP(P96,Inputs,9,FALSE),\"\"),0)","v":0},null,null,null,null,null,null,null,null,null,null,null,null,null,null,null,null,null,null,null,null,null,null,null,null,{"$f":"IF($A99=AP$5,$G99,0)+IF($H99=AP$5,$L99,0)+IF($M99=AP$5,$Q99,0)+IF($R99=AP$5,$W99,0)+IF($X99=AP$5,AC99,0)+IF($AD99=AP$5,AH99,0)+IF(AI99=AP$5,AM99,0)","v":0},0,0,0,0,0,0,0,0,0,0,0,0,0]
[{"$f":"IF(MONTH(F$96)=A$107,UPPER(VLOOKUP(F$96,Inputs,4,FALSE))&\"  \",\"\")","v":""},null,null,null,{"$f":"IF(MONTH(F96)=A107,IF(LEN(A100)>0,A100&VLOOKUP(F96,Inputs,11,FALSE),VLOOKUP(F96,Inputs,11,FALSE)),\"\")","v":""},null,{"$f":"IF(MONTH(F96)=A107,IF(F96>0,VLOOKUP(F96,Inputs,12,FALSE),\"\"),0)","v":0},{"$f":"IF(MONTH(K96)=A107,UPPER(VLOOKUP(K96,Inputs,10,FALSE))&\"  \",\"\")","v":""},null,{"$f":"IF(MONTH(K96)=A107,IF(LEN(H100)>2,H100&VLOOKUP(K96,Inputs,11,FALSE),VLOOKUP(K96,Inputs,11,FALSE)),\"\")","v":""},null,{"$f":"IF(MONTH(K96)=A107,IF(K96>0,VLOOKUP(K96,Inputs,12,FALSE),\"\"),0)","v":0},null,null,null,null,{"$f":"IF(MONTH(P96)=A107,IF(P96>0,VLOOKUP(P96,Inputs,12,FALSE),\"\"),0)","v":0},null,null,null,null,null,null,null,null,null,null,null,null,null,null,null,null,null,null,null,null,null,null,null,null,{"$f":"IF($A100=AP$5,$G100,0)+IF($H100=AP$5,$L100,0)+IF($M100=AP$5,$Q100,0)+IF($R100=AP$5,$W100,0)+IF($X100=AP$5,AC100,0)+IF($AD100=AP$5,AH100,0)+IF(AI100=AP$5,AM100,0)","v":0},0,0,0,0,0,0,0,0,0,0,0,0,0]
[{"$f":"IF(MONTH(F$96)=A$107,UPPER(VLOOKUP(F$96,Inputs,4,FALSE))&\"  \",\"\")","v":""},null,null,null,{"$f":"IF(MONTH(F96)=A107,IF(LEN(A101)>0,A101&VLOOKUP(F96,Inputs,14,FALSE),VLOOKUP(F96,Inputs,14,FALSE)),\"\")","v":""},null,{"$f":"IF(MONTH(F96)=A107,IF(F96>0,VLOOKUP(F96,Inputs,15,FALSE),\"\"),0)","v":0},{"$f":"IF(MONTH(K96)=A107,UPPER(VLOOKUP(K96,Inputs,13,FALSE))&\"  \",\"\")","v":""},null,{"$f":"IF(MONTH(K96)=A107,IF(LEN(H101)>2,H101&VLOOKUP(K96,Inputs,14,FALSE),VLOOKUP(K96,Inputs,14,FALSE)),\"\")","v":""},null,{"$f":"IF(MONTH(K96)=A107,IF(K96>0,VLOOKUP(K96,Inputs,15,FALSE),\"\"),0)","v":0},null,null,null,null,{"$f":"IF(MONTH(P96)=A107,IF(P96>0,VLOOKUP(P96,Inputs,15,FALSE),\"\"),0)","v":0},null,null,null,null,null,null,null,null,null,null,null,null,null,null,null,null,null,null,null,null,null,null,null,null,{"$f":"IF($A101=AP$5,$G101,0)+IF($H101=AP$5,$L101,0)+IF($M101=AP$5,$Q101,0)+IF($R101=AP$5,$W101,0)+IF($X101=AP$5,AC101,0)+IF($AD101=AP$5,AH101,0)+IF(AI101=AP$5,AM101,0)","v":0},0,0,0,0,0,0,0,0,0,0,0,0,0]
[null,null,null,null,null,{"$f":"IF(F96>0,IF(VLOOKUP(F96,Inputs,3,FALSE)=\"T\",\"Telemarketing\",0),\"\")","v":""},null,null,null,null,{"$f":"IF(VLOOKUP(K96-1,Inputs,3,FALSE)=\"T\",0,IF(VLOOKUP(K96,Inputs,3,FALSE)=\"T\",\"Telemarketing\",0))","v":{"$error":"#N/A"}},null,null,null,null,null,null,null,null,null,null,null,null,null,null,null,null,null,null,null,null,null,null,null,null,null,null,null,null,null,null,{"$f":"SUM(AP62:AP101)","v":0},{"$f":"SUM(AQ62:AQ101)","v":0},0,0,0,0,0,0,{"$f":"SUM(AX62:AX101)","v":0},0,0,0,0,0]
[]
[null,null,null,null,{"$f":"\"CODE KEY:  \"&'Company Setup'!L$22&'Company Setup'!L$23&'Company Setup'!L$24&'Company Setup'!L$25&'Company Setup'!L$26&'Company Setup'!L$27&'Company Setup'!L$28&'Company Setup'!L$29&'Company Setup'!L$30&'Company Setup'!L$31&'Company Setup'!L$32&'Company Setup'!L$33&'Company Setup'!L$33&'Company Setup'!L$34&'Company Setup'!L$35","v":"CODE KEY:  B=Broadcast, L=Letter, P=Postcard, F=Flyer, H=Hanger, I=Newspaper Ads, N=Newsletter, E=E-Mail, A=Banner Ads, Y=Yellow Pages, "}]
[null,null,null,null,null,null,null,null,null,null,null,null,null,null,null,null,null,null,null,null,null,null,null,null,null,{"$f":"'Company Setup'!D$30","v":"Broadcast"},{"$f":"AP102","v":0},null,null,null,null,null,null,{"$f":"'Company Setup'!D$29","v":"E-Mail"},null,null,{"$f":"AW102","v":0}]
[null,null,null,null,null,null,"Revenue Budget",null,null,{"$f":"VLOOKUP(A107,ClientTable,2,FALSE)","v":86677},null,null,null,null,null,{"$f":"'Company Setup'!$E$5","v":"Reviews"},{"$f":"VLOOKUP(A107,ClientTable,3)","v":0},null,null,null,null,null,null,null,null,{"$f":"'Company Setup'!D$23","v":"Letter"},{"$f":"AQ102","v":0},null,null,null,null,null,null,{"$f":"'Company Setup'!D30","v":"Broadcast"},null,null,{"$f":"AX102","v":0}]
[{"$f":"IF(A51=12,1,A51+1)","v":2},null,null,null,null,null,"Monthly Marketing Budget",null,null,{"$f":"VLOOKUP(A107,ClientTable,7,FALSE)*VLOOKUP(A107,ClientTable,2,FALSE)","v":4333.8500000000004},null,null,null,null,null,{"$f":"'Company Setup'!$F$5","v":"SEO"},{"$f":"VLOOKUP(A107,ClientTable,4)","v":0},null,null,null,null,null,null,null,null,{"$f":"'Company Setup'!D$24","v":"Postcard"},{"$f":"AR102","v":0},null,null,null,null,null,null,{"$f":"'Company Setup'!D$31","v":"Banner Ads"},null,null,{"$f":"AY102","v":0}]
[{"$f":"VLOOKUP(A107,ClientTable,9)","v":2},null,null,null,null,null,"Month's End Marketing Cost",null,null,{"$f":"SUM(AK105:AK110)+SUM(AA105:AA111)+SUM(Q105:Q111)","v":0},null,null,null,null,null,{"$f":"'Company Setup'!$H$5","v":"Community Events"},{"$f":"VLOOKUP(A107,ClientTable,5)","v":0},null,null,null,null,null,null,null,null,{"$f":"'Company Setup'!D$25","v":"Flyer"},{"$f":"AS102","v":0},null,null,null,null,null,null,{"$f":"'Company Setup'!D$32","v":"Yellow Pages"},null,null,{"$f":"AZ102","v":0}]
[null,null,null,null,null,null,"Variance",null,null,{"$f":"J108-J107","v":-4333.8500000000004},null,null,null,null,null,{"$f":"'Company Setup'!G5","v":"Shows & Contests"},{"$f":"VLOOKUP(A107,ClientTable,6)","v":0},null,null,null,null,null,null,null,null,{"$f":"'Company Setup'!D$26","v":"Hanger"},{"$f":"AT102","v":0},null,null,null,null,null,null,{"$f":"'Company Setup'!D$33","v":0},null,null,{"$f":"BA102","v":0}]
[null,null,null,null,null,null,null,null,null,null,null,null,null,null,null,null,null,null,null,null,null,null,null,null,null,{"$f":"'Company Setup'!D$27","v":"Newspaper Ads"},{"$f":"AU102","v":0},null,null,null,null,null,null,{"$f":"'Company Setup'!D$34","v":0},null,null,{"$f":"BB102","v":0}]
[null,null,null,{"$f":"MONTH(StartMonth)","v":{"$error":"#VALUE!"}},"©",{"$f":"+F56","v":"Bedrock Markets, Inc. 2000 - 2100"},null,null,null,null,null,null,null,null,null,null,null,null,null,null,null,null,null,null,null,{"$f":"'Company Setup'!D$28","v":"Newsletter"},{"$f":"AV102","v":0},null,null,null,null,null,null,{"$f":"'Company Setup'!D$35","v":0},null,null,{"$f":"BC102","v":0}]
[]
[null,null,null,null,{"$f":"IF(E58=12,1,E58+1)","v":3},{"$f":"VLOOKUP(E113,Monthlookup2,2)&\" \"&YEAR(Calendar!S70)","v":"March 2018"},null,null,null,null,null,null,null,null,null,{"$f":"P$3","v":"   ABC Heating and Air"},null,null,null,null,null,null,null,null,null,null,null,null,null,null,null,null,null,null,null,null,null,null,null,null,"Importante!  Add 2 spaces after code - es muy neccesita"]
[]
[null,null,null,null,"Sunday",null,null,null,null,"Monday",null,null,null,null,"Tuesday",null,null,null,null,"Wednesday",null,null,null,null,null,"Thursday",null,null,null,null,null,"Friday",null,null,null,null,"Saturday"]
[null,null,null,null,null,{"$f":"IF(VLOOKUP(DATE(RIGHT($F113,4),$A162,1),Calendar,3)=1,DATE(RIGHT($F113,4),$A162,1),0)","v":"00:00:00"},null,null,null,null,{"$f":"IF(E117>0,F116+1,IF(VLOOKUP(DATE(RIGHT($F113,4),$A162,1),Calendar,3)=2,DATE(RIGHT($F113,4),$A162,1),0))","v":"00:00:00"},null,null,null,null,{"$f":"IF(J117>0,K116+1,IF(VLOOKUP(DATE(RIGHT($F113,4),$A162,1),Calendar,3)=3,DATE(RIGHT($F113,4),$A162,1),0))","v":"00:00:00"},null,null,null,null,null,{"$f":"IF(O117>0,P116+1,IF(VLOOKUP(DATE(RIGHT($F113,4),$A162,1),Calendar,3)=4,DATE(RIGHT($F113,4),$A162,1),0))","v":"00:00:00"},null,null,null,null,{"$f":"IF(T117>0,V116+1,IF(VLOOKUP(DATE(RIGHT($F113,4),$A162,1),Calendar,3)=5,DATE(RIGHT($F113,4),$A162,1),0))","v":"2018-03-01"},null,null,null,null,null,{"$f":"IF(Z117>0,AA116+1,IF(VLOOKUP(DATE(RIGHT($F113,4),$A162,1),Calendar,3)=6,DATE(RIGHT($F113,4),$A162,1),0))","v":"2018-03-02"},null,null,null,null,{"$f":"IF(AF117>0,AG116+1,IF(VLOOKUP(DATE(RIGHT($F113,4),$A162,1),Calendar,3)=7,DATE(RIGHT($F113,4),$A162,1),0))","v":"2018-03-03"}]
[null,null,null,null,{"$f":"DAY(F116)","v":0},{"$f":"IF(F116>0,VLOOKUP(F116,Holidays,2),0)","v":0},null,null,null,{"$f":"DAY(K116)","v":0},{"$f":"IF(K116>0,VLOOKUP(K116,Holidays,2),0)","v":0},null,null,null,{"$f":"DAY(P116)","v":0},{"$f":"IF(P116>0,VLOOKUP(P116,Holidays,2),0)","v":0},null,null,null,{"$f":"DAY(V116)","v":0},{"$f":"IF(V116>0,VLOOKUP(V116,Holidays,2),0)","v":0},null,null,null,null,{"$f":"DAY(AA116)","v":1},{"$f":"IF(AA116>0,VLOOKUP(AA116,Holidays,2),0)","v":0},null,null,null,null,{"$f":"DAY(AG116)","v":2},{"$f":"IF(AG116>0,VLOOKUP(AG116,Holidays,2),0)","v":0},null,null,null,{"$f":"DAY(AL116)","v":3},{"$f":"IF(AL116>0,VLOOKUP(AL116,Holidays,2),0)","v":0}]
[{"$f":"IF(F116>1,UPPER(VLOOKUP(F116,Inputs,4,FALSE))&\"  \",0)","v":0},null,null,null,{"$f":"IF(F116>0,IF(LEN(A118)>2,A118&VLOOKUP(F116,Inputs,5,FALSE),VLOOKUP(F116,Inputs,5,FALSE)),\"\")","v":""},null,{"$f":"IF(F116>0,VLOOKUP(F116,Inputs,6,FALSE),\"\")","v":""},{"$f":"IF(K116>1,UPPER(VLOOKUP(K116,Inputs,4,FALSE))&\"  \",0)","v":0},null,{"$f":"IF(K116>0,IF(LEN(H118)>2,H118&VLOOKUP(K116,Inputs,5,FALSE),VLOOKUP(K116,Inputs,5,FALSE)),\"\")","v":""},null,{"$f":"IF(K116>0,VLOOKUP(K116,Inputs,6,FALSE),\"\")","v":""},{"$f":"IF(P116>1,UPPER(VLOOKUP(P116,Inputs,4,FALSE))&\"  \",0)","v":0},null,{"$f":"IF(P116>0,IF(LEN(M118)>2,M118&VLOOKUP(P116,Inputs,5,FALSE),VLOOKUP(P116,Inputs,5,FALSE)),\"\")","v":""},null,{"$f":"IF(P116>0,VLOOKUP(P116,Inputs,6,FALSE),\"\")","v":""},{"$f":"IF(V116>1,UPPER(VLOOKUP(V116,Inputs,4,FALSE))&\"  \",0)","v":0},null,{"$f":"IF(V116>0,IF(LEN(R118)>2,R118&VLOOKUP(V116,Inputs,5,FALSE),VLOOKUP(V116,Inputs,5,FALSE)),\"\")","v":""},null,null,{"$f":"IF(V116>0,VLOOKUP(V116,Inputs,6,FALSE),\"\")","v":""},{"$f":"IF(AA116>1,UPPER(VLOOKUP(AA116,Inputs,4,FALSE))&\"  \",0)","v":"  "},null,{"$f":"IF(AA116>0,IF(LEN(X118)>2,X118&VLOOKUP(AA116,Inputs,5,FALSE),VLOOKUP(AA116,Inputs,5,FALSE)),\"\")","v":0},null,null,{"$f":"IF(AA116>0,VLOOKUP(AA116,Inputs,6,FALSE),\"\")","v":0},{"$f":"IF(AG116>1,UPPER(VLOOKUP(AG116,Inputs,4,FALSE))&\"  \",0)","v":"  "},null,{"$f":"IF(AG116>0,IF(LEN(AD118)>2,AD118&VLOOKUP(AG116,Inputs,5,FALSE),VLOOKUP(AG116,Inputs,5,FALSE)),\"\")","v":0},null,{"$f":"IF(AG116>0,VLOOKUP(AG116,Inputs,6,FALSE),\"\")","v":0},{"$f":"UPPER(VLOOKUP(AL116,Inputs,4,FALSE))&\"  \"","v":"  "},null,{"$f":"IF(LEN(AI118)>2,AI118&VLOOKUP(AL116,Inputs,5,FALSE),VLOOKUP(AL116,Inputs,5,FALSE))","v":0},null,{"$f":"VLOOKUP(AL116,Inputs,6,FALSE)","v":0},null,null,{"$f":"IF($A118=AP$5,$G118,0)+IF($H118=AP$5,$L118,0)+IF($M118=AP$5,$Q118,0)+IF($R118=AP$5,$W118,0)+IF($X118=AP$5,AC118,0)+IF($AD118=AP$5,AH118,0)+IF(AI118=AP$5,AM118,0)","v":0},{"$f":"IF($A118=AQ$5,$G118,0)+IF($H118=AQ$5,$L118,0)+IF($M118=AQ$5,$Q118,0)+IF($R118=AQ$5,$W118,0)+IF($X118=AQ$5,$AC118,0)+IF($AD118=AQ$5,$AH118,0)+IF($AI118=AQ$5,$AM118,0)","v":0},0,0,0,0,0,0,0,0,0,0,0,0]
[{"$f":"IF(F116>1,UPPER(VLOOKUP(F116,Inputs,7,FALSE))&\"  \",0)","v":0},null,null,null,{"$f":"IF(F116>0,IF(LEN(A119)>2,A119&VLOOKUP(F116,Inputs,8,FALSE),VLOOKUP(F116,Inputs,8,FALSE)),\"\")","v":""},null,{"$f":"IF(F116>0,VLOOKUP(F116,Inputs,9,FALSE),\"\")","v":""},{"$f":"IF(K116>1,UPPER(VLOOKUP(K116,Inputs,7,FALSE))&\"  \",0)","v":0},null,{"$f":"IF(K116>0,IF(LEN(H119)>2,H119&VLOOKUP(K116,Inputs,8,FALSE),VLOOKUP(K116,Inputs,8,FALSE)),\"\")","v":""},null,{"$f":"IF(K116>0,VLOOKUP(K116,Inputs,9,FALSE),\"\")","v":""},{"$f":"IF(P116>1,UPPER(VLOOKUP(P116,Inputs,7,FALSE))&\"  \",0)","v":0},null,{"$f":"IF(P116>0,IF(LEN(M119)>2,M119&VLOOKUP(P116,Inputs,8,FALSE),VLOOKUP(P116,Inputs,8,FALSE)),\"\")","v":""},null,{"$f":"IF(P116>0,VLOOKUP(P116,Inputs,9,FALSE),\"\")","v":""},{"$f":"IF(V116>1,UPPER(VLOOKUP(V116,Inputs,7,FALSE))&\"  \",0)","v":0},null,{"$f":"IF(V116>0,IF(LEN(R119)>2,R119&VLOOKUP(V116,Inputs,8,FALSE),VLOOKUP(V116,Inputs,8,FALSE)),\"\")","v":""},null,null,{"$f":"IF(V116>0,VLOOKUP(V116,Inputs,9,FALSE),\"\")","v":""},{"$f":"IF(AA116>1,UPPER(VLOOKUP(AA116,Inputs,7,FALSE))&\"  \",0)","v":"  "},null,{"$f":"IF(AA116>0,IF(LEN(X119)>2,X119&VLOOKUP(AA116,Inputs,8,FALSE),VLOOKUP(AA116,Inputs,8,FALSE)),\"\")","v":0},null,null,{"$f":"IF(AA116>0,VLOOKUP(AA116,Inputs,9,FALSE),\"\")","v":0},{"$f":"IF(AG116>1,UPPER(VLOOKUP(AG116,Inputs,7,FALSE))&\"  \",0)","v":"  "},null,{"$f":"IF(AG116>0,IF(LEN(AD119)>2,AD119&VLOOKUP(AG116,Inputs,8,FALSE),VLOOKUP(AG116,Inputs,8,FALSE)),\"\")","v":0},null,{"$f":"IF(AG116>0,VLOOKUP(AG116,Inputs,9,FALSE),\"\")","v":0},{"$f":"UPPER(VLOOKUP(AL116,Inputs,7,FALSE))&\"  \"","v":"  "},null,{"$f":"IF(LEN(AI119)>2,AI119&VLOOKUP(AL116,Inputs,8,FALSE),VLOOKUP(AL116,Inputs,8,FALSE))","v":0},null,{"$f":"VLOOKUP(AL116,Inputs,9,FALSE)","v":0},null,null,{"$f":"IF($A119=AP$5,$G119,0)+IF($H119=AP$5,$L119,0)+IF($M119=AP$5,$Q119,0)+IF($R119=AP$5,$W119,0)+IF($X119=AP$5,AC119,0)+IF($AD119=AP$5,AH119,0)+IF(AI119=AP$5,AM119,0)","v":0},0,0,0,0,0,0,0,0,0,0,0,0,0,null,"530-345-3280"]
[{"$f":"IF(F116>1,UPPER(VLOOKUP(F116,Inputs,10,FALSE))&\"  \",0)","v":0},null,null,null,{"$f":"IF(F116>0,IF(LEN(A120)>2,A120&VLOOKUP(F116,Inputs,11,FALSE),VLOOKUP(F116,Inputs,11,FALSE)),\"\")","v":""},null,{"$f":"IF(F116>0,VLOOKUP(F116,Inputs,12,FALSE),\"\")","v":""},{"$f":"IF(K116>1,UPPER(VLOOKUP(K116,Inputs,10,FALSE))&\"  \",0)","v":0},null,{"$f":"IF(K116>0,IF(LEN(H120)>0,H120&VLOOKUP(K116,Inputs,11,FALSE),VLOOKUP(K116,Inputs,11,FALSE)),\"\")","v":""},null,{"$f":"IF(K116>0,VLOOKUP(K116,Inputs,12,FALSE),\"\")","v":""},{"$f":"IF(P116>1,UPPER(VLOOKUP(P116,Inputs,10,FALSE))&\"  \",0)","v":0},null,{"$f":"IF(P116>0,IF(LEN(M120)>0,M120&VLOOKUP(P116,Inputs,11,FALSE),VLOOKUP(P116,Inputs,11,FALSE)),\"\")","v":""},null,{"$f":"IF(P116>0,VLOOKUP(P116,Inputs,12,FALSE),\"\")","v":""},{"$f":"IF(V116>1,UPPER(VLOOKUP(V116,Inputs,10,FALSE))&\"  \",0)","v":0},null,{"$f":"IF(V116>0,IF(LEN(R120)>0,R120&VLOOKUP(V116,Inputs,11,FALSE),VLOOKUP(V116,Inputs,11,FALSE)),\"\")","v":""},null,null,{"$f":"IF(V116>0,VLOOKUP(V116,Inputs,12,FALSE),\"\")","v":""},{"$f":"IF(AA116>1,UPPER(VLOOKUP(AA116,Inputs,10,FALSE))&\"  \",0)","v":"  "},null,{"$f":"IF(AA116>0,IF(LEN(X120)>0,X120&VLOOKUP(AA116,Inputs,11,FALSE),VLOOKUP(AA116,Inputs,11,FALSE)),\"\")","v":"  "},null,null,{"$f":"IF(AA116>0,VLOOKUP(AA116,Inputs,12,FALSE),\"\")","v":0},{"$f":"IF(AG116>1,UPPER(VLOOKUP(AG116,Inputs,10,FALSE))&\"  \",0)","v":"  "},null,{"$f":"IF(AG116>0,IF(LEN(AD120)>0,AD120&VLOOKUP(AG116,Inputs,11,FALSE),VLOOKUP(AG116,Inputs,11,FALSE)),\"\")","v":"  "},null,{"$f":"IF(AG116>0,VLOOKUP(AG116,Inputs,12,FALSE),\"\")","v":0},{"$f":"UPPER(VLOOKUP(AL116,Inputs,10,FALSE))&\"  \"","v":"  "},null,{"$f":"IF(LEN(AI120)>2,AI120&VLOOKUP(AL116,Inputs,11,FALSE),VLOOKUP(AL116,Inputs,11,FALSE))","v":0},null,{"$f":"VLOOKUP(AL116,Inputs,12,FALSE)","v":0},null,null,{"$f":"IF($A120=AP$5,$G120,0)+IF($H120=AP$5,$L120,0)+IF($M120=AP$5,$Q120,0)+IF($R120=AP$5,$W120,0)+IF($X120=AP$5,AC120,0)+IF($AD120=AP$5,AH120,0)+IF(AI120=AP$5,AM120,0)","v":0},0,0,0,0,0,0,0,0,0,0,0,0,0,null,"2540 Zanella Way, Suite 20"]
[{"$f":"IF(F116>1,UPPER(VLOOKUP(F116,Inputs,13,FALSE))&\"  \",0)","v":0},null,null,null,{"$f":"IF(F116>0,IF(LEN(A121)>2,A121&VLOOKUP(F116,Inputs,14,FALSE),VLOOKUP(F116,Inputs,14,FALSE)),\"\")","v":""},null,{"$f":"IF(F116>0,VLOOKUP(F116,Inputs,15,FALSE),\"\")","v":""},{"$f":"IF(K116>1,UPPER(VLOOKUP(K116,Inputs,13,FALSE))&\"  \",0)","v":0},null,{"$f":"IF(K116>0,IF(LEN(H121)>2,H121&VLOOKUP(K116,Inputs,14,FALSE),VLOOKUP(K116,Inputs,14,FALSE)),\"\")","v":""},null,{"$f":"IF(K116>0,VLOOKUP(K116,Inputs,15,FALSE),\"\")","v":""},{"$f":"IF(P116>1,UPPER(VLOOKUP(P116,Inputs,13,FALSE))&\"  \",0)","v":0},null,{"$f":"IF(P116>0,IF(LEN(M121)>2,M121&VLOOKUP(P116,Inputs,14,FALSE),VLOOKUP(P116,Inputs,14,FALSE)),\"\")","v":""},null,{"$f":"IF(P116>0,VLOOKUP(P116,Inputs,15,FALSE),\"\")","v":""},{"$f":"IF(V116>1,UPPER(VLOOKUP(V116,Inputs,13,FALSE))&\"  \",0)","v":0},null,{"$f":"IF(V116>0,IF(LEN(R121)>2,R121&VLOOKUP(V116,Inputs,14,FALSE),VLOOKUP(V116,Inputs,14,FALSE)),\"\")","v":""},null,null,{"$f":"IF(V116>0,VLOOKUP(V116,Inputs,15,FALSE),\"\")","v":""},{"$f":"IF(AA116>1,UPPER(VLOOKUP(AA116,Inputs,13,FALSE))&\"  \",0)","v":"  "},null,{"$f":"IF(AA116>0,IF(LEN(X121)>2,X121&VLOOKUP(AA116,Inputs,14,FALSE),VLOOKUP(AA116,Inputs,14,FALSE)),\"\")","v":0},null,null,{"$f":"IF(AA116>0,VLOOKUP(AA116,Inputs,15,FALSE),\"\")","v":0},{"$f":"IF(AG116>1,UPPER(VLOOKUP(AG116,Inputs,13,FALSE))&\"  \",0)","v":"  "},null,{"$f":"IF(AG116>0,IF(LEN(AD121)>2,AD121&VLOOKUP(AG116,Inputs,14,FALSE),VLOOKUP(AG116,Inputs,14,FALSE)),\"\")","v":0},null,{"$f":"IF(AG116>0,VLOOKUP(AG116,Inputs,15,FALSE),\"\")","v":0},{"$f":"UPPER(VLOOKUP(AL116,Inputs,13,FALSE))&\"  \"","v":"  "},null,{"$f":"IF(LEN(AI121)>2,AI121&VLOOKUP(AL116,Inputs,14,FALSE),VLOOKUP(AL116,Inputs,14,FALSE))","v":0},null,{"$f":"VLOOKUP(AL116,Inputs,15,FALSE)","v":0},null,null,{"$f":"IF($A121=AP$5,$G121,0)+IF($H121=AP$5,$L121,0)+IF($M121=AP$5,$Q121,0)+IF($R121=AP$5,$W121,0)+IF($X121=AP$5,AC121,0)+IF($AD121=AP$5,AH121,0)+IF(AI121=AP$5,AM121,0)","v":0},0,0,0,0,0,0,0,0,0,0,0,0,0,null,"    Chico, CA 95928"]
[null,null,null,null,null,{"$f":"IF(F116>0,IF(VLOOKUP(F116,Inputs,3,FALSE)=\"T\",\"Telemarketing\",0),\"\")","v":""},null,null,null,null,{"$f":"IF(F116>0,IF(VLOOKUP(F116,Inputs,3,FALSE)=\"T\",0,IF(VLOOKUP(K116,Inputs,3,FALSE)=\"T\",\"Telemarketing\",0)),IF(VLOOKUP(K116,Inputs,3,FALSE)=\"T\",\"Telemarketing\",0))","v":0},null,null,null,null,{"$f":"IF(K116>0,IF(VLOOKUP(K116,Inputs,3,FALSE)=\"T\",0,IF(VLOOKUP(P116,Inputs,3,FALSE)=\"T\",\"Telemarketing\",0)),IF(VLOOKUP(P116,Inputs,3,FALSE)=\"T\",\"Telemarketing\",0))","v":0},null,null,null,null,null,{"$f":"IF(P116>0,IF(VLOOKUP(P116,Inputs,3,FALSE)=\"T\",0,IF(VLOOKUP(V116,Inputs,3,FALSE)=\"T\",\"Telemarketing\",0)),IF(VLOOKUP(V116,Inputs,3,FALSE)=\"T\",\"Telemarketing\",0))","v":0},null,null,null,null,{"$f":"IF(V116>0,IF(VLOOKUP(V116,Inputs,3,FALSE)=\"T\",0,IF(VLOOKUP(AA116,Inputs,3,FALSE)=\"T\",\"Telemarketing\",0)),IF(VLOOKUP(AA116,Inputs,3,FALSE)=\"T\",\"Telemarketing\",0))","v":0},null,null,null,null,null,{"$f":"IF(AA116>0,IF(VLOOKUP(AA116,Inputs,3,FALSE)=\"T\",0,IF(VLOOKUP(AG116,Inputs,3,FALSE)=\"T\",\"Telemarketing\",0)),IF(VLOOKUP(AG116,Inputs,3,FALSE)=\"T\",\"Telemarketing\",0))","v":0},null,null,null,null,{"$f":"IF(AG116>0,IF(VLOOKUP(AG116,Inputs,3,FALSE)=\"T\",0,IF(VLOOKUP(AL116,Inputs,3,FALSE)=\"T\",\"Telemarketing\",0)),IF(VLOOKUP(AL116,Inputs,3,FALSE)=\"T\",\"Telemarketing\",0))","v":0}]
[null,null,null,null,null,{"$f":"1+AL116","v":"2018-03-04"},null,null,null,null,{"$f":"1+F123","v":"2018-03-05"},null,null,null,null,{"$f":"1+K123","v":"2018-03-06"},null,null,null,null,null,{"$f":"1+P123","v":"2018-03-07"},null,null,null,null,{"$f":"1+V123","v":"2018-03-08"},null,null,null,null,null,{"$f":"1+AA123","v":"2018-03-09"},null,null,null,null,{"$f":"1+AG123","v":"2018-03-10"}]
[null,null,null,null,{"$f":"DAY(F123)","v":4},{"$f":"IF(F123>0,VLOOKUP(F123,Holidays,2),0)","v":0},null,null,null,{"$f":"DAY(K123)","v":5},{"$f":"IF(K123>0,VLOOKUP(K123,Holidays,2),0)","v":0},null,null,null,{"$f":"DAY(P123)","v":6},{"$f":"IF(P123>0,VLOOKUP(P123,Holidays,2),0)","v":0},null,null,null,{"$f":"DAY(V123)","v":7},{"$f":"IF(V123>0,VLOOKUP(V123,Holidays,2),0)","v":0},null,null,null,null,{"$f":"DAY(AA123)","v":8},{"$f":"IF(AA123>0,VLOOKUP(AA123,Holidays,2),0)","v":0},null,null,null,null,{"$f":"DAY(AG123)","v":9},{"$f":"IF(AG123>0,VLOOKUP(AG123,Holidays,2),0)","v":0},null,null,null,{"$f":"DAY(AL123)","v":10},{"$f":"IF(AL123>0,VLOOKUP(AL123,Holidays,2),0)","v":0}]
[{"$f":"UPPER(VLOOKUP(F123,Inputs,4,FALSE))&\"  \"","v":"  "},null,null,null,{"$f":"IF(LEN(A125)>2,A125&VLOOKUP(F123,Inputs,5,FALSE),VLOOKUP(F123,Inputs,5,FALSE))","v":0},null,{"$f":"IF(F123>0,VLOOKUP(F123,Inputs,6,FALSE),\"\")","v":0},{"$f":"UPPER(VLOOKUP(K123,Inputs,4,FALSE))&\"  \"","v":"  "},null,{"$f":"IF(LEN(H125)>2,H125&VLOOKUP(K123,Inputs,5,FALSE),VLOOKUP(K123,Inputs,5,FALSE))","v":0},null,{"$f":"IF(K123>0,VLOOKUP(K123,Inputs,6,FALSE),\"\")","v":0},{"$f":"UPPER(VLOOKUP(P123,Inputs,4,FALSE))&\"  \"","v":"  "},null,{"$f":"IF(LEN(M125)>2,M125&VLOOKUP(P123,Inputs,5,FALSE),VLOOKUP(P123,Inputs,5,FALSE))","v":0},null,{"$f":"IF(P123>0,VLOOKUP(P123,Inputs,6,FALSE),\"\")","v":0},{"$f":"UPPER(VLOOKUP(V123,Inputs,4,FALSE))&\"  \"","v":"  "},null,{"$f":"IF(LEN(R125)>2,R125&VLOOKUP(V123,Inputs,5,FALSE),VLOOKUP(V123,Inputs,5,FALSE))","v":0},null,null,{"$f":"IF(V123>0,VLOOKUP(V123,Inputs,6,FALSE),\"\")","v":0},{"$f":"UPPER(VLOOKUP(AA123,Inputs,4,FALSE))&\"  \"","v":"  "},null,{"$f":"IF(LEN(X125)>2,X125&VLOOKUP(AA123,Inputs,5,FALSE),VLOOKUP(AA123,Inputs,5,FALSE))","v":0},null,null,{"$f":"IF(AA123>0,VLOOKUP(AA123,Inputs,6,FALSE),\"\")","v":0},{"$f":"UPPER(VLOOKUP(AG123,Inputs,4,FALSE))&\"  \"","v":"  "},null,{"$f":"IF(LEN(AD125)>2,AD125&VLOOKUP(AG123,Inputs,5,FALSE),VLOOKUP(AG123,Inputs,5,FALSE))","v":0},null,{"$f":"IF(AG123>0,VLOOKUP(AG123,Inputs,6,FALSE),\"\")","v":0},{"$f":"UPPER(VLOOKUP(AL123,Inputs,4,FALSE))&\"  \"","v":"  "},null,{"$f":"IF(LEN(AI125)>2,AI125&VLOOKUP(AL123,Inputs,5,FALSE),VLOOKUP(AL123,Inputs,5,FALSE))","v":0},null,{"$f":"IF(AL123>0,VLOOKUP(AL123,Inputs,6,FALSE),\"\")","v":0},null,null,{"$f":"IF($A125=AP$5,$G125,0)+IF($H125=AP$5,$L125,0)+IF($M125=AP$5,$Q125,0)+IF($R125=AP$5,$W125,0)+IF($X125=AP$5,AC125,0)+IF($AD125=AP$5,AH125,0)+IF(AI125=AP$5,AM125,0)","v":0},{"$f":"IF($A125=AQ$5,$G125,0)+IF($H125=AQ$5,$L125,0)+IF($M125=AQ$5,$Q125,0)+IF($R125=AQ$5,$W125,0)+IF($X125=AQ$5,$AC125,0)+IF($AD125=AQ$5,$AH125,0)+IF($AI125=AQ$5,$AM125,0)","v":0},0,0,0,0,0,0,0,0,0,0,0,0,null,"      TheBedrock.com"]
[{"$f":"UPPER(VLOOKUP(F123,Inputs,7,FALSE))&\"  \"","v":"  "},null,null,null,{"$f":"IF(LEN(A126)>2,A126&VLOOKUP(F123,Inputs,8,FALSE),VLOOKUP(F123,Inputs,8,FALSE))","v":0},null,{"$f":"IF(F123>0,VLOOKUP(F123,Inputs,9,FALSE),\"\")","v":0},{"$f":"UPPER(VLOOKUP(K123,Inputs,7,FALSE))&\"  \"","v":"  "},null,{"$f":"IF(LEN(H126)>2,H126&VLOOKUP(K123,Inputs,8,FALSE),VLOOKUP(K123,Inputs,8,FALSE))","v":0},null,{"$f":"IF(K123>0,VLOOKUP(K123,Inputs,9,FALSE),\"\")","v":0},{"$f":"UPPER(VLOOKUP(P123,Inputs,7,FALSE))&\"  \"","v":"  "},null,{"$f":"IF(LEN(M126)>2,M126&VLOOKUP(P123,Inputs,8,FALSE),VLOOKUP(P123,Inputs,8,FALSE))","v":0},null,{"$f":"IF(P123>0,VLOOKUP(P123,Inputs,9,FALSE),\"\")","v":0},{"$f":"UPPER(VLOOKUP(V123,Inputs,7,FALSE))&\"  \"","v":"  "},null,{"$f":"IF(LEN(R126)>2,R126&VLOOKUP(V123,Inputs,8,FALSE),VLOOKUP(V123,Inputs,8,FALSE))","v":0},null,null,{"$f":"IF(V123>0,VLOOKUP(V123,Inputs,9,FALSE),\"\")","v":0},{"$f":"UPPER(VLOOKUP(AA123,Inputs,7,FALSE))&\"  \"","v":"  "},null,{"$f":"IF(LEN(X126)>2,X126&VLOOKUP(AA123,Inputs,8,FALSE),VLOOKUP(AA123,Inputs,8,FALSE))","v":0},null,null,{"$f":"IF(AA123>0,VLOOKUP(AA123,Inputs,9,FALSE),\"\")","v":0},{"$f":"UPPER(VLOOKUP(AG123,Inputs,7,FALSE))&\"  \"","v":"  "},null,{"$f":"IF(LEN(AD126)>2,AD126&VLOOKUP(AG123,Inputs,8,FALSE),VLOOKUP(AG123,Inputs,8,FALSE))","v":0},null,{"$f":"IF(AG123>0,VLOOKUP(AG123,Inputs,9,FALSE),\"\")","v":0},{"$f":"UPPER(VLOOKUP(AL123,Inputs,7,FALSE))&\"  \"","v":"  "},null,{"$f":"IF(LEN(AI126)>2,AI126&VLOOKUP(AL123,Inputs,8,FALSE),VLOOKUP(AL123,Inputs,8,FALSE))","v":0},null,{"$f":"IF(AL123>0,VLOOKUP(AL123,Inputs,9,FALSE),\"\")","v":0},null,null,{"$f":"IF($A126=AP$5,$G126,0)+IF($H126=AP$5,$L126,0)+IF($M126=AP$5,$Q126,0)+IF($R126=AP$5,$W126,0)+IF($X126=AP$5,AC126,0)+IF($AD126=AP$5,AH126,0)+IF(AI126=AP$5,AM126,0)","v":0},0,0,0,0,0,0,0,0,0,0,0,0,0]
[{"$f":"UPPER(VLOOKUP(F123,Inputs,10,FALSE))&\"  \"","v":"  "},null,null,null,{"$f":"IF(LEN(A127)>2,A127&VLOOKUP(F123,Inputs,11,FALSE),VLOOKUP(F123,Inputs,11,FALSE))","v":0},null,{"$f":"IF(F123>0,VLOOKUP(F123,Inputs,12,FALSE),\"\")","v":0},{"$f":"UPPER(VLOOKUP(K123,Inputs,10,FALSE))&\"  \"","v":"  "},null,{"$f":"IF(LEN(H127)>2,H127&VLOOKUP(K123,Inputs,11,FALSE),VLOOKUP(K123,Inputs,11,FALSE))","v":0},null,{"$f":"IF(K123>0,VLOOKUP(K123,Inputs,12,FALSE),\"\")","v":0},{"$f":"UPPER(VLOOKUP(P123,Inputs,10,FALSE))&\"  \"","v":"  "},null,{"$f":"IF(LEN(M127)>2,M127&VLOOKUP(P123,Inputs,11,FALSE),VLOOKUP(P123,Inputs,11,FALSE))","v":0},null,{"$f":"IF(P123>0,VLOOKUP(P123,Inputs,12,FALSE),\"\")","v":0},{"$f":"UPPER(VLOOKUP(V123,Inputs,10,FALSE))&\"  \"","v":"  "},null,{"$f":"IF(LEN(R127)>2,R127&VLOOKUP(V123,Inputs,11,FALSE),VLOOKUP(V123,Inputs,11,FALSE))","v":0},null,null,{"$f":"IF(V123>0,VLOOKUP(V123,Inputs,12,FALSE),\"\")","v":0},{"$f":"UPPER(VLOOKUP(AA123,Inputs,10,FALSE))&\"  \"","v":"  "},null,{"$f":"IF(LEN(X127)>2,X127&VLOOKUP(AA123,Inputs,11,FALSE),VLOOKUP(AA123,Inputs,11,FALSE))","v":0},null,null,{"$f":"IF(AA123>0,VLOOKUP(AA123,Inputs,12,FALSE),\"\")","v":0},{"$f":"UPPER(VLOOKUP(AG123,Inputs,10,FALSE))&\"  \"","v":"  "},null,{"$f":"IF(LEN(AD127)>2,AD127&VLOOKUP(AG123,Inputs,11,FALSE),VLOOKUP(AG123,Inputs,11,FALSE))","v":0},null,{"$f":"IF(AG123>0,VLOOKUP(AG123,Inputs,12,FALSE),\"\")","v":0},{"$f":"UPPER(VLOOKUP(AL123,Inputs,10,FALSE))&\"  \"","v":"  "},null,{"$f":"IF(LEN(AI127)>2,AI127&VLOOKUP(AL123,Inputs,11,FALSE),VLOOKUP(AL123,Inputs,11,FALSE))","v":0},null,{"$f":"IF(AL123>0,VLOOKUP(AL123,Inputs,12,FALSE),\"\")","v":0},null,null,{"$f":"IF($A127=AP$5,$G127,0)+IF($H127=AP$5,$L127,0)+IF($M127=AP$5,$Q127,0)+IF($R127=AP$5,$W127,0)+IF($X127=AP$5,AC127,0)+IF($AD127=AP$5,AH127,0)+IF(AI127=AP$5,AM127,0)","v":0},0,0,0,0,0,0,0,0,0,0,0,0,0]
[{"$f":"UPPER(VLOOKUP(F123,Inputs,13,FALSE))&\"  \"","v":"  "},null,null,null,{"$f":"IF(LEN(A128)>2,A128&VLOOKUP(F123,Inputs,14,FALSE),VLOOKUP(F123,Inputs,14,FALSE))","v":0},null,{"$f":"IF(F123>0,VLOOKUP(F123,Inputs,15,FALSE),\"\")","v":0},{"$f":"UPPER(VLOOKUP(K123,Inputs,13,FALSE))&\"  \"","v":"  "},null,{"$f":"IF(LEN(H128)>2,H128&VLOOKUP(K123,Inputs,14,FALSE),VLOOKUP(K123,Inputs,14,FALSE))","v":0},null,{"$f":"IF(K123>0,VLOOKUP(K123,Inputs,15,FALSE),\"\")","v":0},{"$f":"UPPER(VLOOKUP(P123,Inputs,13,FALSE))&\"  \"","v":"  "},null,{"$f":"IF(LEN(M128)>2,M128&VLOOKUP(P123,Inputs,14,FALSE),VLOOKUP(P123,Inputs,14,FALSE))","v":0},null,{"$f":"IF(P123>0,VLOOKUP(P123,Inputs,15,FALSE),\"\")","v":0},{"$f":"UPPER(VLOOKUP(V123,Inputs,13,FALSE))&\"  \"","v":"  "},null,{"$f":"IF(LEN(R128)>2,R128&VLOOKUP(V123,Inputs,14,FALSE),VLOOKUP(V123,Inputs,14,FALSE))","v":0},null,null,{"$f":"IF(V123>0,VLOOKUP(V123,Inputs,15,FALSE),\"\")","v":0},{"$f":"UPPER(VLOOKUP(AA123,Inputs,13,FALSE))&\"  \"","v":"  "},null,{"$f":"IF(LEN(X128)>2,X128&VLOOKUP(AA123,Inputs,14,FALSE),VLOOKUP(AA123,Inputs,14,FALSE))","v":0},null,null,{"$f":"IF(AA123>0,VLOOKUP(AA123,Inputs,15,FALSE),\"\")","v":0},{"$f":"UPPER(VLOOKUP(AG123,Inputs,13,FALSE))&\"  \"","v":"  "},null,{"$f":"IF(LEN(AD128)>2,AD128&VLOOKUP(AG123,Inputs,14,FALSE),VLOOKUP(AG123,Inputs,14,FALSE))","v":0},null,{"$f":"IF(AG123>0,VLOOKUP(AG123,Inputs,15,FALSE),\"\")","v":0},{"$f":"UPPER(VLOOKUP(AL123,Inputs,13,FALSE))&\"  \"","v":"  "},null,{"$f":"IF(LEN(AI128)>2,AI128&VLOOKUP(AL123,Inputs,14,FALSE),VLOOKUP(AL123,Inputs,14,FALSE))","v":0},null,{"$f":"IF(AL123>0,VLOOKUP(AL123,Inputs,15,FALSE),\"\")","v":0},null,null,{"$f":"IF($A128=AP$5,$G128,0)+IF($H128=AP$5,$L128,0)+IF($M128=AP$5,$Q128,0)+IF($R128=AP$5,$W128,0)+IF($X128=AP$5,AC128,0)+IF($AD128=AP$5,AH128,0)+IF(AI128=AP$5,AM128,0)","v":0},0,0,0,0,0,0,0,0,0,0,0,0,0]
[null,null,null,null,null,{"$f":"IF(F123>0,IF(VLOOKUP(F123,Inputs,3,FALSE)=\"T\",\"Telemarketing\",0),\"\")","v":0},null,null,null,null,{"$f":"IF(VLOOKUP(K123-1,Inputs,3,FALSE)=\"T\",0,IF(VLOOKUP(K123,Inputs,3,FALSE)=\"T\",\"Telemarketing\",0))","v":0},null,null,null,null,{"$f":"IF(VLOOKUP(P123-1,Inputs,3,FALSE)=\"T\",0,IF(VLOOKUP(P123,Inputs,3,FALSE)=\"T\",\"Telemarketing\",0))","v":0},null,null,null,null,null,{"$f":"IF(VLOOKUP(V123-1,Inputs,3,FALSE)=\"T\",0,IF(VLOOKUP(V123,Inputs,3,FALSE)=\"T\",\"Telemarketing\",0))","v":0},null,null,null,null,{"$f":"IF(VLOOKUP(AA123-1,Inputs,3,FALSE)=\"T\",0,IF(VLOOKUP(AA123,Inputs,3,FALSE)=\"T\",\"Telemarketing\",0))","v":0},null,null,null,null,null,{"$f":"IF(VLOOKUP(AG123-1,Inputs,3,FALSE)=\"T\",0,IF(VLOOKUP(AG123,Inputs,3,FALSE)=\"T\",\"Telemarketing\",0))","v":0},null,null,null,null,{"$f":"IF(VLOOKUP(AL123-1,Inputs,3,FALSE)=\"T\",0,IF(VLOOKUP(AL123,Inputs,3,FALSE)=\"T\",\"Telemarketing\",0))","v":0}]
[null,null,null,null,null,{"$f":"1+AL123","v":"2018-03-11"},null,null,null,null,{"$f":"1+F130","v":"2018-03-12"},null,null,null,null,{"$f":"1+K130","v":"2018-03-13"},null,null,null,null,null,{"$f":"1+P130","v":"2018-03-14"},null,null,null,null,{"$f":"1+V130","v":"2018-03-15"},null,null,null,null,null,{"$f":"1+AA130","v":"2018-03-16"},null,null,null,null,{"$f":"1+AG130","v":"2018-03-17"}]
[null,null,null,null,{"$f":"DAY(F130)","v":11},{"$f":"IF(F130>0,VLOOKUP(F130,Holidays,2),0)","v":0},null,null,null,{"$f":"DAY(K130)","v":12},{"$f":"IF(K130>0,VLOOKUP(K130,Holidays,2),0)","v":0},null,null,null,{"$f":"DAY(P130)","v":13},{"$f":"IF(P130>0,VLOOKUP(P130,Holidays,2),0)","v":0},null,null,null,{"$f":"DAY(V130)","v":14},{"$f":"IF(V130>0,VLOOKUP(V130,Holidays,2),0)","v":0},null,null,null,null,{"$f":"DAY(AA130)","v":15},{"$f":"IF(AA130>0,VLOOKUP(AA130,Holidays,2),0)","v":0},null,null,null,null,{"$f":"DAY(AG130)","v":16},{"$f":"IF(AG130>0,VLOOKUP(AG130,Holidays,2),0)","v":0},null,null,null,{"$f":"DAY(AL130)","v":17},{"$f":"IF(AL130>0,VLOOKUP(AL130,Holidays,2),0)","v":0}]
[{"$f":"UPPER(VLOOKUP(F130,Inputs,4,FALSE))&\"  \"","v":"  "},null,null,null,{"$f":"IF(LEN(A132)>2,A132&VLOOKUP(F130,Inputs,5,FALSE),VLOOKUP(F130,Inputs,5,FALSE))","v":0},null,{"$f":"IF(F130>0,VLOOKUP(F130,Inputs,6,FALSE),\"\")","v":0},{"$f":"UPPER(VLOOKUP(K130,Inputs,4,FALSE))&\"  \"","v":"  "},null,{"$f":"IF(LEN(H132)>2,H132&VLOOKUP(K130,Inputs,5,FALSE),VLOOKUP(K130,Inputs,5,FALSE))","v":0},null,{"$f":"IF(K130>0,VLOOKUP(K130,Inputs,6,FALSE),\"\")","v":0},{"$f":"UPPER(VLOOKUP(P130,Inputs,4,FALSE))&\"  \"","v":"  "},null,{"$f":"IF(LEN(M132)>2,M132&VLOOKUP(P130,Inputs,5,FALSE),VLOOKUP(P130,Inputs,5,FALSE))","v":0},null,{"$f":"IF(P130>0,VLOOKUP(P130,Inputs,6,FALSE),\"\")","v":0},{"$f":"UPPER(VLOOKUP(V130,Inputs,4,FALSE))&\"  \"","v":"  "},null,{"$f":"IF(LEN(R132)>2,R132&VLOOKUP(V130,Inputs,5,FALSE),VLOOKUP(V130,Inputs,5,FALSE))","v":0},null,null,{"$f":"IF(V130>0,VLOOKUP(V130,Inputs,6,FALSE),\"\")","v":0},{"$f":"UPPER(VLOOKUP(AA130,Inputs,4,FALSE))&\"  \"","v":"  "},null,{"$f":"IF(LEN(X132)>2,X132&VLOOKUP(AA130,Inputs,5,FALSE),VLOOKUP(AA130,Inputs,5,FALSE))","v":0},null,null,{"$f":"IF(AA130>0,VLOOKUP(AA130,Inputs,6,FALSE),\"\")","v":0},{"$f":"UPPER(VLOOKUP(AG130,Inputs,4,FALSE))&\"  \"","v":"  "},null,{"$f":"IF(LEN(AD132)>2,AD132&VLOOKUP(AG130,Inputs,5,FALSE),VLOOKUP(AG130,Inputs,5,FALSE))","v":0},null,{"$f":"IF(AG130>0,VLOOKUP(AG130,Inputs,6,FALSE),\"\")","v":0},{"$f":"UPPER(VLOOKUP(AL130,Inputs,4,FALSE))&\"  \"","v":"  "},null,{"$f":"IF(LEN(AI132)>2,AI132&VLOOKUP(AL130,Inputs,5,FALSE),VLOOKUP(AL130,Inputs,5,FALSE))","v":0},null,{"$f":"IF(AL130>0,VLOOKUP(AL130,Inputs,6,FALSE),\"\")","v":0},null,null,{"$f":"IF($A132=AP$5,$G132,0)+IF($H132=AP$5,$L132,0)+IF($M132=AP$5,$Q132,0)+IF($R132=AP$5,$W132,0)+IF($X132=AP$5,AC132,0)+IF($AD132=AP$5,AH132,0)+IF(AI132=AP$5,AM132,0)","v":0},{"$f":"IF($A132=AQ$5,$G132,0)+IF($H132=AQ$5,$L132,0)+IF($M132=AQ$5,$Q132,0)+IF($R132=AQ$5,$W132,0)+IF($X132=AQ$5,$AC132,0)+IF($AD132=AQ$5,$AH132,0)+IF($AI132=AQ$5,$AM132,0)","v":0},0,0,0,0,0,0,0,0,0,0,0,0]
[{"$f":"UPPER(VLOOKUP(F130,Inputs,7,FALSE))&\"  \"","v":"  "},null,null,null,{"$f":"IF(LEN(A133)>2,A133&VLOOKUP(F130,Inputs,8,FALSE),VLOOKUP(F130,Inputs,8,FALSE))","v":0},null,{"$f":"IF(F130>0,VLOOKUP(F130,Inputs,9,FALSE),\"\")","v":0},{"$f":"UPPER(VLOOKUP(K130,Inputs,7,FALSE))&\"  \"","v":"  "},null,{"$f":"IF(LEN(H133)>2,H133&VLOOKUP(K130,Inputs,8,FALSE),VLOOKUP(K130,Inputs,8,FALSE))","v":0},null,{"$f":"IF(K130>0,VLOOKUP(K130,Inputs,9,FALSE),\"\")","v":0},{"$f":"UPPER(VLOOKUP(P130,Inputs,7,FALSE))&\"  \"","v":"  "},null,{"$f":"IF(LEN(M133)>2,M133&VLOOKUP(P130,Inputs,8,FALSE),VLOOKUP(P130,Inputs,8,FALSE))","v":0},null,{"$f":"IF(P130>0,VLOOKUP(P130,Inputs,9,FALSE),\"\")","v":0},{"$f":"UPPER(VLOOKUP(V130,Inputs,7,FALSE))&\"  \"","v":"  "},null,{"$f":"IF(LEN(R133)>2,R133&VLOOKUP(V130,Inputs,8,FALSE),VLOOKUP(V130,Inputs,8,FALSE))","v":0},null,null,{"$f":"IF(V130>0,VLOOKUP(V130,Inputs,9,FALSE),\"\")","v":0},{"$f":"UPPER(VLOOKUP(AA130,Inputs,7,FALSE))&\"  \"","v":"  "},null,{"$f":"IF(LEN(X133)>2,X133&VLOOKUP(AA130,Inputs,8,FALSE),VLOOKUP(AA130,Inputs,8,FALSE))","v":0},null,null,{"$f":"IF(AA130>0,VLOOKUP(AA130,Inputs,9,FALSE),\"\")","v":0},{"$f":"UPPER(VLOOKUP(AG130,Inputs,7,FALSE))&\"  \"","v":"  "},null,{"$f":"IF(LEN(AD133)>2,AD133&VLOOKUP(AG130,Inputs,8,FALSE),VLOOKUP(AG130,Inputs,8,FALSE))","v":0},null,{"$f":"IF(AG130>0,VLOOKUP(AG130,Inputs,9,FALSE),\"\")","v":0},{"$f":"UPPER(VLOOKUP(AL130,Inputs,7,FALSE))&\"  \"","v":"  "},null,{"$f":"IF(LEN(AI133)>2,AI133&VLOOKUP(AL130,Inputs,8,FALSE),VLOOKUP(AL130,Inputs,8,FALSE))","v":0},null,{"$f":"IF(AL130>0,VLOOKUP(AL130,Inputs,9,FALSE),\"\")","v":0},null,null,{"$f":"IF($A133=AP$5,$G133,0)+IF($H133=AP$5,$L133,0)+IF($M133=AP$5,$Q133,0)+IF($R133=AP$5,$W133,0)+IF($X133=AP$5,AC133,0)+IF($AD133=AP$5,AH133,0)+IF(AI133=AP$5,AM133,0)","v":0},0,0,0,0,0,0,0,0,0,0,0,0,0]
[{"$f":"UPPER(VLOOKUP(F130,Inputs,10,FALSE))&\"  \"","v":"  "},null,null,null,{"$f":"IF(LEN(A134)>2,A134&VLOOKUP(F130,Inputs,11,FALSE),VLOOKUP(F130,Inputs,11,FALSE))","v":0},null,{"$f":"IF(F130>0,VLOOKUP(F130,Inputs,12,FALSE),\"\")","v":0},{"$f":"UPPER(VLOOKUP(K130,Inputs,10,FALSE))&\"  \"","v":"  "},null,{"$f":"IF(LEN(H134)>2,H134&VLOOKUP(K130,Inputs,11,FALSE),VLOOKUP(K130,Inputs,11,FALSE))","v":0},null,{"$f":"IF(K130>0,VLOOKUP(K130,Inputs,12,FALSE),\"\")","v":0},{"$f":"UPPER(VLOOKUP(P130,Inputs,10,FALSE))&\"  \"","v":"  "},null,{"$f":"IF(LEN(M134)>2,M134&VLOOKUP(P130,Inputs,11,FALSE),VLOOKUP(P130,Inputs,11,FALSE))","v":0},null,{"$f":"IF(P130>0,VLOOKUP(P130,Inputs,12,FALSE),\"\")","v":0},{"$f":"UPPER(VLOOKUP(V130,Inputs,10,FALSE))&\"  \"","v":"  "},null,{"$f":"IF(LEN(R134)>2,R134&VLOOKUP(V130,Inputs,11,FALSE),VLOOKUP(V130,Inputs,11,FALSE))","v":0},null,null,{"$f":"IF(V130>0,VLOOKUP(V130,Inputs,12,FALSE),\"\")","v":0},{"$f":"UPPER(VLOOKUP(AA130,Inputs,10,FALSE))&\"  \"","v":"  "},null,{"$f":"IF(LEN(X134)>2,X134&VLOOKUP(AA130,Inputs,11,FALSE),VLOOKUP(AA130,Inputs,11,FALSE))","v":0},null,null,{"$f":"IF(AA130>0,VLOOKUP(AA130,Inputs,12,FALSE),\"\")","v":0},{"$f":"UPPER(VLOOKUP(AG130,Inputs,10,FALSE))&\"  \"","v":"  "},null,{"$f":"IF(LEN(AD134)>2,AD134&VLOOKUP(AG130,Inputs,11,FALSE),VLOOKUP(AG130,Inputs,11,FALSE))","v":0},null,{"$f":"IF(AG130>0,VLOOKUP(AG130,Inputs,12,FALSE),\"\")","v":0},{"$f":"UPPER(VLOOKUP(AL130,Inputs,10,FALSE))&\"  \"","v":"  "},null,{"$f":"IF(LEN(AI134)>2,AI134&VLOOKUP(AL130,Inputs,11,FALSE),VLOOKUP(AL130,Inputs,11,FALSE))","v":0},null,{"$f":"IF(AL130>0,VLOOKUP(AL130,Inputs,12,FALSE),\"\")","v":0},null,null,{"$f":"IF($A134=AP$5,$G134,0)+IF($H134=AP$5,$L134,0)+IF($M134=AP$5,$Q134,0)+IF($R134=AP$5,$W134,0)+IF($X134=AP$5,AC134,0)+IF($AD134=AP$5,AH134,0)+IF(AI134=AP$5,AM134,0)","v":0},0,0,0,0,0,0,0,0,0,0,0,0,0]
[{"$f":"UPPER(VLOOKUP(F130,Inputs,13,FALSE))&\"  \"","v":"  "},null,null,null,{"$f":"IF(LEN(A135)>2,A135&VLOOKUP(F130,Inputs,14,FALSE),VLOOKUP(F130,Inputs,14,FALSE))","v":0},null,{"$f":"IF(F130>0,VLOOKUP(F130,Inputs,15,FALSE),\"\")","v":0},{"$f":"UPPER(VLOOKUP(K130,Inputs,13,FALSE))&\"  \"","v":"  "},null,{"$f":"IF(LEN(H135)>2,H135&VLOOKUP(K130,Inputs,14,FALSE),VLOOKUP(K130,Inputs,14,FALSE))","v":0},null,{"$f":"IF(K130>0,VLOOKUP(K130,Inputs,15,FALSE),\"\")","v":0},{"$f":"UPPER(VLOOKUP(P130,Inputs,13,FALSE))&\"  \"","v":"  "},null,{"$f":"IF(LEN(M135)>2,M135&VLOOKUP(P130,Inputs,14,FALSE),VLOOKUP(P130,Inputs,14,FALSE))","v":0},null,{"$f":"IF(P130>0,VLOOKUP(P130,Inputs,15,FALSE),\"\")","v":0},{"$f":"UPPER(VLOOKUP(V130,Inputs,13,FALSE))&\"  \"","v":"  "},null,{"$f":"IF(LEN(R135)>2,R135&VLOOKUP(V130,Inputs,14,FALSE),VLOOKUP(V130,Inputs,14,FALSE))","v":0},null,null,{"$f":"IF(V130>0,VLOOKUP(V130,Inputs,15,FALSE),\"\")","v":0},{"$f":"UPPER(VLOOKUP(AA130,Inputs,13,FALSE))&\"  \"","v":"  "},null,{"$f":"IF(LEN(X135)>2,X135&VLOOKUP(AA130,Inputs,14,FALSE),VLOOKUP(AA130,Inputs,14,FALSE))","v":0},null,null,{"$f":"IF(AA130>0,VLOOKUP(AA130,Inputs,15,FALSE),\"\")","v":0},{"$f":"UPPER(VLOOKUP(AG130,Inputs,13,FALSE))&\"  \"","v":"  "},null,{"$f":"IF(LEN(AD135)>2,AD135&VLOOKUP(AG130,Inputs,14,FALSE),VLOOKUP(AG130,Inputs,14,FALSE))","v":0},null,{"$f":"IF(AG130>0,VLOOKUP(AG130,Inputs,15,FALSE),\"\")","v":0},{"$f":"UPPER(VLOOKUP(AL130,Inputs,13,FALSE))&\"  \"","v":"  "},null,{"$f":"IF(LEN(AI135)>2,AI135&VLOOKUP(AL130,Inputs,14,FALSE),VLOOKUP(AL130,Inputs,14,FALSE))","v":0},null,{"$f":"IF(AL130>0,VLOOKUP(AL130,Inputs,15,FALSE),\"\")","v":0},null,null,{"$f":"IF($A135=AP$5,$G135,0)+IF($H135=AP$5,$L135,0)+IF($M135=AP$5,$Q135,0)+IF($R135=AP$5,$W135,0)+IF($X135=AP$5,AC135,0)+IF($AD135=AP$5,AH135,0)+IF(AI135=AP$5,AM135,0)","v":0},0,0,0,0,0,0,0,0,0,0,0,0,0]
[null,null,null,null,null,{"$f":"IF(F130>0,IF(VLOOKUP(F130,Inputs,3,FALSE)=\"T\",\"Telemarketing\",0),\"\")","v":0},null,null,null,null,{"$f":"IF(VLOOKUP(K130-1,Inputs,3,FALSE)=\"T\",0,IF(VLOOKUP(K130,Inputs,3,FALSE)=\"T\",\"Telemarketing\",0))","v":0},null,null,null,null,{"$f":"IF(VLOOKUP(P130-1,Inputs,3,FALSE)=\"T\",0,IF(VLOOKUP(P130,Inputs,3,FALSE)=\"T\",\"Telemarketing\",0))","v":0},null,null,null,null,null,{"$f":"IF(VLOOKUP(V130-1,Inputs,3,FALSE)=\"T\",0,IF(VLOOKUP(V130,Inputs,3,FALSE)=\"T\",\"Telemarketing\",0))","v":0},null,null,null,null,{"$f":"IF(VLOOKUP(AA130-1,Inputs,3,FALSE)=\"T\",0,IF(VLOOKUP(AA130,Inputs,3,FALSE)=\"T\",\"Telemarketing\",0))","v":0},null,null,null,null,null,{"$f":"IF(VLOOKUP(AG130-1,Inputs,3,FALSE)=\"T\",0,IF(VLOOKUP(AG130,Inputs,3,FALSE)=\"T\",\"Telemarketing\",0))","v":0},null,null,null,null,{"$f":"IF(VLOOKUP(AL130-1,Inputs,3,FALSE)=\"T\",0,IF(VLOOKUP(AL130,Inputs,3,FALSE)=\"T\",\"Telemarketing\",0))","v":0}]
[null,null,null,null,null,{"$f":"1+AL130","v":"2018-03-18"},null,null,null,null,{"$f":"1+F137","v":"2018-03-19"},null,null,null,null,{"$f":"1+K137","v":"2018-03-20"},null,null,null,null,null,{"$f":"1+P137","v":"2018-03-21"},null,null,null,null,{"$f":"1+V137","v":"2018-03-22"},null,null,null,null,null,{"$f":"1+AA137","v":"2018-03-23"},null,null,null,null,{"$f":"1+AG137","v":"2018-03-24"}]
[null,null,null,null,{"$f":"DAY(F137)","v":18},{"$f":"IF(F137>0,VLOOKUP(F137,Holidays,2),0)","v":0},null,null,null,{"$f":"DAY(K137)","v":19},{"$f":"IF(K137>0,VLOOKUP(K137,Holidays,2),0)","v":0},null,null,null,{"$f":"DAY(P137)","v":20},{"$f":"IF(P137>0,VLOOKUP(P137,Holidays,2),0)","v":0},null,null,null,{"$f":"DAY(V137)","v":21},{"$f":"IF(V137>0,VLOOKUP(V137,Holidays,2),0)","v":0},null,null,null,null,{"$f":"DAY(AA137)","v":22},{"$f":"IF(AA137>0,VLOOKUP(AA137,Holidays,2),0)","v":0},null,null,null,null,{"$f":"DAY(AG137)","v":23},{"$f":"IF(AG137>0,VLOOKUP(AG137,Holidays,2),0)","v":0},null,null,null,{"$f":"DAY(AL137)","v":24},{"$f":"IF(AL137>0,VLOOKUP(AL137,Holidays,2),0)","v":0}]
[{"$f":"UPPER(VLOOKUP(F137,Inputs,4,FALSE))&\"  \"","v":"  "},null,null,null,{"$f":"IF(LEN(A139)>2,A139&VLOOKUP(F137,Inputs,5,FALSE),VLOOKUP(F137,Inputs,5,FALSE))","v":0},null,{"$f":"IF(F137>0,VLOOKUP(F137,Inputs,6,FALSE),\"\")","v":0},{"$f":"UPPER(VLOOKUP(K137,Inputs,4,FALSE))&\"  \"","v":"  "},null,{"$f":"IF(LEN(H139)>2,H139&VLOOKUP(K137,Inputs,5,FALSE),VLOOKUP(K137,Inputs,5,FALSE))","v":0},null,{"$f":"IF(K137>0,VLOOKUP(K137,Inputs,6,FALSE),\"\")","v":0},{"$f":"UPPER(VLOOKUP(P137,Inputs,4,FALSE))&\"  \"","v":"  "},null,{"$f":"IF(LEN(M139)>2,M139&VLOOKUP(P137,Inputs,5,FALSE),VLOOKUP(P137,Inputs,5,FALSE))","v":0},null,{"$f":"IF(P137>0,VLOOKUP(P137,Inputs,6,FALSE),\"\")","v":0},{"$f":"UPPER(VLOOKUP(V137,Inputs,4,FALSE))&\"  \"","v":"  "},null,{"$f":"IF(LEN(R139)>2,R139&VLOOKUP(V137,Inputs,5,FALSE),VLOOKUP(V137,Inputs,5,FALSE))","v":0},null,null,{"$f":"IF(V137>0,VLOOKUP(V137,Inputs,6,FALSE),\"\")","v":0},{"$f":"UPPER(VLOOKUP(AA137,Inputs,4,FALSE))&\"  \"","v":"  "},null,{"$f":"IF(LEN(X139)>2,X139&VLOOKUP(AA137,Inputs,5,FALSE),VLOOKUP(AA137,Inputs,5,FALSE))","v":0},null,null,{"$f":"IF(AA137>0,VLOOKUP(AA137,Inputs,6,FALSE),\"\")","v":0},{"$f":"UPPER(VLOOKUP(AG137,Inputs,4,FALSE))&\"  \"","v":"  "},null,{"$f":"IF(LEN(AD139)>2,AD139&VLOOKUP(AG137,Inputs,5,FALSE),VLOOKUP(AG137,Inputs,5,FALSE))","v":0},null,{"$f":"IF(AG137>0,VLOOKUP(AG137,Inputs,6,FALSE),\"\")","v":0},{"$f":"UPPER(VLOOKUP(AL137,Inputs,4,FALSE))&\"  \"","v":"  "},null,{"$f":"IF(LEN(AI139)>2,AI139&VLOOKUP(AL137,Inputs,5,FALSE),VLOOKUP(AL137,Inputs,5,FALSE))","v":0},null,{"$f":"IF(AL137>0,VLOOKUP(AL137,Inputs,6,FALSE),\"\")","v":0},null,null,{"$f":"IF($A139=AP$5,$G139,0)+IF($H139=AP$5,$L139,0)+IF($M139=AP$5,$Q139,0)+IF($R139=AP$5,$W139,0)+IF($X139=AP$5,AC139,0)+IF($AD139=AP$5,AH139,0)+IF(AI139=AP$5,AM139,0)","v":0},{"$f":"IF($A139=AQ$5,$G139,0)+IF($H139=AQ$5,$L139,0)+IF($M139=AQ$5,$Q139,0)+IF($R139=AQ$5,$W139,0)+IF($X139=AQ$5,$AC139,0)+IF($AD139=AQ$5,$AH139,0)+IF($AI139=AQ$5,$AM139,0)","v":0},0,0,0,0,0,0,0,0,0,0,0,0]
[{"$f":"UPPER(VLOOKUP(F137,Inputs,7,FALSE))&\"  \"","v":"  "},null,null,null,{"$f":"IF(LEN(A140)>2,A140&VLOOKUP(F137,Inputs,8,FALSE),VLOOKUP(F137,Inputs,8,FALSE))","v":0},null,{"$f":"IF(F137>0,VLOOKUP(F137,Inputs,9,FALSE),\"\")","v":0},{"$f":"UPPER(VLOOKUP(K137,Inputs,7,FALSE))&\"  \"","v":"  "},null,{"$f":"IF(LEN(H140)>2,H140&VLOOKUP(K137,Inputs,8,FALSE),VLOOKUP(K137,Inputs,8,FALSE))","v":0},null,{"$f":"IF(K137>0,VLOOKUP(K137,Inputs,9,FALSE),\"\")","v":0},{"$f":"UPPER(VLOOKUP(P137,Inputs,7,FALSE))&\"  \"","v":"  "},null,{"$f":"IF(LEN(M140)>2,M140&VLOOKUP(P137,Inputs,8,FALSE),VLOOKUP(P137,Inputs,8,FALSE))","v":0},null,{"$f":"IF(P137>0,VLOOKUP(P137,Inputs,9,FALSE),\"\")","v":0},{"$f":"UPPER(VLOOKUP(V137,Inputs,7,FALSE))&\"  \"","v":"  "},null,{"$f":"IF(LEN(R140)>2,R140&VLOOKUP(V137,Inputs,8,FALSE),VLOOKUP(V137,Inputs,8,FALSE))","v":0},null,null,{"$f":"IF(V137>0,VLOOKUP(V137,Inputs,9,FALSE),\"\")","v":0},{"$f":"UPPER(VLOOKUP(AA137,Inputs,7,FALSE))&\"  \"","v":"  "},null,{"$f":"IF(LEN(X140)>2,X140&VLOOKUP(AA137,Inputs,8,FALSE),VLOOKUP(AA137,Inputs,8,FALSE))","v":0},null,null,{"$f":"IF(AA137>0,VLOOKUP(AA137,Inputs,9,FALSE),\"\")","v":0},{"$f":"UPPER(VLOOKUP(AG137,Inputs,7,FALSE))&\"  \"","v":"  "},null,{"$f":"IF(LEN(AD140)>2,AD140&VLOOKUP(AG137,Inputs,8,FALSE),VLOOKUP(AG137,Inputs,8,FALSE))","v":0},null,{"$f":"IF(AG137>0,VLOOKUP(AG137,Inputs,9,FALSE),\"\")","v":0},{"$f":"UPPER(VLOOKUP(AL137,Inputs,7,FALSE))&\"  \"","v":"  "},null,{"$f":"IF(LEN(AI140)>2,AI140&VLOOKUP(AL137,Inputs,8,FALSE),VLOOKUP(AL137,Inputs,8,FALSE))","v":0},null,{"$f":"IF(AL137>0,VLOOKUP(AL137,Inputs,9,FALSE),\"\")","v":0},null,null,{"$f":"IF($A140=AP$5,$G140,0)+IF($H140=AP$5,$L140,0)+IF($M140=AP$5,$Q140,0)+IF($R140=AP$5,$W140,0)+IF($X140=AP$5,AC140,0)+IF($AD140=AP$5,AH140,0)+IF(AI140=AP$5,AM140,0)","v":0},0,0,0,0,0,0,0,0,0,0,0,0,0]
[{"$f":"UPPER(VLOOKUP(F137,Inputs,10,FALSE))&\"  \"","v":"  "},null,null,null,{"$f":"IF(LEN(A141)>2,A141&VLOOKUP(F137,Inputs,11,FALSE),VLOOKUP(F137,Inputs,11,FALSE))","v":0},null,{"$f":"IF(F137>0,VLOOKUP(F137,Inputs,12,FALSE),\"\")","v":0},{"$f":"UPPER(VLOOKUP(K137,Inputs,10,FALSE))&\"  \"","v":"  "},null,{"$f":"IF(LEN(H141)>2,H141&VLOOKUP(K137,Inputs,11,FALSE),VLOOKUP(K137,Inputs,11,FALSE))","v":0},null,{"$f":"IF(K137>0,VLOOKUP(K137,Inputs,12,FALSE),\"\")","v":0},{"$f":"UPPER(VLOOKUP(P137,Inputs,10,FALSE))&\"  \"","v":"  "},null,{"$f":"IF(LEN(M141)>2,M141&VLOOKUP(P137,Inputs,11,FALSE),VLOOKUP(P137,Inputs,11,FALSE))","v":0},null,{"$f":"IF(P137>0,VLOOKUP(P137,Inputs,12,FALSE),\"\")","v":0},{"$f":"UPPER(VLOOKUP(V137,Inputs,10,FALSE))&\"  \"","v":"  "},null,{"$f":"IF(LEN(R141)>2,R141&VLOOKUP(V137,Inputs,11,FALSE),VLOOKUP(V137,Inputs,11,FALSE))","v":0},null,null,{"$f":"IF(V137>0,VLOOKUP(V137,Inputs,12,FALSE),\"\")","v":0},{"$f":"UPPER(VLOOKUP(AA137,Inputs,10,FALSE))&\"  \"","v":"  "},null,{"$f":"IF(LEN(X141)>2,X141&VLOOKUP(AA137,Inputs,11,FALSE),VLOOKUP(AA137,Inputs,11,FALSE))","v":0},null,null,{"$f":"IF(AA137>0,VLOOKUP(AA137,Inputs,12,FALSE),\"\")","v":0},{"$f":"UPPER(VLOOKUP(AG137,Inputs,10,FALSE))&\"  \"","v":"  "},null,{"$f":"IF(LEN(AD141)>2,AD141&VLOOKUP(AG137,Inputs,11,FALSE),VLOOKUP(AG137,Inputs,11,FALSE))","v":0},null,{"$f":"IF(AG137>0,VLOOKUP(AG137,Inputs,12,FALSE),\"\")","v":0},{"$f":"UPPER(VLOOKUP(AL137,Inputs,10,FALSE))&\"  \"","v":"  "},null,{"$f":"IF(LEN(AI141)>2,AI141&VLOOKUP(AL137,Inputs,11,FALSE),VLOOKUP(AL137,Inputs,11,FALSE))","v":0},null,{"$f":"IF(AL137>0,VLOOKUP(AL137,Inputs,12,FALSE),\"\")","v":0},null,null,{"$f":"IF($A141=AP$5,$G141,0)+IF($H141=AP$5,$L141,0)+IF($M141=AP$5,$Q141,0)+IF($R141=AP$5,$W141,0)+IF($X141=AP$5,AC141,0)+IF($AD141=AP$5,AH141,0)+IF(AI141=AP$5,AM141,0)","v":0},0,0,0,0,0,0,0,0,0,0,0,0,0]
[{"$f":"UPPER(VLOOKUP(F137,Inputs,13,FALSE))&\"  \"","v":"  "},null,null,null,{"$f":"IF(LEN(A142)>2,A142&VLOOKUP(F137,Inputs,14,FALSE),VLOOKUP(F137,Inputs,14,FALSE))","v":0},null,{"$f":"IF(F137>0,VLOOKUP(F137,Inputs,15,FALSE),\"\")","v":0},{"$f":"UPPER(VLOOKUP(K137,Inputs,13,FALSE))&\"  \"","v":"  "},null,{"$f":"IF(LEN(H142)>2,H142&VLOOKUP(K137,Inputs,14,FALSE),VLOOKUP(K137,Inputs,14,FALSE))","v":0},null,{"$f":"IF(K137>0,VLOOKUP(K137,Inputs,15,FALSE),\"\")","v":0},{"$f":"UPPER(VLOOKUP(P137,Inputs,13,FALSE))&\"  \"","v":"  "},null,{"$f":"IF(LEN(M142)>2,M142&VLOOKUP(P137,Inputs,14,FALSE),VLOOKUP(P137,Inputs,14,FALSE))","v":0},null,{"$f":"IF(P137>0,VLOOKUP(P137,Inputs,15,FALSE),\"\")","v":0},{"$f":"UPPER(VLOOKUP(V137,Inputs,13,FALSE))&\"  \"","v":"  "},null,{"$f":"IF(LEN(R142)>2,R142&VLOOKUP(V137,Inputs,14,FALSE),VLOOKUP(V137,Inputs,14,FALSE))","v":0},null,null,{"$f":"IF(V137>0,VLOOKUP(V137,Inputs,15,FALSE),\"\")","v":0},{"$f":"UPPER(VLOOKUP(AA137,Inputs,13,FALSE))&\"  \"","v":"  "},null,{"$f":"IF(LEN(X142)>2,X142&VLOOKUP(AA137,Inputs,14,FALSE),VLOOKUP(AA137,Inputs,14,FALSE))","v":0},null,null,{"$f":"IF(AA137>0,VLOOKUP(AA137,Inputs,15,FALSE),\"\")","v":0},{"$f":"UPPER(VLOOKUP(AG137,Inputs,13,FALSE))&\"  \"","v":"  "},null,{"$f":"IF(LEN(AD142)>2,AD142&VLOOKUP(AG137,Inputs,14,FALSE),VLOOKUP(AG137,Inputs,14,FALSE))","v":0},null,{"$f":"IF(AG137>0,VLOOKUP(AG137,Inputs,15,FALSE),\"\")","v":0},{"$f":"UPPER(VLOOKUP(AL137,Inputs,13,FALSE))&\"  \"","v":"  "},null,{"$f":"IF(LEN(AI142)>2,AI142&VLOOKUP(AL137,Inputs,14,FALSE),VLOOKUP(AL137,Inputs,14,FALSE))","v":0},null,{"$f":"IF(AL137>0,VLOOKUP(AL137,Inputs,15,FALSE),\"\")","v":0},null,null,{"$f":"IF($A142=AP$5,$G142,0)+IF($H142=AP$5,$L142,0)+IF($M142=AP$5,$Q142,0)+IF($R142=AP$5,$W142,0)+IF($X142=AP$5,AC142,0)+IF($AD142=AP$5,AH142,0)+IF(AI142=AP$5,AM142,0)","v":0},0,0,0,0,0,0,0,0,0,0,0,0,0]
[null,null,null,null,null,{"$f":"IF(F137>0,IF(VLOOKUP(F137,Inputs,3,FALSE)=\"T\",\"Telemarketing\",0),\"\")","v":0},null,null,null,null,{"$f":"IF(VLOOKUP(K137-1,Inputs,3,FALSE)=\"T\",0,IF(VLOOKUP(K137,Inputs,3,FALSE)=\"T\",\"Telemarketing\",0))","v":0},null,null,null,null,{"$f":"IF(VLOOKUP(P137-1,Inputs,3,FALSE)=\"T\",0,IF(VLOOKUP(P137,Inputs,3,FALSE)=\"T\",\"Telemarketing\",0))","v":0},null,null,null,null,null,{"$f":"IF(VLOOKUP(V137-1,Inputs,3,FALSE)=\"T\",0,IF(VLOOKUP(V137,Inputs,3,FALSE)=\"T\",\"Telemarketing\",0))","v":0},null,null,null,null,{"$f":"IF(VLOOKUP(AA137-1,Inputs,3,FALSE)=\"T\",0,IF(VLOOKUP(AA137,Inputs,3,FALSE)=\"T\",\"Telemarketing\",0))","v":0},null,null,null,null,null,{"$f":"IF(VLOOKUP(AG137-1,Inputs,3,FALSE)=\"T\",0,IF(VLOOKUP(AG137,Inputs,3,FALSE)=\"T\",\"Telemarketing\",0))","v":0},null,null,null,null,{"$f":"IF(VLOOKUP(AL137-1,Inputs,3,FALSE)=\"T\",0,IF(VLOOKUP(AL137,Inputs,3,FALSE)=\"T\",\"Telemarketing\",0))","v":0}]
[null,null,null,null,null,{"$f":"IF(AL137>0,IF(MONTH(1+AL137)=$A162,1+AL137,0),0)","v":"2018-03-25"},null,null,null,null,{"$f":"IF(F144>0,IF(MONTH(1+F144)=$A162,1+F144,0),0)","v":"2018-03-26"},null,null,null,null,{"$f":"IF(K144>0,IF(MONTH(1+K144)=$A162,1+K144,0),0)","v":"2018-03-27"},null,null,null,null,null,{"$f":"IF(P144>0,IF(MONTH(1+P144)=$A162,1+P144,0),0)","v":"2018-03-28"},null,null,null,null,{"$f":"IF(V144>0,IF(MONTH(1+V144)=$A162,1+V144,0),0)","v":"2018-03-29"},null,null,null,null,null,{"$f":"IF(AA144>0,IF(MONTH(1+AA144)=$A162,1+AA144,0),0)","v":"2018-03-30"},null,null,null,null,{"$f":"IF(AG144>0,IF(MONTH(1+AG144)=$A162,1+AG144,0),0)","v":"2018-03-31"}]
[null,null,null,null,{"$f":"DAY(F144)","v":25},{"$f":"VLOOKUP(F144,Holidays,2)","v":0},null,null,null,{"$f":"DAY(K144)","v":26},{"$f":"VLOOKUP(K144,Holidays,2)","v":0},null,null,null,{"$f":"DAY(P144)","v":27},{"$f":"VLOOKUP(P144,Holidays,2)","v":0},null,null,null,{"$f":"DAY(V144)","v":28},{"$f":"VLOOKUP(V144,Holidays,2)","v":0},null,null,null,null,{"$f":"DAY(AA144)","v":29},{"$f":"VLOOKUP(AA144,Holidays,2)","v":0},null,null,null,null,{"$f":"DAY(AG144)","v":30},{"$f":"VLOOKUP(AG144,Holidays,2)","v":"Good Friday"},null,null,null,{"$f":"DAY(AL144)","v":31},{"$f":"VLOOKUP(AL144,Holidays,2)","v":0}]
[{"$f":"UPPER(VLOOKUP(F144,Inputs,4,FALSE))&\"  \"","v":"  "},null,null,null,{"$f":"IF(LEN(A146)>2,A146&VLOOKUP(F144,Inputs,5,FALSE),VLOOKUP(F144,Inputs,5,FALSE))","v":0},null,{"$f":"IF(F144>0,VLOOKUP(F144,Inputs,6,FALSE),\"\")","v":0},{"$f":"UPPER(VLOOKUP(K144,Inputs,4,FALSE))&\"  \"","v":"  "},null,{"$f":"IF(LEN(H146)>2,H146&VLOOKUP(K144,Inputs,5,FALSE),VLOOKUP(K144,Inputs,5,FALSE))","v":0},null,{"$f":"IF(K144>0,VLOOKUP(K144,Inputs,6,FALSE),\"\")","v":0},{"$f":"UPPER(VLOOKUP(P144,Inputs,4,FALSE))&\"  \"","v":"  "},null,{"$f":"IF(LEN(M146)>2,M146&VLOOKUP(P144,Inputs,5,FALSE),VLOOKUP(P144,Inputs,5,FALSE))","v":0},null,{"$f":"IF(P144>0,VLOOKUP(P144,Inputs,6,FALSE),\"\")","v":0},{"$f":"IF(MONTH(V144)=A162,UPPER(VLOOKUP(V144,Inputs,4,FALSE))&\"  \",\"\")","v":"  "},null,{"$f":"IF(MONTH(V144)=A162,IF(LEN(R146)>0,R146&VLOOKUP(V144,Inputs,5,FALSE),VLOOKUP(V144,Inputs,5,FALSE)),\"\")","v":"  "},null,null,{"$f":"IF(MONTH(V144)=A162,IF(V144>0,VLOOKUP(V144,Inputs,6,FALSE),\"\"),0)","v":0},{"$f":"IF(MONTH(AA144)=A162,UPPER(VLOOKUP(AA144,Inputs,4,FALSE))&\"  \",\"\")","v":"  "},null,{"$f":"IF(MONTH(AA144)=A162,IF(LEN(X146)>0,X146&VLOOKUP(AA144,Inputs,5,FALSE),VLOOKUP(AA144,Inputs,5,FALSE)),\"\")","v":"  "},null,null,{"$f":"IF(MONTH(AA144)=A162,IF(AA144>0,VLOOKUP(AA144,Inputs,6,FALSE),\"\"),0)","v":0},{"$f":"IF(MONTH(AG144)=A162,UPPER(VLOOKUP(AG144,Inputs,4,FALSE))&\"  \",\"\")","v":"  "},null,{"$f":"IF(MONTH(AG144)=A162,IF(LEN(AD146)>0,AD146&VLOOKUP(AG144,Inputs,5,FALSE),VLOOKUP(AG144,Inputs,5,FALSE)),\"\")","v":"  "},null,{"$f":"IF(MONTH(AG144)=A162,IF(AG144>0,VLOOKUP(AG144,Inputs,6,FALSE),\"\"),0)","v":0},{"$f":"IF(MONTH(AL144)=A162,UPPER(VLOOKUP(AL144,Inputs,4,FALSE))&\"  \",\"\")","v":"  "},null,{"$f":"IF(MONTH(AL144)=A162,IF(LEN(AI146)>0,AI146&VLOOKUP(AL144,Inputs,5,FALSE),VLOOKUP(AL144,Inputs,5,FALSE)),\"\")","v":"  "},null,{"$f":"IF(MONTH(AL144)=A162,IF(AL144>0,VLOOKUP(AL144,Inputs,6,FALSE),\"\"),0)","v":0},null,null,{"$f":"IF($A146=AP$5,$G146,0)+IF($H146=AP$5,$L146,0)+IF($M146=AP$5,$Q146,0)+IF($R146=AP$5,$W146,0)+IF($X146=AP$5,AC146,0)+IF($AD146=AP$5,AH146,0)+IF(AI146=AP$5,AM146,0)","v":0},{"$f":"IF($A146=AQ$5,$G146,0)+IF($H146=AQ$5,$L146,0)+IF($M146=AQ$5,$Q146,0)+IF($R146=AQ$5,$W146,0)+IF($X146=AQ$5,$AC146,0)+IF($AD146=AQ$5,$AH146,0)+IF($AI146=AQ$5,$AM146,0)","v":0},0,0,0,0,0,0,0,0,0,0,0,0]
[{"$f":"UPPER(VLOOKUP(F144,Inputs,7,FALSE))&\"  \"","v":"  "},null,null,null,{"$f":"IF(LEN(A147)>2,A147&VLOOKUP(F144,Inputs,8,FALSE),VLOOKUP(F144,Inputs,8,FALSE))","v":0},null,{"$f":"IF(F144>0,VLOOKUP(F144,Inputs,9,FALSE),\"\")","v":0},{"$f":"UPPER(VLOOKUP(K144,Inputs,7,FALSE))&\"  \"","v":"  "},null,{"$f":"IF(LEN(H147)>2,H147&VLOOKUP(K144,Inputs,8,FALSE),VLOOKUP(K144,Inputs,8,FALSE))","v":0},null,{"$f":"IF(K144>0,VLOOKUP(K144,Inputs,9,FALSE),\"\")","v":0},{"$f":"UPPER(VLOOKUP(P144,Inputs,7,FALSE))&\"  \"","v":"  "},null,{"$f":"IF(LEN(M147)>2,M147&VLOOKUP(P144,Inputs,8,FALSE),VLOOKUP(P144,Inputs,8,FALSE))","v":0},null,{"$f":"IF(P144>0,VLOOKUP(P144,Inputs,9,FALSE),\"\")","v":0},{"$f":"IF(MONTH(V144)=A162,UPPER(VLOOKUP(V144,Inputs,7,FALSE))&\"  \",\"\")","v":"  "},null,{"$f":"IF(MONTH(V144)=A162,IF(LEN(R147)>0,R147&VLOOKUP(V144,Inputs,8,FALSE),VLOOKUP(V144,Inputs,8,FALSE)),\"\")","v":"  "},null,null,{"$f":"IF(MONTH(V144)=A162,IF(V144>0,VLOOKUP(V144,Inputs,9,FALSE),\"\"),0)","v":0},{"$f":"IF(MONTH(AA144)=A162,UPPER(VLOOKUP(AA144,Inputs,7,FALSE))&\"  \",\"\")","v":"  "},null,{"$f":"IF(MONTH(AA144)=A162,IF(LEN(X147)>0,X147&VLOOKUP(AA144,Inputs,8,FALSE),VLOOKUP(AA144,Inputs,8,FALSE)),\"\")","v":"  "},null,null,{"$f":"IF(MONTH(AA144)=A162,IF(AA144>0,VLOOKUP(AA144,Inputs,9,FALSE),\"\"),0)","v":0},{"$f":"IF(MONTH(AG144)=A162,UPPER(VLOOKUP(AG144,Inputs,7,FALSE))&\"  \",\"\")","v":"  "},null,{"$f":"IF(MONTH(AG144)=A162,IF(LEN(AD147)>0,AD147&VLOOKUP(AG144,Inputs,8,FALSE),VLOOKUP(AG144,Inputs,8,FALSE)),\"\")","v":"  "},null,{"$f":"IF(MONTH(AG144)=A162,IF(AG144>0,VLOOKUP(AG144,Inputs,9,FALSE),\"\"),0)","v":0},{"$f":"IF(MONTH(AL144)=A162,UPPER(VLOOKUP(AL144,Inputs,7,FALSE))&\"  \",\"\")","v":"  "},null,{"$f":"IF(MONTH(AL144)=A162,IF(LEN(AI147)>0,AI147&VLOOKUP(AL144,Inputs,8,FALSE),VLOOKUP(AL144,Inputs,8,FALSE)),\"\")","v":"  "},null,{"$f":"IF(MONTH(AL144)=A162,IF(AL144>0,VLOOKUP(AL144,Inputs,9,FALSE),\"\"),0)","v":0},null,null,{"$f":"IF($A147=AP$5,$G147,0)+IF($H147=AP$5,$L147,0)+IF($M147=AP$5,$Q147,0)+IF($R147=AP$5,$W147,0)+IF($X147=AP$5,AC147,0)+IF($AD147=AP$5,AH147,0)+IF(AI147=AP$5,AM147,0)","v":0},0,0,0,0,0,0,0,0,0,0,0,0,0]
[{"$f":"UPPER(VLOOKUP(F144,Inputs,10,FALSE))&\"  \"","v":"  "},null,null,null,{"$f":"IF(LEN(A148)>2,A148&VLOOKUP(F144,Inputs,11,FALSE),VLOOKUP(F144,Inputs,11,FALSE))","v":0},null,{"$f":"IF(F144>0,VLOOKUP(F144,Inputs,12,FALSE),\"\")","v":0},{"$f":"UPPER(VLOOKUP(K144,Inputs,10,FALSE))&\"  \"","v":"  "},null,{"$f":"IF(LEN(H148)>2,H148&VLOOKUP(K144,Inputs,11,FALSE),VLOOKUP(K144,Inputs,11,FALSE))","v":0},null,{"$f":"IF(K144>0,VLOOKUP(K144,Inputs,12,FALSE),\"\")","v":0},{"$f":"UPPER(VLOOKUP(P144,Inputs,10,FALSE))&\"  \"","v":"  "},null,{"$f":"IF(LEN(M148)>2,M148&VLOOKUP(P144,Inputs,11,FALSE),VLOOKUP(P144,Inputs,11,FALSE))","v":0},null,{"$f":"IF(P144>0,VLOOKUP(P144,Inputs,12,FALSE),\"\")","v":0},{"$f":"IF(MONTH(V144)=A162,UPPER(VLOOKUP(V144,Inputs,10,FALSE))&\"  \",\"\")","v":"  "},null,{"$f":"IF(MONTH(V144)=A162,IF(LEN(R148)>0,R148&VLOOKUP(V144,Inputs,11,FALSE),VLOOKUP(V144,Inputs,11,FALSE)),\"\")","v":"  "},null,null,{"$f":"IF(MONTH(V144)=A162,IF(V144>0,VLOOKUP(V144,Inputs,12,FALSE),\"\"),0)","v":0},{"$f":"IF(MONTH(AA144)=A162,UPPER(VLOOKUP(AA144,Inputs,10,FALSE))&\"  \",\"\")","v":"  "},null,{"$f":"IF(MONTH(AA144)=A162,IF(LEN(X148)>0,X148&VLOOKUP(AA144,Inputs,11,FALSE),VLOOKUP(AA144,Inputs,11,FALSE)),\"\")","v":"  "},null,null,{"$f":"IF(MONTH(AA144)=A162,IF(AA144>0,VLOOKUP(AA144,Inputs,12,FALSE),\"\"),0)","v":0},{"$f":"IF(MONTH(AG144)=A162,UPPER(VLOOKUP(AG144,Inputs,10,FALSE))&\"  \",\"\")","v":"  "},null,{"$f":"IF(MONTH(AG144)=A162,IF(LEN(AD148)>0,AD148&VLOOKUP(AG144,Inputs,11,FALSE),VLOOKUP(AG144,Inputs,11,FALSE)),\"\")","v":"  "},null,{"$f":"IF(MONTH(AG144)=A162,IF(AG144>0,VLOOKUP(AG144,Inputs,12,FALSE),\"\"),0)","v":0},{"$f":"IF(MONTH(AL144)=A162,UPPER(VLOOKUP(AL144,Inputs,10,FALSE))&\"  \",\"\")","v":"  "},null,{"$f":"IF(MONTH(AL144)=A162,IF(LEN(AI148)>0,AI148&VLOOKUP(AL144,Inputs,11,FALSE),VLOOKUP(AL144,Inputs,11,FALSE)),\"\")","v":"  "},null,{"$f":"IF(MONTH(AL144)=A162,IF(AL144>0,VLOOKUP(AL144,Inputs,12,FALSE),\"\"),0)","v":0},null,null,{"$f":"IF($A148=AP$5,$G148,0)+IF($H148=AP$5,$L148,0)+IF($M148=AP$5,$Q148,0)+IF($R148=AP$5,$W148,0)+IF($X148=AP$5,AC148,0)+IF($AD148=AP$5,AH148,0)+IF(AI148=AP$5,AM148,0)","v":0},0,0,0,0,0,0,0,0,0,0,0,0,0]
[{"$f":"UPPER(VLOOKUP(F144,Inputs,13,FALSE))&\"  \"","v":"  "},null,null,null,{"$f":"IF(LEN(A149)>2,A149&VLOOKUP(F144,Inputs,14,FALSE),VLOOKUP(F144,Inputs,14,FALSE))","v":0},null,{"$f":"IF(F144>0,VLOOKUP(F144,Inputs,15,FALSE),\"\")","v":0},{"$f":"UPPER(VLOOKUP(K144,Inputs,13,FALSE))&\"  \"","v":"  "},null,{"$f":"IF(LEN(H149)>2,H149&VLOOKUP(K144,Inputs,14,FALSE),VLOOKUP(K144,Inputs,14,FALSE))","v":0},null,{"$f":"IF(K144>0,VLOOKUP(K144,Inputs,15,FALSE),\"\")","v":0},{"$f":"UPPER(VLOOKUP(P144,Inputs,13,FALSE))&\"  \"","v":"  "},null,{"$f":"IF(LEN(M149)>2,M149&VLOOKUP(P144,Inputs,14,FALSE),VLOOKUP(P144,Inputs,14,FALSE))","v":0},null,{"$f":"IF(P144>0,VLOOKUP(P144,Inputs,15,FALSE),\"\")","v":0},{"$f":"IF(MONTH(V144)=A162,UPPER(VLOOKUP(V144,Inputs,13,FALSE))&\"  \",\"\")","v":"  "},null,{"$f":"IF(MONTH(V144)=A162,IF(LEN(R149)>0,R149&VLOOKUP(V144,Inputs,14,FALSE),VLOOKUP(V144,Inputs,14,FALSE)),\"\")","v":"  "},null,null,{"$f":"IF(MONTH(V144)=A162,IF(V144>0,VLOOKUP(V144,Inputs,15,FALSE),\"\"),0)","v":0},{"$f":"IF(MONTH(AA144)=A162,UPPER(VLOOKUP(AA144,Inputs,13,FALSE))&\"  \",\"\")","v":"  "},null,{"$f":"IF(MONTH(AA144)=A162,IF(LEN(X149)>0,X149&VLOOKUP(AA144,Inputs,14,FALSE),VLOOKUP(AA144,Inputs,14,FALSE)),\"\")","v":"  "},null,null,{"$f":"IF(MONTH(AA144)=A162,IF(AA144>0,VLOOKUP(AA144,Inputs,15,FALSE),\"\"),0)","v":0},{"$f":"IF(MONTH(AG144)=A162,UPPER(VLOOKUP(AG144,Inputs,13,FALSE))&\"  \",\"\")","v":"  "},null,{"$f":"IF(MONTH(AG144)=A162,IF(LEN(AD149)>0,AD149&VLOOKUP(AG144,Inputs,14,FALSE),VLOOKUP(AG144,Inputs,14,FALSE)),\"\")","v":"  "},null,{"$f":"IF(MONTH(AG144)=A162,IF(AG144>0,VLOOKUP(AG144,Inputs,15,FALSE),\"\"),0)","v":0},{"$f":"IF(MONTH(AL144)=A162,UPPER(VLOOKUP(AL144,Inputs,13,FALSE))&\"  \",\"\")","v":"  "},null,{"$f":"IF(MONTH(AL144)=A162,IF(LEN(AI149)>0,AI149&VLOOKUP(AL144,Inputs,14,FALSE),VLOOKUP(AL144,Inputs,14,FALSE)),\"\")","v":"  "},null,{"$f":"IF(MONTH(AL144)=A162,IF(AL144>0,VLOOKUP(AL144,Inputs,15,FALSE),\"\"),0)","v":0},null,null,{"$f":"IF($A149=AP$5,$G149,0)+IF($H149=AP$5,$L149,0)+IF($M149=AP$5,$Q149,0)+IF($R149=AP$5,$W149,0)+IF($X149=AP$5,AC149,0)+IF($AD149=AP$5,AH149,0)+IF(AI149=AP$5,AM149,0)","v":0},0,0,0,0,0,0,0,0,0,0,0,0,0]
[null,null,null,null,null,{"$f":"IF(F144>0,IF(VLOOKUP(F144,Inputs,3,FALSE)=\"T\",\"Telemarketing\",0),\"\")","v":0},null,null,null,null,{"$f":"IF(VLOOKUP(K144-1,Inputs,3,FALSE)=\"T\",0,IF(VLOOKUP(K144,Inputs,3,FALSE)=\"T\",\"Telemarketing\",0))","v":0},null,null,null,null,{"$f":"IF(VLOOKUP(P144-1,Inputs,3,FALSE)=\"T\",0,IF(VLOOKUP(P144,Inputs,3,FALSE)=\"T\",\"Telemarketing\",0))","v":0},null,null,null,null,null,{"$f":"IF(VLOOKUP(V144-1,Inputs,3,FALSE)=\"T\",0,IF(VLOOKUP(V144,Inputs,3,FALSE)=\"T\",\"Telemarketing\",0))","v":0},null,null,null,null,{"$f":"IF(VLOOKUP(AA144-1,Inputs,3,FALSE)=\"T\",0,IF(VLOOKUP(AA144,Inputs,3,FALSE)=\"T\",\"Telemarketing\",0))","v":0},null,null,null,null,null,{"$f":"IF(VLOOKUP(AG144-1,Inputs,3,FALSE)=\"T\",0,IF(VLOOKUP(AG144,Inputs,3,FALSE)=\"T\",\"Telemarketing\",0))","v":0},null,null,null,null,{"$f":"IF(VLOOKUP(AL144-1,Inputs,3,FALSE)=\"T\",0,IF(VLOOKUP(AL144,Inputs,3,FALSE)=\"T\",\"Telemarketing\",0))","v":0}]
[null,null,null,null,null,{"$f":"IF(AL144>0,IF(MONTH(1+AL144)=$A162,1+AL144,0),0)","v":"00:00:00"},null,null,null,null,{"$f":"IF(F151>0,IF(MONTH(1+F151)=$A162,1+F151,0),0)","v":"00:00:00"},null,null,null,null,null,null,null,null,null,null,null,null,null,null,null,null,null,null,null,null,null,null,null,null,null,null,{"$f":"IF(AG151>0,IF(MONTH(1+AG151)=$A162,1+AG151,0),0)","v":"00:00:00"}]
[null,null,null,null,{"$f":"DAY(F151)","v":0},{"$f":"VLOOKUP(F151,Holidays,2)","v":0},null,null,null,{"$f":"DAY(K151)","v":0},{"$f":"VLOOKUP(K151,Holidays,2)","v":0},null,null,null,{"$f":"DAY(P151)","v":0},{"$f":"VLOOKUP(P151,Holidays,2)","v":0},null,null,null,{"$f":"DAY(V151)","v":0},{"$f":"VLOOKUP(V151,Holidays,2)","v":0},null,null,null,null,{"$f":"DAY(AA151)","v":0},{"$f":"VLOOKUP(AA151,Holidays,2)","v":0},null,null,null,null,{"$f":"DAY(AG151)","v":0},{"$f":"VLOOKUP(AG151,Holidays,2)","v":0},null,null,null,{"$f":"DAY(AL151)","v":0},{"$f":"VLOOKUP(AL151,Holidays,2)","v":0}]
[{"$f":"IF(MONTH(F$151)=A$162,UPPER(VLOOKUP(F$151,Inputs,4,FALSE))&\"  \",\"\")","v":""},null,null,null,{"$f":"IF(MONTH(F151)=A162,IF(LEN(A153)>0,A153&VLOOKUP(F151,Inputs,5,FALSE),VLOOKUP(F151,Inputs,5,FALSE)),\"\")","v":""},null,{"$f":"IF(MONTH(F151)=A162,IF(F151>0,VLOOKUP(F151,Inputs,6,FALSE),\"\"),0)","v":0},{"$f":"IF(MONTH(K151)=A162,UPPER(VLOOKUP(K151,Inputs,4,FALSE))&\"  \",\"\")","v":""},null,{"$f":"IF(MONTH(K151)=A162,IF(LEN(H153)>2,H153&VLOOKUP(K151,Inputs,5,FALSE),VLOOKUP(K151,Inputs,5,FALSE)),\"\")","v":""},null,{"$f":"IF(MONTH(K151)=A162,IF(K151>0,VLOOKUP(K151,Inputs,6,FALSE),\"\"),0)","v":0},null,null,null,null,{"$f":"IF(MONTH(P151)=A162,IF(P151>0,VLOOKUP(P151,Inputs,6,FALSE),\"\"),0)","v":0},null,null,null,null,null,null,null,null,null,null,null,null,null,null,null,null,null,null,null,null,null,null,null,null,{"$f":"IF($A153=AP$5,$G153,0)+IF($H153=AP$5,$L153,0)+IF($M153=AP$5,$Q153,0)+IF($R153=AP$5,$W153,0)+IF($X153=AP$5,AC153,0)+IF($AD153=AP$5,AH153,0)+IF(AI153=AP$5,AM153,0)","v":0},{"$f":"IF($A153=AQ$5,$G153,0)+IF($H153=AQ$5,$L153,0)+IF($M153=AQ$5,$Q153,0)+IF($R153=AQ$5,$W153,0)+IF($X153=AQ$5,$AC153,0)+IF($AD153=AQ$5,$AH153,0)+IF($AI153=AQ$5,$AM153,0)","v":0},0,0,0,0,0,0,0,0,0,0,0,0]
[{"$f":"IF(MONTH(F$151)=A$162,UPPER(VLOOKUP(F$151,Inputs,4,FALSE))&\"  \",\"\")","v":""},null,null,null,{"$f":"IF(MONTH(F151)=A162,IF(LEN(A154)>0,A154&VLOOKUP(F151,Inputs,8,FALSE),VLOOKUP(F151,Inputs,8,FALSE)),\"\")","v":""},null,{"$f":"IF(MONTH(F151)=A162,IF(F151>0,VLOOKUP(F151,Inputs,9,FALSE),\"\"),0)","v":0},{"$f":"IF(MONTH(K151)=A162,UPPER(VLOOKUP(K151,Inputs,7,FALSE))&\"  \",\"\")","v":""},null,{"$f":"IF(MONTH(K151)=A162,IF(LEN(H154)>2,H154&VLOOKUP(K151,Inputs,8,FALSE),VLOOKUP(K151,Inputs,8,FALSE)),\"\")","v":""},null,{"$f":"IF(MONTH(K151)=A162,IF(K151>0,VLOOKUP(K151,Inputs,9,FALSE),\"\"),0)","v":0},null,null,null,null,{"$f":"IF(MONTH(P151)=A162,IF(P151>0,VLOOKUP(P151,Inputs,9,FALSE),\"\"),0)","v":0},null,null,null,null,null,null,null,null,null,null,null,null,null,null,null,null,null,null,null,null,null,null,null,null,{"$f":"IF($A154=AP$5,$G154,0)+IF($H154=AP$5,$L154,0)+IF($M154=AP$5,$Q154,0)+IF($R154=AP$5,$W154,0)+IF($X154=AP$5,AC154,0)+IF($AD154=AP$5,AH154,0)+IF(AI154=AP$5,AM154,0)","v":0},0,0,0,0,0,0,0,0,0,0,0,0,0]
[{"$f":"IF(MONTH(F$151)=A$162,UPPER(VLOOKUP(F$151,Inputs,4,FALSE))&\"  \",\"\")","v":""},null,null,null,{"$f":"IF(MONTH(F151)=A162,IF(LEN(A155)>0,A155&VLOOKUP(F151,Inputs,11,FALSE),VLOOKUP(F151,Inputs,11,FALSE)),\"\")","v":""},null,{"$f":"IF(MONTH(F151)=A162,IF(F151>0,VLOOKUP(F151,Inputs,12,FALSE),\"\"),0)","v":0},{"$f":"IF(MONTH(K151)=A162,UPPER(VLOOKUP(K151,Inputs,10,FALSE))&\"  \",\"\")","v":""},null,{"$f":"IF(MONTH(K151)=A162,IF(LEN(H155)>2,H155&VLOOKUP(K151,Inputs,11,FALSE),VLOOKUP(K151,Inputs,11,FALSE)),\"\")","v":""},null,{"$f":"IF(MONTH(K151)=A162,IF(K151>0,VLOOKUP(K151,Inputs,12,FALSE),\"\"),0)","v":0},null,null,null,null,{"$f":"IF(MONTH(P151)=A162,IF(P151>0,VLOOKUP(P151,Inputs,12,FALSE),\"\"),0)","v":0},null,null,null,null,null,null,null,null,null,null,null,null,null,null,null,null,null,null,null,null,null,null,null,null,{"$f":"IF($A155=AP$5,$G155,0)+IF($H155=AP$5,$L155,0)+IF($M155=AP$5,$Q155,0)+IF($R155=AP$5,$W155,0)+IF($X155=AP$5,AC155,0)+IF($AD155=AP$5,AH155,0)+IF(AI155=AP$5,AM155,0)","v":0},0,0,0,0,0,0,0,0,0,0,0,0,0]
[{"$f":"IF(MONTH(F$151)=A$162,UPPER(VLOOKUP(F$151,Inputs,4,FALSE))&\"  \",\"\")","v":""},null,null,null,{"$f":"IF(MONTH(F151)=A162,IF(LEN(A156)>0,A156&VLOOKUP(F151,Inputs,14,FALSE),VLOOKUP(F151,Inputs,14,FALSE)),\"\")","v":""},null,{"$f":"IF(MONTH(F151)=A162,IF(F151>0,VLOOKUP(F151,Inputs,15,FALSE),\"\"),0)","v":0},{"$f":"IF(MONTH(K151)=A162,UPPER(VLOOKUP(K151,Inputs,13,FALSE))&\"  \",\"\")","v":""},null,{"$f":"IF(MONTH(K151)=A162,IF(LEN(H156)>2,H156&VLOOKUP(K151,Inputs,14,FALSE),VLOOKUP(K151,Inputs,14,FALSE)),\"\")","v":""},null,{"$f":"IF(MONTH(K151)=A162,IF(K151>0,VLOOKUP(K151,Inputs,15,FALSE),\"\"),0)","v":0},null,null,null,null,{"$f":"IF(MONTH(P151)=A162,IF(P151>0,VLOOKUP(P151,Inputs,15,FALSE),\"\"),0)","v":0},null,null,null,null,null,null,null,null,null,null,null,null,null,null,null,null,null,null,null,null,null,null,null,null,{"$f":"IF($A156=AP$5,$G156,0)+IF($H156=AP$5,$L156,0)+IF($M156=AP$5,$Q156,0)+IF($R156=AP$5,$W156,0)+IF($X156=AP$5,AC156,0)+IF($AD156=AP$5,AH156,0)+IF(AI156=AP$5,AM156,0)","v":0},0,0,0,0,0,0,0,0,0,0,0,0,0]
[null,null,null,null,null,{"$f":"IF(F151>0,IF(VLOOKUP(F151,Inputs,3,FALSE)=\"T\",\"Telemarketing\",0),\"\")","v":""},null,null,null,null,{"$f":"IF(VLOOKUP(K151-1,Inputs,3,FALSE)=\"T\",0,IF(VLOOKUP(K151,Inputs,3,FALSE)=\"T\",\"Telemarketing\",0))","v":{"$error":"#N/A"}},null,null,null,null,null,null,null,null,null,null,null,null,null,null,null,null,null,null,null,null,null,null,null,null,null,null,null,null,null,null,{"$f":"SUM(AP117:AP156)","v":0},{"$f":"SUM(AQ117:AQ156)","v":0},0,0,0,0,0,0,{"$f":"SUM(AX117:AX156)","v":0},0,0,0,0,0]
[]
[null,null,null,null,{"$f":"\"CODE KEY:  \"&'Company Setup'!L$22&'Company Setup'!L$23&'Company Setup'!L$24&'Company Setup'!L$25&'Company Setup'!L$26&'Company Setup'!L$27&'Company Setup'!L$28&'Company Setup'!L$29&'Company Setup'!L$30&'Company Setup'!L$31&'Company Setup'!L$32&'Company Setup'!L$33&'Company Setup'!L$33&'Company Setup'!L$34&'Company Setup'!L$35","v":"CODE KEY:  B=Broadcast, L=Letter, P=Postcard, F=Flyer, H=Hanger, I=Newspaper Ads, N=Newsletter, E=E-Mail, A=Banner Ads, Y=Yellow Pages, "}]
[null,null,null,null,null,null,null,null,null,null,null,null,null,null,null,null,null,null,null,null,null,null,null,null,null,{"$f":"'Company Setup'!D$30","v":"Broadcast"},{"$f":"AP157","v":0},null,null,null,null,null,null,{"$f":"'Company Setup'!D$29","v":"E-Mail"},null,null,{"$f":"AW157","v":0}]
[null,null,null,null,null,null,"Revenue Budget",null,null,{"$f":"VLOOKUP(A162,ClientTable,2,FALSE)","v":86677},null,null,null,null,null,{"$f":"'Company Setup'!$E$5","v":"Reviews"},{"$f":"VLOOKUP(A162,ClientTable,3)","v":0},null,null,null,null,null,null,null,null,{"$f":"'Company Setup'!D$23","v":"Letter"},{"$f":"AQ157","v":0},null,null,null,null,null,null,{"$f":"'Company Setup'!D30","v":"Broadcast"},null,null,{"$f":"AX157","v":0}]
[{"$f":"IF(A107=12,1,A107+1)","v":3},null,null,null,null,null,"Monthly Marketing Budget",null,null,{"$f":"VLOOKUP(A162,ClientTable,7,FALSE)*VLOOKUP(A162,ClientTable,2,FALSE)","v":4333.8500000000004},null,null,null,null,null,{"$f":"'Company Setup'!$F$5","v":"SEO"},{"$f":"VLOOKUP(A162,ClientTable,4)","v":0},null,null,null,null,null,null,null,null,{"$f":"'Company Setup'!D$24","v":"Postcard"},{"$f":"AR157","v":0},null,null,null,null,null,null,{"$f":"'Company Setup'!D$31","v":"Banner Ads"},null,null,{"$f":"AY157","v":0}]
[{"$f":"VLOOKUP(A162,ClientTable,9)","v":3},null,null,null,null,null,"Month's End Marketing Cost",null,null,{"$f":"SUM(AK160:AK165)+SUM(AA160:AA166)+SUM(Q160:Q166)","v":0},null,null,null,null,null,{"$f":"'Company Setup'!$H$5","v":"Community Events"},{"$f":"VLOOKUP(A162,ClientTable,5)","v":0},null,null,null,null,null,null,null,null,{"$f":"'Company Setup'!D$25","v":"Flyer"},{"$f":"AS157","v":0},null,null,null,null,null,null,{"$f":"'Company Setup'!D$32","v":"Yellow Pages"},null,null,{"$f":"AZ157","v":0}]
[null,null,null,null,null,null,"Variance",null,null,{"$f":"J163-J162","v":-4333.8500000000004},null,null,null,null,null,{"$f":"'Company Setup'!G5","v":"Shows & Contests"},{"$f":"VLOOKUP(A162,ClientTable,6)","v":0},null,null,null,null,null,null,null,null,{"$f":"'Company Setup'!D$26","v":"Hanger"},{"$f":"AT157","v":0},null,null,null,null,null,null,{"$f":"'Company Setup'!D$33","v":0},null,null,{"$f":"BA157","v":0}]
[null,null,null,null,null,null,null,null,null,null,null,null,null,null,null,null,null,null,null,null,null,null,null,null,null,{"$f":"'Company Setup'!D$27","v":"Newspaper Ads"},{"$f":"AU157","v":0},null,null,null,null,null,null,{"$f":"'Company Setup'!D$34","v":0},null,null,{"$f":"BB157","v":0}]
[null,null,null,{"$f":"MONTH(StartMonth)","v":{"$error":"#VALUE!"}},"©",{"$f":"+F56","v":"Bedrock Markets, Inc. 2000 - 2100"},null,null,null,null,null,null,null,null,null,null,null,null,null,null,null,null,null,null,null,{"$f":"'Company Setup'!D$28","v":"Newsletter"},{"$f":"AV157","v":0},null,null,null,null,null,null,{"$f":"'Company Setup'!D$35","v":0},null,null,{"$f":"BC157","v":0}]
[]
[null,null,null,null,{"$f":"IF(E113=12,1,E113+1)","v":4},{"$f":"VLOOKUP(E168,Monthlookup2,2)&\" \"&YEAR(Calendar!S100)","v":"April 2018"},null,null,null,null,null,null,null,null,null,{"$f":"P$3","v":"   ABC Heating and Air"},null,null,null,null,null,null,null,null,null,null,null,null,null,null,null,null,null,null,null,null,null,null,null,null,"Importante!  Add 2 spaces after code - es muy neccesita"]
[]
[null,null,null,null,"Sunday",null,null,null,null,"Monday",null,null,null,null,"Tuesday",null,null,null,null,"Wednesday",null,null,null,null,null,"Thursday",null,null,null,null,null,"Friday",null,null,null,null,"Saturday"]
[null,null,null,null,null,{"$f":"IF(VLOOKUP(DATE(RIGHT($F168,4),$A217,1),Calendar,3)=1,DATE(RIGHT($F168,4),$A217,1),0)","v":"2018-04-01"},null,null,null,null,{"$f":"IF(E172>0,F171+1,IF(VLOOKUP(DATE(RIGHT($F168,4),$A217,1),Calendar,3)=2,DATE(RIGHT($F168,4),$A217,1),0))","v":"2018-04-02"},null,null,null,null,{"$f":"IF(J172>0,K171+1,IF(VLOOKUP(DATE(RIGHT($F168,4),$A217,1),Calendar,3)=3,DATE(RIGHT($F168,4),$A217,1),0))","v":"2018-04-03"},null,null,null,null,null,{"$f":"IF(O172>0,P171+1,IF(VLOOKUP(DATE(RIGHT($F168,4),$A217,1),Calendar,3)=4,DATE(RIGHT($F168,4),$A217,1),0))","v":"2018-04-04"},null,null,null,null,{"$f":"IF(T172>0,V171+1,IF(VLOOKUP(DATE(RIGHT($F168,4),$A217,1),Calendar,3)=5,DATE(RIGHT($F168,4),$A217,1),0))","v":"2018-04-05"},null,null,null,null,null,{"$f":"IF(Z172>0,AA171+1,IF(VLOOKUP(DATE(RIGHT($F168,4),$A217,1),Calendar,3)=6,DATE(RIGHT($F168,4),$A217,1),0))","v":"2018-04-06"},null,null,null,null,{"$f":"IF(AF172>0,AG171+1,IF(VLOOKUP(DATE(RIGHT($F168,4),$A217,1),Calendar,3)=7,DATE(RIGHT($F168,4),$A217,1),0))","v":"2018-04-07"}]
[null,null,null,null,{"$f":"DAY(F171)","v":1},{"$f":"IF(F171>0,VLOOKUP(F171,Holidays,2),0)","v":"Easter"},null,null,null,{"$f":"DAY(K171)","v":2},{"$f":"IF(K171>0,VLOOKUP(K171,Holidays,2),0)","v":0},null,null,null,{"$f":"DAY(P171)","v":3},{"$f":"IF(P171>0,VLOOKUP(P171,Holidays,2),0)","v":0},null,null,null,{"$f":"DAY(V171)","v":4},{"$f":"IF(V171>0,VLOOKUP(V171,Holidays,2),0)","v":0},null,null,null,null,{"$f":"DAY(AA171)","v":5},{"$f":"IF(AA171>0,VLOOKUP(AA171,Holidays,2),0)","v":0},null,null,null,null,{"$f":"DAY(AG171)","v":6},{"$f":"IF(AG171>0,VLOOKUP(AG171,Holidays,2),0)","v":0},null,null,null,{"$f":"DAY(AL171)","v":7},{"$f":"IF(AL171>0,VLOOKUP(AL171,Holidays,2),0)","v":0}]
[{"$f":"IF(F171>1,UPPER(VLOOKUP(F171,Inputs,4,FALSE))&\"  \",0)","v":"  "},null,null,null,{"$f":"IF(F171>0,IF(LEN(A173)>2,A173&VLOOKUP(F171,Inputs,5,FALSE),VLOOKUP(F171,Inputs,5,FALSE)),\"\")","v":0},null,{"$f":"IF(F171>0,VLOOKUP(F171,Inputs,6,FALSE),\"\")","v":0},{"$f":"IF(K171>1,UPPER(VLOOKUP(K171,Inputs,4,FALSE))&\"  \",0)","v":"  "},null,{"$f":"IF(K171>0,IF(LEN(H173)>2,H173&VLOOKUP(K171,Inputs,5,FALSE),VLOOKUP(K171,Inputs,5,FALSE)),\"\")","v":0},null,{"$f":"IF(K171>0,VLOOKUP(K171,Inputs,6,FALSE),\"\")","v":0},{"$f":"IF(P171>1,UPPER(VLOOKUP(P171,Inputs,4,FALSE))&\"  \",0)","v":"  "},null,{"$f":"IF(P171>0,IF(LEN(M173)>2,M173&VLOOKUP(P171,Inputs,5,FALSE),VLOOKUP(P171,Inputs,5,FALSE)),\"\")","v":0},null,{"$f":"IF(P171>0,VLOOKUP(P171,Inputs,6,FALSE),\"\")","v":0},{"$f":"IF(V171>1,UPPER(VLOOKUP(V171,Inputs,4,FALSE))&\"  \",0)","v":"  "},null,{"$f":"IF(V171>0,IF(LEN(R173)>2,R173&VLOOKUP(V171,Inputs,5,FALSE),VLOOKUP(V171,Inputs,5,FALSE)),\"\")","v":0},null,null,{"$f":"IF(V171>0,VLOOKUP(V171,Inputs,6,FALSE),\"\")","v":0},{"$f":"IF(AA171>1,UPPER(VLOOKUP(AA171,Inputs,4,FALSE))&\"  \",0)","v":"  "},null,{"$f":"IF(AA171>0,IF(LEN(X173)>2,X173&VLOOKUP(AA171,Inputs,5,FALSE),VLOOKUP(AA171,Inputs,5,FALSE)),\"\")","v":0},null,null,{"$f":"IF(AA171>0,VLOOKUP(AA171,Inputs,6,FALSE),\"\")","v":0},{"$f":"IF(AG171>1,UPPER(VLOOKUP(AG171,Inputs,4,FALSE))&\"  \",0)","v":"  "},null,{"$f":"IF(AG171>0,IF(LEN(AD173)>2,AD173&VLOOKUP(AG171,Inputs,5,FALSE),VLOOKUP(AG171,Inputs,5,FALSE)),\"\")","v":0},null,{"$f":"IF(AG171>0,VLOOKUP(AG171,Inputs,6,FALSE),\"\")","v":0},{"$f":"UPPER(VLOOKUP(AL171,Inputs,4,FALSE))&\"  \"","v":"  "},null,{"$f":"IF(LEN(AI173)>2,AI173&VLOOKUP(AL171,Inputs,5,FALSE),VLOOKUP(AL171,Inputs,5,FALSE))","v":0},null,{"$f":"VLOOKUP(AL171,Inputs,6,FALSE)","v":0},null,null,{"$f":"IF($A173=AP$5,$G173,0)+IF($H173=AP$5,$L173,0)+IF($M173=AP$5,$Q173,0)+IF($R173=AP$5,$W173,0)+IF($X173=AP$5,AC173,0)+IF($AD173=AP$5,AH173,0)+IF(AI173=AP$5,AM173,0)","v":0},{"$f":"IF($A173=AQ$5,$G173,0)+IF($H173=AQ$5,$L173,0)+IF($M173=AQ$5,$Q173,0)+IF($R173=AQ$5,$W173,0)+IF($X173=AQ$5,$AC173,0)+IF($AD173=AQ$5,$AH173,0)+IF($AI173=AQ$5,$AM173,0)","v":0},0,0,0,0,0,0,0,0,0,0,0,0]
[{"$f":"IF(F171>1,UPPER(VLOOKUP(F171,Inputs,7,FALSE))&\"  \",0)","v":"  "},null,null,null,{"$f":"IF(F171>0,IF(LEN(A174)>2,A174&VLOOKUP(F171,Inputs,8,FALSE),VLOOKUP(F171,Inputs,8,FALSE)),\"\")","v":0},null,{"$f":"IF(F171>0,VLOOKUP(F171,Inputs,9,FALSE),\"\")","v":0},{"$f":"IF(K171>1,UPPER(VLOOKUP(K171,Inputs,7,FALSE))&\"  \",0)","v":"  "},null,{"$f":"IF(K171>0,IF(LEN(H174)>2,H174&VLOOKUP(K171,Inputs,8,FALSE),VLOOKUP(K171,Inputs,8,FALSE)),\"\")","v":0},null,{"$f":"IF(K171>0,VLOOKUP(K171,Inputs,9,FALSE),\"\")","v":0},{"$f":"IF(P171>1,UPPER(VLOOKUP(P171,Inputs,7,FALSE))&\"  \",0)","v":"  "},null,{"$f":"IF(P171>0,IF(LEN(M174)>2,M174&VLOOKUP(P171,Inputs,8,FALSE),VLOOKUP(P171,Inputs,8,FALSE)),\"\")","v":0},null,{"$f":"IF(P171>0,VLOOKUP(P171,Inputs,9,FALSE),\"\")","v":0},{"$f":"IF(V171>1,UPPER(VLOOKUP(V171,Inputs,7,FALSE))&\"  \",0)","v":"  "},null,{"$f":"IF(V171>0,IF(LEN(R174)>2,R174&VLOOKUP(V171,Inputs,8,FALSE),VLOOKUP(V171,Inputs,8,FALSE)),\"\")","v":0},null,null,{"$f":"IF(V171>0,VLOOKUP(V171,Inputs,9,FALSE),\"\")","v":0},{"$f":"IF(AA171>1,UPPER(VLOOKUP(AA171,Inputs,7,FALSE))&\"  \",0)","v":"  "},null,{"$f":"IF(AA171>0,IF(LEN(X174)>2,X174&VLOOKUP(AA171,Inputs,8,FALSE),VLOOKUP(AA171,Inputs,8,FALSE)),\"\")","v":0},null,null,{"$f":"IF(AA171>0,VLOOKUP(AA171,Inputs,9,FALSE),\"\")","v":0},{"$f":"IF(AG171>1,UPPER(VLOOKUP(AG171,Inputs,7,FALSE))&\"  \",0)","v":"  "},null,{"$f":"IF(AG171>0,IF(LEN(AD174)>2,AD174&VLOOKUP(AG171,Inputs,8,FALSE),VLOOKUP(AG171,Inputs,8,FALSE)),\"\")","v":0},null,{"$f":"IF(AG171>0,VLOOKUP(AG171,Inputs,9,FALSE),\"\")","v":0},{"$f":"UPPER(VLOOKUP(AL171,Inputs,7,FALSE))&\"  \"","v":"  "},null,{"$f":"IF(LEN(AI174)>2,AI174&VLOOKUP(AL171,Inputs,8,FALSE),VLOOKUP(AL171,Inputs,8,FALSE))","v":0},null,{"$f":"VLOOKUP(AL171,Inputs,9,FALSE)","v":0},null,null,{"$f":"IF($A174=AP$5,$G174,0)+IF($H174=AP$5,$L174,0)+IF($M174=AP$5,$Q174,0)+IF($R174=AP$5,$W174,0)+IF($X174=AP$5,AC174,0)+IF($AD174=AP$5,AH174,0)+IF(AI174=AP$5,AM174,0)","v":0},0,0,0,0,0,0,0,0,0,0,0,0,0,null,"530-345-3280"]
[{"$f":"IF(F171>1,UPPER(VLOOKUP(F171,Inputs,10,FALSE))&\"  \",0)","v":"  "},null,null,null,{"$f":"IF(F171>0,IF(LEN(A175)>2,A175&VLOOKUP(F171,Inputs,11,FALSE),VLOOKUP(F171,Inputs,11,FALSE)),\"\")","v":0},null,{"$f":"IF(F171>0,VLOOKUP(F171,Inputs,12,FALSE),\"\")","v":0},{"$f":"IF(K171>1,UPPER(VLOOKUP(K171,Inputs,10,FALSE))&\"  \",0)","v":"  "},null,{"$f":"IF(K171>0,IF(LEN(H175)>0,H175&VLOOKUP(K171,Inputs,11,FALSE),VLOOKUP(K171,Inputs,11,FALSE)),\"\")","v":"  "},null,{"$f":"IF(K171>0,VLOOKUP(K171,Inputs,12,FALSE),\"\")","v":0},{"$f":"IF(P171>1,UPPER(VLOOKUP(P171,Inputs,10,FALSE))&\"  \",0)","v":"  "},null,{"$f":"IF(P171>0,IF(LEN(M175)>0,M175&VLOOKUP(P171,Inputs,11,FALSE),VLOOKUP(P171,Inputs,11,FALSE)),\"\")","v":"  "},null,{"$f":"IF(P171>0,VLOOKUP(P171,Inputs,12,FALSE),\"\")","v":0},{"$f":"IF(V171>1,UPPER(VLOOKUP(V171,Inputs,10,FALSE))&\"  \",0)","v":"  "},null,{"$f":"IF(V171>0,IF(LEN(R175)>0,R175&VLOOKUP(V171,Inputs,11,FALSE),VLOOKUP(V171,Inputs,11,FALSE)),\"\")","v":"  "},null,null,{"$f":"IF(V171>0,VLOOKUP(V171,Inputs,12,FALSE),\"\")","v":0},{"$f":"IF(AA171>1,UPPER(VLOOKUP(AA171,Inputs,10,FALSE))&\"  \",0)","v":"  "},null,{"$f":"IF(AA171>0,IF(LEN(X175)>0,X175&VLOOKUP(AA171,Inputs,11,FALSE),VLOOKUP(AA171,Inputs,11,FALSE)),\"\")","v":"  "},null,null,{"$f":"IF(AA171>0,VLOOKUP(AA171,Inputs,12,FALSE),\"\")","v":0},{"$f":"IF(AG171>1,UPPER(VLOOKUP(AG171,Inputs,10,FALSE))&\"  \",0)","v":"  "},null,{"$f":"IF(AG171>0,IF(LEN(AD175)>0,AD175&VLOOKUP(AG171,Inputs,11,FALSE),VLOOKUP(AG171,Inputs,11,FALSE)),\"\")","v":"  "},null,{"$f":"IF(AG171>0,VLOOKUP(AG171,Inputs,12,FALSE),\"\")","v":0},{"$f":"UPPER(VLOOKUP(AL171,Inputs,10,FALSE))&\"  \"","v":"  "},null,{"$f":"IF(LEN(AI175)>2,AI175&VLOOKUP(AL171,Inputs,11,FALSE),VLOOKUP(AL171,Inputs,11,FALSE))","v":0},null,{"$f":"VLOOKUP(AL171,Inputs,12,FALSE)","v":0},null,null,{"$f":"IF($A175=AP$5,$G175,0)+IF($H175=AP$5,$L175,0)+IF($M175=AP$5,$Q175,0)+IF($R175=AP$5,$W175,0)+IF($X175=AP$5,AC175,0)+IF($AD175=AP$5,AH175,0)+IF(AI175=AP$5,AM175,0)","v":0},0,0,0,0,0,0,0,0,0,0,0,0,0,null,"2540 Zanella Way, Suite 20"]
[{"$f":"IF(F171>1,UPPER(VLOOKUP(F171,Inputs,13,FALSE))&\"  \",0)","v":"  "},null,null,null,{"$f":"IF(F171>0,IF(LEN(A176)>2,A176&VLOOKUP(F171,Inputs,14,FALSE),VLOOKUP(F171,Inputs,14,FALSE)),\"\")","v":0},null,{"$f":"IF(F171>0,VLOOKUP(F171,Inputs,15,FALSE),\"\")","v":0},{"$f":"IF(K171>1,UPPER(VLOOKUP(K171,Inputs,13,FALSE))&\"  \",0)","v":"  "},null,{"$f":"IF(K171>0,IF(LEN(H176)>2,H176&VLOOKUP(K171,Inputs,14,FALSE),VLOOKUP(K171,Inputs,14,FALSE)),\"\")","v":0},null,{"$f":"IF(K171>0,VLOOKUP(K171,Inputs,15,FALSE),\"\")","v":0},{"$f":"IF(P171>1,UPPER(VLOOKUP(P171,Inputs,13,FALSE))&\"  \",0)","v":"  "},null,{"$f":"IF(P171>0,IF(LEN(M176)>2,M176&VLOOKUP(P171,Inputs,14,FALSE),VLOOKUP(P171,Inputs,14,FALSE)),\"\")","v":0},null,{"$f":"IF(P171>0,VLOOKUP(P171,Inputs,15,FALSE),\"\")","v":0},{"$f":"IF(V171>1,UPPER(VLOOKUP(V171,Inputs,13,FALSE))&\"  \",0)","v":"  "},null,{"$f":"IF(V171>0,IF(LEN(R176)>2,R176&VLOOKUP(V171,Inputs,14,FALSE),VLOOKUP(V171,Inputs,14,FALSE)),\"\")","v":0},null,null,{"$f":"IF(V171>0,VLOOKUP(V171,Inputs,15,FALSE),\"\")","v":0},{"$f":"IF(AA171>1,UPPER(VLOOKUP(AA171,Inputs,13,FALSE))&\"  \",0)","v":"  "},null,{"$f":"IF(AA171>0,IF(LEN(X176)>2,X176&VLOOKUP(AA171,Inputs,14,FALSE),VLOOKUP(AA171,Inputs,14,FALSE)),\"\")","v":0},null,null,{"$f":"IF(AA171>0,VLOOKUP(AA171,Inputs,15,FALSE),\"\")","v":0},{"$f":"IF(AG171>1,UPPER(VLOOKUP(AG171,Inputs,13,FALSE))&\"  \",0)","v":"  "},null,{"$f":"IF(AG171>0,IF(LEN(AD176)>2,AD176&VLOOKUP(AG171,Inputs,14,FALSE),VLOOKUP(AG171,Inputs,14,FALSE)),\"\")","v":0},null,{"$f":"IF(AG171>0,VLOOKUP(AG171,Inputs,15,FALSE),\"\")","v":0},{"$f":"UPPER(VLOOKUP(AL171,Inputs,13,FALSE))&\"  \"","v":"  "},null,{"$f":"IF(LEN(AI176)>2,AI176&VLOOKUP(AL171,Inputs,14,FALSE),VLOOKUP(AL171,Inputs,14,FALSE))","v":0},null,{"$f":"VLOOKUP(AL171,Inputs,15,FALSE)","v":0},null,null,{"$f":"IF($A176=AP$5,$G176,0)+IF($H176=AP$5,$L176,0)+IF($M176=AP$5,$Q176,0)+IF($R176=AP$5,$W176,0)+IF($X176=AP$5,AC176,0)+IF($AD176=AP$5,AH176,0)+IF(AI176=AP$5,AM176,0)","v":0},0,0,0,0,0,0,0,0,0,0,0,0,0,null,"    Chico, CA 95928"]
[null,null,null,null,null,{"$f":"IF(F171>0,IF(VLOOKUP(F171,Inputs,3,FALSE)=\"T\",\"Telemarketing\",0),\"\")","v":0},null,null,null,null,{"$f":"IF(F171>0,IF(VLOOKUP(F171,Inputs,3,FALSE)=\"T\",0,IF(VLOOKUP(K171,Inputs,3,FALSE)=\"T\",\"Telemarketing\",0)),IF(VLOOKUP(K171,Inputs,3,FALSE)=\"T\",\"Telemarketing\",0))","v":0},null,null,null,null,{"$f":"IF(K171>0,IF(VLOOKUP(K171,Inputs,3,FALSE)=\"T\",0,IF(VLOOKUP(P171,Inputs,3,FALSE)=\"T\",\"Telemarketing\",0)),IF(VLOOKUP(P171,Inputs,3,FALSE)=\"T\",\"Telemarketing\",0))","v":0},null,null,null,null,null,{"$f":"IF(P171>0,IF(VLOOKUP(P171,Inputs,3,FALSE)=\"T\",0,IF(VLOOKUP(V171,Inputs,3,FALSE)=\"T\",\"Telemarketing\",0)),IF(VLOOKUP(V171,Inputs,3,FALSE)=\"T\",\"Telemarketing\",0))","v":0},null,null,null,null,{"$f":"IF(V171>0,IF(VLOOKUP(V171,Inputs,3,FALSE)=\"T\",0,IF(VLOOKUP(AA171,Inputs,3,FALSE)=\"T\",\"Telemarketing\",0)),IF(VLOOKUP(AA171,Inputs,3,FALSE)=\"T\",\"Telemarketing\",0))","v":0},null,null,null,null,null,{"$f":"IF(AA171>0,IF(VLOOKUP(AA171,Inputs,3,FALSE)=\"T\",0,IF(VLOOKUP(AG171,Inputs,3,FALSE)=\"T\",\"Telemarketing\",0)),IF(VLOOKUP(AG171,Inputs,3,FALSE)=\"T\",\"Telemarketing\",0))","v":0},null,null,null,null,{"$f":"IF(AG171>0,IF(VLOOKUP(AG171,Inputs,3,FALSE)=\"T\",0,IF(VLOOKUP(AL171,Inputs,3,FALSE)=\"T\",\"Telemarketing\",0)),IF(VLOOKUP(AL171,Inputs,3,FALSE)=\"T\",\"Telemarketing\",0))","v":0}]
[null,null,null,null,null,{"$f":"1+AL171","v":"2018-04-08"},null,null,null,null,{"$f":"1+F178","v":"2018-04-09"},null,null,null,null,{"$f":"1+K178","v":"2018-04-10"},null,null,null,null,null,{"$f":"1+P178","v":"2018-04-11"},null,null,null,null,{"$f":"1+V178","v":"2018-04-12"},null,null,null,null,null,{"$f":"1+AA178","v":"2018-04-13"},null,null,null,null,{"$f":"1+AG178","v":"2018-04-14"}]
[null,null,null,null,{"$f":"DAY(F178)","v":8},{"$f":"IF(F178>0,VLOOKUP(F178,Holidays,2),0)","v":0},null,null,null,{"$f":"DAY(K178)","v":9},{"$f":"IF(K178>0,VLOOKUP(K178,Holidays,2),0)","v":0},null,null,null,{"$f":"DAY(P178)","v":10},{"$f":"IF(P178>0,VLOOKUP(P178,Holidays,2),0)","v":0},null,null,null,{"$f":"DAY(V178)","v":11},{"$f":"IF(V178>0,VLOOKUP(V178,Holidays,2),0)","v":0},null,null,null,null,{"$f":"DAY(AA178)","v":12},{"$f":"IF(AA178>0,VLOOKUP(AA178,Holidays,2),0)","v":0},null,null,null,null,{"$f":"DAY(AG178)","v":13},{"$f":"IF(AG178>0,VLOOKUP(AG178,Holidays,2),0)","v":0},null,null,null,{"$f":"DAY(AL178)","v":14},{"$f":"IF(AL178>0,VLOOKUP(AL178,Holidays,2),0)","v":0}]
[{"$f":"UPPER(VLOOKUP(F178,Inputs,4,FALSE))&\"  \"","v":"  "},null,null,null,{"$f":"IF(LEN(A180)>2,A180&VLOOKUP(F178,Inputs,5,FALSE),VLOOKUP(F178,Inputs,5,FALSE))","v":0},null,{"$f":"IF(F178>0,VLOOKUP(F178,Inputs,6,FALSE),\"\")","v":0},{"$f":"UPPER(VLOOKUP(K178,Inputs,4,FALSE))&\"  \"","v":"  "},null,{"$f":"IF(LEN(H180)>2,H180&VLOOKUP(K178,Inputs,5,FALSE),VLOOKUP(K178,Inputs,5,FALSE))","v":0},null,{"$f":"IF(K178>0,VLOOKUP(K178,Inputs,6,FALSE),\"\")","v":0},{"$f":"UPPER(VLOOKUP(P178,Inputs,4,FALSE))&\"  \"","v":"  "},null,{"$f":"IF(LEN(M180)>2,M180&VLOOKUP(P178,Inputs,5,FALSE),VLOOKUP(P178,Inputs,5,FALSE))","v":0},null,{"$f":"IF(P178>0,VLOOKUP(P178,Inputs,6,FALSE),\"\")","v":0},{"$f":"UPPER(VLOOKUP(V178,Inputs,4,FALSE))&\"  \"","v":"  "},null,{"$f":"IF(LEN(R180)>2,R180&VLOOKUP(V178,Inputs,5,FALSE),VLOOKUP(V178,Inputs,5,FALSE))","v":0},null,null,{"$f":"IF(V178>0,VLOOKUP(V178,Inputs,6,FALSE),\"\")","v":0},{"$f":"UPPER(VLOOKUP(AA178,Inputs,4,FALSE))&\"  \"","v":"  "},null,{"$f":"IF(LEN(X180)>2,X180&VLOOKUP(AA178,Inputs,5,FALSE),VLOOKUP(AA178,Inputs,5,FALSE))","v":0},null,null,{"$f":"IF(AA178>0,VLOOKUP(AA178,Inputs,6,FALSE),\"\")","v":0},{"$f":"UPPER(VLOOKUP(AG178,Inputs,4,FALSE))&\"  \"","v":"  "},null,{"$f":"IF(LEN(AD180)>2,AD180&VLOOKUP(AG178,Inputs,5,FALSE),VLOOKUP(AG178,Inputs,5,FALSE))","v":0},null,{"$f":"IF(AG178>0,VLOOKUP(AG178,Inputs,6,FALSE),\"\")","v":0},{"$f":"UPPER(VLOOKUP(AL178,Inputs,4,FALSE))&\"  \"","v":"  "},null,{"$f":"IF(LEN(AI180)>2,AI180&VLOOKUP(AL178,Inputs,5,FALSE),VLOOKUP(AL178,Inputs,5,FALSE))","v":0},null,{"$f":"IF(AL178>0,VLOOKUP(AL178,Inputs,6,FALSE),\"\")","v":0},null,null,{"$f":"IF($A180=AP$5,$G180,0)+IF($H180=AP$5,$L180,0)+IF($M180=AP$5,$Q180,0)+IF($R180=AP$5,$W180,0)+IF($X180=AP$5,AC180,0)+IF($AD180=AP$5,AH180,0)+IF(AI180=AP$5,AM180,0)","v":0},{"$f":"IF($A180=AQ$5,$G180,0)+IF($H180=AQ$5,$L180,0)+IF($M180=AQ$5,$Q180,0)+IF($R180=AQ$5,$W180,0)+IF($X180=AQ$5,$AC180,0)+IF($AD180=AQ$5,$AH180,0)+IF($AI180=AQ$5,$AM180,0)","v":0},0,0,0,0,0,0,0,0,0,0,0,0,null,"      TheBedrock.com"]
[{"$f":"UPPER(VLOOKUP(F178,Inputs,7,FALSE))&\"  \"","v":"  "},null,null,null,{"$f":"IF(LEN(A181)>2,A181&VLOOKUP(F178,Inputs,8,FALSE),VLOOKUP(F178,Inputs,8,FALSE))","v":0},null,{"$f":"IF(F178>0,VLOOKUP(F178,Inputs,9,FALSE),\"\")","v":0},{"$f":"UPPER(VLOOKUP(K178,Inputs,7,FALSE))&\"  \"","v":"  "},null,{"$f":"IF(LEN(H181)>2,H181&VLOOKUP(K178,Inputs,8,FALSE),VLOOKUP(K178,Inputs,8,FALSE))","v":0},null,{"$f":"IF(K178>0,VLOOKUP(K178,Inputs,9,FALSE),\"\")","v":0},{"$f":"UPPER(VLOOKUP(P178,Inputs,7,FALSE))&\"  \"","v":"  "},null,{"$f":"IF(LEN(M181)>2,M181&VLOOKUP(P178,Inputs,8,FALSE),VLOOKUP(P178,Inputs,8,FALSE))","v":0},null,{"$f":"IF(P178>0,VLOOKUP(P178,Inputs,9,FALSE),\"\")","v":0},{"$f":"UPPER(VLOOKUP(V178,Inputs,7,FALSE))&\"  \"","v":"  "},null,{"$f":"IF(LEN(R181)>2,R181&VLOOKUP(V178,Inputs,8,FALSE),VLOOKUP(V178,Inputs,8,FALSE))","v":0},null,null,{"$f":"IF(V178>0,VLOOKUP(V178,Inputs,9,FALSE),\"\")","v":0},{"$f":"UPPER(VLOOKUP(AA178,Inputs,7,FALSE))&\"  \"","v":"  "},null,{"$f":"IF(LEN(X181)>2,X181&VLOOKUP(AA178,Inputs,8,FALSE),VLOOKUP(AA178,Inputs,8,FALSE))","v":0},null,null,{"$f":"IF(AA178>0,VLOOKUP(AA178,Inputs,9,FALSE),\"\")","v":0},{"$f":"UPPER(VLOOKUP(AG178,Inputs,7,FALSE))&\"  \"","v":"  "},null,{"$f":"IF(LEN(AD181)>2,AD181&VLOOKUP(AG178,Inputs,8,FALSE),VLOOKUP(AG178,Inputs,8,FALSE))","v":0},null,{"$f":"IF(AG178>0,VLOOKUP(AG178,Inputs,9,FALSE),\"\")","v":0},{"$f":"UPPER(VLOOKUP(AL178,Inputs,7,FALSE))&\"  \"","v":"  "},null,{"$f":"IF(LEN(AI181)>2,AI181&VLOOKUP(AL178,Inputs,8,FALSE),VLOOKUP(AL178,Inputs,8,FALSE))","v":0},null,{"$f":"IF(AL178>0,VLOOKUP(AL178,Inputs,9,FALSE),\"\")","v":0},null,null,{"$f":"IF($A181=AP$5,$G181,0)+IF($H181=AP$5,$L181,0)+IF($M181=AP$5,$Q181,0)+IF($R181=AP$5,$W181,0)+IF($X181=AP$5,AC181,0)+IF($AD181=AP$5,AH181,0)+IF(AI181=AP$5,AM181,0)","v":0},0,0,0,0,0,0,0,0,0,0,0,0,0]
[{"$f":"UPPER(VLOOKUP(F178,Inputs,10,FALSE))&\"  \"","v":"  "},null,null,null,{"$f":"IF(LEN(A182)>2,A182&VLOOKUP(F178,Inputs,11,FALSE),VLOOKUP(F178,Inputs,11,FALSE))","v":0},null,{"$f":"IF(F178>0,VLOOKUP(F178,Inputs,12,FALSE),\"\")","v":0},{"$f":"UPPER(VLOOKUP(K178,Inputs,10,FALSE))&\"  \"","v":"  "},null,{"$f":"IF(LEN(H182)>2,H182&VLOOKUP(K178,Inputs,11,FALSE),VLOOKUP(K178,Inputs,11,FALSE))","v":0},null,{"$f":"IF(K178>0,VLOOKUP(K178,Inputs,12,FALSE),\"\")","v":0},{"$f":"UPPER(VLOOKUP(P178,Inputs,10,FALSE))&\"  \"","v":"  "},null,{"$f":"IF(LEN(M182)>2,M182&VLOOKUP(P178,Inputs,11,FALSE),VLOOKUP(P178,Inputs,11,FALSE))","v":0},null,{"$f":"IF(P178>0,VLOOKUP(P178,Inputs,12,FALSE),\"\")","v":0},{"$f":"UPPER(VLOOKUP(V178,Inputs,10,FALSE))&\"  \"","v":"  "},null,{"$f":"IF(LEN(R182)>2,R182&VLOOKUP(V178,Inputs,11,FALSE),VLOOKUP(V178,Inputs,11,FALSE))","v":0},null,null,{"$f":"IF(V178>0,VLOOKUP(V178,Inputs,12,FALSE),\"\")","v":0},{"$f":"UPPER(VLOOKUP(AA178,Inputs,10,FALSE))&\"  \"","v":"  "},null,{"$f":"IF(LEN(X182)>2,X182&VLOOKUP(AA178,Inputs,11,FALSE),VLOOKUP(AA178,Inputs,11,FALSE))","v":0},null,null,{"$f":"IF(AA178>0,VLOOKUP(AA178,Inputs,12,FALSE),\"\")","v":0},{"$f":"UPPER(VLOOKUP(AG178,Inputs,10,FALSE))&\"  \"","v":"  "},null,{"$f":"IF(LEN(AD182)>2,AD182&VLOOKUP(AG178,Inputs,11,FALSE),VLOOKUP(AG178,Inputs,11,FALSE))","v":0},null,{"$f":"IF(AG178>0,VLOOKUP(AG178,Inputs,12,FALSE),\"\")","v":0},{"$f":"UPPER(VLOOKUP(AL178,Inputs,10,FALSE))&\"  \"","v":"  "},null,{"$f":"IF(LEN(AI182)>2,AI182&VLOOKUP(AL178,Inputs,11,FALSE),VLOOKUP(AL178,Inputs,11,FALSE))","v":0},null,{"$f":"IF(AL178>0,VLOOKUP(AL178,Inputs,12,FALSE),\"\")","v":0},null,null,{"$f":"IF($A182=AP$5,$G182,0)+IF($H182=AP$5,$L182,0)+IF($M182=AP$5,$Q182,0)+IF($R182=AP$5,$W182,0)+IF($X182=AP$5,AC182,0)+IF($AD182=AP$5,AH182,0)+IF(AI182=AP$5,AM182,0)","v":0},0,0,0,0,0,0,0,0,0,0,0,0,0]
[{"$f":"UPPER(VLOOKUP(F178,Inputs,13,FALSE))&\"  \"","v":"  "},null,null,null,{"$f":"IF(LEN(A183)>2,A183&VLOOKUP(F178,Inputs,14,FALSE),VLOOKUP(F178,Inputs,14,FALSE))","v":0},null,{"$f":"IF(F178>0,VLOOKUP(F178,Inputs,15,FALSE),\"\")","v":0},{"$f":"UPPER(VLOOKUP(K178,Inputs,13,FALSE))&\"  \"","v":"  "},null,{"$f":"IF(LEN(H183)>2,H183&VLOOKUP(K178,Inputs,14,FALSE),VLOOKUP(K178,Inputs,14,FALSE))","v":0},null,{"$f":"IF(K178>0,VLOOKUP(K178,Inputs,15,FALSE),\"\")","v":0},{"$f":"UPPER(VLOOKUP(P178,Inputs,13,FALSE))&\"  \"","v":"  "},null,{"$f":"IF(LEN(M183)>2,M183&VLOOKUP(P178,Inputs,14,FALSE),VLOOKUP(P178,Inputs,14,FALSE))","v":0},null,{"$f":"IF(P178>0,VLOOKUP(P178,Inputs,15,FALSE),\"\")","v":0},{"$f":"UPPER(VLOOKUP(V178,Inputs,13,FALSE))&\"  \"","v":"  "},null,{"$f":"IF(LEN(R183)>2,R183&VLOOKUP(V178,Inputs,14,FALSE),VLOOKUP(V178,Inputs,14,FALSE))","v":0},null,null,{"$f":"IF(V178>0,VLOOKUP(V178,Inputs,15,FALSE),\"\")","v":0},{"$f":"UPPER(VLOOKUP(AA178,Inputs,13,FALSE))&\"  \"","v":"  "},null,{"$f":"IF(LEN(X183)>2,X183&VLOOKUP(AA178,Inputs,14,FALSE),VLOOKUP(AA178,Inputs,14,FALSE))","v":0},null,null,{"$f":"IF(AA178>0,VLOOKUP(AA178,Inputs,15,FALSE),\"\")","v":0},{"$f":"UPPER(VLOOKUP(AG178,Inputs,13,FALSE))&\"  \"","v":"  "},null,{"$f":"IF(LEN(AD183)>2,AD183&VLOOKUP(AG178,Inputs,14,FALSE),VLOOKUP(AG178,Inputs,14,FALSE))","v":0},null,{"$f":"IF(AG178>0,VLOOKUP(AG178,Inputs,15,FALSE),\"\")","v":0},{"$f":"UPPER(VLOOKUP(AL178,Inputs,13,FALSE))&\"  \"","v":"  "},null,{"$f":"IF(LEN(AI183)>2,AI183&VLOOKUP(AL178,Inputs,14,FALSE),VLOOKUP(AL178,Inputs,14,FALSE))","v":0},null,{"$f":"IF(AL178>0,VLOOKUP(AL178,Inputs,15,FALSE),\"\")","v":0},null,null,{"$f":"IF($A183=AP$5,$G183,0)+IF($H183=AP$5,$L183,0)+IF($M183=AP$5,$Q183,0)+IF($R183=AP$5,$W183,0)+IF($X183=AP$5,AC183,0)+IF($AD183=AP$5,AH183,0)+IF(AI183=AP$5,AM183,0)","v":0},0,0,0,0,0,0,0,0,0,0,0,0,0]
[null,null,null,null,null,{"$f":"IF(F178>0,IF(VLOOKUP(F178,Inputs,3,FALSE)=\"T\",\"Telemarketing\",0),\"\")","v":0},null,null,null,null,{"$f":"IF(VLOOKUP(K178-1,Inputs,3,FALSE)=\"T\",0,IF(VLOOKUP(K178,Inputs,3,FALSE)=\"T\",\"Telemarketing\",0))","v":0},null,null,null,null,{"$f":"IF(VLOOKUP(P178-1,Inputs,3,FALSE)=\"T\",0,IF(VLOOKUP(P178,Inputs,3,FALSE)=\"T\",\"Telemarketing\",0))","v":0},null,null,null,null,null,{"$f":"IF(VLOOKUP(V178-1,Inputs,3,FALSE)=\"T\",0,IF(VLOOKUP(V178,Inputs,3,FALSE)=\"T\",\"Telemarketing\",0))","v":0},null,null,null,null,{"$f":"IF(VLOOKUP(AA178-1,Inputs,3,FALSE)=\"T\",0,IF(VLOOKUP(AA178,Inputs,3,FALSE)=\"T\",\"Telemarketing\",0))","v":0},null,null,null,null,null,{"$f":"IF(VLOOKUP(AG178-1,Inputs,3,FALSE)=\"T\",0,IF(VLOOKUP(AG178,Inputs,3,FALSE)=\"T\",\"Telemarketing\",0))","v":0},null,null,null,null,{"$f":"IF(VLOOKUP(AL178-1,Inputs,3,FALSE)=\"T\",0,IF(VLOOKUP(AL178,Inputs,3,FALSE)=\"T\",\"Telemarketing\",0))","v":0}]
[null,null,null,null,null,{"$f":"1+AL178","v":"2018-04-15"},null,null,null,null,{"$f":"1+F185","v":"2018-04-16"},null,null,null,null,{"$f":"1+K185","v":"2018-04-17"},null,null,null,null,null,{"$f":"1+P185","v":"2018-04-18"},null,null,null,null,{"$f":"1+V185","v":"2018-04-19"},null,null,null,null,null,{"$f":"1+AA185","v":"2018-04-20"},null,null,null,null,{"$f":"1+AG185","v":"2018-04-21"}]
[null,null,null,null,{"$f":"DAY(F185)","v":15},{"$f":"IF(F185>0,VLOOKUP(F185,Holidays,2),0)","v":0},null,null,null,{"$f":"DAY(K185)","v":16},{"$f":"IF(K185>0,VLOOKUP(K185,Holidays,2),0)","v":0},null,null,null,{"$f":"DAY(P185)","v":17},{"$f":"IF(P185>0,VLOOKUP(P185,Holidays,2),0)","v":0},null,null,null,{"$f":"DAY(V185)","v":18},{"$f":"IF(V185>0,VLOOKUP(V185,Holidays,2),0)","v":0},null,null,null,null,{"$f":"DAY(AA185)","v":19},{"$f":"IF(AA185>0,VLOOKUP(AA185,Holidays,2),0)","v":0},null,null,null,null,{"$f":"DAY(AG185)","v":20},{"$f":"IF(AG185>0,VLOOKUP(AG185,Holidays,2),0)","v":0},null,null,null,{"$f":"DAY(AL185)","v":21},{"$f":"IF(AL185>0,VLOOKUP(AL185,Holidays,2),0)","v":0}]
[{"$f":"UPPER(VLOOKUP(F185,Inputs,4,FALSE))&\"  \"","v":"  "},null,null,null,{"$f":"IF(LEN(A187)>2,A187&VLOOKUP(F185,Inputs,5,FALSE),VLOOKUP(F185,Inputs,5,FALSE))","v":0},null,{"$f":"IF(F185>0,VLOOKUP(F185,Inputs,6,FALSE),\"\")","v":0},{"$f":"UPPER(VLOOKUP(K185,Inputs,4,FALSE))&\"  \"","v":"  "},null,{"$f":"IF(LEN(H187)>2,H187&VLOOKUP(K185,Inputs,5,FALSE),VLOOKUP(K185,Inputs,5,FALSE))","v":0},null,{"$f":"IF(K185>0,VLOOKUP(K185,Inputs,6,FALSE),\"\")","v":0},{"$f":"UPPER(VLOOKUP(P185,Inputs,4,FALSE))&\"  \"","v":"  "},null,{"$f":"IF(LEN(M187)>2,M187&VLOOKUP(P185,Inputs,5,FALSE),VLOOKUP(P185,Inputs,5,FALSE))","v":0},null,{"$f":"IF(P185>0,VLOOKUP(P185,Inputs,6,FALSE),\"\")","v":0},{"$f":"UPPER(VLOOKUP(V185,Inputs,4,FALSE))&\"  \"","v":"  "},null,{"$f":"IF(LEN(R187)>2,R187&VLOOKUP(V185,Inputs,5,FALSE),VLOOKUP(V185,Inputs,5,FALSE))","v":0},null,null,{"$f":"IF(V185>0,VLOOKUP(V185,Inputs,6,FALSE),\"\")","v":0},{"$f":"UPPER(VLOOKUP(AA185,Inputs,4,FALSE))&\"  \"","v":"  "},null,{"$f":"IF(LEN(X187)>2,X187&VLOOKUP(AA185,Inputs,5,FALSE),VLOOKUP(AA185,Inputs,5,FALSE))","v":0},null,null,{"$f":"IF(AA185>0,VLOOKUP(AA185,Inputs,6,FALSE),\"\")","v":0},{"$f":"UPPER(VLOOKUP(AG185,Inputs,4,FALSE))&\"  \"","v":"  "},null,{"$f":"IF(LEN(AD187)>2,AD187&VLOOKUP(AG185,Inputs,5,FALSE),VLOOKUP(AG185,Inputs,5,FALSE))","v":0},null,{"$f":"IF(AG185>0,VLOOKUP(AG185,Inputs,6,FALSE),\"\")","v":0},{"$f":"UPPER(VLOOKUP(AL185,Inputs,4,FALSE))&\"  \"","v":"  "},null,{"$f":"IF(LEN(AI187)>2,AI187&VLOOKUP(AL185,Inputs,5,FALSE),VLOOKUP(AL185,Inputs,5,FALSE))","v":0},null,{"$f":"IF(AL185>0,VLOOKUP(AL185,Inputs,6,FALSE),\"\")","v":0},null,null,{"$f":"IF($A187=AP$5,$G187,0)+IF($H187=AP$5,$L187,0)+IF($M187=AP$5,$Q187,0)+IF($R187=AP$5,$W187,0)+IF($X187=AP$5,AC187,0)+IF($AD187=AP$5,AH187,0)+IF(AI187=AP$5,AM187,0)","v":0},{"$f":"IF($A187=AQ$5,$G187,0)+IF($H187=AQ$5,$L187,0)+IF($M187=AQ$5,$Q187,0)+IF($R187=AQ$5,$W187,0)+IF($X187=AQ$5,$AC187,0)+IF($AD187=AQ$5,$AH187,0)+IF($AI187=AQ$5,$AM187,0)","v":0},0,0,0,0,0,0,0,0,0,0,0,0]
[{"$f":"UPPER(VLOOKUP(F185,Inputs,7,FALSE))&\"  \"","v":"  "},null,null,null,{"$f":"IF(LEN(A188)>2,A188&VLOOKUP(F185,Inputs,8,FALSE),VLOOKUP(F185,Inputs,8,FALSE))","v":0},null,{"$f":"IF(F185>0,VLOOKUP(F185,Inputs,9,FALSE),\"\")","v":0},{"$f":"UPPER(VLOOKUP(K185,Inputs,7,FALSE))&\"  \"","v":"  "},null,{"$f":"IF(LEN(H188)>2,H188&VLOOKUP(K185,Inputs,8,FALSE),VLOOKUP(K185,Inputs,8,FALSE))","v":0},null,{"$f":"IF(K185>0,VLOOKUP(K185,Inputs,9,FALSE),\"\")","v":0},{"$f":"UPPER(VLOOKUP(P185,Inputs,7,FALSE))&\"  \"","v":"  "},null,{"$f":"IF(LEN(M188)>2,M188&VLOOKUP(P185,Inputs,8,FALSE),VLOOKUP(P185,Inputs,8,FALSE))","v":0},null,{"$f":"IF(P185>0,VLOOKUP(P185,Inputs,9,FALSE),\"\")","v":0},{"$f":"UPPER(VLOOKUP(V185,Inputs,7,FALSE))&\"  \"","v":"  "},null,{"$f":"IF(LEN(R188)>2,R188&VLOOKUP(V185,Inputs,8,FALSE),VLOOKUP(V185,Inputs,8,FALSE))","v":0},null,null,{"$f":"IF(V185>0,VLOOKUP(V185,Inputs,9,FALSE),\"\")","v":0},{"$f":"UPPER(VLOOKUP(AA185,Inputs,7,FALSE))&\"  \"","v":"  "},null,{"$f":"IF(LEN(X188)>2,X188&VLOOKUP(AA185,Inputs,8,FALSE),VLOOKUP(AA185,Inputs,8,FALSE))","v":0},null,null,{"$f":"IF(AA185>0,VLOOKUP(AA185,Inputs,9,FALSE),\"\")","v":0},{"$f":"UPPER(VLOOKUP(AG185,Inputs,7,FALSE))&\"  \"","v":"  "},null,{"$f":"IF(LEN(AD188)>2,AD188&VLOOKUP(AG185,Inputs,8,FALSE),VLOOKUP(AG185,Inputs,8,FALSE))","v":0},null,{"$f":"IF(AG185>0,VLOOKUP(AG185,Inputs,9,FALSE),\"\")","v":0},{"$f":"UPPER(VLOOKUP(AL185,Inputs,7,FALSE))&\"  \"","v":"  "},null,{"$f":"IF(LEN(AI188)>2,AI188&VLOOKUP(AL185,Inputs,8,FALSE),VLOOKUP(AL185,Inputs,8,FALSE))","v":0},null,{"$f":"IF(AL185>0,VLOOKUP(AL185,Inputs,9,FALSE),\"\")","v":0},null,null,{"$f":"IF($A188=AP$5,$G188,0)+IF($H188=AP$5,$L188,0)+IF($M188=AP$5,$Q188,0)+IF($R188=AP$5,$W188,0)+IF($X188=AP$5,AC188,0)+IF($AD188=AP$5,AH188,0)+IF(AI188=AP$5,AM188,0)","v":0},0,0,0,0,0,0,0,0,0,0,0,0,0]
[{"$f":"UPPER(VLOOKUP(F185,Inputs,10,FALSE))&\"  \"","v":"  "},null,null,null,{"$f":"IF(LEN(A189)>2,A189&VLOOKUP(F185,Inputs,11,FALSE),VLOOKUP(F185,Inputs,11,FALSE))","v":0},null,{"$f":"IF(F185>0,VLOOKUP(F185,Inputs,12,FALSE),\"\")","v":0},{"$f":"UPPER(VLOOKUP(K185,Inputs,10,FALSE))&\"  \"","v":"  "},null,{"$f":"IF(LEN(H189)>2,H189&VLOOKUP(K185,Inputs,11,FALSE),VLOOKUP(K185,Inputs,11,FALSE))","v":0},null,{"$f":"IF(K185>0,VLOOKUP(K185,Inputs,12,FALSE),\"\")","v":0},{"$f":"UPPER(VLOOKUP(P185,Inputs,10,FALSE))&\"  \"","v":"  "},null,{"$f":"IF(LEN(M189)>2,M189&VLOOKUP(P185,Inputs,11,FALSE),VLOOKUP(P185,Inputs,11,FALSE))","v":0},null,{"$f":"IF(P185>0,VLOOKUP(P185,Inputs,12,FALSE),\"\")","v":0},{"$f":"UPPER(VLOOKUP(V185,Inputs,10,FALSE))&\"  \"","v":"  "},null,{"$f":"IF(LEN(R189)>2,R189&VLOOKUP(V185,Inputs,11,FALSE),VLOOKUP(V185,Inputs,11,FALSE))","v":0},null,null,{"$f":"IF(V185>0,VLOOKUP(V185,Inputs,12,FALSE),\"\")","v":0},{"$f":"UPPER(VLOOKUP(AA185,Inputs,10,FALSE))&\"  \"","v":"  "},null,{"$f":"IF(LEN(X189)>2,X189&VLOOKUP(AA185,Inputs,11,FALSE),VLOOKUP(AA185,Inputs,11,FALSE))","v":0},null,null,{"$f":"IF(AA185>0,VLOOKUP(AA185,Inputs,12,FALSE),\"\")","v":0},{"$f":"UPPER(VLOOKUP(AG185,Inputs,10,FALSE))&\"  \"","v":"  "},null,{"$f":"IF(LEN(AD189)>2,AD189&VLOOKUP(AG185,Inputs,11,FALSE),VLOOKUP(AG185,Inputs,11,FALSE))","v":0},null,{"$f":"IF(AG185>0,VLOOKUP(AG185,Inputs,12,FALSE),\"\")","v":0},{"$f":"UPPER(VLOOKUP(AL185,Inputs,10,FALSE))&\"  \"","v":"  "},null,{"$f":"IF(LEN(AI189)>2,AI189&VLOOKUP(AL185,Inputs,11,FALSE),VLOOKUP(AL185,Inputs,11,FALSE))","v":0},null,{"$f":"IF(AL185>0,VLOOKUP(AL185,Inputs,12,FALSE),\"\")","v":0},null,null,{"$f":"IF($A189=AP$5,$G189,0)+IF($H189=AP$5,$L189,0)+IF($M189=AP$5,$Q189,0)+IF($R189=AP$5,$W189,0)+IF($X189=AP$5,AC189,0)+IF($AD189=AP$5,AH189,0)+IF(AI189=AP$5,AM189,0)","v":0},0,0,0,0,0,0,0,0,0,0,0,0,0]
[{"$f":"UPPER(VLOOKUP(F185,Inputs,13,FALSE))&\"  \"","v":"  "},null,null,null,{"$f":"IF(LEN(A190)>2,A190&VLOOKUP(F185,Inputs,14,FALSE),VLOOKUP(F185,Inputs,14,FALSE))","v":0},null,{"$f":"IF(F185>0,VLOOKUP(F185,Inputs,15,FALSE),\"\")","v":0},{"$f":"UPPER(VLOOKUP(K185,Inputs,13,FALSE))&\"  \"","v":"  "},null,{"$f":"IF(LEN(H190)>2,H190&VLOOKUP(K185,Inputs,14,FALSE),VLOOKUP(K185,Inputs,14,FALSE))","v":0},null,{"$f":"IF(K185>0,VLOOKUP(K185,Inputs,15,FALSE),\"\")","v":0},{"$f":"UPPER(VLOOKUP(P185,Inputs,13,FALSE))&\"  \"","v":"  "},null,{"$f":"IF(LEN(M190)>2,M190&VLOOKUP(P185,Inputs,14,FALSE),VLOOKUP(P185,Inputs,14,FALSE))","v":0},null,{"$f":"IF(P185>0,VLOOKUP(P185,Inputs,15,FALSE),\"\")","v":0},{"$f":"UPPER(VLOOKUP(V185,Inputs,13,FALSE))&\"  \"","v":"  "},null,{"$f":"IF(LEN(R190)>2,R190&VLOOKUP(V185,Inputs,14,FALSE),VLOOKUP(V185,Inputs,14,FALSE))","v":0},null,null,{"$f":"IF(V185>0,VLOOKUP(V185,Inputs,15,FALSE),\"\")","v":0},{"$f":"UPPER(VLOOKUP(AA185,Inputs,13,FALSE))&\"  \"","v":"  "},null,{"$f":"IF(LEN(X190)>2,X190&VLOOKUP(AA185,Inputs,14,FALSE),VLOOKUP(AA185,Inputs,14,FALSE))","v":0},null,null,{"$f":"IF(AA185>0,VLOOKUP(AA185,Inputs,15,FALSE),\"\")","v":0},{"$f":"UPPER(VLOOKUP(AG185,Inputs,13,FALSE))&\"  \"","v":"  "},null,{"$f":"IF(LEN(AD190)>2,AD190&VLOOKUP(AG185,Inputs,14,FALSE),VLOOKUP(AG185,Inputs,14,FALSE))","v":0},null,{"$f":"IF(AG185>0,VLOOKUP(AG185,Inputs,15,FALSE),\"\")","v":0},{"$f":"UPPER(VLOOKUP(AL185,Inputs,13,FALSE))&\"  \"","v":"  "},null,{"$f":"IF(LEN(AI190)>2,AI190&VLOOKUP(AL185,Inputs,14,FALSE),VLOOKUP(AL185,Inputs,14,FALSE))","v":0},null,{"$f":"IF(AL185>0,VLOOKUP(AL185,Inputs,15,FALSE),\"\")","v":0},null,null,{"$f":"IF($A190=AP$5,$G190,0)+IF($H190=AP$5,$L190,0)+IF($M190=AP$5,$Q190,0)+IF($R190=AP$5,$W190,0)+IF($X190=AP$5,AC190,0)+IF($AD190=AP$5,AH190,0)+IF(AI190=AP$5,AM190,0)","v":0},0,0,0,0,0,0,0,0,0,0,0,0,0]
[null,null,null,null,null,{"$f":"IF(F185>0,IF(VLOOKUP(F185,Inputs,3,FALSE)=\"T\",\"Telemarketing\",0),\"\")","v":0},null,null,null,null,{"$f":"IF(VLOOKUP(K185-1,Inputs,3,FALSE)=\"T\",0,IF(VLOOKUP(K185,Inputs,3,FALSE)=\"T\",\"Telemarketing\",0))","v":0},null,null,null,null,{"$f":"IF(VLOOKUP(P185-1,Inputs,3,FALSE)=\"T\",0,IF(VLOOKUP(P185,Inputs,3,FALSE)=\"T\",\"Telemarketing\",0))","v":0},null,null,null,null,null,{"$f":"IF(VLOOKUP(V185-1,Inputs,3,FALSE)=\"T\",0,IF(VLOOKUP(V185,Inputs,3,FALSE)=\"T\",\"Telemarketing\",0))","v":0},null,null,null,null,{"$f":"IF(VLOOKUP(AA185-1,Inputs,3,FALSE)=\"T\",0,IF(VLOOKUP(AA185,Inputs,3,FALSE)=\"T\",\"Telemarketing\",0))","v":0},null,null,null,null,null,{"$f":"IF(VLOOKUP(AG185-1,Inputs,3,FALSE)=\"T\",0,IF(VLOOKUP(AG185,Inputs,3,FALSE)=\"T\",\"Telemarketing\",0))","v":0},null,null,null,null,{"$f":"IF(VLOOKUP(AL185-1,Inputs,3,FALSE)=\"T\",0,IF(VLOOKUP(AL185,Inputs,3,FALSE)=\"T\",\"Telemarketing\",0))","v":0}]
[null,null,null,null,null,{"$f":"1+AL185","v":"2018-04-22"},null,null,null,null,{"$f":"1+F192","v":"2018-04-23"},null,null,null,null,{"$f":"1+K192","v":"2018-04-24"},null,null,null,null,null,{"$f":"1+P192","v":"2018-04-25"},null,null,null,null,{"$f":"1+V192","v":"2018-04-26"},null,null,null,null,null,{"$f":"1+AA192","v":"2018-04-27"},null,null,null,null,{"$f":"1+AG192","v":"2018-04-28"}]
[null,null,null,null,{"$f":"DAY(F192)","v":22},{"$f":"IF(F192>0,VLOOKUP(F192,Holidays,2),0)","v":0},null,null,null,{"$f":"DAY(K192)","v":23},{"$f":"IF(K192>0,VLOOKUP(K192,Holidays,2),0)","v":0},null,null,null,{"$f":"DAY(P192)","v":24},{"$f":"IF(P192>0,VLOOKUP(P192,Holidays,2),0)","v":0},null,null,null,{"$f":"DAY(V192)","v":25},{"$f":"IF(V192>0,VLOOKUP(V192,Holidays,2),0)","v":0},null,null,null,null,{"$f":"DAY(AA192)","v":26},{"$f":"IF(AA192>0,VLOOKUP(AA192,Holidays,2),0)","v":0},null,null,null,null,{"$f":"DAY(AG192)","v":27},{"$f":"IF(AG192>0,VLOOKUP(AG192,Holidays,2),0)","v":0},null,null,null,{"$f":"DAY(AL192)","v":28},{"$f":"IF(AL192>0,VLOOKUP(AL192,Holidays,2),0)","v":0}]
[{"$f":"UPPER(VLOOKUP(F192,Inputs,4,FALSE))&\"  \"","v":"  "},null,null,null,{"$f":"IF(LEN(A194)>2,A194&VLOOKUP(F192,Inputs,5,FALSE),VLOOKUP(F192,Inputs,5,FALSE))","v":0},null,{"$f":"IF(F192>0,VLOOKUP(F192,Inputs,6,FALSE),\"\")","v":0},{"$f":"UPPER(VLOOKUP(K192,Inputs,4,FALSE))&\"  \"","v":"  "},null,{"$f":"IF(LEN(H194)>2,H194&VLOOKUP(K192,Inputs,5,FALSE),VLOOKUP(K192,Inputs,5,FALSE))","v":0},null,{"$f":"IF(K192>0,VLOOKUP(K192,Inputs,6,FALSE),\"\")","v":0},{"$f":"UPPER(VLOOKUP(P192,Inputs,4,FALSE))&\"  \"","v":"  "},null,{"$f":"IF(LEN(M194)>2,M194&VLOOKUP(P192,Inputs,5,FALSE),VLOOKUP(P192,Inputs,5,FALSE))","v":0},null,{"$f":"IF(P192>0,VLOOKUP(P192,Inputs,6,FALSE),\"\")","v":0},{"$f":"UPPER(VLOOKUP(V192,Inputs,4,FALSE))&\"  \"","v":"  "},null,{"$f":"IF(LEN(R194)>2,R194&VLOOKUP(V192,Inputs,5,FALSE),VLOOKUP(V192,Inputs,5,FALSE))","v":0},null,null,{"$f":"IF(V192>0,VLOOKUP(V192,Inputs,6,FALSE),\"\")","v":0},{"$f":"UPPER(VLOOKUP(AA192,Inputs,4,FALSE))&\"  \"","v":"  "},null,{"$f":"IF(LEN(X194)>2,X194&VLOOKUP(AA192,Inputs,5,FALSE),VLOOKUP(AA192,Inputs,5,FALSE))","v":0},null,null,{"$f":"IF(AA192>0,VLOOKUP(AA192,Inputs,6,FALSE),\"\")","v":0},{"$f":"UPPER(VLOOKUP(AG192,Inputs,4,FALSE))&\"  \"","v":"  "},null,{"$f":"IF(LEN(AD194)>2,AD194&VLOOKUP(AG192,Inputs,5,FALSE),VLOOKUP(AG192,Inputs,5,FALSE))","v":0},null,{"$f":"IF(AG192>0,VLOOKUP(AG192,Inputs,6,FALSE),\"\")","v":0},{"$f":"UPPER(VLOOKUP(AL192,Inputs,4,FALSE))&\"  \"","v":"  "},null,{"$f":"IF(LEN(AI194)>2,AI194&VLOOKUP(AL192,Inputs,5,FALSE),VLOOKUP(AL192,Inputs,5,FALSE))","v":0},null,{"$f":"IF(AL192>0,VLOOKUP(AL192,Inputs,6,FALSE),\"\")","v":0},null,null,{"$f":"IF($A194=AP$5,$G194,0)+IF($H194=AP$5,$L194,0)+IF($M194=AP$5,$Q194,0)+IF($R194=AP$5,$W194,0)+IF($X194=AP$5,AC194,0)+IF($AD194=AP$5,AH194,0)+IF(AI194=AP$5,AM194,0)","v":0},{"$f":"IF($A194=AQ$5,$G194,0)+IF($H194=AQ$5,$L194,0)+IF($M194=AQ$5,$Q194,0)+IF($R194=AQ$5,$W194,0)+IF($X194=AQ$5,$AC194,0)+IF($AD194=AQ$5,$AH194,0)+IF($AI194=AQ$5,$AM194,0)","v":0},0,0,0,0,0,0,0,0,0,0,0,0]
[{"$f":"UPPER(VLOOKUP(F192,Inputs,7,FALSE))&\"  \"","v":"  "},null,null,null,{"$f":"IF(LEN(A195)>2,A195&VLOOKUP(F192,Inputs,8,FALSE),VLOOKUP(F192,Inputs,8,FALSE))","v":0},null,{"$f":"IF(F192>0,VLOOKUP(F192,Inputs,9,FALSE),\"\")","v":0},{"$f":"UPPER(VLOOKUP(K192,Inputs,7,FALSE))&\"  \"","v":"  "},null,{"$f":"IF(LEN(H195)>2,H195&VLOOKUP(K192,Inputs,8,FALSE),VLOOKUP(K192,Inputs,8,FALSE))","v":0},null,{"$f":"IF(K192>0,VLOOKUP(K192,Inputs,9,FALSE),\"\")","v":0},{"$f":"UPPER(VLOOKUP(P192,Inputs,7,FALSE))&\"  \"","v":"  "},null,{"$f":"IF(LEN(M195)>2,M195&VLOOKUP(P192,Inputs,8,FALSE),VLOOKUP(P192,Inputs,8,FALSE))","v":0},null,{"$f":"IF(P192>0,VLOOKUP(P192,Inputs,9,FALSE),\"\")","v":0},{"$f":"UPPER(VLOOKUP(V192,Inputs,7,FALSE))&\"  \"","v":"  "},null,{"$f":"IF(LEN(R195)>2,R195&VLOOKUP(V192,Inputs,8,FALSE),VLOOKUP(V192,Inputs,8,FALSE))","v":0},null,null,{"$f":"IF(V192>0,VLOOKUP(V192,Inputs,9,FALSE),\"\")","v":0},{"$f":"UPPER(VLOOKUP(AA192,Inputs,7,FALSE))&\"  \"","v":"  "},null,{"$f":"IF(LEN(X195)>2,X195&VLOOKUP(AA192,Inputs,8,FALSE),VLOOKUP(AA192,Inputs,8,FALSE))","v":0},null,null,{"$f":"IF(AA192>0,VLOOKUP(AA192,Inputs,9,FALSE),\"\")","v":0},{"$f":"UPPER(VLOOKUP(AG192,Inputs,7,FALSE))&\"  \"","v":"  "},null,{"$f":"IF(LEN(AD195)>2,AD195&VLOOKUP(AG192,Inputs,8,FALSE),VLOOKUP(AG192,Inputs,8,FALSE))","v":0},null,{"$f":"IF(AG192>0,VLOOKUP(AG192,Inputs,9,FALSE),\"\")","v":0},{"$f":"UPPER(VLOOKUP(AL192,Inputs,7,FALSE))&\"  \"","v":"  "},null,{"$f":"IF(LEN(AI195)>2,AI195&VLOOKUP(AL192,Inputs,8,FALSE),VLOOKUP(AL192,Inputs,8,FALSE))","v":0},null,{"$f":"IF(AL192>0,VLOOKUP(AL192,Inputs,9,FALSE),\"\")","v":0},null,null,{"$f":"IF($A195=AP$5,$G195,0)+IF($H195=AP$5,$L195,0)+IF($M195=AP$5,$Q195,0)+IF($R195=AP$5,$W195,0)+IF($X195=AP$5,AC195,0)+IF($AD195=AP$5,AH195,0)+IF(AI195=AP$5,AM195,0)","v":0},0,0,0,0,0,0,0,0,0,0,0,0,0]
[{"$f":"UPPER(VLOOKUP(F192,Inputs,10,FALSE))&\"  \"","v":"  "},null,null,null,{"$f":"IF(LEN(A196)>2,A196&VLOOKUP(F192,Inputs,11,FALSE),VLOOKUP(F192,Inputs,11,FALSE))","v":0},null,{"$f":"IF(F192>0,VLOOKUP(F192,Inputs,12,FALSE),\"\")","v":0},{"$f":"UPPER(VLOOKUP(K192,Inputs,10,FALSE))&\"  \"","v":"  "},null,{"$f":"IF(LEN(H196)>2,H196&VLOOKUP(K192,Inputs,11,FALSE),VLOOKUP(K192,Inputs,11,FALSE))","v":0},null,{"$f":"IF(K192>0,VLOOKUP(K192,Inputs,12,FALSE),\"\")","v":0},{"$f":"UPPER(VLOOKUP(P192,Inputs,10,FALSE))&\"  \"","v":"  "},null,{"$f":"IF(LEN(M196)>2,M196&VLOOKUP(P192,Inputs,11,FALSE),VLOOKUP(P192,Inputs,11,FALSE))","v":0},null,{"$f":"IF(P192>0,VLOOKUP(P192,Inputs,12,FALSE),\"\")","v":0},{"$f":"UPPER(VLOOKUP(V192,Inputs,10,FALSE))&\"  \"","v":"  "},null,{"$f":"IF(LEN(R196)>2,R196&VLOOKUP(V192,Inputs,11,FALSE),VLOOKUP(V192,Inputs,11,FALSE))","v":0},null,null,{"$f":"IF(V192>0,VLOOKUP(V192,Inputs,12,FALSE),\"\")","v":0},{"$f":"UPPER(VLOOKUP(AA192,Inputs,10,FALSE))&\"  \"","v":"  "},null,{"$f":"IF(LEN(X196)>2,X196&VLOOKUP(AA192,Inputs,11,FALSE),VLOOKUP(AA192,Inputs,11,FALSE))","v":0},null,null,{"$f":"IF(AA192>0,VLOOKUP(AA192,Inputs,12,FALSE),\"\")","v":0},{"$f":"UPPER(VLOOKUP(AG192,Inputs,10,FALSE))&\"  \"","v":"  "},null,{"$f":"IF(LEN(AD196)>2,AD196&VLOOKUP(AG192,Inputs,11,FALSE),VLOOKUP(AG192,Inputs,11,FALSE))","v":0},null,{"$f":"IF(AG192>0,VLOOKUP(AG192,Inputs,12,FALSE),\"\")","v":0},{"$f":"UPPER(VLOOKUP(AL192,Inputs,10,FALSE))&\"  \"","v":"  "},null,{"$f":"IF(LEN(AI196)>2,AI196&VLOOKUP(AL192,Inputs,11,FALSE),VLOOKUP(AL192,Inputs,11,FALSE))","v":0},null,{"$f":"IF(AL192>0,VLOOKUP(AL192,Inputs,12,FALSE),\"\")","v":0},null,null,{"$f":"IF($A196=AP$5,$G196,0)+IF($H196=AP$5,$L196,0)+IF($M196=AP$5,$Q196,0)+IF($R196=AP$5,$W196,0)+IF($X196=AP$5,AC196,0)+IF($AD196=AP$5,AH196,0)+IF(AI196=AP$5,AM196,0)","v":0},0,0,0,0,0,0,0,0,0,0,0,0,0]
[{"$f":"UPPER(VLOOKUP(F192,Inputs,13,FALSE))&\"  \"","v":"  "},null,null,null,{"$f":"IF(LEN(A197)>2,A197&VLOOKUP(F192,Inputs,14,FALSE),VLOOKUP(F192,Inputs,14,FALSE))","v":0},null,{"$f":"IF(F192>0,VLOOKUP(F192,Inputs,15,FALSE),\"\")","v":0},{"$f":"UPPER(VLOOKUP(K192,Inputs,13,FALSE))&\"  \"","v":"  "},null,{"$f":"IF(LEN(H197)>2,H197&VLOOKUP(K192,Inputs,14,FALSE),VLOOKUP(K192,Inputs,14,FALSE))","v":0},null,{"$f":"IF(K192>0,VLOOKUP(K192,Inputs,15,FALSE),\"\")","v":0},{"$f":"UPPER(VLOOKUP(P192,Inputs,13,FALSE))&\"  \"","v":"  "},null,{"$f":"IF(LEN(M197)>2,M197&VLOOKUP(P192,Inputs,14,FALSE),VLOOKUP(P192,Inputs,14,FALSE))","v":0},null,{"$f":"IF(P192>0,VLOOKUP(P192,Inputs,15,FALSE),\"\")","v":0},{"$f":"UPPER(VLOOKUP(V192,Inputs,13,FALSE))&\"  \"","v":"  "},null,{"$f":"IF(LEN(R197)>2,R197&VLOOKUP(V192,Inputs,14,FALSE),VLOOKUP(V192,Inputs,14,FALSE))","v":0},null,null,{"$f":"IF(V192>0,VLOOKUP(V192,Inputs,15,FALSE),\"\")","v":0},{"$f":"UPPER(VLOOKUP(AA192,Inputs,13,FALSE))&\"  \"","v":"  "},null,{"$f":"IF(LEN(X197)>2,X197&VLOOKUP(AA192,Inputs,14,FALSE),VLOOKUP(AA192,Inputs,14,FALSE))","v":0},null,null,{"$f":"IF(AA192>0,VLOOKUP(AA192,Inputs,15,FALSE),\"\")","v":0},{"$f":"UPPER(VLOOKUP(AG192,Inputs,13,FALSE))&\"  \"","v":"  "},null,{"$f":"IF(LEN(AD197)>2,AD197&VLOOKUP(AG192,Inputs,14,FALSE),VLOOKUP(AG192,Inputs,14,FALSE))","v":0},null,{"$f":"IF(AG192>0,VLOOKUP(AG192,Inputs,15,FALSE),\"\")","v":0},{"$f":"UPPER(VLOOKUP(AL192,Inputs,13,FALSE))&\"  \"","v":"  "},null,{"$f":"IF(LEN(AI197)>2,AI197&VLOOKUP(AL192,Inputs,14,FALSE),VLOOKUP(AL192,Inputs,14,FALSE))","v":0},null,{"$f":"IF(AL192>0,VLOOKUP(AL192,Inputs,15,FALSE),\"\")","v":0},null,null,{"$f":"IF($A197=AP$5,$G197,0)+IF($H197=AP$5,$L197,0)+IF($M197=AP$5,$Q197,0)+IF($R197=AP$5,$W197,0)+IF($X197=AP$5,AC197,0)+IF($AD197=AP$5,AH197,0)+IF(AI197=AP$5,AM197,0)","v":0},0,0,0,0,0,0,0,0,0,0,0,0,0]
[null,null,null,null,null,{"$f":"IF(F192>0,IF(VLOOKUP(F192,Inputs,3,FALSE)=\"T\",\"Telemarketing\",0),\"\")","v":0},null,null,null,null,{"$f":"IF(VLOOKUP(K192-1,Inputs,3,FALSE)=\"T\",0,IF(VLOOKUP(K192,Inputs,3,FALSE)=\"T\",\"Telemarketing\",0))","v":0},null,null,null,null,{"$f":"IF(VLOOKUP(P192-1,Inputs,3,FALSE)=\"T\",0,IF(VLOOKUP(P192,Inputs,3,FALSE)=\"T\",\"Telemarketing\",0))","v":0},null,null,null,null,null,{"$f":"IF(VLOOKUP(V192-1,Inputs,3,FALSE)=\"T\",0,IF(VLOOKUP(V192,Inputs,3,FALSE)=\"T\",\"Telemarketing\",0))","v":0},null,null,null,null,{"$f":"IF(VLOOKUP(AA192-1,Inputs,3,FALSE)=\"T\",0,IF(VLOOKUP(AA192,Inputs,3,FALSE)=\"T\",\"Telemarketing\",0))","v":0},null,null,null,null,null,{"$f":"IF(VLOOKUP(AG192-1,Inputs,3,FALSE)=\"T\",0,IF(VLOOKUP(AG192,Inputs,3,FALSE)=\"T\",\"Telemarketing\",0))","v":0},null,null,null,null,{"$f":"IF(VLOOKUP(AL192-1,Inputs,3,FALSE)=\"T\",0,IF(VLOOKUP(AL192,Inputs,3,FALSE)=\"T\",\"Telemarketing\",0))","v":0}]
[null,null,null,null,null,{"$f":"IF(AL192>0,IF(MONTH(1+AL192)=$A217,1+AL192,0),0)","v":"2018-04-29"},null,null,null,null,{"$f":"IF(F199>0,IF(MONTH(1+F199)=$A217,1+F199,0),0)","v":"2018-04-30"},null,null,null,null,{"$f":"IF(K199>0,IF(MONTH(1+K199)=$A217,1+K199,0),0)","v":"00:00:00"},null,null,null,null,null,{"$f":"IF(P199>0,IF(MONTH(1+P199)=$A217,1+P199,0),0)","v":"00:00:00"},null,null,null,null,{"$f":"IF(V199>0,IF(MONTH(1+V199)=$A217,1+V199,0),0)","v":"00:00:00"},null,null,null,null,null,{"$f":"IF(AA199>0,IF(MONTH(1+AA199)=$A217,1+AA199,0),0)","v":"00:00:00"},null,null,null,null,{"$f":"IF(AG199>0,IF(MONTH(1+AG199)=$A217,1+AG199,0),0)","v":"00:00:00"}]
[null,null,null,null,{"$f":"DAY(F199)","v":29},{"$f":"VLOOKUP(F199,Holidays,2)","v":0},null,null,null,{"$f":"DAY(K199)","v":30},{"$f":"VLOOKUP(K199,Holidays,2)","v":0},null,null,null,{"$f":"DAY(P199)","v":0},{"$f":"VLOOKUP(P199,Holidays,2)","v":0},null,null,null,{"$f":"DAY(V199)","v":0},{"$f":"VLOOKUP(V199,Holidays,2)","v":0},null,null,null,null,{"$f":"DAY(AA199)","v":0},{"$f":"VLOOKUP(AA199,Holidays,2)","v":0},null,null,null,null,{"$f":"DAY(AG199)","v":0},{"$f":"VLOOKUP(AG199,Holidays,2)","v":0},null,null,null,{"$f":"DAY(AL199)","v":0},{"$f":"VLOOKUP(AL199,Holidays,2)","v":0}]
[{"$f":"UPPER(VLOOKUP(F199,Inputs,4,FALSE))&\"  \"","v":"  "},null,null,null,{"$f":"IF(LEN(A201)>2,A201&VLOOKUP(F199,Inputs,5,FALSE),VLOOKUP(F199,Inputs,5,FALSE))","v":0},null,{"$f":"IF(F199>0,VLOOKUP(F199,Inputs,6,FALSE),\"\")","v":0},{"$f":"UPPER(VLOOKUP(K199,Inputs,4,FALSE))&\"  \"","v":"  "},null,{"$f":"IF(LEN(H201)>2,H201&VLOOKUP(K199,Inputs,5,FALSE),VLOOKUP(K199,Inputs,5,FALSE))","v":0},null,{"$f":"IF(K199>0,VLOOKUP(K199,Inputs,6,FALSE),\"\")","v":0},{"$f":"UPPER(VLOOKUP(P199,Inputs,4,FALSE))&\"  \"","v":"  "},null,{"$f":"IF(LEN(M201)>2,M201&VLOOKUP(P199,Inputs,5,FALSE),VLOOKUP(P199,Inputs,5,FALSE))","v":0},null,{"$f":"IF(P199>0,VLOOKUP(P199,Inputs,6,FALSE),\"\")","v":""},{"$f":"IF(MONTH(V199)=A217,UPPER(VLOOKUP(V199,Inputs,4,FALSE))&\"  \",\"\")","v":""},null,{"$f":"IF(MONTH(V199)=A217,IF(LEN(R201)>0,R201&VLOOKUP(V199,Inputs,5,FALSE),VLOOKUP(V199,Inputs,5,FALSE)),\"\")","v":""},null,null,{"$f":"IF(MONTH(V199)=A217,IF(V199>0,VLOOKUP(V199,Inputs,6,FALSE),\"\"),0)","v":0},{"$f":"IF(MONTH(AA199)=A217,UPPER(VLOOKUP(AA199,Inputs,4,FALSE))&\"  \",\"\")","v":""},null,{"$f":"IF(MONTH(AA199)=A217,IF(LEN(X201)>0,X201&VLOOKUP(AA199,Inputs,5,FALSE),VLOOKUP(AA199,Inputs,5,FALSE)),\"\")","v":""},null,null,{"$f":"IF(MONTH(AA199)=A217,IF(AA199>0,VLOOKUP(AA199,Inputs,6,FALSE),\"\"),0)","v":0},{"$f":"IF(MONTH(AG199)=A217,UPPER(VLOOKUP(AG199,Inputs,4,FALSE))&\"  \",\"\")","v":""},null,{"$f":"IF(MONTH(AG199)=A217,IF(LEN(AD201)>0,AD201&VLOOKUP(AG199,Inputs,5,FALSE),VLOOKUP(AG199,Inputs,5,FALSE)),\"\")","v":""},null,{"$f":"IF(MONTH(AG199)=A217,IF(AG199>0,VLOOKUP(AG199,Inputs,6,FALSE),\"\"),0)","v":0},{"$f":"IF(MONTH(AL199)=A217,UPPER(VLOOKUP(AL199,Inputs,4,FALSE))&\"  \",\"\")","v":""},null,{"$f":"IF(MONTH(AL199)=A217,IF(LEN(AI201)>0,AI201&VLOOKUP(AL199,Inputs,5,FALSE),VLOOKUP(AL199,Inputs,5,FALSE)),\"\")","v":""},null,{"$f":"IF(MONTH(AL199)=A217,IF(AL199>0,VLOOKUP(AL199,Inputs,6,FALSE),\"\"),0)","v":0},null,null,{"$f":"IF($A201=AP$5,$G201,0)+IF($H201=AP$5,$L201,0)+IF($M201=AP$5,$Q201,0)+IF($R201=AP$5,$W201,0)+IF($X201=AP$5,AC201,0)+IF($AD201=AP$5,AH201,0)+IF(AI201=AP$5,AM201,0)","v":0},{"$f":"IF($A201=AQ$5,$G201,0)+IF($H201=AQ$5,$L201,0)+IF($M201=AQ$5,$Q201,0)+IF($R201=AQ$5,$W201,0)+IF($X201=AQ$5,$AC201,0)+IF($AD201=AQ$5,$AH201,0)+IF($AI201=AQ$5,$AM201,0)","v":0},0,0,0,0,0,0,0,0,0,0,0,0]
[{"$f":"UPPER(VLOOKUP(F199,Inputs,7,FALSE))&\"  \"","v":"  "},null,null,null,{"$f":"IF(LEN(A202)>2,A202&VLOOKUP(F199,Inputs,8,FALSE),VLOOKUP(F199,Inputs,8,FALSE))","v":0},null,{"$f":"IF(F199>0,VLOOKUP(F199,Inputs,9,FALSE),\"\")","v":0},{"$f":"UPPER(VLOOKUP(K199,Inputs,7,FALSE))&\"  \"","v":"  "},null,{"$f":"IF(LEN(H202)>2,H202&VLOOKUP(K199,Inputs,8,FALSE),VLOOKUP(K199,Inputs,8,FALSE))","v":0},null,{"$f":"IF(K199>0,VLOOKUP(K199,Inputs,9,FALSE),\"\")","v":0},{"$f":"UPPER(VLOOKUP(P199,Inputs,7,FALSE))&\"  \"","v":"  "},null,{"$f":"IF(LEN(M202)>2,M202&VLOOKUP(P199,Inputs,8,FALSE),VLOOKUP(P199,Inputs,8,FALSE))","v":0},null,{"$f":"IF(P199>0,VLOOKUP(P199,Inputs,9,FALSE),\"\")","v":""},{"$f":"IF(MONTH(V199)=A217,UPPER(VLOOKUP(V199,Inputs,7,FALSE))&\"  \",\"\")","v":""},null,{"$f":"IF(MONTH(V199)=A217,IF(LEN(R202)>0,R202&VLOOKUP(V199,Inputs,8,FALSE),VLOOKUP(V199,Inputs,8,FALSE)),\"\")","v":""},null,null,{"$f":"IF(MONTH(V199)=A217,IF(V199>0,VLOOKUP(V199,Inputs,9,FALSE),\"\"),0)","v":0},{"$f":"IF(MONTH(AA199)=A217,UPPER(VLOOKUP(AA199,Inputs,7,FALSE))&\"  \",\"\")","v":""},null,{"$f":"IF(MONTH(AA199)=A217,IF(LEN(X202)>0,X202&VLOOKUP(AA199,Inputs,8,FALSE),VLOOKUP(AA199,Inputs,8,FALSE)),\"\")","v":""},null,null,{"$f":"IF(MONTH(AA199)=A217,IF(AA199>0,VLOOKUP(AA199,Inputs,9,FALSE),\"\"),0)","v":0},{"$f":"IF(MONTH(AG199)=A217,UPPER(VLOOKUP(AG199,Inputs,7,FALSE))&\"  \",\"\")","v":""},null,{"$f":"IF(MONTH(AG199)=A217,IF(LEN(AD202)>0,AD202&VLOOKUP(AG199,Inputs,8,FALSE),VLOOKUP(AG199,Inputs,8,FALSE)),\"\")","v":""},null,{"$f":"IF(MONTH(AG199)=A217,IF(AG199>0,VLOOKUP(AG199,Inputs,9,FALSE),\"\"),0)","v":0},{"$f":"IF(MONTH(AL199)=A217,UPPER(VLOOKUP(AL199,Inputs,7,FALSE))&\"  \",\"\")","v":""},null,{"$f":"IF(MONTH(AL199)=A217,IF(LEN(AI202)>0,AI202&VLOOKUP(AL199,Inputs,8,FALSE),VLOOKUP(AL199,Inputs,8,FALSE)),\"\")","v":""},null,{"$f":"IF(MONTH(AL199)=A217,IF(AL199>0,VLOOKUP(AL199,Inputs,9,FALSE),\"\"),0)","v":0},null,null,{"$f":"IF($A202=AP$5,$G202,0)+IF($H202=AP$5,$L202,0)+IF($M202=AP$5,$Q202,0)+IF($R202=AP$5,$W202,0)+IF($X202=AP$5,AC202,0)+IF($AD202=AP$5,AH202,0)+IF(AI202=AP$5,AM202,0)","v":0},0,0,0,0,0,0,0,0,0,0,0,0,0]
[{"$f":"UPPER(VLOOKUP(F199,Inputs,10,FALSE))&\"  \"","v":"  "},null,null,null,{"$f":"IF(LEN(A203)>2,A203&VLOOKUP(F199,Inputs,11,FALSE),VLOOKUP(F199,Inputs,11,FALSE))","v":0},null,{"$f":"IF(F199>0,VLOOKUP(F199,Inputs,12,FALSE),\"\")","v":0},{"$f":"UPPER(VLOOKUP(K199,Inputs,10,FALSE))&\"  \"","v":"  "},null,{"$f":"IF(LEN(H203)>2,H203&VLOOKUP(K199,Inputs,11,FALSE),VLOOKUP(K199,Inputs,11,FALSE))","v":0},null,{"$f":"IF(K199>0,VLOOKUP(K199,Inputs,12,FALSE),\"\")","v":0},{"$f":"UPPER(VLOOKUP(P199,Inputs,10,FALSE))&\"  \"","v":"  "},null,{"$f":"IF(LEN(M203)>2,M203&VLOOKUP(P199,Inputs,11,FALSE),VLOOKUP(P199,Inputs,11,FALSE))","v":0},null,{"$f":"IF(P199>0,VLOOKUP(P199,Inputs,12,FALSE),\"\")","v":""},{"$f":"IF(MONTH(V199)=A217,UPPER(VLOOKUP(V199,Inputs,10,FALSE))&\"  \",\"\")","v":""},null,{"$f":"IF(MONTH(V199)=A217,IF(LEN(R203)>0,R203&VLOOKUP(V199,Inputs,11,FALSE),VLOOKUP(V199,Inputs,11,FALSE)),\"\")","v":""},null,null,{"$f":"IF(MONTH(V199)=A217,IF(V199>0,VLOOKUP(V199,Inputs,12,FALSE),\"\"),0)","v":0},{"$f":"IF(MONTH(AA199)=A217,UPPER(VLOOKUP(AA199,Inputs,10,FALSE))&\"  \",\"\")","v":""},null,{"$f":"IF(MONTH(AA199)=A217,IF(LEN(X203)>0,X203&VLOOKUP(AA199,Inputs,11,FALSE),VLOOKUP(AA199,Inputs,11,FALSE)),\"\")","v":""},null,null,{"$f":"IF(MONTH(AA199)=A217,IF(AA199>0,VLOOKUP(AA199,Inputs,12,FALSE),\"\"),0)","v":0},{"$f":"IF(MONTH(AG199)=A217,UPPER(VLOOKUP(AG199,Inputs,10,FALSE))&\"  \",\"\")","v":""},null,{"$f":"IF(MONTH(AG199)=A217,IF(LEN(AD203)>0,AD203&VLOOKUP(AG199,Inputs,11,FALSE),VLOOKUP(AG199,Inputs,11,FALSE)),\"\")","v":""},null,{"$f":"IF(MONTH(AG199)=A217,IF(AG199>0,VLOOKUP(AG199,Inputs,12,FALSE),\"\"),0)","v":0},{"$f":"IF(MONTH(AL199)=A217,UPPER(VLOOKUP(AL199,Inputs,10,FALSE))&\"  \",\"\")","v":""},null,{"$f":"IF(MONTH(AL199)=A217,IF(LEN(AI203)>0,AI203&VLOOKUP(AL199,Inputs,11,FALSE),VLOOKUP(AL199,Inputs,11,FALSE)),\"\")","v":""},null,{"$f":"IF(MONTH(AL199)=A217,IF(AL199>0,VLOOKUP(AL199,Inputs,12,FALSE),\"\"),0)","v":0},null,null,{"$f":"IF($A203=AP$5,$G203,0)+IF($H203=AP$5,$L203,0)+IF($M203=AP$5,$Q203,0)+IF($R203=AP$5,$W203,0)+IF($X203=AP$5,AC203,0)+IF($AD203=AP$5,AH203,0)+IF(AI203=AP$5,AM203,0)","v":0},0,0,0,0,0,0,0,0,0,0,0,0,0]
[{"$f":"UPPER(VLOOKUP(F199,Inputs,13,FALSE))&\"  \"","v":"  "},null,null,null,{"$f":"IF(LEN(A204)>2,A204&VLOOKUP(F199,Inputs,14,FALSE),VLOOKUP(F199,Inputs,14,FALSE))","v":0},null,{"$f":"IF(F199>0,VLOOKUP(F199,Inputs,15,FALSE),\"\")","v":0},{"$f":"UPPER(VLOOKUP(K199,Inputs,13,FALSE))&\"  \"","v":"  "},null,{"$f":"IF(LEN(H204)>2,H204&VLOOKUP(K199,Inputs,14,FALSE),VLOOKUP(K199,Inputs,14,FALSE))","v":0},null,{"$f":"IF(K199>0,VLOOKUP(K199,Inputs,15,FALSE),\"\")","v":0},{"$f":"UPPER(VLOOKUP(P199,Inputs,13,FALSE))&\"  \"","v":"  "},null,{"$f":"IF(LEN(M204)>2,M204&VLOOKUP(P199,Inputs,14,FALSE),VLOOKUP(P199,Inputs,14,FALSE))","v":0},null,{"$f":"IF(P199>0,VLOOKUP(P199,Inputs,15,FALSE),\"\")","v":""},{"$f":"IF(MONTH(V199)=A217,UPPER(VLOOKUP(V199,Inputs,13,FALSE))&\"  \",\"\")","v":""},null,{"$f":"IF(MONTH(V199)=A217,IF(LEN(R204)>0,R204&VLOOKUP(V199,Inputs,14,FALSE),VLOOKUP(V199,Inputs,14,FALSE)),\"\")","v":""},null,null,{"$f":"IF(MONTH(V199)=A217,IF(V199>0,VLOOKUP(V199,Inputs,15,FALSE),\"\"),0)","v":0},{"$f":"IF(MONTH(AA199)=A217,UPPER(VLOOKUP(AA199,Inputs,13,FALSE))&\"  \",\"\")","v":""},null,{"$f":"IF(MONTH(AA199)=A217,IF(LEN(X204)>0,X204&VLOOKUP(AA199,Inputs,14,FALSE),VLOOKUP(AA199,Inputs,14,FALSE)),\"\")","v":""},null,null,{"$f":"IF(MONTH(AA199)=A217,IF(AA199>0,VLOOKUP(AA199,Inputs,15,FALSE),\"\"),0)","v":0},{"$f":"IF(MONTH(AG199)=A217,UPPER(VLOOKUP(AG199,Inputs,13,FALSE))&\"  \",\"\")","v":""},null,{"$f":"IF(MONTH(AG199)=A217,IF(LEN(AD204)>0,AD204&VLOOKUP(AG199,Inputs,14,FALSE),VLOOKUP(AG199,Inputs,14,FALSE)),\"\")","v":""},null,{"$f":"IF(MONTH(AG199)=A217,IF(AG199>0,VLOOKUP(AG199,Inputs,15,FALSE),\"\"),0)","v":0},{"$f":"IF(MONTH(AL199)=A217,UPPER(VLOOKUP(AL199,Inputs,13,FALSE))&\"  \",\"\")","v":""},null,{"$f":"IF(MONTH(AL199)=A217,IF(LEN(AI204)>0,AI204&VLOOKUP(AL199,Inputs,14,FALSE),VLOOKUP(AL199,Inputs,14,FALSE)),\"\")","v":""},null,{"$f":"IF(MONTH(AL199)=A217,IF(AL199>0,VLOOKUP(AL199,Inputs,15,FALSE),\"\"),0)","v":0},null,null,{"$f":"IF($A204=AP$5,$G204,0)+IF($H204=AP$5,$L204,0)+IF($M204=AP$5,$Q204,0)+IF($R204=AP$5,$W204,0)+IF($X204=AP$5,AC204,0)+IF($AD204=AP$5,AH204,0)+IF(AI204=AP$5,AM204,0)","v":0},0,0,0,0,0,0,0,0,0,0,0,0,0]
[null,null,null,null,null,{"$f":"IF(F199>0,IF(VLOOKUP(F199,Inputs,3,FALSE)=\"T\",\"Telemarketing\",0),\"\")","v":0},null,null,null,null,{"$f":"IF(VLOOKUP(K199-1,Inputs,3,FALSE)=\"T\",0,IF(VLOOKUP(K199,Inputs,3,FALSE)=\"T\",\"Telemarketing\",0))","v":0},null,null,null,null,{"$f":"IF(VLOOKUP(P199-1,Inputs,3,FALSE)=\"T\",0,IF(VLOOKUP(P199,Inputs,3,FALSE)=\"T\",\"Telemarketing\",0))","v":{"$error":"#N/A"}},null,null,null,null,null,{"$f":"IF(VLOOKUP(V199-1,Inputs,3,FALSE)=\"T\",0,IF(VLOOKUP(V199,Inputs,3,FALSE)=\"T\",\"Telemarketing\",0))","v":{"$error":"#N/A"}},null,null,null,null,{"$f":"IF(VLOOKUP(AA199-1,Inputs,3,FALSE)=\"T\",0,IF(VLOOKUP(AA199,Inputs,3,FALSE)=\"T\",\"Telemarketing\",0))","v":{"$error":"#N/A"}},null,null,null,null,null,{"$f":"IF(VLOOKUP(AG199-1,Inputs,3,FALSE)=\"T\",0,IF(VLOOKUP(AG199,Inputs,3,FALSE)=\"T\",\"Telemarketing\",0))","v":{"$error":"#N/A"}},null,null,null,null,{"$f":"IF(VLOOKUP(AL199-1,Inputs,3,FALSE)=\"T\",0,IF(VLOOKUP(AL199,Inputs,3,FALSE)=\"T\",\"Telemarketing\",0))","v":{"$error":"#N/A"}}]
[null,null,null,null,null,{"$f":"IF(AL199>0,IF(MONTH(1+AL199)=$A217,1+AL199,0),0)","v":"00:00:00"},null,null,null,null,{"$f":"IF(F206>0,IF(MONTH(1+F206)=$A217,1+F206,0),0)","v":"00:00:00"},null,null,null,null,null,null,null,null,null,null,null,null,null,null,null,null,null,null,null,null,null,null,null,null,null,null,{"$f":"IF(AG206>0,IF(MONTH(1+AG206)=$A217,1+AG206,0),0)","v":"00:00:00"}]
[null,null,null,null,{"$f":"DAY(F206)","v":0},{"$f":"VLOOKUP(F206,Holidays,2)","v":0},null,null,null,{"$f":"DAY(K206)","v":0},{"$f":"VLOOKUP(K206,Holidays,2)","v":0},null,null,null,{"$f":"DAY(P206)","v":0},{"$f":"VLOOKUP(P206,Holidays,2)","v":0},null,null,null,{"$f":"DAY(V206)","v":0},{"$f":"VLOOKUP(V206,Holidays,2)","v":0},null,null,null,null,{"$f":"DAY(AA206)","v":0},{"$f":"VLOOKUP(AA206,Holidays,2)","v":0},null,null,null,null,{"$f":"DAY(AG206)","v":0},{"$f":"VLOOKUP(AG206,Holidays,2)","v":0},null,null,null,{"$f":"DAY(AL206)","v":0},{"$f":"VLOOKUP(AL206,Holidays,2)","v":0}]
[{"$f":"IF(MONTH(F$206)=A$217,UPPER(VLOOKUP(F$206,Inputs,4,FALSE))&\"  \",\"\")","v":""},null,null,null,{"$f":"IF(MONTH(F206)=A217,IF(LEN(A208)>0,A208&VLOOKUP(F206,Inputs,5,FALSE),VLOOKUP(F206,Inputs,5,FALSE)),\"\")","v":""},null,{"$f":"IF(MONTH(F206)=A217,IF(F206>0,VLOOKUP(F206,Inputs,6,FALSE),\"\"),0)","v":0},{"$f":"IF(MONTH(K206)=A217,UPPER(VLOOKUP(K206,Inputs,4,FALSE))&\"  \",\"\")","v":""},null,{"$f":"IF(MONTH(K206)=A217,IF(LEN(H208)>2,H208&VLOOKUP(K206,Inputs,5,FALSE),VLOOKUP(K206,Inputs,5,FALSE)),\"\")","v":""},null,{"$f":"IF(MONTH(K206)=A217,IF(K206>0,VLOOKUP(K206,Inputs,6,FALSE),\"\"),0)","v":0},null,null,null,null,{"$f":"IF(MONTH(P206)=A217,IF(P206>0,VLOOKUP(P206,Inputs,6,FALSE),\"\"),0)","v":0},null,null,null,null,null,null,null,null,null,null,null,null,null,null,null,null,null,null,null,null,null,null,null,null,{"$f":"IF($A208=AP$5,$G208,0)+IF($H208=AP$5,$L208,0)+IF($M208=AP$5,$Q208,0)+IF($R208=AP$5,$W208,0)+IF($X208=AP$5,AC208,0)+IF($AD208=AP$5,AH208,0)+IF(AI208=AP$5,AM208,0)","v":0},{"$f":"IF($A208=AQ$5,$G208,0)+IF($H208=AQ$5,$L208,0)+IF($M208=AQ$5,$Q208,0)+IF($R208=AQ$5,$W208,0)+IF($X208=AQ$5,$AC208,0)+IF($AD208=AQ$5,$AH208,0)+IF($AI208=AQ$5,$AM208,0)","v":0},0,0,0,0,0,0,0,0,0,0,0,0]
[{"$f":"IF(MONTH(F$206)=A$217,UPPER(VLOOKUP(F$206,Inputs,4,FALSE))&\"  \",\"\")","v":""},null,null,null,{"$f":"IF(MONTH(F206)=A217,IF(LEN(A209)>0,A209&VLOOKUP(F206,Inputs,8,FALSE),VLOOKUP(F206,Inputs,8,FALSE)),\"\")","v":""},null,{"$f":"IF(MONTH(F206)=A217,IF(F206>0,VLOOKUP(F206,Inputs,9,FALSE),\"\"),0)","v":0},{"$f":"IF(MONTH(K206)=A217,UPPER(VLOOKUP(K206,Inputs,7,FALSE))&\"  \",\"\")","v":""},null,{"$f":"IF(MONTH(K206)=A217,IF(LEN(H209)>2,H209&VLOOKUP(K206,Inputs,8,FALSE),VLOOKUP(K206,Inputs,8,FALSE)),\"\")","v":""},null,{"$f":"IF(MONTH(K206)=A217,IF(K206>0,VLOOKUP(K206,Inputs,9,FALSE),\"\"),0)","v":0},null,null,null,null,{"$f":"IF(MONTH(P206)=A217,IF(P206>0,VLOOKUP(P206,Inputs,9,FALSE),\"\"),0)","v":0},null,null,null,null,null,null,null,null,null,null,null,null,null,null,null,null,null,null,null,null,null,null,null,null,{"$f":"IF($A209=AP$5,$G209,0)+IF($H209=AP$5,$L209,0)+IF($M209=AP$5,$Q209,0)+IF($R209=AP$5,$W209,0)+IF($X209=AP$5,AC209,0)+IF($AD209=AP$5,AH209,0)+IF(AI209=AP$5,AM209,0)","v":0},0,0,0,0,0,0,0,0,0,0,0,0,0]
[{"$f":"IF(MONTH(F$206)=A$217,UPPER(VLOOKUP(F$206,Inputs,4,FALSE))&\"  \",\"\")","v":""},null,null,null,{"$f":"IF(MONTH(F206)=A217,IF(LEN(A210)>0,A210&VLOOKUP(F206,Inputs,11,FALSE),VLOOKUP(F206,Inputs,11,FALSE)),\"\")","v":""},null,{"$f":"IF(MONTH(F206)=A217,IF(F206>0,VLOOKUP(F206,Inputs,12,FALSE),\"\"),0)","v":0},{"$f":"IF(MONTH(K206)=A217,UPPER(VLOOKUP(K206,Inputs,10,FALSE))&\"  \",\"\")","v":""},null,{"$f":"IF(MONTH(K206)=A217,IF(LEN(H210)>2,H210&VLOOKUP(K206,Inputs,11,FALSE),VLOOKUP(K206,Inputs,11,FALSE)),\"\")","v":""},null,{"$f":"IF(MONTH(K206)=A217,IF(K206>0,VLOOKUP(K206,Inputs,12,FALSE),\"\"),0)","v":0},null,null,null,null,{"$f":"IF(MONTH(P206)=A217,IF(P206>0,VLOOKUP(P206,Inputs,12,FALSE),\"\"),0)","v":0},null,null,null,null,null,null,null,null,null,null,null,null,null,null,null,null,null,null,null,null,null,null,null,null,{"$f":"IF($A210=AP$5,$G210,0)+IF($H210=AP$5,$L210,0)+IF($M210=AP$5,$Q210,0)+IF($R210=AP$5,$W210,0)+IF($X210=AP$5,AC210,0)+IF($AD210=AP$5,AH210,0)+IF(AI210=AP$5,AM210,0)","v":0},0,0,0,0,0,0,0,0,0,0,0,0,0]
[{"$f":"IF(MONTH(F$206)=A$217,UPPER(VLOOKUP(F$206,Inputs,4,FALSE))&\"  \",\"\")","v":""},null,null,null,{"$f":"IF(MONTH(F206)=A217,IF(LEN(A211)>0,A211&VLOOKUP(F206,Inputs,14,FALSE),VLOOKUP(F206,Inputs,14,FALSE)),\"\")","v":""},null,{"$f":"IF(MONTH(F206)=A217,IF(F206>0,VLOOKUP(F206,Inputs,15,FALSE),\"\"),0)","v":0},{"$f":"IF(MONTH(K206)=A217,UPPER(VLOOKUP(K206,Inputs,13,FALSE))&\"  \",\"\")","v":""},null,{"$f":"IF(MONTH(K206)=A217,IF(LEN(H211)>2,H211&VLOOKUP(K206,Inputs,14,FALSE),VLOOKUP(K206,Inputs,14,FALSE)),\"\")","v":""},null,{"$f":"IF(MONTH(K206)=A217,IF(K206>0,VLOOKUP(K206,Inputs,15,FALSE),\"\"),0)","v":0},null,null,null,null,{"$f":"IF(MONTH(P206)=A217,IF(P206>0,VLOOKUP(P206,Inputs,15,FALSE),\"\"),0)","v":0},null,null,null,null,null,null,null,null,null,null,null,null,null,null,null,null,null,null,null,null,null,null,null,null,{"$f":"IF($A211=AP$5,$G211,0)+IF($H211=AP$5,$L211,0)+IF($M211=AP$5,$Q211,0)+IF($R211=AP$5,$W211,0)+IF($X211=AP$5,AC211,0)+IF($AD211=AP$5,AH211,0)+IF(AI211=AP$5,AM211,0)","v":0},0,0,0,0,0,0,0,0,0,0,0,0,0]
[null,null,null,null,null,{"$f":"IF(F206>0,IF(VLOOKUP(F206,Inputs,3,FALSE)=\"T\",\"Telemarketing\",0),\"\")","v":""},null,null,null,null,{"$f":"IF(VLOOKUP(K206-1,Inputs,3,FALSE)=\"T\",0,IF(VLOOKUP(K206,Inputs,3,FALSE)=\"T\",\"Telemarketing\",0))","v":{"$error":"#N/A"}},null,null,null,null,null,null,null,null,null,null,null,null,null,null,null,null,null,null,null,null,null,null,null,null,null,null,null,null,null,null,{"$f":"SUM(AP172:AP211)","v":0},0,0,0,0,0,0,0,{"$f":"SUM(AX172:AX211)","v":0},0,0,0,0,0]
[]
[null,null,null,null,{"$f":"\"CODE KEY:  \"&'Company Setup'!L$22&'Company Setup'!L$23&'Company Setup'!L$24&'Company Setup'!L$25&'Company Setup'!L$26&'Company Setup'!L$27&'Company Setup'!L$28&'Company Setup'!L$29&'Company Setup'!L$30&'Company Setup'!L$31&'Company Setup'!L$32&'Company Setup'!L$33&'Company Setup'!L$33&'Company Setup'!L$34&'Company Setup'!L$35","v":"CODE KEY:  B=Broadcast, L=Letter, P=Postcard, F=Flyer, H=Hanger, I=Newspaper Ads, N=Newsletter, E=E-Mail, A=Banner Ads, Y=Yellow Pages, "}]
[null,null,null,null,null,null,null,null,null,null,null,null,null,null,null,null,null,null,null,null,null,null,null,null,null,{"$f":"'Company Setup'!D$30","v":"Broadcast"},{"$f":"AP212","v":0},null,null,null,null,null,null,{"$f":"'Company Setup'!D$29","v":"E-Mail"},null,null,{"$f":"AW212","v":0}]
[null,null,null,null,null,null,"Revenue Budget",null,null,{"$f":"VLOOKUP(A217,ClientTable,2,FALSE)","v":86677},null,null,null,null,null,{"$f":"'Company Setup'!$E$5","v":"Reviews"},{"$f":"VLOOKUP(A217,ClientTable,3)","v":0},null,null,null,null,null,null,null,null,{"$f":"'Company Setup'!D$23","v":"Letter"},{"$f":"AQ212","v":0},null,null,null,null,null,null,{"$f":"'Company Setup'!D30","v":"Broadcast"},null,null,{"$f":"AX212","v":0}]
[{"$f":"IF(A162=12,1,A162+1)","v":4},null,null,null,null,null,"Monthly Marketing Budget",null,null,{"$f":"VLOOKUP(A217,ClientTable,7,FALSE)*VLOOKUP(A217,ClientTable,2,FALSE)","v":4333.8500000000004},null,null,null,null,null,{"$f":"'Company Setup'!$F$5","v":"SEO"},{"$f":"VLOOKUP(A217,ClientTable,4)","v":0},null,null,null,null,null,null,null,null,{"$f":"'Company Setup'!D$24","v":"Postcard"},{"$f":"AR212","v":0},null,null,null,null,null,null,{"$f":"'Company Setup'!D$31","v":"Banner Ads"},null,null,{"$f":"AY212","v":0}]
[{"$f":"VLOOKUP(A217,ClientTable,9)","v":4},null,null,null,null,null,"Month's End Marketing Cost",null,null,{"$f":"SUM(AK215:AK220)+SUM(AA215:AA221)+SUM(Q215:Q221)","v":0},null,null,null,null,null,{"$f":"'Company Setup'!$H$5","v":"Community Events"},{"$f":"VLOOKUP(A217,ClientTable,5)","v":0},null,null,null,null,null,null,null,null,{"$f":"'Company Setup'!D$25","v":"Flyer"},{"$f":"AS212","v":0},null,null,null,null,null,null,{"$f":"'Company Setup'!D$32","v":"Yellow Pages"},null,null,{"$f":"AZ212","v":0}]
[null,null,null,null,null,null,"Variance",null,null,{"$f":"J218-J217","v":-4333.8500000000004},null,null,null,null,null,{"$f":"'Company Setup'!#REF!","v":{"$error":"#REF!"}},{"$f":"VLOOKUP(A217,ClientTable,6)","v":0},null,null,null,null,null,null,null,null,{"$f":"'Company Setup'!D$26","v":"Hanger"},{"$f":"AT212","v":0},null,null,null,null,null,null,{"$f":"'Company Setup'!D$33","v":0},null,null,{"$f":"BA212","v":0}]
[null,null,null,null,null,null,null,null,null,null,null,null,null,null,null,null,null,null,null,null,null,null,null,null,null,{"$f":"'Company Setup'!D$27","v":"Newspaper Ads"},{"$f":"AU212","v":0},null,null,null,null,null,null,{"$f":"'Company Setup'!D$34","v":0},null,null,{"$f":"BB212","v":0}]
[null,null,null,{"$f":"MONTH(StartMonth)","v":{"$error":"#VALUE!"}},"©",{"$f":"+F56","v":"Bedrock Markets, Inc. 2000 - 2100"},null,null,null,null,null,null,null,null,null,null,null,null,null,null,null,null,null,null,null,{"$f":"'Company Setup'!D$28","v":"Newsletter"},{"$f":"AV212","v":0},null,null,null,null,null,null,{"$f":"'Company Setup'!D$35","v":0},null,null,{"$f":"BC212","v":0}]
[]
[null,null,null,null,{"$f":"IF(E168=12,1,E168+1)","v":5},{"$f":"VLOOKUP(E223,Monthlookup2,2)&\" \"&YEAR(Calendar!S133)","v":"May 2018"},null,null,null,null,null,null,null,null,null,{"$f":"P$3","v":"   ABC Heating and Air"},null,null,null,null,null,null,null,null,null,null,null,null,null,null,null,null,null,null,null,null,null,null,null,null,"Importante!  Add 2 spaces after code - es muy neccesita"]
[]
[null,null,null,null,"Sunday",null,null,null,null,"Monday",null,null,null,null,"Tuesday",null,null,null,null,"Wednesday",null,null,null,null,null,"Thursday",null,null,null,null,null,"Friday",null,null,null,null,"Saturday"]
[null,null,null,null,null,{"$f":"IF(VLOOKUP(DATE(RIGHT($F223,4),$A272,1),Calendar,3)=1,DATE(RIGHT($F223,4),$A272,1),0)","v":"00:00:00"},null,null,null,null,{"$f":"IF(E227>0,F226+1,IF(VLOOKUP(DATE(RIGHT($F223,4),$A272,1),Calendar,3)=2,DATE(RIGHT($F223,4),$A272,1),0))","v":"00:00:00"},null,null,null,null,{"$f":"IF(J227>0,K226+1,IF(VLOOKUP(DATE(RIGHT($F223,4),$A272,1),Calendar,3)=3,DATE(RIGHT($F223,4),$A272,1),0))","v":"2018-05-01"},null,null,null,null,null,{"$f":"IF(O227>0,P226+1,IF(VLOOKUP(DATE(RIGHT($F223,4),$A272,1),Calendar,3)=4,DATE(RIGHT($F223,4),$A272,1),0))","v":"2018-05-02"},null,null,null,null,{"$f":"IF(T227>0,V226+1,IF(VLOOKUP(DATE(RIGHT($F223,4),$A272,1),Calendar,3)=5,DATE(RIGHT($F223,4),$A272,1),0))","v":"2018-05-03"},null,null,null,null,null,{"$f":"IF(Z227>0,AA226+1,IF(VLOOKUP(DATE(RIGHT($F223,4),$A272,1),Calendar,3)=6,DATE(RIGHT($F223,4),$A272,1),0))","v":"2018-05-04"},null,null,null,null,{"$f":"IF(AF227>0,AG226+1,IF(VLOOKUP(DATE(RIGHT($F223,4),$A272,1),Calendar,3)=7,DATE(RIGHT($F223,4),$A272,1),0))","v":"2018-05-05"}]
[null,null,null,null,{"$f":"DAY(F226)","v":0},{"$f":"IF(F226>0,VLOOKUP(F226,Holidays,2),0)","v":0},null,null,null,{"$f":"DAY(K226)","v":0},{"$f":"IF(K226>0,VLOOKUP(K226,Holidays,2),0)","v":0},null,null,null,{"$f":"DAY(P226)","v":1},{"$f":"IF(P226>0,VLOOKUP(P226,Holidays,2),0)","v":0},null,null,null,{"$f":"DAY(V226)","v":2},{"$f":"IF(V226>0,VLOOKUP(V226,Holidays,2),0)","v":0},null,null,null,null,{"$f":"DAY(AA226)","v":3},{"$f":"IF(AA226>0,VLOOKUP(AA226,Holidays,2),0)","v":0},null,null,null,null,{"$f":"DAY(AG226)","v":4},{"$f":"IF(AG226>0,VLOOKUP(AG226,Holidays,2),0)","v":0},null,null,null,{"$f":"DAY(AL226)","v":5},{"$f":"IF(AL226>0,VLOOKUP(AL226,Holidays,2),0)","v":0}]
[{"$f":"IF(F226>1,UPPER(VLOOKUP(F226,Inputs,4,FALSE))&\"  \",0)","v":0},null,null,null,{"$f":"IF(F226>0,IF(LEN(A228)>2,A228&VLOOKUP(F226,Inputs,5,FALSE),VLOOKUP(F226,Inputs,5,FALSE)),\"\")","v":""},null,{"$f":"IF(F226>0,VLOOKUP(F226,Inputs,6,FALSE),\"\")","v":""},{"$f":"IF(K226>1,UPPER(VLOOKUP(K226,Inputs,4,FALSE))&\"  \",0)","v":0},null,{"$f":"IF(K226>0,IF(LEN(H228)>2,H228&VLOOKUP(K226,Inputs,5,FALSE),VLOOKUP(K226,Inputs,5,FALSE)),\"\")","v":""},null,{"$f":"IF(K226>0,VLOOKUP(K226,Inputs,6,FALSE),\"\")","v":""},{"$f":"IF(P226>1,UPPER(VLOOKUP(P226,Inputs,4,FALSE))&\"  \",0)","v":"  "},null,{"$f":"IF(P226>0,IF(LEN(M228)>2,M228&VLOOKUP(P226,Inputs,5,FALSE),VLOOKUP(P226,Inputs,5,FALSE)),\"\")","v":0},null,{"$f":"IF(P226>0,VLOOKUP(P226,Inputs,6,FALSE),\"\")","v":0},{"$f":"IF(V226>1,UPPER(VLOOKUP(V226,Inputs,4,FALSE))&\"  \",0)","v":"  "},null,{"$f":"IF(V226>0,IF(LEN(R228)>2,R228&VLOOKUP(V226,Inputs,5,FALSE),VLOOKUP(V226,Inputs,5,FALSE)),\"\")","v":0},null,null,{"$f":"IF(V226>0,VLOOKUP(V226,Inputs,6,FALSE),\"\")","v":0},{"$f":"IF(AA226>1,UPPER(VLOOKUP(AA226,Inputs,4,FALSE))&\"  \",0)","v":"  "},null,{"$f":"IF(AA226>0,IF(LEN(X228)>2,X228&VLOOKUP(AA226,Inputs,5,FALSE),VLOOKUP(AA226,Inputs,5,FALSE)),\"\")","v":0},null,null,{"$f":"IF(AA226>0,VLOOKUP(AA226,Inputs,6,FALSE),\"\")","v":0},{"$f":"IF(AG226>1,UPPER(VLOOKUP(AG226,Inputs,4,FALSE))&\"  \",0)","v":"  "},null,{"$f":"IF(AG226>0,IF(LEN(AD228)>2,AD228&VLOOKUP(AG226,Inputs,5,FALSE),VLOOKUP(AG226,Inputs,5,FALSE)),\"\")","v":0},null,{"$f":"IF(AG226>0,VLOOKUP(AG226,Inputs,6,FALSE),\"\")","v":0},{"$f":"UPPER(VLOOKUP(AL226,Inputs,4,FALSE))&\"  \"","v":"  "},null,{"$f":"IF(LEN(AI228)>2,AI228&VLOOKUP(AL226,Inputs,5,FALSE),VLOOKUP(AL226,Inputs,5,FALSE))","v":0},null,{"$f":"VLOOKUP(AL226,Inputs,6,FALSE)","v":0},null,null,{"$f":"IF($A228=AP$5,$G228,0)+IF($H228=AP$5,$L228,0)+IF($M228=AP$5,$Q228,0)+IF($R228=AP$5,$W228,0)+IF($X228=AP$5,AC228,0)+IF($AD228=AP$5,AH228,0)+IF(AI228=AP$5,AM228,0)","v":0},{"$f":"IF($A228=AQ$5,$G228,0)+IF($H228=AQ$5,$L228,0)+IF($M228=AQ$5,$Q228,0)+IF($R228=AQ$5,$W228,0)+IF($X228=AQ$5,$AC228,0)+IF($AD228=AQ$5,$AH228,0)+IF($AI228=AQ$5,$AM228,0)","v":0},0,0,0,0,0,0,0,0,0,0,0,0]
[{"$f":"IF(F226>1,UPPER(VLOOKUP(F226,Inputs,7,FALSE))&\"  \",0)","v":0},null,null,null,{"$f":"IF(F226>0,IF(LEN(A229)>2,A229&VLOOKUP(F226,Inputs,8,FALSE),VLOOKUP(F226,Inputs,8,FALSE)),\"\")","v":""},null,{"$f":"IF(F226>0,VLOOKUP(F226,Inputs,9,FALSE),\"\")","v":""},{"$f":"IF(K226>1,UPPER(VLOOKUP(K226,Inputs,7,FALSE))&\"  \",0)","v":0},null,{"$f":"IF(K226>0,IF(LEN(H229)>2,H229&VLOOKUP(K226,Inputs,8,FALSE),VLOOKUP(K226,Inputs,8,FALSE)),\"\")","v":""},null,{"$f":"IF(K226>0,VLOOKUP(K226,Inputs,9,FALSE),\"\")","v":""},{"$f":"IF(P226>1,UPPER(VLOOKUP(P226,Inputs,7,FALSE))&\"  \",0)","v":"  "},null,{"$f":"IF(P226>0,IF(LEN(M229)>2,M229&VLOOKUP(P226,Inputs,8,FALSE),VLOOKUP(P226,Inputs,8,FALSE)),\"\")","v":0},null,{"$f":"IF(P226>0,VLOOKUP(P226,Inputs,9,FALSE),\"\")","v":0},{"$f":"IF(V226>1,UPPER(VLOOKUP(V226,Inputs,7,FALSE))&\"  \",0)","v":"  "},null,{"$f":"IF(V226>0,IF(LEN(R229)>2,R229&VLOOKUP(V226,Inputs,8,FALSE),VLOOKUP(V226,Inputs,8,FALSE)),\"\")","v":0},null,null,{"$f":"IF(V226>0,VLOOKUP(V226,Inputs,9,FALSE),\"\")","v":0},{"$f":"IF(AA226>1,UPPER(VLOOKUP(AA226,Inputs,7,FALSE))&\"  \",0)","v":"  "},null,{"$f":"IF(AA226>0,IF(LEN(X229)>2,X229&VLOOKUP(AA226,Inputs,8,FALSE),VLOOKUP(AA226,Inputs,8,FALSE)),\"\")","v":0},null,null,{"$f":"IF(AA226>0,VLOOKUP(AA226,Inputs,9,FALSE),\"\")","v":0},{"$f":"IF(AG226>1,UPPER(VLOOKUP(AG226,Inputs,7,FALSE))&\"  \",0)","v":"  "},null,{"$f":"IF(AG226>0,IF(LEN(AD229)>2,AD229&VLOOKUP(AG226,Inputs,8,FALSE),VLOOKUP(AG226,Inputs,8,FALSE)),\"\")","v":0},null,{"$f":"IF(AG226>0,VLOOKUP(AG226,Inputs,9,FALSE),\"\")","v":0},{"$f":"UPPER(VLOOKUP(AL226,Inputs,7,FALSE))&\"  \"","v":"  "},null,{"$f":"IF(LEN(AI229)>2,AI229&VLOOKUP(AL226,Inputs,8,FALSE),VLOOKUP(AL226,Inputs,8,FALSE))","v":0},null,{"$f":"VLOOKUP(AL226,Inputs,9,FALSE)","v":0},null,null,{"$f":"IF($A229=AP$5,$G229,0)+IF($H229=AP$5,$L229,0)+IF($M229=AP$5,$Q229,0)+IF($R229=AP$5,$W229,0)+IF($X229=AP$5,AC229,0)+IF($AD229=AP$5,AH229,0)+IF(AI229=AP$5,AM229,0)","v":0},0,0,0,0,0,0,0,0,0,0,0,0,0,null,"530-345-3280"]
[{"$f":"IF(F226>1,UPPER(VLOOKUP(F226,Inputs,10,FALSE))&\"  \",0)","v":0},null,null,null,{"$f":"IF(F226>0,IF(LEN(A230)>2,A230&VLOOKUP(F226,Inputs,11,FALSE),VLOOKUP(F226,Inputs,11,FALSE)),\"\")","v":""},null,{"$f":"IF(F226>0,VLOOKUP(F226,Inputs,12,FALSE),\"\")","v":""},{"$f":"IF(K226>1,UPPER(VLOOKUP(K226,Inputs,10,FALSE))&\"  \",0)","v":0},null,{"$f":"IF(K226>0,IF(LEN(H230)>0,H230&VLOOKUP(K226,Inputs,11,FALSE),VLOOKUP(K226,Inputs,11,FALSE)),\"\")","v":""},null,{"$f":"IF(K226>0,VLOOKUP(K226,Inputs,12,FALSE),\"\")","v":""},{"$f":"IF(P226>1,UPPER(VLOOKUP(P226,Inputs,10,FALSE))&\"  \",0)","v":"  "},null,{"$f":"IF(P226>0,IF(LEN(M230)>0,M230&VLOOKUP(P226,Inputs,11,FALSE),VLOOKUP(P226,Inputs,11,FALSE)),\"\")","v":"  "},null,{"$f":"IF(P226>0,VLOOKUP(P226,Inputs,12,FALSE),\"\")","v":0},{"$f":"IF(V226>1,UPPER(VLOOKUP(V226,Inputs,10,FALSE))&\"  \",0)","v":"  "},null,{"$f":"IF(V226>0,IF(LEN(R230)>0,R230&VLOOKUP(V226,Inputs,11,FALSE),VLOOKUP(V226,Inputs,11,FALSE)),\"\")","v":"  "},null,null,{"$f":"IF(V226>0,VLOOKUP(V226,Inputs,12,FALSE),\"\")","v":0},{"$f":"IF(AA226>1,UPPER(VLOOKUP(AA226,Inputs,10,FALSE))&\"  \",0)","v":"  "},null,{"$f":"IF(AA226>0,IF(LEN(X230)>0,X230&VLOOKUP(AA226,Inputs,11,FALSE),VLOOKUP(AA226,Inputs,11,FALSE)),\"\")","v":"  "},null,null,{"$f":"IF(AA226>0,VLOOKUP(AA226,Inputs,12,FALSE),\"\")","v":0},{"$f":"IF(AG226>1,UPPER(VLOOKUP(AG226,Inputs,10,FALSE))&\"  \",0)","v":"  "},null,{"$f":"IF(AG226>0,IF(LEN(AD230)>0,AD230&VLOOKUP(AG226,Inputs,11,FALSE),VLOOKUP(AG226,Inputs,11,FALSE)),\"\")","v":"  "},null,{"$f":"IF(AG226>0,VLOOKUP(AG226,Inputs,12,FALSE),\"\")","v":0},{"$f":"UPPER(VLOOKUP(AL226,Inputs,10,FALSE))&\"  \"","v":"  "},null,{"$f":"IF(LEN(AI230)>2,AI230&VLOOKUP(AL226,Inputs,11,FALSE),VLOOKUP(AL226,Inputs,11,FALSE))","v":0},null,{"$f":"VLOOKUP(AL226,Inputs,12,FALSE)","v":0},null,null,{"$f":"IF($A230=AP$5,$G230,0)+IF($H230=AP$5,$L230,0)+IF($M230=AP$5,$Q230,0)+IF($R230=AP$5,$W230,0)+IF($X230=AP$5,AC230,0)+IF($AD230=AP$5,AH230,0)+IF(AI230=AP$5,AM230,0)","v":0},0,0,0,0,0,0,0,0,0,0,0,0,0,null,"2540 Zanella Way, Suite 20"]
[{"$f":"IF(F226>1,UPPER(VLOOKUP(F226,Inputs,13,FALSE))&\"  \",0)","v":0},null,null,null,{"$f":"IF(F226>0,IF(LEN(A231)>2,A231&VLOOKUP(F226,Inputs,14,FALSE),VLOOKUP(F226,Inputs,14,FALSE)),\"\")","v":""},null,{"$f":"IF(F226>0,VLOOKUP(F226,Inputs,15,FALSE),\"\")","v":""},{"$f":"IF(K226>1,UPPER(VLOOKUP(K226,Inputs,13,FALSE))&\"  \",0)","v":0},null,{"$f":"IF(K226>0,IF(LEN(H231)>2,H231&VLOOKUP(K226,Inputs,14,FALSE),VLOOKUP(K226,Inputs,14,FALSE)),\"\")","v":""},null,{"$f":"IF(K226>0,VLOOKUP(K226,Inputs,15,FALSE),\"\")","v":""},{"$f":"IF(P226>1,UPPER(VLOOKUP(P226,Inputs,13,FALSE))&\"  \",0)","v":"  "},null,{"$f":"IF(P226>0,IF(LEN(M231)>2,M231&VLOOKUP(P226,Inputs,14,FALSE),VLOOKUP(P226,Inputs,14,FALSE)),\"\")","v":0},null,{"$f":"IF(P226>0,VLOOKUP(P226,Inputs,15,FALSE),\"\")","v":0},{"$f":"IF(V226>1,UPPER(VLOOKUP(V226,Inputs,13,FALSE))&\"  \",0)","v":"  "},null,{"$f":"IF(V226>0,IF(LEN(R231)>2,R231&VLOOKUP(V226,Inputs,14,FALSE),VLOOKUP(V226,Inputs,14,FALSE)),\"\")","v":0},null,null,{"$f":"IF(V226>0,VLOOKUP(V226,Inputs,15,FALSE),\"\")","v":0},{"$f":"IF(AA226>1,UPPER(VLOOKUP(AA226,Inputs,13,FALSE))&\"  \",0)","v":"  "},null,{"$f":"IF(AA226>0,IF(LEN(X231)>2,X231&VLOOKUP(AA226,Inputs,14,FALSE),VLOOKUP(AA226,Inputs,14,FALSE)),\"\")","v":0},null,null,{"$f":"IF(AA226>0,VLOOKUP(AA226,Inputs,15,FALSE),\"\")","v":0},{"$f":"IF(AG226>1,UPPER(VLOOKUP(AG226,Inputs,13,FALSE))&\"  \",0)","v":"  "},null,{"$f":"IF(AG226>0,IF(LEN(AD231)>2,AD231&VLOOKUP(AG226,Inputs,14,FALSE),VLOOKUP(AG226,Inputs,14,FALSE)),\"\")","v":0},null,{"$f":"IF(AG226>0,VLOOKUP(AG226,Inputs,15,FALSE),\"\")","v":0},{"$f":"UPPER(VLOOKUP(AL226,Inputs,13,FALSE))&\"  \"","v":"  "},null,{"$f":"IF(LEN(AI231)>2,AI231&VLOOKUP(AL226,Inputs,14,FALSE),VLOOKUP(AL226,Inputs,14,FALSE))","v":0},null,{"$f":"VLOOKUP(AL226,Inputs,15,FALSE)","v":0},null,null,{"$f":"IF($A231=AP$5,$G231,0)+IF($H231=AP$5,$L231,0)+IF($M231=AP$5,$Q231,0)+IF($R231=AP$5,$W231,0)+IF($X231=AP$5,AC231,0)+IF($AD231=AP$5,AH231,0)+IF(AI231=AP$5,AM231,0)","v":0},0,0,0,0,0,0,0,0,0,0,0,0,0,null,"    Chico, CA 95928"]
[null,null,null,null,null,{"$f":"IF(F226>0,IF(VLOOKUP(F226,Inputs,3,FALSE)=\"T\",\"Telemarketing\",0),\"\")","v":""},null,null,null,null,{"$f":"IF(F226>0,IF(VLOOKUP(F226,Inputs,3,FALSE)=\"T\",0,IF(VLOOKUP(K226,Inputs,3,FALSE)=\"T\",\"Telemarketing\",0)),IF(VLOOKUP(K226,Inputs,3,FALSE)=\"T\",\"Telemarketing\",0))","v":0},null,null,null,null,{"$f":"IF(K226>0,IF(VLOOKUP(K226,Inputs,3,FALSE)=\"T\",0,IF(VLOOKUP(P226,Inputs,3,FALSE)=\"T\",\"Telemarketing\",0)),IF(VLOOKUP(P226,Inputs,3,FALSE)=\"T\",\"Telemarketing\",0))","v":0},null,null,null,null,null,{"$f":"IF(P226>0,IF(VLOOKUP(P226,Inputs,3,FALSE)=\"T\",0,IF(VLOOKUP(V226,Inputs,3,FALSE)=\"T\",\"Telemarketing\",0)),IF(VLOOKUP(V226,Inputs,3,FALSE)=\"T\",\"Telemarketing\",0))","v":0},null,null,null,null,{"$f":"IF(V226>0,IF(VLOOKUP(V226,Inputs,3,FALSE)=\"T\",0,IF(VLOOKUP(AA226,Inputs,3,FALSE)=\"T\",\"Telemarketing\",0)),IF(VLOOKUP(AA226,Inputs,3,FALSE)=\"T\",\"Telemarketing\",0))","v":0},null,null,null,null,null,{"$f":"IF(AA226>0,IF(VLOOKUP(AA226,Inputs,3,FALSE)=\"T\",0,IF(VLOOKUP(AG226,Inputs,3,FALSE)=\"T\",\"Telemarketing\",0)),IF(VLOOKUP(AG226,Inputs,3,FALSE)=\"T\",\"Telemarketing\",0))","v":0},null,null,null,null,{"$f":"IF(AG226>0,IF(VLOOKUP(AG226,Inputs,3,FALSE)=\"T\",0,IF(VLOOKUP(AL226,Inputs,3,FALSE)=\"T\",\"Telemarketing\",0)),IF(VLOOKUP(AL226,Inputs,3,FALSE)=\"T\",\"Telemarketing\",0))","v":0}]
[null,null,null,null,null,{"$f":"1+AL226","v":"2018-05-06"},null,null,null,null,{"$f":"1+F233","v":"2018-05-07"},null,null,null,null,{"$f":"1+K233","v":"2018-05-08"},null,null,null,null,null,{"$f":"1+P233","v":"2018-05-09"},null,null,null,null,{"$f":"1+V233","v":"2018-05-10"},null,null,null,null,null,{"$f":"1+AA233","v":"2018-05-11"},null,null,null,null,{"$f":"1+AG233","v":"2018-05-12"}]
[null,null,null,null,{"$f":"DAY(F233)","v":6},{"$f":"IF(F233>0,VLOOKUP(F233,Holidays,2),0)","v":0},null,null,null,{"$f":"DAY(K233)","v":7},{"$f":"IF(K233>0,VLOOKUP(K233,Holidays,2),0)","v":0},null,null,null,{"$f":"DAY(P233)","v":8},{"$f":"IF(P233>0,VLOOKUP(P233,Holidays,2),0)","v":0},null,null,null,{"$f":"DAY(V233)","v":9},{"$f":"IF(V233>0,VLOOKUP(V233,Holidays,2),0)","v":0},null,null,null,null,{"$f":"DAY(AA233)","v":10},{"$f":"IF(AA233>0,VLOOKUP(AA233,Holidays,2),0)","v":0},null,null,null,null,{"$f":"DAY(AG233)","v":11},{"$f":"IF(AG233>0,VLOOKUP(AG233,Holidays,2),0)","v":0},null,null,null,{"$f":"DAY(AL233)","v":12},{"$f":"IF(AL233>0,VLOOKUP(AL233,Holidays,2),0)","v":0}]
[{"$f":"UPPER(VLOOKUP(F233,Inputs,4,FALSE))&\"  \"","v":"  "},null,null,null,{"$f":"IF(LEN(A235)>2,A235&VLOOKUP(F233,Inputs,5,FALSE),VLOOKUP(F233,Inputs,5,FALSE))","v":0},null,{"$f":"IF(F233>0,VLOOKUP(F233,Inputs,6,FALSE),\"\")","v":0},{"$f":"UPPER(VLOOKUP(K233,Inputs,4,FALSE))&\"  \"","v":"  "},null,{"$f":"IF(LEN(H235)>2,H235&VLOOKUP(K233,Inputs,5,FALSE),VLOOKUP(K233,Inputs,5,FALSE))","v":0},null,{"$f":"IF(K233>0,VLOOKUP(K233,Inputs,6,FALSE),\"\")","v":0},{"$f":"UPPER(VLOOKUP(P233,Inputs,4,FALSE))&\"  \"","v":"  "},null,{"$f":"IF(LEN(M235)>2,M235&VLOOKUP(P233,Inputs,5,FALSE),VLOOKUP(P233,Inputs,5,FALSE))","v":0},null,{"$f":"IF(P233>0,VLOOKUP(P233,Inputs,6,FALSE),\"\")","v":0},{"$f":"UPPER(VLOOKUP(V233,Inputs,4,FALSE))&\"  \"","v":"  "},null,{"$f":"IF(LEN(R235)>2,R235&VLOOKUP(V233,Inputs,5,FALSE),VLOOKUP(V233,Inputs,5,FALSE))","v":0},null,null,{"$f":"IF(V233>0,VLOOKUP(V233,Inputs,6,FALSE),\"\")","v":0},{"$f":"UPPER(VLOOKUP(AA233,Inputs,4,FALSE))&\"  \"","v":"  "},null,{"$f":"IF(LEN(X235)>2,X235&VLOOKUP(AA233,Inputs,5,FALSE),VLOOKUP(AA233,Inputs,5,FALSE))","v":0},null,null,{"$f":"IF(AA233>0,VLOOKUP(AA233,Inputs,6,FALSE),\"\")","v":0},{"$f":"UPPER(VLOOKUP(AG233,Inputs,4,FALSE))&\"  \"","v":"  "},null,{"$f":"IF(LEN(AD235)>2,AD235&VLOOKUP(AG233,Inputs,5,FALSE),VLOOKUP(AG233,Inputs,5,FALSE))","v":0},null,{"$f":"IF(AG233>0,VLOOKUP(AG233,Inputs,6,FALSE),\"\")","v":0},{"$f":"UPPER(VLOOKUP(AL233,Inputs,4,FALSE))&\"  \"","v":"  "},null,{"$f":"IF(LEN(AI235)>2,AI235&VLOOKUP(AL233,Inputs,5,FALSE),VLOOKUP(AL233,Inputs,5,FALSE))","v":0},null,{"$f":"IF(AL233>0,VLOOKUP(AL233,Inputs,6,FALSE),\"\")","v":0},null,null,{"$f":"IF($A235=AP$5,$G235,0)+IF($H235=AP$5,$L235,0)+IF($M235=AP$5,$Q235,0)+IF($R235=AP$5,$W235,0)+IF($X235=AP$5,AC235,0)+IF($AD235=AP$5,AH235,0)+IF(AI235=AP$5,AM235,0)","v":0},{"$f":"IF($A235=AQ$5,$G235,0)+IF($H235=AQ$5,$L235,0)+IF($M235=AQ$5,$Q235,0)+IF($R235=AQ$5,$W235,0)+IF($X235=AQ$5,$AC235,0)+IF($AD235=AQ$5,$AH235,0)+IF($AI235=AQ$5,$AM235,0)","v":0},0,0,0,0,0,0,0,0,0,0,0,0,null,"      TheBedrock.com"]
[{"$f":"UPPER(VLOOKUP(F233,Inputs,7,FALSE))&\"  \"","v":"  "},null,null,null,{"$f":"IF(LEN(A236)>2,A236&VLOOKUP(F233,Inputs,8,FALSE),VLOOKUP(F233,Inputs,8,FALSE))","v":0},null,{"$f":"IF(F233>0,VLOOKUP(F233,Inputs,9,FALSE),\"\")","v":0},{"$f":"UPPER(VLOOKUP(K233,Inputs,7,FALSE))&\"  \"","v":"  "},null,{"$f":"IF(LEN(H236)>2,H236&VLOOKUP(K233,Inputs,8,FALSE),VLOOKUP(K233,Inputs,8,FALSE))","v":0},null,{"$f":"IF(K233>0,VLOOKUP(K233,Inputs,9,FALSE),\"\")","v":0},{"$f":"UPPER(VLOOKUP(P233,Inputs,7,FALSE))&\"  \"","v":"  "},null,{"$f":"IF(LEN(M236)>2,M236&VLOOKUP(P233,Inputs,8,FALSE),VLOOKUP(P233,Inputs,8,FALSE))","v":0},null,{"$f":"IF(P233>0,VLOOKUP(P233,Inputs,9,FALSE),\"\")","v":0},{"$f":"UPPER(VLOOKUP(V233,Inputs,7,FALSE))&\"  \"","v":"  "},null,{"$f":"IF(LEN(R236)>2,R236&VLOOKUP(V233,Inputs,8,FALSE),VLOOKUP(V233,Inputs,8,FALSE))","v":0},null,null,{"$f":"IF(V233>0,VLOOKUP(V233,Inputs,9,FALSE),\"\")","v":0},{"$f":"UPPER(VLOOKUP(AA233,Inputs,7,FALSE))&\"  \"","v":"  "},null,{"$f":"IF(LEN(X236)>2,X236&VLOOKUP(AA233,Inputs,8,FALSE),VLOOKUP(AA233,Inputs,8,FALSE))","v":0},null,null,{"$f":"IF(AA233>0,VLOOKUP(AA233,Inputs,9,FALSE),\"\")","v":0},{"$f":"UPPER(VLOOKUP(AG233,Inputs,7,FALSE))&\"  \"","v":"  "},null,{"$f":"IF(LEN(AD236)>2,AD236&VLOOKUP(AG233,Inputs,8,FALSE),VLOOKUP(AG233,Inputs,8,FALSE))","v":0},null,{"$f":"IF(AG233>0,VLOOKUP(AG233,Inputs,9,FALSE),\"\")","v":0},{"$f":"UPPER(VLOOKUP(AL233,Inputs,7,FALSE))&\"  \"","v":"  "},null,{"$f":"IF(LEN(AI236)>2,AI236&VLOOKUP(AL233,Inputs,8,FALSE),VLOOKUP(AL233,Inputs,8,FALSE))","v":0},null,{"$f":"IF(AL233>0,VLOOKUP(AL233,Inputs,9,FALSE),\"\")","v":0},null,null,{"$f":"IF($A236=AP$5,$G236,0)+IF($H236=AP$5,$L236,0)+IF($M236=AP$5,$Q236,0)+IF($R236=AP$5,$W236,0)+IF($X236=AP$5,AC236,0)+IF($AD236=AP$5,AH236,0)+IF(AI236=AP$5,AM236,0)","v":0},0,0,0,0,0,0,0,0,0,0,0,0,0]
[{"$f":"UPPER(VLOOKUP(F233,Inputs,10,FALSE))&\"  \"","v":"  "},null,null,null,{"$f":"IF(LEN(A237)>2,A237&VLOOKUP(F233,Inputs,11,FALSE),VLOOKUP(F233,Inputs,11,FALSE))","v":0},null,{"$f":"IF(F233>0,VLOOKUP(F233,Inputs,12,FALSE),\"\")","v":0},{"$f":"UPPER(VLOOKUP(K233,Inputs,10,FALSE))&\"  \"","v":"  "},null,{"$f":"IF(LEN(H237)>2,H237&VLOOKUP(K233,Inputs,11,FALSE),VLOOKUP(K233,Inputs,11,FALSE))","v":0},null,{"$f":"IF(K233>0,VLOOKUP(K233,Inputs,12,FALSE),\"\")","v":0},{"$f":"UPPER(VLOOKUP(P233,Inputs,10,FALSE))&\"  \"","v":"  "},null,{"$f":"IF(LEN(M237)>2,M237&VLOOKUP(P233,Inputs,11,FALSE),VLOOKUP(P233,Inputs,11,FALSE))","v":0},null,{"$f":"IF(P233>0,VLOOKUP(P233,Inputs,12,FALSE),\"\")","v":0},{"$f":"UPPER(VLOOKUP(V233,Inputs,10,FALSE))&\"  \"","v":"  "},null,{"$f":"IF(LEN(R237)>2,R237&VLOOKUP(V233,Inputs,11,FALSE),VLOOKUP(V233,Inputs,11,FALSE))","v":0},null,null,{"$f":"IF(V233>0,VLOOKUP(V233,Inputs,12,FALSE),\"\")","v":0},{"$f":"UPPER(VLOOKUP(AA233,Inputs,10,FALSE))&\"  \"","v":"  "},null,{"$f":"IF(LEN(X237)>2,X237&VLOOKUP(AA233,Inputs,11,FALSE),VLOOKUP(AA233,Inputs,11,FALSE))","v":0},null,null,{"$f":"IF(AA233>0,VLOOKUP(AA233,Inputs,12,FALSE),\"\")","v":0},{"$f":"UPPER(VLOOKUP(AG233,Inputs,10,FALSE))&\"  \"","v":"  "},null,{"$f":"IF(LEN(AD237)>2,AD237&VLOOKUP(AG233,Inputs,11,FALSE),VLOOKUP(AG233,Inputs,11,FALSE))","v":0},null,{"$f":"IF(AG233>0,VLOOKUP(AG233,Inputs,12,FALSE),\"\")","v":0},{"$f":"UPPER(VLOOKUP(AL233,Inputs,10,FALSE))&\"  \"","v":"  "},null,{"$f":"IF(LEN(AI237)>2,AI237&VLOOKUP(AL233,Inputs,11,FALSE),VLOOKUP(AL233,Inputs,11,FALSE))","v":0},null,{"$f":"IF(AL233>0,VLOOKUP(AL233,Inputs,12,FALSE),\"\")","v":0},null,null,{"$f":"IF($A237=AP$5,$G237,0)+IF($H237=AP$5,$L237,0)+IF($M237=AP$5,$Q237,0)+IF($R237=AP$5,$W237,0)+IF($X237=AP$5,AC237,0)+IF($AD237=AP$5,AH237,0)+IF(AI237=AP$5,AM237,0)","v":0},0,0,0,0,0,0,0,0,0,0,0,0,0]
[{"$f":"UPPER(VLOOKUP(F233,Inputs,13,FALSE))&\"  \"","v":"  "},null,null,null,{"$f":"IF(LEN(A238)>2,A238&VLOOKUP(F233,Inputs,14,FALSE),VLOOKUP(F233,Inputs,14,FALSE))","v":0},null,{"$f":"IF(F233>0,VLOOKUP(F233,Inputs,15,FALSE),\"\")","v":0},{"$f":"UPPER(VLOOKUP(K233,Inputs,13,FALSE))&\"  \"","v":"  "},null,{"$f":"IF(LEN(H238)>2,H238&VLOOKUP(K233,Inputs,14,FALSE),VLOOKUP(K233,Inputs,14,FALSE))","v":0},null,{"$f":"IF(K233>0,VLOOKUP(K233,Inputs,15,FALSE),\"\")","v":0},{"$f":"UPPER(VLOOKUP(P233,Inputs,13,FALSE))&\"  \"","v":"  "},null,{"$f":"IF(LEN(M238)>2,M238&VLOOKUP(P233,Inputs,14,FALSE),VLOOKUP(P233,Inputs,14,FALSE))","v":0},null,{"$f":"IF(P233>0,VLOOKUP(P233,Inputs,15,FALSE),\"\")","v":0},{"$f":"UPPER(VLOOKUP(V233,Inputs,13,FALSE))&\"  \"","v":"  "},null,{"$f":"IF(LEN(R238)>2,R238&VLOOKUP(V233,Inputs,14,FALSE),VLOOKUP(V233,Inputs,14,FALSE))","v":0},null,null,{"$f":"IF(V233>0,VLOOKUP(V233,Inputs,15,FALSE),\"\")","v":0},{"$f":"UPPER(VLOOKUP(AA233,Inputs,13,FALSE))&\"  \"","v":"  "},null,{"$f":"IF(LEN(X238)>2,X238&VLOOKUP(AA233,Inputs,14,FALSE),VLOOKUP(AA233,Inputs,14,FALSE))","v":0},null,null,{"$f":"IF(AA233>0,VLOOKUP(AA233,Inputs,15,FALSE),\"\")","v":0},{"$f":"UPPER(VLOOKUP(AG233,Inputs,13,FALSE))&\"  \"","v":"  "},null,{"$f":"IF(LEN(AD238)>2,AD238&VLOOKUP(AG233,Inputs,14,FALSE),VLOOKUP(AG233,Inputs,14,FALSE))","v":0},null,{"$f":"IF(AG233>0,VLOOKUP(AG233,Inputs,15,FALSE),\"\")","v":0},{"$f":"UPPER(VLOOKUP(AL233,Inputs,13,FALSE))&\"  \"","v":"  "},null,{"$f":"IF(LEN(AI238)>2,AI238&VLOOKUP(AL233,Inputs,14,FALSE),VLOOKUP(AL233,Inputs,14,FALSE))","v":0},null,{"$f":"IF(AL233>0,VLOOKUP(AL233,Inputs,15,FALSE),\"\")","v":0},null,null,{"$f":"IF($A238=AP$5,$G238,0)+IF($H238=AP$5,$L238,0)+IF($M238=AP$5,$Q238,0)+IF($R238=AP$5,$W238,0)+IF($X238=AP$5,AC238,0)+IF($AD238=AP$5,AH238,0)+IF(AI238=AP$5,AM238,0)","v":0},0,0,0,0,0,0,0,0,0,0,0,0,0]
[null,null,null,null,null,{"$f":"IF(F233>0,IF(VLOOKUP(F233,Inputs,3,FALSE)=\"T\",\"Telemarketing\",0),\"\")","v":0},null,null,null,null,{"$f":"IF(VLOOKUP(K233-1,Inputs,3,FALSE)=\"T\",0,IF(VLOOKUP(K233,Inputs,3,FALSE)=\"T\",\"Telemarketing\",0))","v":0},null,null,null,null,{"$f":"IF(VLOOKUP(P233-1,Inputs,3,FALSE)=\"T\",0,IF(VLOOKUP(P233,Inputs,3,FALSE)=\"T\",\"Telemarketing\",0))","v":0},null,null,null,null,null,{"$f":"IF(VLOOKUP(V233-1,Inputs,3,FALSE)=\"T\",0,IF(VLOOKUP(V233,Inputs,3,FALSE)=\"T\",\"Telemarketing\",0))","v":0},null,null,null,null,{"$f":"IF(VLOOKUP(AA233-1,Inputs,3,FALSE)=\"T\",0,IF(VLOOKUP(AA233,Inputs,3,FALSE)=\"T\",\"Telemarketing\",0))","v":0},null,null,null,null,null,{"$f":"IF(VLOOKUP(AG233-1,Inputs,3,FALSE)=\"T\",0,IF(VLOOKUP(AG233,Inputs,3,FALSE)=\"T\",\"Telemarketing\",0))","v":0},null,null,null,null,{"$f":"IF(VLOOKUP(AL233-1,Inputs,3,FALSE)=\"T\",0,IF(VLOOKUP(AL233,Inputs,3,FALSE)=\"T\",\"Telemarketing\",0))","v":0}]
[null,null,null,null,null,{"$f":"1+AL233","v":"2018-05-13"},null,null,null,null,{"$f":"1+F240","v":"2018-05-14"},null,null,null,null,{"$f":"1+K240","v":"2018-05-15"},null,null,null,null,null,{"$f":"1+P240","v":"2018-05-16"},null,null,null,null,{"$f":"1+V240","v":"2018-05-17"},null,null,null,null,null,{"$f":"1+AA240","v":"2018-05-18"},null,null,null,null,{"$f":"1+AG240","v":"2018-05-19"}]
[null,null,null,null,{"$f":"DAY(F240)","v":13},{"$f":"IF(F240>0,VLOOKUP(F240,Holidays,2),0)","v":0},null,null,null,{"$f":"DAY(K240)","v":14},{"$f":"IF(K240>0,VLOOKUP(K240,Holidays,2),0)","v":0},null,null,null,{"$f":"DAY(P240)","v":15},{"$f":"IF(P240>0,VLOOKUP(P240,Holidays,2),0)","v":0},null,null,null,{"$f":"DAY(V240)","v":16},{"$f":"IF(V240>0,VLOOKUP(V240,Holidays,2),0)","v":0},null,null,null,null,{"$f":"DAY(AA240)","v":17},{"$f":"IF(AA240>0,VLOOKUP(AA240,Holidays,2),0)","v":0},null,null,null,null,{"$f":"DAY(AG240)","v":18},{"$f":"IF(AG240>0,VLOOKUP(AG240,Holidays,2),0)","v":0},null,null,null,{"$f":"DAY(AL240)","v":19},{"$f":"IF(AL240>0,VLOOKUP(AL240,Holidays,2),0)","v":0}]
[{"$f":"UPPER(VLOOKUP(F240,Inputs,4,FALSE))&\"  \"","v":"  "},null,null,null,{"$f":"IF(LEN(A242)>2,A242&VLOOKUP(F240,Inputs,5,FALSE),VLOOKUP(F240,Inputs,5,FALSE))","v":0},null,{"$f":"IF(F240>0,VLOOKUP(F240,Inputs,6,FALSE),\"\")","v":0},{"$f":"UPPER(VLOOKUP(K240,Inputs,4,FALSE))&\"  \"","v":"  "},null,{"$f":"IF(LEN(H242)>2,H242&VLOOKUP(K240,Inputs,5,FALSE),VLOOKUP(K240,Inputs,5,FALSE))","v":0},null,{"$f":"IF(K240>0,VLOOKUP(K240,Inputs,6,FALSE),\"\")","v":0},{"$f":"UPPER(VLOOKUP(P240,Inputs,4,FALSE))&\"  \"","v":"  "},null,{"$f":"IF(LEN(M242)>2,M242&VLOOKUP(P240,Inputs,5,FALSE),VLOOKUP(P240,Inputs,5,FALSE))","v":0},null,{"$f":"IF(P240>0,VLOOKUP(P240,Inputs,6,FALSE),\"\")","v":0},{"$f":"UPPER(VLOOKUP(V240,Inputs,4,FALSE))&\"  \"","v":"  "},null,{"$f":"IF(LEN(R242)>2,R242&VLOOKUP(V240,Inputs,5,FALSE),VLOOKUP(V240,Inputs,5,FALSE))","v":0},null,null,{"$f":"IF(V240>0,VLOOKUP(V240,Inputs,6,FALSE),\"\")","v":0},{"$f":"UPPER(VLOOKUP(AA240,Inputs,4,FALSE))&\"  \"","v":"  "},null,{"$f":"IF(LEN(X242)>2,X242&VLOOKUP(AA240,Inputs,5,FALSE),VLOOKUP(AA240,Inputs,5,FALSE))","v":0},null,null,{"$f":"IF(AA240>0,VLOOKUP(AA240,Inputs,6,FALSE),\"\")","v":0},{"$f":"UPPER(VLOOKUP(AG240,Inputs,4,FALSE))&\"  \"","v":"  "},null,{"$f":"IF(LEN(AD242)>2,AD242&VLOOKUP(AG240,Inputs,5,FALSE),VLOOKUP(AG240,Inputs,5,FALSE))","v":0},null,{"$f":"IF(AG240>0,VLOOKUP(AG240,Inputs,6,FALSE),\"\")","v":0},{"$f":"UPPER(VLOOKUP(AL240,Inputs,4,FALSE))&\"  \"","v":"  "},null,{"$f":"IF(LEN(AI242)>2,AI242&VLOOKUP(AL240,Inputs,5,FALSE),VLOOKUP(AL240,Inputs,5,FALSE))","v":0},null,{"$f":"IF(AL240>0,VLOOKUP(AL240,Inputs,6,FALSE),\"\")","v":0},null,null,{"$f":"IF($A242=AP$5,$G242,0)+IF($H242=AP$5,$L242,0)+IF($M242=AP$5,$Q242,0)+IF($R242=AP$5,$W242,0)+IF($X242=AP$5,AC242,0)+IF($AD242=AP$5,AH242,0)+IF(AI242=AP$5,AM242,0)","v":0},{"$f":"IF($A242=AQ$5,$G242,0)+IF($H242=AQ$5,$L242,0)+IF($M242=AQ$5,$Q242,0)+IF($R242=AQ$5,$W242,0)+IF($X242=AQ$5,$AC242,0)+IF($AD242=AQ$5,$AH242,0)+IF($AI242=AQ$5,$AM242,0)","v":0},0,0,0,0,0,0,0,0,0,0,0,0]
[{"$f":"UPPER(VLOOKUP(F240,Inputs,7,FALSE))&\"  \"","v":"  "},null,null,null,{"$f":"IF(LEN(A243)>2,A243&VLOOKUP(F240,Inputs,8,FALSE),VLOOKUP(F240,Inputs,8,FALSE))","v":0},null,{"$f":"IF(F240>0,VLOOKUP(F240,Inputs,9,FALSE),\"\")","v":0},{"$f":"UPPER(VLOOKUP(K240,Inputs,7,FALSE))&\"  \"","v":"  "},null,{"$f":"IF(LEN(H243)>2,H243&VLOOKUP(K240,Inputs,8,FALSE),VLOOKUP(K240,Inputs,8,FALSE))","v":0},null,{"$f":"IF(K240>0,VLOOKUP(K240,Inputs,9,FALSE),\"\")","v":0},{"$f":"UPPER(VLOOKUP(P240,Inputs,7,FALSE))&\"  \"","v":"  "},null,{"$f":"IF(LEN(M243)>2,M243&VLOOKUP(P240,Inputs,8,FALSE),VLOOKUP(P240,Inputs,8,FALSE))","v":0},null,{"$f":"IF(P240>0,VLOOKUP(P240,Inputs,9,FALSE),\"\")","v":0},{"$f":"UPPER(VLOOKUP(V240,Inputs,7,FALSE))&\"  \"","v":"  "},null,{"$f":"IF(LEN(R243)>2,R243&VLOOKUP(V240,Inputs,8,FALSE),VLOOKUP(V240,Inputs,8,FALSE))","v":0},null,null,{"$f":"IF(V240>0,VLOOKUP(V240,Inputs,9,FALSE),\"\")","v":0},{"$f":"UPPER(VLOOKUP(AA240,Inputs,7,FALSE))&\"  \"","v":"  "},null,{"$f":"IF(LEN(X243)>2,X243&VLOOKUP(AA240,Inputs,8,FALSE),VLOOKUP(AA240,Inputs,8,FALSE))","v":0},null,null,{"$f":"IF(AA240>0,VLOOKUP(AA240,Inputs,9,FALSE),\"\")","v":0},{"$f":"UPPER(VLOOKUP(AG240,Inputs,7,FALSE))&\"  \"","v":"  "},null,{"$f":"IF(LEN(AD243)>2,AD243&VLOOKUP(AG240,Inputs,8,FALSE),VLOOKUP(AG240,Inputs,8,FALSE))","v":0},null,{"$f":"IF(AG240>0,VLOOKUP(AG240,Inputs,9,FALSE),\"\")","v":0},{"$f":"UPPER(VLOOKUP(AL240,Inputs,7,FALSE))&\"  \"","v":"  "},null,{"$f":"IF(LEN(AI243)>2,AI243&VLOOKUP(AL240,Inputs,8,FALSE),VLOOKUP(AL240,Inputs,8,FALSE))","v":0},null,{"$f":"IF(AL240>0,VLOOKUP(AL240,Inputs,9,FALSE),\"\")","v":0},null,null,{"$f":"IF($A243=AP$5,$G243,0)+IF($H243=AP$5,$L243,0)+IF($M243=AP$5,$Q243,0)+IF($R243=AP$5,$W243,0)+IF($X243=AP$5,AC243,0)+IF($AD243=AP$5,AH243,0)+IF(AI243=AP$5,AM243,0)","v":0},0,0,0,0,0,0,0,0,0,0,0,0,0]
[{"$f":"UPPER(VLOOKUP(F240,Inputs,10,FALSE))&\"  \"","v":"  "},null,null,null,{"$f":"IF(LEN(A244)>2,A244&VLOOKUP(F240,Inputs,11,FALSE),VLOOKUP(F240,Inputs,11,FALSE))","v":0},null,{"$f":"IF(F240>0,VLOOKUP(F240,Inputs,12,FALSE),\"\")","v":0},{"$f":"UPPER(VLOOKUP(K240,Inputs,10,FALSE))&\"  \"","v":"  "},null,{"$f":"IF(LEN(H244)>2,H244&VLOOKUP(K240,Inputs,11,FALSE),VLOOKUP(K240,Inputs,11,FALSE))","v":0},null,{"$f":"IF(K240>0,VLOOKUP(K240,Inputs,12,FALSE),\"\")","v":0},{"$f":"UPPER(VLOOKUP(P240,Inputs,10,FALSE))&\"  \"","v":"  "},null,{"$f":"IF(LEN(M244)>2,M244&VLOOKUP(P240,Inputs,11,FALSE),VLOOKUP(P240,Inputs,11,FALSE))","v":0},null,{"$f":"IF(P240>0,VLOOKUP(P240,Inputs,12,FALSE),\"\")","v":0},{"$f":"UPPER(VLOOKUP(V240,Inputs,10,FALSE))&\"  \"","v":"  "},null,{"$f":"IF(LEN(R244)>2,R244&VLOOKUP(V240,Inputs,11,FALSE),VLOOKUP(V240,Inputs,11,FALSE))","v":0},null,null,{"$f":"IF(V240>0,VLOOKUP(V240,Inputs,12,FALSE),\"\")","v":0},{"$f":"UPPER(VLOOKUP(AA240,Inputs,10,FALSE))&\"  \"","v":"  "},null,{"$f":"IF(LEN(X244)>2,X244&VLOOKUP(AA240,Inputs,11,FALSE),VLOOKUP(AA240,Inputs,11,FALSE))","v":0},null,null,{"$f":"IF(AA240>0,VLOOKUP(AA240,Inputs,12,FALSE),\"\")","v":0},{"$f":"UPPER(VLOOKUP(AG240,Inputs,10,FALSE))&\"  \"","v":"  "},null,{"$f":"IF(LEN(AD244)>2,AD244&VLOOKUP(AG240,Inputs,11,FALSE),VLOOKUP(AG240,Inputs,11,FALSE))","v":0},null,{"$f":"IF(AG240>0,VLOOKUP(AG240,Inputs,12,FALSE),\"\")","v":0},{"$f":"UPPER(VLOOKUP(AL240,Inputs,10,FALSE))&\"  \"","v":"  "},null,{"$f":"IF(LEN(AI244)>2,AI244&VLOOKUP(AL240,Inputs,11,FALSE),VLOOKUP(AL240,Inputs,11,FALSE))","v":0},null,{"$f":"IF(AL240>0,VLOOKUP(AL240,Inputs,12,FALSE),\"\")","v":0},null,null,{"$f":"IF($A244=AP$5,$G244,0)+IF($H244=AP$5,$L244,0)+IF($M244=AP$5,$Q244,0)+IF($R244=AP$5,$W244,0)+IF($X244=AP$5,AC244,0)+IF($AD244=AP$5,AH244,0)+IF(AI244=AP$5,AM244,0)","v":0},0,0,0,0,0,0,0,0,0,0,0,0,0]
[{"$f":"UPPER(VLOOKUP(F240,Inputs,13,FALSE))&\"  \"","v":"  "},null,null,null,{"$f":"IF(LEN(A245)>2,A245&VLOOKUP(F240,Inputs,14,FALSE),VLOOKUP(F240,Inputs,14,FALSE))","v":0},null,{"$f":"IF(F240>0,VLOOKUP(F240,Inputs,15,FALSE),\"\")","v":0},{"$f":"UPPER(VLOOKUP(K240,Inputs,13,FALSE))&\"  \"","v":"  "},null,{"$f":"IF(LEN(H245)>2,H245&VLOOKUP(K240,Inputs,14,FALSE),VLOOKUP(K240,Inputs,14,FALSE))","v":0},null,{"$f":"IF(K240>0,VLOOKUP(K240,Inputs,15,FALSE),\"\")","v":0},{"$f":"UPPER(VLOOKUP(P240,Inputs,13,FALSE))&\"  \"","v":"  "},null,{"$f":"IF(LEN(M245)>2,M245&VLOOKUP(P240,Inputs,14,FALSE),VLOOKUP(P240,Inputs,14,FALSE))","v":0},null,{"$f":"IF(P240>0,VLOOKUP(P240,Inputs,15,FALSE),\"\")","v":0},{"$f":"UPPER(VLOOKUP(V240,Inputs,13,FALSE))&\"  \"","v":"  "},null,{"$f":"IF(LEN(R245)>2,R245&VLOOKUP(V240,Inputs,14,FALSE),VLOOKUP(V240,Inputs,14,FALSE))","v":0},null,null,{"$f":"IF(V240>0,VLOOKUP(V240,Inputs,15,FALSE),\"\")","v":0},{"$f":"UPPER(VLOOKUP(AA240,Inputs,13,FALSE))&\"  \"","v":"  "},null,{"$f":"IF(LEN(X245)>2,X245&VLOOKUP(AA240,Inputs,14,FALSE),VLOOKUP(AA240,Inputs,14,FALSE))","v":0},null,null,{"$f":"IF(AA240>0,VLOOKUP(AA240,Inputs,15,FALSE),\"\")","v":0},{"$f":"UPPER(VLOOKUP(AG240,Inputs,13,FALSE))&\"  \"","v":"  "},null,{"$f":"IF(LEN(AD245)>2,AD245&VLOOKUP(AG240,Inputs,14,FALSE),VLOOKUP(AG240,Inputs,14,FALSE))","v":0},null,{"$f":"IF(AG240>0,VLOOKUP(AG240,Inputs,15,FALSE),\"\")","v":0},{"$f":"UPPER(VLOOKUP(AL240,Inputs,13,FALSE))&\"  \"","v":"  "},null,{"$f":"IF(LEN(AI245)>2,AI245&VLOOKUP(AL240,Inputs,14,FALSE),VLOOKUP(AL240,Inputs,14,FALSE))","v":0},null,{"$f":"IF(AL240>0,VLOOKUP(AL240,Inputs,15,FALSE),\"\")","v":0},null,null,{"$f":"IF($A245=AP$5,$G245,0)+IF($H245=AP$5,$L245,0)+IF($M245=AP$5,$Q245,0)+IF($R245=AP$5,$W245,0)+IF($X245=AP$5,AC245,0)+IF($AD245=AP$5,AH245,0)+IF(AI245=AP$5,AM245,0)","v":0},0,0,0,0,0,0,0,0,0,0,0,0,0]
[null,null,null,null,null,{"$f":"IF(F240>0,IF(VLOOKUP(F240,Inputs,3,FALSE)=\"T\",\"Telemarketing\",0),\"\")","v":0},null,null,null,null,{"$f":"IF(VLOOKUP(K240-1,Inputs,3,FALSE)=\"T\",0,IF(VLOOKUP(K240,Inputs,3,FALSE)=\"T\",\"Telemarketing\",0))","v":0},null,null,null,null,{"$f":"IF(VLOOKUP(P240-1,Inputs,3,FALSE)=\"T\",0,IF(VLOOKUP(P240,Inputs,3,FALSE)=\"T\",\"Telemarketing\",0))","v":0},null,null,null,null,null,{"$f":"IF(VLOOKUP(V240-1,Inputs,3,FALSE)=\"T\",0,IF(VLOOKUP(V240,Inputs,3,FALSE)=\"T\",\"Telemarketing\",0))","v":0},null,null,null,null,{"$f":"IF(VLOOKUP(AA240-1,Inputs,3,FALSE)=\"T\",0,IF(VLOOKUP(AA240,Inputs,3,FALSE)=\"T\",\"Telemarketing\",0))","v":0},null,null,null,null,null,{"$f":"IF(VLOOKUP(AG240-1,Inputs,3,FALSE)=\"T\",0,IF(VLOOKUP(AG240,Inputs,3,FALSE)=\"T\",\"Telemarketing\",0))","v":0},null,null,null,null,{"$f":"IF(VLOOKUP(AL240-1,Inputs,3,FALSE)=\"T\",0,IF(VLOOKUP(AL240,Inputs,3,FALSE)=\"T\",\"Telemarketing\",0))","v":0}]
[null,null,null,null,null,{"$f":"1+AL240","v":"2018-05-20"},null,null,null,null,{"$f":"1+F247","v":"2018-05-21"},null,null,null,null,{"$f":"1+K247","v":"2018-05-22"},null,null,null,null,null,{"$f":"1+P247","v":"2018-05-23"},null,null,null,null,{"$f":"1+V247","v":"2018-05-24"},null,null,null,null,null,{"$f":"1+AA247","v":"2018-05-25"},null,null,null,null,{"$f":"1+AG247","v":"2018-05-26"}]
[null,null,null,null,{"$f":"DAY(F247)","v":20},{"$f":"IF(F247>0,VLOOKUP(F247,Holidays,2),0)","v":0},null,null,null,{"$f":"DAY(K247)","v":21},{"$f":"IF(K247>0,VLOOKUP(K247,Holidays,2),0)","v":0},null,null,null,{"$f":"DAY(P247)","v":22},{"$f":"IF(P247>0,VLOOKUP(P247,Holidays,2),0)","v":0},null,null,null,{"$f":"DAY(V247)","v":23},{"$f":"IF(V247>0,VLOOKUP(V247,Holidays,2),0)","v":0},null,null,null,null,{"$f":"DAY(AA247)","v":24},{"$f":"IF(AA247>0,VLOOKUP(AA247,Holidays,2),0)","v":0},null,null,null,null,{"$f":"DAY(AG247)","v":25},{"$f":"IF(AG247>0,VLOOKUP(AG247,Holidays,2),0)","v":0},null,null,null,{"$f":"DAY(AL247)","v":26},{"$f":"IF(AL247>0,VLOOKUP(AL247,Holidays,2),0)","v":0}]
[{"$f":"UPPER(VLOOKUP(F247,Inputs,4,FALSE))&\"  \"","v":"  "},null,null,null,{"$f":"IF(LEN(A249)>2,A249&VLOOKUP(F247,Inputs,5,FALSE),VLOOKUP(F247,Inputs,5,FALSE))","v":0},null,{"$f":"IF(F247>0,VLOOKUP(F247,Inputs,6,FALSE),\"\")","v":0},{"$f":"UPPER(VLOOKUP(K247,Inputs,4,FALSE))&\"  \"","v":"  "},null,{"$f":"IF(LEN(H249)>2,H249&VLOOKUP(K247,Inputs,5,FALSE),VLOOKUP(K247,Inputs,5,FALSE))","v":0},null,{"$f":"IF(K247>0,VLOOKUP(K247,Inputs,6,FALSE),\"\")","v":0},{"$f":"UPPER(VLOOKUP(P247,Inputs,4,FALSE))&\"  \"","v":"  "},null,{"$f":"IF(LEN(M249)>2,M249&VLOOKUP(P247,Inputs,5,FALSE),VLOOKUP(P247,Inputs,5,FALSE))","v":0},null,{"$f":"IF(P247>0,VLOOKUP(P247,Inputs,6,FALSE),\"\")","v":0},{"$f":"UPPER(VLOOKUP(V247,Inputs,4,FALSE))&\"  \"","v":"  "},null,{"$f":"IF(LEN(R249)>2,R249&VLOOKUP(V247,Inputs,5,FALSE),VLOOKUP(V247,Inputs,5,FALSE))","v":0},null,null,{"$f":"IF(V247>0,VLOOKUP(V247,Inputs,6,FALSE),\"\")","v":0},{"$f":"UPPER(VLOOKUP(AA247,Inputs,4,FALSE))&\"  \"","v":"  "},null,{"$f":"IF(LEN(X249)>2,X249&VLOOKUP(AA247,Inputs,5,FALSE),VLOOKUP(AA247,Inputs,5,FALSE))","v":0},null,null,{"$f":"IF(AA247>0,VLOOKUP(AA247,Inputs,6,FALSE),\"\")","v":0},{"$f":"UPPER(VLOOKUP(AG247,Inputs,4,FALSE))&\"  \"","v":"  "},null,{"$f":"IF(LEN(AD249)>2,AD249&VLOOKUP(AG247,Inputs,5,FALSE),VLOOKUP(AG247,Inputs,5,FALSE))","v":0},null,{"$f":"IF(AG247>0,VLOOKUP(AG247,Inputs,6,FALSE),\"\")","v":0},{"$f":"UPPER(VLOOKUP(AL247,Inputs,4,FALSE))&\"  \"","v":"  "},null,{"$f":"IF(LEN(AI249)>2,AI249&VLOOKUP(AL247,Inputs,5,FALSE),VLOOKUP(AL247,Inputs,5,FALSE))","v":0},null,{"$f":"IF(AL247>0,VLOOKUP(AL247,Inputs,6,FALSE),\"\")","v":0},null,null,{"$f":"IF($A249=AP$5,$G249,0)+IF($H249=AP$5,$L249,0)+IF($M249=AP$5,$Q249,0)+IF($R249=AP$5,$W249,0)+IF($X249=AP$5,AC249,0)+IF($AD249=AP$5,AH249,0)+IF(AI249=AP$5,AM249,0)","v":0},{"$f":"IF($A249=AQ$5,$G249,0)+IF($H249=AQ$5,$L249,0)+IF($M249=AQ$5,$Q249,0)+IF($R249=AQ$5,$W249,0)+IF($X249=AQ$5,$AC249,0)+IF($AD249=AQ$5,$AH249,0)+IF($AI249=AQ$5,$AM249,0)","v":0},0,0,0,0,0,0,0,0,0,0,0,0]
[{"$f":"UPPER(VLOOKUP(F247,Inputs,7,FALSE))&\"  \"","v":"  "},null,null,null,{"$f":"IF(LEN(A250)>2,A250&VLOOKUP(F247,Inputs,8,FALSE),VLOOKUP(F247,Inputs,8,FALSE))","v":0},null,{"$f":"IF(F247>0,VLOOKUP(F247,Inputs,9,FALSE),\"\")","v":0},{"$f":"UPPER(VLOOKUP(K247,Inputs,7,FALSE))&\"  \"","v":"  "},null,{"$f":"IF(LEN(H250)>2,H250&VLOOKUP(K247,Inputs,8,FALSE),VLOOKUP(K247,Inputs,8,FALSE))","v":0},null,{"$f":"IF(K247>0,VLOOKUP(K247,Inputs,9,FALSE),\"\")","v":0},{"$f":"UPPER(VLOOKUP(P247,Inputs,7,FALSE))&\"  \"","v":"  "},null,{"$f":"IF(LEN(M250)>2,M250&VLOOKUP(P247,Inputs,8,FALSE),VLOOKUP(P247,Inputs,8,FALSE))","v":0},null,{"$f":"IF(P247>0,VLOOKUP(P247,Inputs,9,FALSE),\"\")","v":0},{"$f":"UPPER(VLOOKUP(V247,Inputs,7,FALSE))&\"  \"","v":"  "},null,{"$f":"IF(LEN(R250)>2,R250&VLOOKUP(V247,Inputs,8,FALSE),VLOOKUP(V247,Inputs,8,FALSE))","v":0},null,null,{"$f":"IF(V247>0,VLOOKUP(V247,Inputs,9,FALSE),\"\")","v":0},{"$f":"UPPER(VLOOKUP(AA247,Inputs,7,FALSE))&\"  \"","v":"  "},null,{"$f":"IF(LEN(X250)>2,X250&VLOOKUP(AA247,Inputs,8,FALSE),VLOOKUP(AA247,Inputs,8,FALSE))","v":0},null,null,{"$f":"IF(AA247>0,VLOOKUP(AA247,Inputs,9,FALSE),\"\")","v":0},{"$f":"UPPER(VLOOKUP(AG247,Inputs,7,FALSE))&\"  \"","v":"  "},null,{"$f":"IF(LEN(AD250)>2,AD250&VLOOKUP(AG247,Inputs,8,FALSE),VLOOKUP(AG247,Inputs,8,FALSE))","v":0},null,{"$f":"IF(AG247>0,VLOOKUP(AG247,Inputs,9,FALSE),\"\")","v":0},{"$f":"UPPER(VLOOKUP(AL247,Inputs,7,FALSE))&\"  \"","v":"  "},null,{"$f":"IF(LEN(AI250)>2,AI250&VLOOKUP(AL247,Inputs,8,FALSE),VLOOKUP(AL247,Inputs,8,FALSE))","v":0},null,{"$f":"IF(AL247>0,VLOOKUP(AL247,Inputs,9,FALSE),\"\")","v":0},null,null,{"$f":"IF($A250=AP$5,$G250,0)+IF($H250=AP$5,$L250,0)+IF($M250=AP$5,$Q250,0)+IF($R250=AP$5,$W250,0)+IF($X250=AP$5,AC250,0)+IF($AD250=AP$5,AH250,0)+IF(AI250=AP$5,AM250,0)","v":0},0,0,0,0,0,0,0,0,0,0,0,0,0]
[{"$f":"UPPER(VLOOKUP(F247,Inputs,10,FALSE))&\"  \"","v":"  "},null,null,null,{"$f":"IF(LEN(A251)>2,A251&VLOOKUP(F247,Inputs,11,FALSE),VLOOKUP(F247,Inputs,11,FALSE))","v":0},null,{"$f":"IF(F247>0,VLOOKUP(F247,Inputs,12,FALSE),\"\")","v":0},{"$f":"UPPER(VLOOKUP(K247,Inputs,10,FALSE))&\"  \"","v":"  "},null,{"$f":"IF(LEN(H251)>2,H251&VLOOKUP(K247,Inputs,11,FALSE),VLOOKUP(K247,Inputs,11,FALSE))","v":0},null,{"$f":"IF(K247>0,VLOOKUP(K247,Inputs,12,FALSE),\"\")","v":0},{"$f":"UPPER(VLOOKUP(P247,Inputs,10,FALSE))&\"  \"","v":"  "},null,{"$f":"IF(LEN(M251)>2,M251&VLOOKUP(P247,Inputs,11,FALSE),VLOOKUP(P247,Inputs,11,FALSE))","v":0},null,{"$f":"IF(P247>0,VLOOKUP(P247,Inputs,12,FALSE),\"\")","v":0},{"$f":"UPPER(VLOOKUP(V247,Inputs,10,FALSE))&\"  \"","v":"  "},null,{"$f":"IF(LEN(R251)>2,R251&VLOOKUP(V247,Inputs,11,FALSE),VLOOKUP(V247,Inputs,11,FALSE))","v":0},null,null,{"$f":"IF(V247>0,VLOOKUP(V247,Inputs,12,FALSE),\"\")","v":0},{"$f":"UPPER(VLOOKUP(AA247,Inputs,10,FALSE))&\"  \"","v":"  "},null,{"$f":"IF(LEN(X251)>2,X251&VLOOKUP(AA247,Inputs,11,FALSE),VLOOKUP(AA247,Inputs,11,FALSE))","v":0},null,null,{"$f":"IF(AA247>0,VLOOKUP(AA247,Inputs,12,FALSE),\"\")","v":0},{"$f":"UPPER(VLOOKUP(AG247,Inputs,10,FALSE))&\"  \"","v":"  "},null,{"$f":"IF(LEN(AD251)>2,AD251&VLOOKUP(AG247,Inputs,11,FALSE),VLOOKUP(AG247,Inputs,11,FALSE))","v":0},null,{"$f":"IF(AG247>0,VLOOKUP(AG247,Inputs,12,FALSE),\"\")","v":0},{"$f":"UPPER(VLOOKUP(AL247,Inputs,10,FALSE))&\"  \"","v":"  "},null,{"$f":"IF(LEN(AI251)>2,AI251&VLOOKUP(AL247,Inputs,11,FALSE),VLOOKUP(AL247,Inputs,11,FALSE))","v":0},null,{"$f":"IF(AL247>0,VLOOKUP(AL247,Inputs,12,FALSE),\"\")","v":0},null,null,{"$f":"IF($A251=AP$5,$G251,0)+IF($H251=AP$5,$L251,0)+IF($M251=AP$5,$Q251,0)+IF($R251=AP$5,$W251,0)+IF($X251=AP$5,AC251,0)+IF($AD251=AP$5,AH251,0)+IF(AI251=AP$5,AM251,0)","v":0},0,0,0,0,0,0,0,0,0,0,0,0,0]
[{"$f":"UPPER(VLOOKUP(F247,Inputs,13,FALSE))&\"  \"","v":"  "},null,null,null,{"$f":"IF(LEN(A252)>2,A252&VLOOKUP(F247,Inputs,14,FALSE),VLOOKUP(F247,Inputs,14,FALSE))","v":0},null,{"$f":"IF(F247>0,VLOOKUP(F247,Inputs,15,FALSE),\"\")","v":0},{"$f":"UPPER(VLOOKUP(K247,Inputs,13,FALSE))&\"  \"","v":"  "},null,{"$f":"IF(LEN(H252)>2,H252&VLOOKUP(K247,Inputs,14,FALSE),VLOOKUP(K247,Inputs,14,FALSE))","v":0},null,{"$f":"IF(K247>0,VLOOKUP(K247,Inputs,15,FALSE),\"\")","v":0},{"$f":"UPPER(VLOOKUP(P247,Inputs,13,FALSE))&\"  \"","v":"  "},null,{"$f":"IF(LEN(M252)>2,M252&VLOOKUP(P247,Inputs,14,FALSE),VLOOKUP(P247,Inputs,14,FALSE))","v":0},null,{"$f":"IF(P247>0,VLOOKUP(P247,Inputs,15,FALSE),\"\")","v":0},{"$f":"UPPER(VLOOKUP(V247,Inputs,13,FALSE))&\"  \"","v":"  "},null,{"$f":"IF(LEN(R252)>2,R252&VLOOKUP(V247,Inputs,14,FALSE),VLOOKUP(V247,Inputs,14,FALSE))","v":0},null,null,{"$f":"IF(V247>0,VLOOKUP(V247,Inputs,15,FALSE),\"\")","v":0},{"$f":"UPPER(VLOOKUP(AA247,Inputs,13,FALSE))&\"  \"","v":"  "},null,{"$f":"IF(LEN(X252)>2,X252&VLOOKUP(AA247,Inputs,14,FALSE),VLOOKUP(AA247,Inputs,14,FALSE))","v":0},null,null,{"$f":"IF(AA247>0,VLOOKUP(AA247,Inputs,15,FALSE),\"\")","v":0},{"$f":"UPPER(VLOOKUP(AG247,Inputs,13,FALSE))&\"  \"","v":"  "},null,{"$f":"IF(LEN(AD252)>2,AD252&VLOOKUP(AG247,Inputs,14,FALSE),VLOOKUP(AG247,Inputs,14,FALSE))","v":0},null,{"$f":"IF(AG247>0,VLOOKUP(AG247,Inputs,15,FALSE),\"\")","v":0},{"$f":"UPPER(VLOOKUP(AL247,Inputs,13,FALSE))&\"  \"","v":"  "},null,{"$f":"IF(LEN(AI252)>2,AI252&VLOOKUP(AL247,Inputs,14,FALSE),VLOOKUP(AL247,Inputs,14,FALSE))","v":0},null,{"$f":"IF(AL247>0,VLOOKUP(AL247,Inputs,15,FALSE),\"\")","v":0},null,null,{"$f":"IF($A252=AP$5,$G252,0)+IF($H252=AP$5,$L252,0)+IF($M252=AP$5,$Q252,0)+IF($R252=AP$5,$W252,0)+IF($X252=AP$5,AC252,0)+IF($AD252=AP$5,AH252,0)+IF(AI252=AP$5,AM252,0)","v":0},0,0,0,0,0,0,0,0,0,0,0,0,0]
[null,null,null,null,null,{"$f":"IF(F247>0,IF(VLOOKUP(F247,Inputs,3,FALSE)=\"T\",\"Telemarketing\",0),\"\")","v":0},null,null,null,null,{"$f":"IF(VLOOKUP(K247-1,Inputs,3,FALSE)=\"T\",0,IF(VLOOKUP(K247,Inputs,3,FALSE)=\"T\",\"Telemarketing\",0))","v":0},null,null,null,null,{"$f":"IF(VLOOKUP(P247-1,Inputs,3,FALSE)=\"T\",0,IF(VLOOKUP(P247,Inputs,3,FALSE)=\"T\",\"Telemarketing\",0))","v":0},null,null,null,null,null,{"$f":"IF(VLOOKUP(V247-1,Inputs,3,FALSE)=\"T\",0,IF(VLOOKUP(V247,Inputs,3,FALSE)=\"T\",\"Telemarketing\",0))","v":0},null,null,null,null,{"$f":"IF(VLOOKUP(AA247-1,Inputs,3,FALSE)=\"T\",0,IF(VLOOKUP(AA247,Inputs,3,FALSE)=\"T\",\"Telemarketing\",0))","v":0},null,null,null,null,null,{"$f":"IF(VLOOKUP(AG247-1,Inputs,3,FALSE)=\"T\",0,IF(VLOOKUP(AG247,Inputs,3,FALSE)=\"T\",\"Telemarketing\",0))","v":0},null,null,null,null,{"$f":"IF(VLOOKUP(AL247-1,Inputs,3,FALSE)=\"T\",0,IF(VLOOKUP(AL247,Inputs,3,FALSE)=\"T\",\"Telemarketing\",0))","v":0}]
[null,null,null,null,null,{"$f":"IF(AL247>0,IF(MONTH(1+AL247)=$A272,1+AL247,0),0)","v":"2018-05-27"},null,null,null,null,{"$f":"IF(F254>0,IF(MONTH(1+F254)=$A272,1+F254,0),0)","v":"2018-05-28"},null,null,null,null,{"$f":"IF(K254>0,IF(MONTH(1+K254)=$A272,1+K254,0),0)","v":"2018-05-29"},null,null,null,null,null,{"$f":"IF(P254>0,IF(MONTH(1+P254)=$A272,1+P254,0),0)","v":"2018-05-30"},null,null,null,null,{"$f":"IF(V254>0,IF(MONTH(1+V254)=$A272,1+V254,0),0)","v":"2018-05-31"},null,null,null,null,null,{"$f":"IF(AA254>0,IF(MONTH(1+AA254)=$A272,1+AA254,0),0)","v":"00:00:00"},null,null,null,null,{"$f":"IF(AG254>0,IF(MONTH(1+AG254)=$A272,1+AG254,0),0)","v":"00:00:00"}]
[null,null,null,null,{"$f":"DAY(F254)","v":27},{"$f":"VLOOKUP(F254,Holidays,2)","v":0},null,null,null,{"$f":"DAY(K254)","v":28},{"$f":"VLOOKUP(K254,Holidays,2)","v":"Memorial Day"},null,null,null,{"$f":"DAY(P254)","v":29},{"$f":"VLOOKUP(P254,Holidays,2)","v":0},null,null,null,{"$f":"DAY(V254)","v":30},{"$f":"VLOOKUP(V254,Holidays,2)","v":0},null,null,null,null,{"$f":"DAY(AA254)","v":31},{"$f":"VLOOKUP(AA254,Holidays,2)","v":0},null,null,null,null,{"$f":"DAY(AG254)","v":0},{"$f":"VLOOKUP(AG254,Holidays,2)","v":0},null,null,null,{"$f":"DAY(AL254)","v":0},{"$f":"VLOOKUP(AL254,Holidays,2)","v":0}]
[{"$f":"UPPER(VLOOKUP(F254,Inputs,4,FALSE))&\"  \"","v":"  "},null,null,null,{"$f":"IF(LEN(A256)>2,A256&VLOOKUP(F254,Inputs,5,FALSE),VLOOKUP(F254,Inputs,5,FALSE))","v":0},null,{"$f":"IF(F254>0,VLOOKUP(F254,Inputs,6,FALSE),\"\")","v":0},{"$f":"UPPER(VLOOKUP(K254,Inputs,4,FALSE))&\"  \"","v":"  "},null,{"$f":"IF(LEN(H256)>2,H256&VLOOKUP(K254,Inputs,5,FALSE),VLOOKUP(K254,Inputs,5,FALSE))","v":0},null,{"$f":"IF(K254>0,VLOOKUP(K254,Inputs,6,FALSE),\"\")","v":0},{"$f":"UPPER(VLOOKUP(P254,Inputs,4,FALSE))&\"  \"","v":"  "},null,{"$f":"IF(LEN(M256)>2,M256&VLOOKUP(P254,Inputs,5,FALSE),VLOOKUP(P254,Inputs,5,FALSE))","v":0},null,{"$f":"IF(P254>0,VLOOKUP(P254,Inputs,6,FALSE),\"\")","v":0},{"$f":"IF(MONTH(V254)=A272,UPPER(VLOOKUP(V254,Inputs,4,FALSE))&\"  \",\"\")","v":"  "},null,{"$f":"IF(MONTH(V254)=A272,IF(LEN(R256)>0,R256&VLOOKUP(V254,Inputs,5,FALSE),VLOOKUP(V254,Inputs,5,FALSE)),\"\")","v":"  "},null,null,{"$f":"IF(MONTH(V254)=A272,IF(V254>0,VLOOKUP(V254,Inputs,6,FALSE),\"\"),0)","v":0},{"$f":"IF(MONTH(AA254)=A272,UPPER(VLOOKUP(AA254,Inputs,4,FALSE))&\"  \",\"\")","v":"  "},null,{"$f":"IF(MONTH(AA254)=A272,IF(LEN(X256)>0,X256&VLOOKUP(AA254,Inputs,5,FALSE),VLOOKUP(AA254,Inputs,5,FALSE)),\"\")","v":"  "},null,null,{"$f":"IF(MONTH(AA254)=A272,IF(AA254>0,VLOOKUP(AA254,Inputs,6,FALSE),\"\"),0)","v":0},{"$f":"IF(MONTH(AG254)=A272,UPPER(VLOOKUP(AG254,Inputs,4,FALSE))&\"  \",\"\")","v":""},null,{"$f":"IF(MONTH(AG254)=A272,IF(LEN(AD256)>0,AD256&VLOOKUP(AG254,Inputs,5,FALSE),VLOOKUP(AG254,Inputs,5,FALSE)),\"\")","v":""},null,{"$f":"IF(MONTH(AG254)=A272,IF(AG254>0,VLOOKUP(AG254,Inputs,6,FALSE),\"\"),0)","v":0},{"$f":"IF(MONTH(AL254)=A272,UPPER(VLOOKUP(AL254,Inputs,4,FALSE))&\"  \",\"\")","v":""},null,{"$f":"IF(MONTH(AL254)=A272,IF(LEN(AI256)>0,AI256&VLOOKUP(AL254,Inputs,5,FALSE),VLOOKUP(AL254,Inputs,5,FALSE)),\"\")","v":""},null,{"$f":"IF(MONTH(AL254)=A272,IF(AL254>0,VLOOKUP(AL254,Inputs,6,FALSE),\"\"),0)","v":0},null,null,{"$f":"IF($A256=AP$5,$G256,0)+IF($H256=AP$5,$L256,0)+IF($M256=AP$5,$Q256,0)+IF($R256=AP$5,$W256,0)+IF($X256=AP$5,AC256,0)+IF($AD256=AP$5,AH256,0)+IF(AI256=AP$5,AM256,0)","v":0},{"$f":"IF($A256=AQ$5,$G256,0)+IF($H256=AQ$5,$L256,0)+IF($M256=AQ$5,$Q256,0)+IF($R256=AQ$5,$W256,0)+IF($X256=AQ$5,$AC256,0)+IF($AD256=AQ$5,$AH256,0)+IF($AI256=AQ$5,$AM256,0)","v":0},0,0,0,0,0,0,0,0,0,0,0,0]
[{"$f":"UPPER(VLOOKUP(F254,Inputs,7,FALSE))&\"  \"","v":"  "},null,null,null,{"$f":"IF(LEN(A257)>2,A257&VLOOKUP(F254,Inputs,8,FALSE),VLOOKUP(F254,Inputs,8,FALSE))","v":0},null,{"$f":"IF(F254>0,VLOOKUP(F254,Inputs,9,FALSE),\"\")","v":0},{"$f":"UPPER(VLOOKUP(K254,Inputs,7,FALSE))&\"  \"","v":"  "},null,{"$f":"IF(LEN(H257)>2,H257&VLOOKUP(K254,Inputs,8,FALSE),VLOOKUP(K254,Inputs,8,FALSE))","v":0},null,{"$f":"IF(K254>0,VLOOKUP(K254,Inputs,9,FALSE),\"\")","v":0},{"$f":"UPPER(VLOOKUP(P254,Inputs,7,FALSE))&\"  \"","v":"  "},null,{"$f":"IF(LEN(M257)>2,M257&VLOOKUP(P254,Inputs,8,FALSE),VLOOKUP(P254,Inputs,8,FALSE))","v":0},null,{"$f":"IF(P254>0,VLOOKUP(P254,Inputs,9,FALSE),\"\")","v":0},{"$f":"IF(MONTH(V254)=A272,UPPER(VLOOKUP(V254,Inputs,7,FALSE))&\"  \",\"\")","v":"  "},null,{"$f":"IF(MONTH(V254)=A272,IF(LEN(R257)>0,R257&VLOOKUP(V254,Inputs,8,FALSE),VLOOKUP(V254,Inputs,8,FALSE)),\"\")","v":"  "},null,null,{"$f":"IF(MONTH(V254)=A272,IF(V254>0,VLOOKUP(V254,Inputs,9,FALSE),\"\"),0)","v":0},{"$f":"IF(MONTH(AA254)=A272,UPPER(VLOOKUP(AA254,Inputs,7,FALSE))&\"  \",\"\")","v":"  "},null,{"$f":"IF(MONTH(AA254)=A272,IF(LEN(X257)>0,X257&VLOOKUP(AA254,Inputs,8,FALSE),VLOOKUP(AA254,Inputs,8,FALSE)),\"\")","v":"  "},null,null,{"$f":"IF(MONTH(AA254)=A272,IF(AA254>0,VLOOKUP(AA254,Inputs,9,FALSE),\"\"),0)","v":0},{"$f":"IF(MONTH(AG254)=A272,UPPER(VLOOKUP(AG254,Inputs,7,FALSE))&\"  \",\"\")","v":""},null,{"$f":"IF(MONTH(AG254)=A272,IF(LEN(AD257)>0,AD257&VLOOKUP(AG254,Inputs,8,FALSE),VLOOKUP(AG254,Inputs,8,FALSE)),\"\")","v":""},null,{"$f":"IF(MONTH(AG254)=A272,IF(AG254>0,VLOOKUP(AG254,Inputs,9,FALSE),\"\"),0)","v":0},{"$f":"IF(MONTH(AL254)=A272,UPPER(VLOOKUP(AL254,Inputs,7,FALSE))&\"  \",\"\")","v":""},null,{"$f":"IF(MONTH(AL254)=A272,IF(LEN(AI257)>0,AI257&VLOOKUP(AL254,Inputs,8,FALSE),VLOOKUP(AL254,Inputs,8,FALSE)),\"\")","v":""},null,{"$f":"IF(MONTH(AL254)=A272,IF(AL254>0,VLOOKUP(AL254,Inputs,9,FALSE),\"\"),0)","v":0},null,null,{"$f":"IF($A257=AP$5,$G257,0)+IF($H257=AP$5,$L257,0)+IF($M257=AP$5,$Q257,0)+IF($R257=AP$5,$W257,0)+IF($X257=AP$5,AC257,0)+IF($AD257=AP$5,AH257,0)+IF(AI257=AP$5,AM257,0)","v":0},0,0,0,0,0,0,0,0,0,0,0,0,0]
[{"$f":"UPPER(VLOOKUP(F254,Inputs,10,FALSE))&\"  \"","v":"  "},null,null,null,{"$f":"IF(LEN(A258)>2,A258&VLOOKUP(F254,Inputs,11,FALSE),VLOOKUP(F254,Inputs,11,FALSE))","v":0},null,{"$f":"IF(F254>0,VLOOKUP(F254,Inputs,12,FALSE),\"\")","v":0},{"$f":"UPPER(VLOOKUP(K254,Inputs,10,FALSE))&\"  \"","v":"  "},null,{"$f":"IF(LEN(H258)>2,H258&VLOOKUP(K254,Inputs,11,FALSE),VLOOKUP(K254,Inputs,11,FALSE))","v":0},null,{"$f":"IF(K254>0,VLOOKUP(K254,Inputs,12,FALSE),\"\")","v":0},{"$f":"UPPER(VLOOKUP(P254,Inputs,10,FALSE))&\"  \"","v":"  "},null,{"$f":"IF(LEN(M258)>2,M258&VLOOKUP(P254,Inputs,11,FALSE),VLOOKUP(P254,Inputs,11,FALSE))","v":0},null,{"$f":"IF(P254>0,VLOOKUP(P254,Inputs,12,FALSE),\"\")","v":0},{"$f":"IF(MONTH(V254)=A272,UPPER(VLOOKUP(V254,Inputs,10,FALSE))&\"  \",\"\")","v":"  "},null,{"$f":"IF(MONTH(V254)=A272,IF(LEN(R258)>0,R258&VLOOKUP(V254,Inputs,11,FALSE),VLOOKUP(V254,Inputs,11,FALSE)),\"\")","v":"  "},null,null,{"$f":"IF(MONTH(V254)=A272,IF(V254>0,VLOOKUP(V254,Inputs,12,FALSE),\"\"),0)","v":0},{"$f":"IF(MONTH(AA254)=A272,UPPER(VLOOKUP(AA254,Inputs,10,FALSE))&\"  \",\"\")","v":"  "},null,{"$f":"IF(MONTH(AA254)=A272,IF(LEN(X258)>0,X258&VLOOKUP(AA254,Inputs,11,FALSE),VLOOKUP(AA254,Inputs,11,FALSE)),\"\")","v":"  "},null,null,{"$f":"IF(MONTH(AA254)=A272,IF(AA254>0,VLOOKUP(AA254,Inputs,12,FALSE),\"\"),0)","v":0},{"$f":"IF(MONTH(AG254)=A272,UPPER(VLOOKUP(AG254,Inputs,10,FALSE))&\"  \",\"\")","v":""},null,{"$f":"IF(MONTH(AG254)=A272,IF(LEN(AD258)>0,AD258&VLOOKUP(AG254,Inputs,11,FALSE),VLOOKUP(AG254,Inputs,11,FALSE)),\"\")","v":""},null,{"$f":"IF(MONTH(AG254)=A272,IF(AG254>0,VLOOKUP(AG254,Inputs,12,FALSE),\"\"),0)","v":0},{"$f":"IF(MONTH(AL254)=A272,UPPER(VLOOKUP(AL254,Inputs,10,FALSE))&\"  \",\"\")","v":""},null,{"$f":"IF(MONTH(AL254)=A272,IF(LEN(AI258)>0,AI258&VLOOKUP(AL254,Inputs,11,FALSE),VLOOKUP(AL254,Inputs,11,FALSE)),\"\")","v":""},null,{"$f":"IF(MONTH(AL254)=A272,IF(AL254>0,VLOOKUP(AL254,Inputs,12,FALSE),\"\"),0)","v":0},null,null,{"$f":"IF($A258=AP$5,$G258,0)+IF($H258=AP$5,$L258,0)+IF($M258=AP$5,$Q258,0)+IF($R258=AP$5,$W258,0)+IF($X258=AP$5,AC258,0)+IF($AD258=AP$5,AH258,0)+IF(AI258=AP$5,AM258,0)","v":0},0,0,0,0,0,0,0,0,0,0,0,0,0]
[{"$f":"UPPER(VLOOKUP(F254,Inputs,13,FALSE))&\"  \"","v":"  "},null,null,null,{"$f":"IF(LEN(A259)>2,A259&VLOOKUP(F254,Inputs,14,FALSE),VLOOKUP(F254,Inputs,14,FALSE))","v":0},null,{"$f":"IF(F254>0,VLOOKUP(F254,Inputs,15,FALSE),\"\")","v":0},{"$f":"UPPER(VLOOKUP(K254,Inputs,13,FALSE))&\"  \"","v":"  "},null,{"$f":"IF(LEN(H259)>2,H259&VLOOKUP(K254,Inputs,14,FALSE),VLOOKUP(K254,Inputs,14,FALSE))","v":0},null,{"$f":"IF(K254>0,VLOOKUP(K254,Inputs,15,FALSE),\"\")","v":0},{"$f":"UPPER(VLOOKUP(P254,Inputs,13,FALSE))&\"  \"","v":"  "},null,{"$f":"IF(LEN(M259)>2,M259&VLOOKUP(P254,Inputs,14,FALSE),VLOOKUP(P254,Inputs,14,FALSE))","v":0},null,{"$f":"IF(P254>0,VLOOKUP(P254,Inputs,15,FALSE),\"\")","v":0},{"$f":"IF(MONTH(V254)=A272,UPPER(VLOOKUP(V254,Inputs,13,FALSE))&\"  \",\"\")","v":"  "},null,{"$f":"IF(MONTH(V254)=A272,IF(LEN(R259)>0,R259&VLOOKUP(V254,Inputs,14,FALSE),VLOOKUP(V254,Inputs,14,FALSE)),\"\")","v":"  "},null,null,{"$f":"IF(MONTH(V254)=A272,IF(V254>0,VLOOKUP(V254,Inputs,15,FALSE),\"\"),0)","v":0},{"$f":"IF(MONTH(AA254)=A272,UPPER(VLOOKUP(AA254,Inputs,13,FALSE))&\"  \",\"\")","v":"  "},null,{"$f":"IF(MONTH(AA254)=A272,IF(LEN(X259)>0,X259&VLOOKUP(AA254,Inputs,14,FALSE),VLOOKUP(AA254,Inputs,14,FALSE)),\"\")","v":"  "},null,null,{"$f":"IF(MONTH(AA254)=A272,IF(AA254>0,VLOOKUP(AA254,Inputs,15,FALSE),\"\"),0)","v":0},{"$f":"IF(MONTH(AG254)=A272,UPPER(VLOOKUP(AG254,Inputs,13,FALSE))&\"  \",\"\")","v":""},null,{"$f":"IF(MONTH(AG254)=A272,IF(LEN(AD259)>0,AD259&VLOOKUP(AG254,Inputs,14,FALSE),VLOOKUP(AG254,Inputs,14,FALSE)),\"\")","v":""},null,{"$f":"IF(MONTH(AG254)=A272,IF(AG254>0,VLOOKUP(AG254,Inputs,15,FALSE),\"\"),0)","v":0},{"$f":"IF(MONTH(AL254)=A272,UPPER(VLOOKUP(AL254,Inputs,13,FALSE))&\"  \",\"\")","v":""},null,{"$f":"IF(MONTH(AL254)=A272,IF(LEN(AI259)>0,AI259&VLOOKUP(AL254,Inputs,14,FALSE),VLOOKUP(AL254,Inputs,14,FALSE)),\"\")","v":""},null,{"$f":"IF(MONTH(AL254)=A272,IF(AL254>0,VLOOKUP(AL254,Inputs,15,FALSE),\"\"),0)","v":0},null,null,{"$f":"IF($A259=AP$5,$G259,0)+IF($H259=AP$5,$L259,0)+IF($M259=AP$5,$Q259,0)+IF($R259=AP$5,$W259,0)+IF($X259=AP$5,AC259,0)+IF($AD259=AP$5,AH259,0)+IF(AI259=AP$5,AM259,0)","v":0},0,0,0,0,0,0,0,0,0,0,0,0,0]
[null,null,null,null,null,{"$f":"IF(F254>0,IF(VLOOKUP(F254,Inputs,3,FALSE)=\"T\",\"Telemarketing\",0),\"\")","v":0},null,null,null,null,{"$f":"IF(VLOOKUP(K254-1,Inputs,3,FALSE)=\"T\",0,IF(VLOOKUP(K254,Inputs,3,FALSE)=\"T\",\"Telemarketing\",0))","v":0},null,null,null,null,{"$f":"IF(VLOOKUP(P254-1,Inputs,3,FALSE)=\"T\",0,IF(VLOOKUP(P254,Inputs,3,FALSE)=\"T\",\"Telemarketing\",0))","v":0},null,null,null,null,null,{"$f":"IF(VLOOKUP(V254-1,Inputs,3,FALSE)=\"T\",0,IF(VLOOKUP(V254,Inputs,3,FALSE)=\"T\",\"Telemarketing\",0))","v":0},null,null,null,null,{"$f":"IF(VLOOKUP(AA254-1,Inputs,3,FALSE)=\"T\",0,IF(VLOOKUP(AA254,Inputs,3,FALSE)=\"T\",\"Telemarketing\",0))","v":0},null,null,null,null,null,{"$f":"IF(VLOOKUP(AG254-1,Inputs,3,FALSE)=\"T\",0,IF(VLOOKUP(AG254,Inputs,3,FALSE)=\"T\",\"Telemarketing\",0))","v":{"$error":"#N/A"}},null,null,null,null,{"$f":"IF(VLOOKUP(AL254-1,Inputs,3,FALSE)=\"T\",0,IF(VLOOKUP(AL254,Inputs,3,FALSE)=\"T\",\"Telemarketing\",0))","v":{"$error":"#N/A"}}]
[null,null,null,null,null,{"$f":"IF(AL254>0,IF(MONTH(1+AL254)=$A272,1+AL254,0),0)","v":"00:00:00"},null,null,null,null,{"$f":"IF(F261>0,IF(MONTH(1+F261)=$A272,1+F261,0),0)","v":"00:00:00"},null,null,null,null,null,null,null,null,null,null,null,null,null,null,null,null,null,null,null,null,null,null,null,null,null,null,{"$f":"IF(AG261>0,IF(MONTH(1+AG261)=$A272,1+AG261,0),0)","v":"00:00:00"}]
[null,null,null,null,{"$f":"DAY(F261)","v":0},{"$f":"VLOOKUP(F261,Holidays,2)","v":0},null,null,null,{"$f":"DAY(K261)","v":0},{"$f":"VLOOKUP(K261,Holidays,2)","v":0},null,null,null,{"$f":"DAY(P261)","v":0},{"$f":"VLOOKUP(P261,Holidays,2)","v":0},null,null,null,{"$f":"DAY(V261)","v":0},{"$f":"VLOOKUP(V261,Holidays,2)","v":0},null,null,null,null,{"$f":"DAY(AA261)","v":0},{"$f":"VLOOKUP(AA261,Holidays,2)","v":0},null,null,null,null,{"$f":"DAY(AG261)","v":0},{"$f":"VLOOKUP(AG261,Holidays,2)","v":0},null,null,null,{"$f":"DAY(AL261)","v":0},{"$f":"VLOOKUP(AL261,Holidays,2)","v":0}]
[{"$f":"IF(MONTH(F$261)=A$272,UPPER(VLOOKUP(F$261,Inputs,4,FALSE))&\"  \",\"\")","v":""},null,null,null,{"$f":"IF(MONTH(F261)=A272,IF(LEN(A263)>0,A263&VLOOKUP(F261,Inputs,5,FALSE),VLOOKUP(F261,Inputs,5,FALSE)),\"\")","v":""},null,{"$f":"IF(MONTH(F261)=A272,IF(F261>0,VLOOKUP(F261,Inputs,6,FALSE),\"\"),0)","v":0},{"$f":"IF(MONTH(K261)=A272,UPPER(VLOOKUP(K261,Inputs,4,FALSE))&\"  \",\"\")","v":""},null,{"$f":"IF(MONTH(K261)=A272,IF(LEN(H263)>2,H263&VLOOKUP(K261,Inputs,5,FALSE),VLOOKUP(K261,Inputs,5,FALSE)),\"\")","v":""},null,{"$f":"IF(MONTH(K261)=A272,IF(K261>0,VLOOKUP(K261,Inputs,6,FALSE),\"\"),0)","v":0},null,null,null,null,{"$f":"IF(MONTH(P261)=A272,IF(P261>0,VLOOKUP(P261,Inputs,6,FALSE),\"\"),0)","v":0},null,null,null,null,null,null,null,null,null,null,null,null,null,null,null,null,null,null,null,null,null,null,null,null,{"$f":"IF($A263=AP$5,$G263,0)+IF($H263=AP$5,$L263,0)+IF($M263=AP$5,$Q263,0)+IF($R263=AP$5,$W263,0)+IF($X263=AP$5,AC263,0)+IF($AD263=AP$5,AH263,0)+IF(AI263=AP$5,AM263,0)","v":0},{"$f":"IF($A263=AQ$5,$G263,0)+IF($H263=AQ$5,$L263,0)+IF($M263=AQ$5,$Q263,0)+IF($R263=AQ$5,$W263,0)+IF($X263=AQ$5,$AC263,0)+IF($AD263=AQ$5,$AH263,0)+IF($AI263=AQ$5,$AM263,0)","v":0},0,0,0,0,0,0,0,0,0,0,0,0]
[{"$f":"IF(MONTH(F$261)=A$272,UPPER(VLOOKUP(F$261,Inputs,4,FALSE))&\"  \",\"\")","v":""},null,null,null,{"$f":"IF(MONTH(F261)=A272,IF(LEN(A264)>0,A264&VLOOKUP(F261,Inputs,8,FALSE),VLOOKUP(F261,Inputs,8,FALSE)),\"\")","v":""},null,{"$f":"IF(MONTH(F261)=A272,IF(F261>0,VLOOKUP(F261,Inputs,9,FALSE),\"\"),0)","v":0},{"$f":"IF(MONTH(K261)=A272,UPPER(VLOOKUP(K261,Inputs,7,FALSE))&\"  \",\"\")","v":""},null,{"$f":"IF(MONTH(K261)=A272,IF(LEN(H264)>2,H264&VLOOKUP(K261,Inputs,8,FALSE),VLOOKUP(K261,Inputs,8,FALSE)),\"\")","v":""},null,{"$f":"IF(MONTH(K261)=A272,IF(K261>0,VLOOKUP(K261,Inputs,9,FALSE),\"\"),0)","v":0},null,null,null,null,{"$f":"IF(MONTH(P261)=A272,IF(P261>0,VLOOKUP(P261,Inputs,9,FALSE),\"\"),0)","v":0},null,null,null,null,null,null,null,null,null,null,null,null,null,null,null,null,null,null,null,null,null,null,null,null,{"$f":"IF($A264=AP$5,$G264,0)+IF($H264=AP$5,$L264,0)+IF($M264=AP$5,$Q264,0)+IF($R264=AP$5,$W264,0)+IF($X264=AP$5,AC264,0)+IF($AD264=AP$5,AH264,0)+IF(AI264=AP$5,AM264,0)","v":0},0,0,0,0,0,0,0,0,0,0,0,0,0]
[{"$f":"IF(MONTH(F$261)=A$272,UPPER(VLOOKUP(F$261,Inputs,4,FALSE))&\"  \",\"\")","v":""},null,null,null,{"$f":"IF(MONTH(F261)=A272,IF(LEN(A265)>0,A265&VLOOKUP(F261,Inputs,11,FALSE),VLOOKUP(F261,Inputs,11,FALSE)),\"\")","v":""},null,{"$f":"IF(MONTH(F261)=A272,IF(F261>0,VLOOKUP(F261,Inputs,12,FALSE),\"\"),0)","v":0},{"$f":"IF(MONTH(K261)=A272,UPPER(VLOOKUP(K261,Inputs,10,FALSE))&\"  \",\"\")","v":""},null,{"$f":"IF(MONTH(K261)=A272,IF(LEN(H265)>2,H265&VLOOKUP(K261,Inputs,11,FALSE),VLOOKUP(K261,Inputs,11,FALSE)),\"\")","v":""},null,{"$f":"IF(MONTH(K261)=A272,IF(K261>0,VLOOKUP(K261,Inputs,12,FALSE),\"\"),0)","v":0},null,null,null,null,{"$f":"IF(MONTH(P261)=A272,IF(P261>0,VLOOKUP(P261,Inputs,12,FALSE),\"\"),0)","v":0},null,null,null,null,null,null,null,null,null,null,null,null,null,null,null,null,null,null,null,null,null,null,null,null,{"$f":"IF($A265=AP$5,$G265,0)+IF($H265=AP$5,$L265,0)+IF($M265=AP$5,$Q265,0)+IF($R265=AP$5,$W265,0)+IF($X265=AP$5,AC265,0)+IF($AD265=AP$5,AH265,0)+IF(AI265=AP$5,AM265,0)","v":0},0,0,0,0,0,0,0,0,0,0,0,0,0]
[{"$f":"IF(MONTH(F$261)=A$272,UPPER(VLOOKUP(F$261,Inputs,4,FALSE))&\"  \",\"\")","v":""},null,null,null,{"$f":"IF(MONTH(F261)=A272,IF(LEN(A266)>0,A266&VLOOKUP(F261,Inputs,14,FALSE),VLOOKUP(F261,Inputs,14,FALSE)),\"\")","v":""},null,{"$f":"IF(MONTH(F261)=A272,IF(F261>0,VLOOKUP(F261,Inputs,15,FALSE),\"\"),0)","v":0},{"$f":"IF(MONTH(K261)=A272,UPPER(VLOOKUP(K261,Inputs,13,FALSE))&\"  \",\"\")","v":""},null,{"$f":"IF(MONTH(K261)=A272,IF(LEN(H266)>2,H266&VLOOKUP(K261,Inputs,14,FALSE),VLOOKUP(K261,Inputs,14,FALSE)),\"\")","v":""},null,{"$f":"IF(MONTH(K261)=A272,IF(K261>0,VLOOKUP(K261,Inputs,15,FALSE),\"\"),0)","v":0},null,null,null,null,{"$f":"IF(MONTH(P261)=A272,IF(P261>0,VLOOKUP(P261,Inputs,15,FALSE),\"\"),0)","v":0},null,null,null,null,null,null,null,null,null,null,null,null,null,null,null,null,null,null,null,null,null,null,null,null,{"$f":"IF($A266=AP$5,$G266,0)+IF($H266=AP$5,$L266,0)+IF($M266=AP$5,$Q266,0)+IF($R266=AP$5,$W266,0)+IF($X266=AP$5,AC266,0)+IF($AD266=AP$5,AH266,0)+IF(AI266=AP$5,AM266,0)","v":0},0,0,0,0,0,0,0,0,0,0,0,0,0]
[null,null,null,null,null,{"$f":"IF(F261>0,IF(VLOOKUP(F261,Inputs,3,FALSE)=\"T\",\"Telemarketing\",0),\"\")","v":""},null,null,null,null,{"$f":"IF(VLOOKUP(K261-1,Inputs,3,FALSE)=\"T\",0,IF(VLOOKUP(K261,Inputs,3,FALSE)=\"T\",\"Telemarketing\",0))","v":{"$error":"#N/A"}},null,null,null,null,null,null,null,null,null,null,null,null,null,null,null,null,null,null,null,null,null,null,null,null,null,null,null,null,null,null,{"$f":"SUM(AP227:AP266)","v":0},0,0,0,0,0,0,0,{"$f":"SUM(AX227:AX266)","v":0},0,0,0,0,0]
[]
[null,null,null,null,{"$f":"\"CODE KEY:  \"&'Company Setup'!L$22&'Company Setup'!L$23&'Company Setup'!L$24&'Company Setup'!L$25&'Company Setup'!L$26&'Company Setup'!L$27&'Company Setup'!L$28&'Company Setup'!L$29&'Company Setup'!L$30&'Company Setup'!L$31&'Company Setup'!L$32&'Company Setup'!L$33&'Company Setup'!L$33&'Company Setup'!L$34&'Company Setup'!L$35","v":"CODE KEY:  B=Broadcast, L=Letter, P=Postcard, F=Flyer, H=Hanger, I=Newspaper Ads, N=Newsletter, E=E-Mail, A=Banner Ads, Y=Yellow Pages, "}]
[null,null,null,null,null,null,null,null,null,null,null,null,null,null,null,null,null,null,null,null,null,null,null,null,null,{"$f":"'Company Setup'!D$30","v":"Broadcast"},{"$f":"AP267","v":0},null,null,null,null,null,null,{"$f":"'Company Setup'!D$29","v":"E-Mail"},null,null,{"$f":"AW267","v":0}]
[null,null,null,null,null,null,"Revenue Budget",null,null,{"$f":"VLOOKUP(A272,ClientTable,2,FALSE)","v":86677},null,null,null,null,null,{"$f":"'Company Setup'!$E$5","v":"Reviews"},{"$f":"VLOOKUP(A272,ClientTable,3)","v":0},null,null,null,null,null,null,null,null,{"$f":"'Company Setup'!D$23","v":"Letter"},{"$f":"AQ267","v":0},null,null,null,null,null,null,{"$f":"'Company Setup'!D30","v":"Broadcast"},null,null,{"$f":"AX267","v":0}]
[{"$f":"IF(A217=12,1,A217+1)","v":5},null,null,null,null,null,"Monthly Marketing Budget",null,null,{"$f":"VLOOKUP(A272,ClientTable,7,FALSE)*VLOOKUP(A272,ClientTable,2,FALSE)","v":4333.8500000000004},null,null,null,null,null,{"$f":"'Company Setup'!$F$5","v":"SEO"},{"$f":"VLOOKUP(A272,ClientTable,4)","v":0},null,null,null,null,null,null,null,null,{"$f":"'Company Setup'!D$24","v":"Postcard"},{"$f":"AR267","v":0},null,null,null,null,null,null,{"$f":"'Company Setup'!D$31","v":"Banner Ads"},null,null,{"$f":"AY267","v":0}]
[{"$f":"VLOOKUP(A272,ClientTable,9)","v":5},null,null,null,null,null,"Month's End Marketing Cost",null,null,{"$f":"SUM(AK270:AK275)+SUM(AA270:AA276)+SUM(Q270:Q276)","v":0},null,null,null,null,null,{"$f":"'Company Setup'!$H$5","v":"Community Events"},{"$f":"VLOOKUP(A272,ClientTable,5)","v":0},null,null,null,null,null,null,null,null,{"$f":"'Company Setup'!D$25","v":"Flyer"},{"$f":"AS267","v":0},null,null,null,null,null,null,{"$f":"'Company Setup'!D$32","v":"Yellow Pages"},null,null,{"$f":"AZ267","v":0}]
[null,null,null,null,null,null,"Variance",null,null,{"$f":"J273-J272","v":-4333.8500000000004},null,null,null,null,null,{"$f":"'Company Setup'!G5","v":"Shows & Contests"},{"$f":"VLOOKUP(A272,ClientTable,6)","v":0},null,null,null,null,null,null,null,null,{"$f":"'Company Setup'!D$26","v":"Hanger"},{"$f":"AT267","v":0},null,null,null,null,null,null,{"$f":"'Company Setup'!D$33","v":0},null,null,{"$f":"BA267","v":0}]
[null,null,null,null,null,null,null,null,null,null,null,null,null,null,null,null,null,null,null,null,null,null,null,null,null,{"$f":"'Company Setup'!D$27","v":"Newspaper Ads"},{"$f":"AU267","v":0},null,null,null,null,null,null,{"$f":"'Company Setup'!D$34","v":0},null,null,{"$f":"BB267","v":0}]
[null,null,null,{"$f":"MONTH(StartMonth)","v":{"$error":"#VALUE!"}},"©",{"$f":"+F56","v":"Bedrock Markets, Inc. 2000 - 2100"},null,null,null,null,null,null,null,null,null,null,null,null,null,null,null,null,null,null,null,{"$f":"'Company Setup'!D$28","v":"Newsletter"},{"$f":"AV267","v":0},null,null,null,null,null,null,{"$f":"'Company Setup'!D$35","v":0},null,null,{"$f":"BC267","v":0}]
[]
[null,null,null,null,{"$f":"IF(E223=12,1,E223+1)","v":6},{"$f":"VLOOKUP(E278,Monthlookup2,2)&\" \"&YEAR(Calendar!S163)","v":"June 2018"},null,null,null,null,null,null,null,null,null,{"$f":"P$3","v":"   ABC Heating and Air"},null,null,null,null,null,null,null,null,null,null,null,null,null,null,null,null,null,null,null,null,null,null,null,null,"Importante!  Add 2 spaces after code - es muy neccesita"]
[]
[null,null,null,null,"Sunday",null,null,null,null,"Monday",null,null,null,null,"Tuesday",null,null,null,null,"Wednesday",null,null,null,null,null,"Thursday",null,null,null,null,null,"Friday",null,null,null,null,"Saturday"]
[null,null,null,null,null,{"$f":"IF(VLOOKUP(DATE(RIGHT($F278,4),$A327,1),Calendar,3)=1,DATE(RIGHT($F278,4),$A327,1),0)","v":"00:00:00"},null,null,null,null,{"$f":"IF(E282>0,F281+1,IF(VLOOKUP(DATE(RIGHT($F278,4),$A327,1),Calendar,3)=2,DATE(RIGHT($F278,4),$A327,1),0))","v":"00:00:00"},null,null,null,null,{"$f":"IF(J282>0,K281+1,IF(VLOOKUP(DATE(RIGHT($F278,4),$A327,1),Calendar,3)=3,DATE(RIGHT($F278,4),$A327,1),0))","v":"00:00:00"},null,null,null,null,null,{"$f":"IF(O282>0,P281+1,IF(VLOOKUP(DATE(RIGHT($F278,4),$A327,1),Calendar,3)=4,DATE(RIGHT($F278,4),$A327,1),0))","v":"00:00:00"},null,null,null,null,{"$f":"IF(T282>0,V281+1,IF(VLOOKUP(DATE(RIGHT($F278,4),$A327,1),Calendar,3)=5,DATE(RIGHT($F278,4),$A327,1),0))","v":"00:00:00"},null,null,null,null,null,{"$f":"IF(Z282>0,AA281+1,IF(VLOOKUP(DATE(RIGHT($F278,4),$A327,1),Calendar,3)=6,DATE(RIGHT($F278,4),$A327,1),0))","v":"2018-06-01"},null,null,null,null,{"$f":"IF(AF282>0,AG281+1,IF(VLOOKUP(DATE(RIGHT($F278,4),$A327,1),Calendar,3)=7,DATE(RIGHT($F278,4),$A327,1),0))","v":"2018-06-02"}]
[null,null,null,null,{"$f":"DAY(F281)","v":0},{"$f":"IF(F281>0,VLOOKUP(F281,Holidays,2),0)","v":0},null,null,null,{"$f":"DAY(K281)","v":0},{"$f":"IF(K281>0,VLOOKUP(K281,Holidays,2),0)","v":0},null,null,null,{"$f":"DAY(P281)","v":0},{"$f":"IF(P281>0,VLOOKUP(P281,Holidays,2),0)","v":0},null,null,null,{"$f":"DAY(V281)","v":0},{"$f":"IF(V281>0,VLOOKUP(V281,Holidays,2),0)","v":0},null,null,null,null,{"$f":"DAY(AA281)","v":0},{"$f":"IF(AA281>0,VLOOKUP(AA281,Holidays,2),0)","v":0},null,null,null,null,{"$f":"DAY(AG281)","v":1},{"$f":"IF(AG281>0,VLOOKUP(AG281,Holidays,2),0)","v":0},null,null,null,{"$f":"DAY(AL281)","v":2},{"$f":"IF(AL281>0,VLOOKUP(AL281,Holidays,2),0)","v":0}]
[{"$f":"IF(F281>1,UPPER(VLOOKUP(F281,Inputs,4,FALSE))&\"  \",0)","v":0},null,null,null,{"$f":"IF(F281>0,IF(LEN(A283)>2,A283&VLOOKUP(F281,Inputs,5,FALSE),VLOOKUP(F281,Inputs,5,FALSE)),\"\")","v":""},null,{"$f":"IF(F281>0,VLOOKUP(F281,Inputs,6,FALSE),\"\")","v":""},{"$f":"IF(K281>1,UPPER(VLOOKUP(K281,Inputs,4,FALSE))&\"  \",0)","v":0},null,{"$f":"IF(K281>0,IF(LEN(H283)>2,H283&VLOOKUP(K281,Inputs,5,FALSE),VLOOKUP(K281,Inputs,5,FALSE)),\"\")","v":""},null,{"$f":"IF(K281>0,VLOOKUP(K281,Inputs,6,FALSE),\"\")","v":""},{"$f":"IF(P281>1,UPPER(VLOOKUP(P281,Inputs,4,FALSE))&\"  \",0)","v":0},null,{"$f":"IF(P281>0,IF(LEN(M283)>2,M283&VLOOKUP(P281,Inputs,5,FALSE),VLOOKUP(P281,Inputs,5,FALSE)),\"\")","v":""},null,{"$f":"IF(P281>0,VLOOKUP(P281,Inputs,6,FALSE),\"\")","v":""},{"$f":"IF(V281>1,UPPER(VLOOKUP(V281,Inputs,4,FALSE))&\"  \",0)","v":0},null,{"$f":"IF(V281>0,IF(LEN(R283)>2,R283&VLOOKUP(V281,Inputs,5,FALSE),VLOOKUP(V281,Inputs,5,FALSE)),\"\")","v":""},null,null,{"$f":"IF(V281>0,VLOOKUP(V281,Inputs,6,FALSE),\"\")","v":""},{"$f":"IF(AA281>1,UPPER(VLOOKUP(AA281,Inputs,4,FALSE))&\"  \",0)","v":0},null,{"$f":"IF(AA281>0,IF(LEN(X283)>2,X283&VLOOKUP(AA281,Inputs,5,FALSE),VLOOKUP(AA281,Inputs,5,FALSE)),\"\")","v":""},null,null,{"$f":"IF(AA281>0,VLOOKUP(AA281,Inputs,6,FALSE),\"\")","v":""},{"$f":"IF(AG281>1,UPPER(VLOOKUP(AG281,Inputs,4,FALSE))&\"  \",0)","v":"  "},null,{"$f":"IF(AG281>0,IF(LEN(AD283)>2,AD283&VLOOKUP(AG281,Inputs,5,FALSE),VLOOKUP(AG281,Inputs,5,FALSE)),\"\")","v":0},null,{"$f":"IF(AG281>0,VLOOKUP(AG281,Inputs,6,FALSE),\"\")","v":0},{"$f":"UPPER(VLOOKUP(AL281,Inputs,4,FALSE))&\"  \"","v":"  "},null,{"$f":"IF(LEN(AI283)>2,AI283&VLOOKUP(AL281,Inputs,5,FALSE),VLOOKUP(AL281,Inputs,5,FALSE))","v":0},null,{"$f":"VLOOKUP(AL281,Inputs,6,FALSE)","v":0},null,null,{"$f":"IF($A283=AP$5,$G283,0)+IF($H283=AP$5,$L283,0)+IF($M283=AP$5,$Q283,0)+IF($R283=AP$5,$W283,0)+IF($X283=AP$5,AC283,0)+IF($AD283=AP$5,AH283,0)+IF(AI283=AP$5,AM283,0)","v":0},{"$f":"IF($A283=AQ$5,$G283,0)+IF($H283=AQ$5,$L283,0)+IF($M283=AQ$5,$Q283,0)+IF($R283=AQ$5,$W283,0)+IF($X283=AQ$5,$AC283,0)+IF($AD283=AQ$5,$AH283,0)+IF($AI283=AQ$5,$AM283,0)","v":0},0,0,0,0,0,0,0,0,0,0,0,0]
[{"$f":"IF(F281>1,UPPER(VLOOKUP(F281,Inputs,7,FALSE))&\"  \",0)","v":0},null,null,null,{"$f":"IF(F281>0,IF(LEN(A284)>2,A284&VLOOKUP(F281,Inputs,8,FALSE),VLOOKUP(F281,Inputs,8,FALSE)),\"\")","v":""},null,{"$f":"IF(F281>0,VLOOKUP(F281,Inputs,9,FALSE),\"\")","v":""},{"$f":"IF(K281>1,UPPER(VLOOKUP(K281,Inputs,7,FALSE))&\"  \",0)","v":0},null,{"$f":"IF(K281>0,IF(LEN(H284)>2,H284&VLOOKUP(K281,Inputs,8,FALSE),VLOOKUP(K281,Inputs,8,FALSE)),\"\")","v":""},null,{"$f":"IF(K281>0,VLOOKUP(K281,Inputs,9,FALSE),\"\")","v":""},{"$f":"IF(P281>1,UPPER(VLOOKUP(P281,Inputs,7,FALSE))&\"  \",0)","v":0},null,{"$f":"IF(P281>0,IF(LEN(M284)>2,M284&VLOOKUP(P281,Inputs,8,FALSE),VLOOKUP(P281,Inputs,8,FALSE)),\"\")","v":""},null,{"$f":"IF(P281>0,VLOOKUP(P281,Inputs,9,FALSE),\"\")","v":""},{"$f":"IF(V281>1,UPPER(VLOOKUP(V281,Inputs,7,FALSE))&\"  \",0)","v":0},null,{"$f":"IF(V281>0,IF(LEN(R284)>2,R284&VLOOKUP(V281,Inputs,8,FALSE),VLOOKUP(V281,Inputs,8,FALSE)),\"\")","v":""},null,null,{"$f":"IF(V281>0,VLOOKUP(V281,Inputs,9,FALSE),\"\")","v":""},{"$f":"IF(AA281>1,UPPER(VLOOKUP(AA281,Inputs,7,FALSE))&\"  \",0)","v":0},null,{"$f":"IF(AA281>0,IF(LEN(X284)>2,X284&VLOOKUP(AA281,Inputs,8,FALSE),VLOOKUP(AA281,Inputs,8,FALSE)),\"\")","v":""},null,null,{"$f":"IF(AA281>0,VLOOKUP(AA281,Inputs,9,FALSE),\"\")","v":""},{"$f":"IF(AG281>1,UPPER(VLOOKUP(AG281,Inputs,7,FALSE))&\"  \",0)","v":"  "},null,{"$f":"IF(AG281>0,IF(LEN(AD284)>2,AD284&VLOOKUP(AG281,Inputs,8,FALSE),VLOOKUP(AG281,Inputs,8,FALSE)),\"\")","v":0},null,{"$f":"IF(AG281>0,VLOOKUP(AG281,Inputs,9,FALSE),\"\")","v":0},{"$f":"UPPER(VLOOKUP(AL281,Inputs,7,FALSE))&\"  \"","v":"  "},null,{"$f":"IF(LEN(AI284)>2,AI284&VLOOKUP(AL281,Inputs,8,FALSE),VLOOKUP(AL281,Inputs,8,FALSE))","v":0},null,{"$f":"VLOOKUP(AL281,Inputs,9,FALSE)","v":0},null,null,{"$f":"IF($A284=AP$5,$G284,0)+IF($H284=AP$5,$L284,0)+IF($M284=AP$5,$Q284,0)+IF($R284=AP$5,$W284,0)+IF($X284=AP$5,AC284,0)+IF($AD284=AP$5,AH284,0)+IF(AI284=AP$5,AM284,0)","v":0},0,0,0,0,0,0,0,0,0,0,0,0,0,null,"530-345-3280"]
[{"$f":"IF(F281>1,UPPER(VLOOKUP(F281,Inputs,10,FALSE))&\"  \",0)","v":0},null,null,null,{"$f":"IF(F281>0,IF(LEN(A285)>2,A285&VLOOKUP(F281,Inputs,11,FALSE),VLOOKUP(F281,Inputs,11,FALSE)),\"\")","v":""},null,{"$f":"IF(F281>0,VLOOKUP(F281,Inputs,12,FALSE),\"\")","v":""},{"$f":"IF(K281>1,UPPER(VLOOKUP(K281,Inputs,10,FALSE))&\"  \",0)","v":0},null,{"$f":"IF(K281>0,IF(LEN(H285)>0,H285&VLOOKUP(K281,Inputs,11,FALSE),VLOOKUP(K281,Inputs,11,FALSE)),\"\")","v":""},null,{"$f":"IF(K281>0,VLOOKUP(K281,Inputs,12,FALSE),\"\")","v":""},{"$f":"IF(P281>1,UPPER(VLOOKUP(P281,Inputs,10,FALSE))&\"  \",0)","v":0},null,{"$f":"IF(P281>0,IF(LEN(M285)>0,M285&VLOOKUP(P281,Inputs,11,FALSE),VLOOKUP(P281,Inputs,11,FALSE)),\"\")","v":""},null,{"$f":"IF(P281>0,VLOOKUP(P281,Inputs,12,FALSE),\"\")","v":""},{"$f":"IF(V281>1,UPPER(VLOOKUP(V281,Inputs,10,FALSE))&\"  \",0)","v":0},null,{"$f":"IF(V281>0,IF(LEN(R285)>0,R285&VLOOKUP(V281,Inputs,11,FALSE),VLOOKUP(V281,Inputs,11,FALSE)),\"\")","v":""},null,null,{"$f":"IF(V281>0,VLOOKUP(V281,Inputs,12,FALSE),\"\")","v":""},{"$f":"IF(AA281>1,UPPER(VLOOKUP(AA281,Inputs,10,FALSE))&\"  \",0)","v":0},null,{"$f":"IF(AA281>0,IF(LEN(X285)>0,X285&VLOOKUP(AA281,Inputs,11,FALSE),VLOOKUP(AA281,Inputs,11,FALSE)),\"\")","v":""},null,null,{"$f":"IF(AA281>0,VLOOKUP(AA281,Inputs,12,FALSE),\"\")","v":""},{"$f":"IF(AG281>1,UPPER(VLOOKUP(AG281,Inputs,10,FALSE))&\"  \",0)","v":"  "},null,{"$f":"IF(AG281>0,IF(LEN(AD285)>0,AD285&VLOOKUP(AG281,Inputs,11,FALSE),VLOOKUP(AG281,Inputs,11,FALSE)),\"\")","v":"  "},null,{"$f":"IF(AG281>0,VLOOKUP(AG281,Inputs,12,FALSE),\"\")","v":0},{"$f":"UPPER(VLOOKUP(AL281,Inputs,10,FALSE))&\"  \"","v":"  "},null,{"$f":"IF(LEN(AI285)>2,AI285&VLOOKUP(AL281,Inputs,11,FALSE),VLOOKUP(AL281,Inputs,11,FALSE))","v":0},null,{"$f":"VLOOKUP(AL281,Inputs,12,FALSE)","v":0},null,null,{"$f":"IF($A285=AP$5,$G285,0)+IF($H285=AP$5,$L285,0)+IF($M285=AP$5,$Q285,0)+IF($R285=AP$5,$W285,0)+IF($X285=AP$5,AC285,0)+IF($AD285=AP$5,AH285,0)+IF(AI285=AP$5,AM285,0)","v":0},0,0,0,0,0,0,0,0,0,0,0,0,0,null,"2540 Zanella Way, Suite 20"]
[{"$f":"IF(F281>1,UPPER(VLOOKUP(F281,Inputs,13,FALSE))&\"  \",0)","v":0},null,null,null,{"$f":"IF(F281>0,IF(LEN(A286)>2,A286&VLOOKUP(F281,Inputs,14,FALSE),VLOOKUP(F281,Inputs,14,FALSE)),\"\")","v":""},null,{"$f":"IF(F281>0,VLOOKUP(F281,Inputs,15,FALSE),\"\")","v":""},{"$f":"IF(K281>1,UPPER(VLOOKUP(K281,Inputs,13,FALSE))&\"  \",0)","v":0},null,{"$f":"IF(K281>0,IF(LEN(H286)>2,H286&VLOOKUP(K281,Inputs,14,FALSE),VLOOKUP(K281,Inputs,14,FALSE)),\"\")","v":""},null,{"$f":"IF(K281>0,VLOOKUP(K281,Inputs,15,FALSE),\"\")","v":""},{"$f":"IF(P281>1,UPPER(VLOOKUP(P281,Inputs,13,FALSE))&\"  \",0)","v":0},null,{"$f":"IF(P281>0,IF(LEN(M286)>2,M286&VLOOKUP(P281,Inputs,14,FALSE),VLOOKUP(P281,Inputs,14,FALSE)),\"\")","v":""},null,{"$f":"IF(P281>0,VLOOKUP(P281,Inputs,15,FALSE),\"\")","v":""},{"$f":"IF(V281>1,UPPER(VLOOKUP(V281,Inputs,13,FALSE))&\"  \",0)","v":0},null,{"$f":"IF(V281>0,IF(LEN(R286)>2,R286&VLOOKUP(V281,Inputs,14,FALSE),VLOOKUP(V281,Inputs,14,FALSE)),\"\")","v":""},null,null,{"$f":"IF(V281>0,VLOOKUP(V281,Inputs,15,FALSE),\"\")","v":""},{"$f":"IF(AA281>1,UPPER(VLOOKUP(AA281,Inputs,13,FALSE))&\"  \",0)","v":0},null,{"$f":"IF(AA281>0,IF(LEN(X286)>2,X286&VLOOKUP(AA281,Inputs,14,FALSE),VLOOKUP(AA281,Inputs,14,FALSE)),\"\")","v":""},null,null,{"$f":"IF(AA281>0,VLOOKUP(AA281,Inputs,15,FALSE),\"\")","v":""},{"$f":"IF(AG281>1,UPPER(VLOOKUP(AG281,Inputs,13,FALSE))&\"  \",0)","v":"  "},null,{"$f":"IF(AG281>0,IF(LEN(AD286)>2,AD286&VLOOKUP(AG281,Inputs,14,FALSE),VLOOKUP(AG281,Inputs,14,FALSE)),\"\")","v":0},null,{"$f":"IF(AG281>0,VLOOKUP(AG281,Inputs,15,FALSE),\"\")","v":0},{"$f":"UPPER(VLOOKUP(AL281,Inputs,13,FALSE))&\"  \"","v":"  "},null,{"$f":"IF(LEN(AI286)>2,AI286&VLOOKUP(AL281,Inputs,14,FALSE),VLOOKUP(AL281,Inputs,14,FALSE))","v":0},null,{"$f":"VLOOKUP(AL281,Inputs,15,FALSE)","v":0},null,null,{"$f":"IF($A286=AP$5,$G286,0)+IF($H286=AP$5,$L286,0)+IF($M286=AP$5,$Q286,0)+IF($R286=AP$5,$W286,0)+IF($X286=AP$5,AC286,0)+IF($AD286=AP$5,AH286,0)+IF(AI286=AP$5,AM286,0)","v":0},0,0,0,0,0,0,0,0,0,0,0,0,0,null,"    Chico, CA 95928"]
[null,null,null,null,null,{"$f":"IF(F281>0,IF(VLOOKUP(F281,Inputs,3,FALSE)=\"T\",\"Telemarketing\",0),\"\")","v":""},null,null,null,null,{"$f":"IF(F281>0,IF(VLOOKUP(F281,Inputs,3,FALSE)=\"T\",0,IF(VLOOKUP(K281,Inputs,3,FALSE)=\"T\",\"Telemarketing\",0)),IF(VLOOKUP(K281,Inputs,3,FALSE)=\"T\",\"Telemarketing\",0))","v":0},null,null,null,null,{"$f":"IF(K281>0,IF(VLOOKUP(K281,Inputs,3,FALSE)=\"T\",0,IF(VLOOKUP(P281,Inputs,3,FALSE)=\"T\",\"Telemarketing\",0)),IF(VLOOKUP(P281,Inputs,3,FALSE)=\"T\",\"Telemarketing\",0))","v":0},null,null,null,null,null,{"$f":"IF(P281>0,IF(VLOOKUP(P281,Inputs,3,FALSE)=\"T\",0,IF(VLOOKUP(V281,Inputs,3,FALSE)=\"T\",\"Telemarketing\",0)),IF(VLOOKUP(V281,Inputs,3,FALSE)=\"T\",\"Telemarketing\",0))","v":0},null,null,null,null,{"$f":"IF(V281>0,IF(VLOOKUP(V281,Inputs,3,FALSE)=\"T\",0,IF(VLOOKUP(AA281,Inputs,3,FALSE)=\"T\",\"Telemarketing\",0)),IF(VLOOKUP(AA281,Inputs,3,FALSE)=\"T\",\"Telemarketing\",0))","v":0},null,null,null,null,null,{"$f":"IF(AA281>0,IF(VLOOKUP(AA281,Inputs,3,FALSE)=\"T\",0,IF(VLOOKUP(AG281,Inputs,3,FALSE)=\"T\",\"Telemarketing\",0)),IF(VLOOKUP(AG281,Inputs,3,FALSE)=\"T\",\"Telemarketing\",0))","v":0},null,null,null,null,{"$f":"IF(AG281>0,IF(VLOOKUP(AG281,Inputs,3,FALSE)=\"T\",0,IF(VLOOKUP(AL281,Inputs,3,FALSE)=\"T\",\"Telemarketing\",0)),IF(VLOOKUP(AL281,Inputs,3,FALSE)=\"T\",\"Telemarketing\",0))","v":0}]
[null,null,null,null,null,{"$f":"1+AL281","v":"2018-06-03"},null,null,null,null,{"$f":"1+F288","v":"2018-06-04"},null,null,null,null,{"$f":"1+K288","v":"2018-06-05"},null,null,null,null,null,{"$f":"1+P288","v":"2018-06-06"},null,null,null,null,{"$f":"1+V288","v":"2018-06-07"},null,null,null,null,null,{"$f":"1+AA288","v":"2018-06-08"},null,null,null,null,{"$f":"1+AG288","v":"2018-06-09"}]
[null,null,null,null,{"$f":"DAY(F288)","v":3},{"$f":"IF(F288>0,VLOOKUP(F288,Holidays,2),0)","v":0},null,null,null,{"$f":"DAY(K288)","v":4},{"$f":"IF(K288>0,VLOOKUP(K288,Holidays,2),0)","v":0},null,null,null,{"$f":"DAY(P288)","v":5},{"$f":"IF(P288>0,VLOOKUP(P288,Holidays,2),0)","v":0},null,null,null,{"$f":"DAY(V288)","v":6},{"$f":"IF(V288>0,VLOOKUP(V288,Holidays,2),0)","v":0},null,null,null,null,{"$f":"DAY(AA288)","v":7},{"$f":"IF(AA288>0,VLOOKUP(AA288,Holidays,2),0)","v":0},null,null,null,null,{"$f":"DAY(AG288)","v":8},{"$f":"IF(AG288>0,VLOOKUP(AG288,Holidays,2),0)","v":0},null,null,null,{"$f":"DAY(AL288)","v":9},{"$f":"IF(AL288>0,VLOOKUP(AL288,Holidays,2),0)","v":0}]
[{"$f":"UPPER(VLOOKUP(F288,Inputs,4,FALSE))&\"  \"","v":"  "},null,null,null,{"$f":"IF(LEN(A290)>2,A290&VLOOKUP(F288,Inputs,5,FALSE),VLOOKUP(F288,Inputs,5,FALSE))","v":0},null,{"$f":"IF(F288>0,VLOOKUP(F288,Inputs,6,FALSE),\"\")","v":0},{"$f":"UPPER(VLOOKUP(K288,Inputs,4,FALSE))&\"  \"","v":"  "},null,{"$f":"IF(LEN(H290)>2,H290&VLOOKUP(K288,Inputs,5,FALSE),VLOOKUP(K288,Inputs,5,FALSE))","v":0},null,{"$f":"IF(K288>0,VLOOKUP(K288,Inputs,6,FALSE),\"\")","v":0},{"$f":"UPPER(VLOOKUP(P288,Inputs,4,FALSE))&\"  \"","v":"  "},null,{"$f":"IF(LEN(M290)>2,M290&VLOOKUP(P288,Inputs,5,FALSE),VLOOKUP(P288,Inputs,5,FALSE))","v":0},null,{"$f":"IF(P288>0,VLOOKUP(P288,Inputs,6,FALSE),\"\")","v":0},{"$f":"UPPER(VLOOKUP(V288,Inputs,4,FALSE))&\"  \"","v":"  "},null,{"$f":"IF(LEN(R290)>2,R290&VLOOKUP(V288,Inputs,5,FALSE),VLOOKUP(V288,Inputs,5,FALSE))","v":0},null,null,{"$f":"IF(V288>0,VLOOKUP(V288,Inputs,6,FALSE),\"\")","v":0},{"$f":"UPPER(VLOOKUP(AA288,Inputs,4,FALSE))&\"  \"","v":"  "},null,{"$f":"IF(LEN(X290)>2,X290&VLOOKUP(AA288,Inputs,5,FALSE),VLOOKUP(AA288,Inputs,5,FALSE))","v":0},null,null,{"$f":"IF(AA288>0,VLOOKUP(AA288,Inputs,6,FALSE),\"\")","v":0},{"$f":"UPPER(VLOOKUP(AG288,Inputs,4,FALSE))&\"  \"","v":"  "},null,{"$f":"IF(LEN(AD290)>2,AD290&VLOOKUP(AG288,Inputs,5,FALSE),VLOOKUP(AG288,Inputs,5,FALSE))","v":0},null,{"$f":"IF(AG288>0,VLOOKUP(AG288,Inputs,6,FALSE),\"\")","v":0},{"$f":"UPPER(VLOOKUP(AL288,Inputs,4,FALSE))&\"  \"","v":"  "},null,{"$f":"IF(LEN(AI290)>2,AI290&VLOOKUP(AL288,Inputs,5,FALSE),VLOOKUP(AL288,Inputs,5,FALSE))","v":0},null,{"$f":"IF(AL288>0,VLOOKUP(AL288,Inputs,6,FALSE),\"\")","v":0},null,null,{"$f":"IF($A290=AP$5,$G290,0)+IF($H290=AP$5,$L290,0)+IF($M290=AP$5,$Q290,0)+IF($R290=AP$5,$W290,0)+IF($X290=AP$5,AC290,0)+IF($AD290=AP$5,AH290,0)+IF(AI290=AP$5,AM290,0)","v":0},{"$f":"IF($A290=AQ$5,$G290,0)+IF($H290=AQ$5,$L290,0)+IF($M290=AQ$5,$Q290,0)+IF($R290=AQ$5,$W290,0)+IF($X290=AQ$5,$AC290,0)+IF($AD290=AQ$5,$AH290,0)+IF($AI290=AQ$5,$AM290,0)","v":0},0,0,0,0,0,0,0,0,0,0,0,0,null,"      TheBedrock.com"]
[{"$f":"UPPER(VLOOKUP(F288,Inputs,7,FALSE))&\"  \"","v":"  "},null,null,null,{"$f":"IF(LEN(A291)>2,A291&VLOOKUP(F288,Inputs,8,FALSE),VLOOKUP(F288,Inputs,8,FALSE))","v":0},null,{"$f":"IF(F288>0,VLOOKUP(F288,Inputs,9,FALSE),\"\")","v":0},{"$f":"UPPER(VLOOKUP(K288,Inputs,7,FALSE))&\"  \"","v":"  "},null,{"$f":"IF(LEN(H291)>2,H291&VLOOKUP(K288,Inputs,8,FALSE),VLOOKUP(K288,Inputs,8,FALSE))","v":0},null,{"$f":"IF(K288>0,VLOOKUP(K288,Inputs,9,FALSE),\"\")","v":0},{"$f":"UPPER(VLOOKUP(P288,Inputs,7,FALSE))&\"  \"","v":"  "},null,{"$f":"IF(LEN(M291)>2,M291&VLOOKUP(P288,Inputs,8,FALSE),VLOOKUP(P288,Inputs,8,FALSE))","v":0},null,{"$f":"IF(P288>0,VLOOKUP(P288,Inputs,9,FALSE),\"\")","v":0},{"$f":"UPPER(VLOOKUP(V288,Inputs,7,FALSE))&\"  \"","v":"  "},null,{"$f":"IF(LEN(R291)>2,R291&VLOOKUP(V288,Inputs,8,FALSE),VLOOKUP(V288,Inputs,8,FALSE))","v":0},null,null,{"$f":"IF(V288>0,VLOOKUP(V288,Inputs,9,FALSE),\"\")","v":0},{"$f":"UPPER(VLOOKUP(AA288,Inputs,7,FALSE))&\"  \"","v":"  "},null,{"$f":"IF(LEN(X291)>2,X291&VLOOKUP(AA288,Inputs,8,FALSE),VLOOKUP(AA288,Inputs,8,FALSE))","v":0},null,null,{"$f":"IF(AA288>0,VLOOKUP(AA288,Inputs,9,FALSE),\"\")","v":0},{"$f":"UPPER(VLOOKUP(AG288,Inputs,7,FALSE))&\"  \"","v":"  "},null,{"$f":"IF(LEN(AD291)>2,AD291&VLOOKUP(AG288,Inputs,8,FALSE),VLOOKUP(AG288,Inputs,8,FALSE))","v":0},null,{"$f":"IF(AG288>0,VLOOKUP(AG288,Inputs,9,FALSE),\"\")","v":0},{"$f":"UPPER(VLOOKUP(AL288,Inputs,7,FALSE))&\"  \"","v":"  "},null,{"$f":"IF(LEN(AI291)>2,AI291&VLOOKUP(AL288,Inputs,8,FALSE),VLOOKUP(AL288,Inputs,8,FALSE))","v":0},null,{"$f":"IF(AL288>0,VLOOKUP(AL288,Inputs,9,FALSE),\"\")","v":0},null,null,{"$f":"IF($A291=AP$5,$G291,0)+IF($H291=AP$5,$L291,0)+IF($M291=AP$5,$Q291,0)+IF($R291=AP$5,$W291,0)+IF($X291=AP$5,AC291,0)+IF($AD291=AP$5,AH291,0)+IF(AI291=AP$5,AM291,0)","v":0},0,0,0,0,0,0,0,0,0,0,0,0,0]
[{"$f":"UPPER(VLOOKUP(F288,Inputs,10,FALSE))&\"  \"","v":"  "},null,null,null,{"$f":"IF(LEN(A292)>2,A292&VLOOKUP(F288,Inputs,11,FALSE),VLOOKUP(F288,Inputs,11,FALSE))","v":0},null,{"$f":"IF(F288>0,VLOOKUP(F288,Inputs,12,FALSE),\"\")","v":0},{"$f":"UPPER(VLOOKUP(K288,Inputs,10,FALSE))&\"  \"","v":"  "},null,{"$f":"IF(LEN(H292)>2,H292&VLOOKUP(K288,Inputs,11,FALSE),VLOOKUP(K288,Inputs,11,FALSE))","v":0},null,{"$f":"IF(K288>0,VLOOKUP(K288,Inputs,12,FALSE),\"\")","v":0},{"$f":"UPPER(VLOOKUP(P288,Inputs,10,FALSE))&\"  \"","v":"  "},null,{"$f":"IF(LEN(M292)>2,M292&VLOOKUP(P288,Inputs,11,FALSE),VLOOKUP(P288,Inputs,11,FALSE))","v":0},null,{"$f":"IF(P288>0,VLOOKUP(P288,Inputs,12,FALSE),\"\")","v":0},{"$f":"UPPER(VLOOKUP(V288,Inputs,10,FALSE))&\"  \"","v":"  "},null,{"$f":"IF(LEN(R292)>2,R292&VLOOKUP(V288,Inputs,11,FALSE),VLOOKUP(V288,Inputs,11,FALSE))","v":0},null,null,{"$f":"IF(V288>0,VLOOKUP(V288,Inputs,12,FALSE),\"\")","v":0},{"$f":"UPPER(VLOOKUP(AA288,Inputs,10,FALSE))&\"  \"","v":"  "},null,{"$f":"IF(LEN(X292)>2,X292&VLOOKUP(AA288,Inputs,11,FALSE),VLOOKUP(AA288,Inputs,11,FALSE))","v":0},null,null,{"$f":"IF(AA288>0,VLOOKUP(AA288,Inputs,12,FALSE),\"\")","v":0},{"$f":"UPPER(VLOOKUP(AG288,Inputs,10,FALSE))&\"  \"","v":"  "},null,{"$f":"IF(LEN(AD292)>2,AD292&VLOOKUP(AG288,Inputs,11,FALSE),VLOOKUP(AG288,Inputs,11,FALSE))","v":0},null,{"$f":"IF(AG288>0,VLOOKUP(AG288,Inputs,12,FALSE),\"\")","v":0},{"$f":"UPPER(VLOOKUP(AL288,Inputs,10,FALSE))&\"  \"","v":"  "},null,{"$f":"IF(LEN(AI292)>2,AI292&VLOOKUP(AL288,Inputs,11,FALSE),VLOOKUP(AL288,Inputs,11,FALSE))","v":0},null,{"$f":"IF(AL288>0,VLOOKUP(AL288,Inputs,12,FALSE),\"\")","v":0},null,null,{"$f":"IF($A292=AP$5,$G292,0)+IF($H292=AP$5,$L292,0)+IF($M292=AP$5,$Q292,0)+IF($R292=AP$5,$W292,0)+IF($X292=AP$5,AC292,0)+IF($AD292=AP$5,AH292,0)+IF(AI292=AP$5,AM292,0)","v":0},0,0,0,0,0,0,0,0,0,0,0,0,0]
[{"$f":"UPPER(VLOOKUP(F288,Inputs,13,FALSE))&\"  \"","v":"  "},null,null,null,{"$f":"IF(LEN(A293)>2,A293&VLOOKUP(F288,Inputs,14,FALSE),VLOOKUP(F288,Inputs,14,FALSE))","v":0},null,{"$f":"IF(F288>0,VLOOKUP(F288,Inputs,15,FALSE),\"\")","v":0},{"$f":"UPPER(VLOOKUP(K288,Inputs,13,FALSE))&\"  \"","v":"  "},null,{"$f":"IF(LEN(H293)>2,H293&VLOOKUP(K288,Inputs,14,FALSE),VLOOKUP(K288,Inputs,14,FALSE))","v":0},null,{"$f":"IF(K288>0,VLOOKUP(K288,Inputs,15,FALSE),\"\")","v":0},{"$f":"UPPER(VLOOKUP(P288,Inputs,13,FALSE))&\"  \"","v":"  "},null,{"$f":"IF(LEN(M293)>2,M293&VLOOKUP(P288,Inputs,14,FALSE),VLOOKUP(P288,Inputs,14,FALSE))","v":0},null,{"$f":"IF(P288>0,VLOOKUP(P288,Inputs,15,FALSE),\"\")","v":0},{"$f":"UPPER(VLOOKUP(V288,Inputs,13,FALSE))&\"  \"","v":"  "},null,{"$f":"IF(LEN(R293)>2,R293&VLOOKUP(V288,Inputs,14,FALSE),VLOOKUP(V288,Inputs,14,FALSE))","v":0},null,null,{"$f":"IF(V288>0,VLOOKUP(V288,Inputs,15,FALSE),\"\")","v":0},{"$f":"UPPER(VLOOKUP(AA288,Inputs,13,FALSE))&\"  \"","v":"  "},null,{"$f":"IF(LEN(X293)>2,X293&VLOOKUP(AA288,Inputs,14,FALSE),VLOOKUP(AA288,Inputs,14,FALSE))","v":0},null,null,{"$f":"IF(AA288>0,VLOOKUP(AA288,Inputs,15,FALSE),\"\")","v":0},{"$f":"UPPER(VLOOKUP(AG288,Inputs,13,FALSE))&\"  \"","v":"  "},null,{"$f":"IF(LEN(AD293)>2,AD293&VLOOKUP(AG288,Inputs,14,FALSE),VLOOKUP(AG288,Inputs,14,FALSE))","v":0},null,{"$f":"IF(AG288>0,VLOOKUP(AG288,Inputs,15,FALSE),\"\")","v":0},{"$f":"UPPER(VLOOKUP(AL288,Inputs,13,FALSE))&\"  \"","v":"  "},null,{"$f":"IF(LEN(AI293)>2,AI293&VLOOKUP(AL288,Inputs,14,FALSE),VLOOKUP(AL288,Inputs,14,FALSE))","v":0},null,{"$f":"IF(AL288>0,VLOOKUP(AL288,Inputs,15,FALSE),\"\")","v":0},null,null,{"$f":"IF($A293=AP$5,$G293,0)+IF($H293=AP$5,$L293,0)+IF($M293=AP$5,$Q293,0)+IF($R293=AP$5,$W293,0)+IF($X293=AP$5,AC293,0)+IF($AD293=AP$5,AH293,0)+IF(AI293=AP$5,AM293,0)","v":0},0,0,0,0,0,0,0,0,0,0,0,0,0]
[null,null,null,null,null,{"$f":"IF(F288>0,IF(VLOOKUP(F288,Inputs,3,FALSE)=\"T\",\"Telemarketing\",0),\"\")","v":0},null,null,null,null,{"$f":"IF(VLOOKUP(K288-1,Inputs,3,FALSE)=\"T\",0,IF(VLOOKUP(K288,Inputs,3,FALSE)=\"T\",\"Telemarketing\",0))","v":0},null,null,null,null,{"$f":"IF(VLOOKUP(P288-1,Inputs,3,FALSE)=\"T\",0,IF(VLOOKUP(P288,Inputs,3,FALSE)=\"T\",\"Telemarketing\",0))","v":0},null,null,null,null,null,{"$f":"IF(VLOOKUP(V288-1,Inputs,3,FALSE)=\"T\",0,IF(VLOOKUP(V288,Inputs,3,FALSE)=\"T\",\"Telemarketing\",0))","v":0},null,null,null,null,{"$f":"IF(VLOOKUP(AA288-1,Inputs,3,FALSE)=\"T\",0,IF(VLOOKUP(AA288,Inputs,3,FALSE)=\"T\",\"Telemarketing\",0))","v":0},null,null,null,null,null,{"$f":"IF(VLOOKUP(AG288-1,Inputs,3,FALSE)=\"T\",0,IF(VLOOKUP(AG288,Inputs,3,FALSE)=\"T\",\"Telemarketing\",0))","v":0},null,null,null,null,{"$f":"IF(VLOOKUP(AL288-1,Inputs,3,FALSE)=\"T\",0,IF(VLOOKUP(AL288,Inputs,3,FALSE)=\"T\",\"Telemarketing\",0))","v":0}]
[null,null,null,null,null,{"$f":"1+AL288","v":"2018-06-10"},null,null,null,null,{"$f":"1+F295","v":"2018-06-11"},null,null,null,null,{"$f":"1+K295","v":"2018-06-12"},null,null,null,null,null,{"$f":"1+P295","v":"2018-06-13"},null,null,null,null,{"$f":"1+V295","v":"2018-06-14"},null,null,null,null,null,{"$f":"1+AA295","v":"2018-06-15"},null,null,null,null,{"$f":"1+AG295","v":"2018-06-16"}]
[null,null,null,null,{"$f":"DAY(F295)","v":10},{"$f":"IF(F295>0,VLOOKUP(F295,Holidays,2),0)","v":0},null,null,null,{"$f":"DAY(K295)","v":11},{"$f":"IF(K295>0,VLOOKUP(K295,Holidays,2),0)","v":0},null,null,null,{"$f":"DAY(P295)","v":12},{"$f":"IF(P295>0,VLOOKUP(P295,Holidays,2),0)","v":0},null,null,null,{"$f":"DAY(V295)","v":13},{"$f":"IF(V295>0,VLOOKUP(V295,Holidays,2),0)","v":0},null,null,null,null,{"$f":"DAY(AA295)","v":14},{"$f":"IF(AA295>0,VLOOKUP(AA295,Holidays,2),0)","v":0},null,null,null,null,{"$f":"DAY(AG295)","v":15},{"$f":"IF(AG295>0,VLOOKUP(AG295,Holidays,2),0)","v":0},null,null,null,{"$f":"DAY(AL295)","v":16},{"$f":"IF(AL295>0,VLOOKUP(AL295,Holidays,2),0)","v":0}]
[{"$f":"UPPER(VLOOKUP(F295,Inputs,4,FALSE))&\"  \"","v":"  "},null,null,null,{"$f":"IF(LEN(A297)>2,A297&VLOOKUP(F295,Inputs,5,FALSE),VLOOKUP(F295,Inputs,5,FALSE))","v":0},null,{"$f":"IF(F295>0,VLOOKUP(F295,Inputs,6,FALSE),\"\")","v":0},{"$f":"UPPER(VLOOKUP(K295,Inputs,4,FALSE))&\"  \"","v":"  "},null,{"$f":"IF(LEN(H297)>2,H297&VLOOKUP(K295,Inputs,5,FALSE),VLOOKUP(K295,Inputs,5,FALSE))","v":0},null,{"$f":"IF(K295>0,VLOOKUP(K295,Inputs,6,FALSE),\"\")","v":0},{"$f":"UPPER(VLOOKUP(P295,Inputs,4,FALSE))&\"  \"","v":"  "},null,{"$f":"IF(LEN(M297)>2,M297&VLOOKUP(P295,Inputs,5,FALSE),VLOOKUP(P295,Inputs,5,FALSE))","v":0},null,{"$f":"IF(P295>0,VLOOKUP(P295,Inputs,6,FALSE),\"\")","v":0},{"$f":"UPPER(VLOOKUP(V295,Inputs,4,FALSE))&\"  \"","v":"  "},null,{"$f":"IF(LEN(R297)>2,R297&VLOOKUP(V295,Inputs,5,FALSE),VLOOKUP(V295,Inputs,5,FALSE))","v":0},null,null,{"$f":"IF(V295>0,VLOOKUP(V295,Inputs,6,FALSE),\"\")","v":0},{"$f":"UPPER(VLOOKUP(AA295,Inputs,4,FALSE))&\"  \"","v":"  "},null,{"$f":"IF(LEN(X297)>2,X297&VLOOKUP(AA295,Inputs,5,FALSE),VLOOKUP(AA295,Inputs,5,FALSE))","v":0},null,null,{"$f":"IF(AA295>0,VLOOKUP(AA295,Inputs,6,FALSE),\"\")","v":0},{"$f":"UPPER(VLOOKUP(AG295,Inputs,4,FALSE))&\"  \"","v":"  "},null,{"$f":"IF(LEN(AD297)>2,AD297&VLOOKUP(AG295,Inputs,5,FALSE),VLOOKUP(AG295,Inputs,5,FALSE))","v":0},null,{"$f":"IF(AG295>0,VLOOKUP(AG295,Inputs,6,FALSE),\"\")","v":0},{"$f":"UPPER(VLOOKUP(AL295,Inputs,4,FALSE))&\"  \"","v":"  "},null,{"$f":"IF(LEN(AI297)>2,AI297&VLOOKUP(AL295,Inputs,5,FALSE),VLOOKUP(AL295,Inputs,5,FALSE))","v":0},null,{"$f":"IF(AL295>0,VLOOKUP(AL295,Inputs,6,FALSE),\"\")","v":0},null,null,{"$f":"IF($A297=AP$5,$G297,0)+IF($H297=AP$5,$L297,0)+IF($M297=AP$5,$Q297,0)+IF($R297=AP$5,$W297,0)+IF($X297=AP$5,AC297,0)+IF($AD297=AP$5,AH297,0)+IF(AI297=AP$5,AM297,0)","v":0},{"$f":"IF($A297=AQ$5,$G297,0)+IF($H297=AQ$5,$L297,0)+IF($M297=AQ$5,$Q297,0)+IF($R297=AQ$5,$W297,0)+IF($X297=AQ$5,$AC297,0)+IF($AD297=AQ$5,$AH297,0)+IF($AI297=AQ$5,$AM297,0)","v":0},0,0,0,0,0,0,0,0,0,0,0,0]
[{"$f":"UPPER(VLOOKUP(F295,Inputs,7,FALSE))&\"  \"","v":"  "},null,null,null,{"$f":"IF(LEN(A298)>2,A298&VLOOKUP(F295,Inputs,8,FALSE),VLOOKUP(F295,Inputs,8,FALSE))","v":0},null,{"$f":"IF(F295>0,VLOOKUP(F295,Inputs,9,FALSE),\"\")","v":0},{"$f":"UPPER(VLOOKUP(K295,Inputs,7,FALSE))&\"  \"","v":"  "},null,{"$f":"IF(LEN(H298)>2,H298&VLOOKUP(K295,Inputs,8,FALSE),VLOOKUP(K295,Inputs,8,FALSE))","v":0},null,{"$f":"IF(K295>0,VLOOKUP(K295,Inputs,9,FALSE),\"\")","v":0},{"$f":"UPPER(VLOOKUP(P295,Inputs,7,FALSE))&\"  \"","v":"  "},null,{"$f":"IF(LEN(M298)>2,M298&VLOOKUP(P295,Inputs,8,FALSE),VLOOKUP(P295,Inputs,8,FALSE))","v":0},null,{"$f":"IF(P295>0,VLOOKUP(P295,Inputs,9,FALSE),\"\")","v":0},{"$f":"UPPER(VLOOKUP(V295,Inputs,7,FALSE))&\"  \"","v":"  "},null,{"$f":"IF(LEN(R298)>2,R298&VLOOKUP(V295,Inputs,8,FALSE),VLOOKUP(V295,Inputs,8,FALSE))","v":0},null,null,{"$f":"IF(V295>0,VLOOKUP(V295,Inputs,9,FALSE),\"\")","v":0},{"$f":"UPPER(VLOOKUP(AA295,Inputs,7,FALSE))&\"  \"","v":"  "},null,{"$f":"IF(LEN(X298)>2,X298&VLOOKUP(AA295,Inputs,8,FALSE),VLOOKUP(AA295,Inputs,8,FALSE))","v":0},null,null,{"$f":"IF(AA295>0,VLOOKUP(AA295,Inputs,9,FALSE),\"\")","v":0},{"$f":"UPPER(VLOOKUP(AG295,Inputs,7,FALSE))&\"  \"","v":"  "},null,{"$f":"IF(LEN(AD298)>2,AD298&VLOOKUP(AG295,Inputs,8,FALSE),VLOOKUP(AG295,Inputs,8,FALSE))","v":0},null,{"$f":"IF(AG295>0,VLOOKUP(AG295,Inputs,9,FALSE),\"\")","v":0},{"$f":"UPPER(VLOOKUP(AL295,Inputs,7,FALSE))&\"  \"","v":"  "},null,{"$f":"IF(LEN(AI298)>2,AI298&VLOOKUP(AL295,Inputs,8,FALSE),VLOOKUP(AL295,Inputs,8,FALSE))","v":0},null,{"$f":"IF(AL295>0,VLOOKUP(AL295,Inputs,9,FALSE),\"\")","v":0},null,null,{"$f":"IF($A298=AP$5,$G298,0)+IF($H298=AP$5,$L298,0)+IF($M298=AP$5,$Q298,0)+IF($R298=AP$5,$W298,0)+IF($X298=AP$5,AC298,0)+IF($AD298=AP$5,AH298,0)+IF(AI298=AP$5,AM298,0)","v":0},0,0,0,0,0,0,0,0,0,0,0,0,0]
[{"$f":"UPPER(VLOOKUP(F295,Inputs,10,FALSE))&\"  \"","v":"  "},null,null,null,{"$f":"IF(LEN(A299)>2,A299&VLOOKUP(F295,Inputs,11,FALSE),VLOOKUP(F295,Inputs,11,FALSE))","v":0},null,{"$f":"IF(F295>0,VLOOKUP(F295,Inputs,12,FALSE),\"\")","v":0},{"$f":"UPPER(VLOOKUP(K295,Inputs,10,FALSE))&\"  \"","v":"  "},null,{"$f":"IF(LEN(H299)>2,H299&VLOOKUP(K295,Inputs,11,FALSE),VLOOKUP(K295,Inputs,11,FALSE))","v":0},null,{"$f":"IF(K295>0,VLOOKUP(K295,Inputs,12,FALSE),\"\")","v":0},{"$f":"UPPER(VLOOKUP(P295,Inputs,10,FALSE))&\"  \"","v":"  "},null,{"$f":"IF(LEN(M299)>2,M299&VLOOKUP(P295,Inputs,11,FALSE),VLOOKUP(P295,Inputs,11,FALSE))","v":0},null,{"$f":"IF(P295>0,VLOOKUP(P295,Inputs,12,FALSE),\"\")","v":0},{"$f":"UPPER(VLOOKUP(V295,Inputs,10,FALSE))&\"  \"","v":"  "},null,{"$f":"IF(LEN(R299)>2,R299&VLOOKUP(V295,Inputs,11,FALSE),VLOOKUP(V295,Inputs,11,FALSE))","v":0},null,null,{"$f":"IF(V295>0,VLOOKUP(V295,Inputs,12,FALSE),\"\")","v":0},{"$f":"UPPER(VLOOKUP(AA295,Inputs,10,FALSE))&\"  \"","v":"  "},null,{"$f":"IF(LEN(X299)>2,X299&VLOOKUP(AA295,Inputs,11,FALSE),VLOOKUP(AA295,Inputs,11,FALSE))","v":0},null,null,{"$f":"IF(AA295>0,VLOOKUP(AA295,Inputs,12,FALSE),\"\")","v":0},{"$f":"UPPER(VLOOKUP(AG295,Inputs,10,FALSE))&\"  \"","v":"  "},null,{"$f":"IF(LEN(AD299)>2,AD299&VLOOKUP(AG295,Inputs,11,FALSE),VLOOKUP(AG295,Inputs,11,FALSE))","v":0},null,{"$f":"IF(AG295>0,VLOOKUP(AG295,Inputs,12,FALSE),\"\")","v":0},{"$f":"UPPER(VLOOKUP(AL295,Inputs,10,FALSE))&\"  \"","v":"  "},null,{"$f":"IF(LEN(AI299)>2,AI299&VLOOKUP(AL295,Inputs,11,FALSE),VLOOKUP(AL295,Inputs,11,FALSE))","v":0},null,{"$f":"IF(AL295>0,VLOOKUP(AL295,Inputs,12,FALSE),\"\")","v":0},null,null,{"$f":"IF($A299=AP$5,$G299,0)+IF($H299=AP$5,$L299,0)+IF($M299=AP$5,$Q299,0)+IF($R299=AP$5,$W299,0)+IF($X299=AP$5,AC299,0)+IF($AD299=AP$5,AH299,0)+IF(AI299=AP$5,AM299,0)","v":0},0,0,0,0,0,0,0,0,0,0,0,0,0]
[{"$f":"UPPER(VLOOKUP(F295,Inputs,13,FALSE))&\"  \"","v":"  "},null,null,null,{"$f":"IF(LEN(A300)>2,A300&VLOOKUP(F295,Inputs,14,FALSE),VLOOKUP(F295,Inputs,14,FALSE))","v":0},null,{"$f":"IF(F295>0,VLOOKUP(F295,Inputs,15,FALSE),\"\")","v":0},{"$f":"UPPER(VLOOKUP(K295,Inputs,13,FALSE))&\"  \"","v":"  "},null,{"$f":"IF(LEN(H300)>2,H300&VLOOKUP(K295,Inputs,14,FALSE),VLOOKUP(K295,Inputs,14,FALSE))","v":0},null,{"$f":"IF(K295>0,VLOOKUP(K295,Inputs,15,FALSE),\"\")","v":0},{"$f":"UPPER(VLOOKUP(P295,Inputs,13,FALSE))&\"  \"","v":"  "},null,{"$f":"IF(LEN(M300)>2,M300&VLOOKUP(P295,Inputs,14,FALSE),VLOOKUP(P295,Inputs,14,FALSE))","v":0},null,{"$f":"IF(P295>0,VLOOKUP(P295,Inputs,15,FALSE),\"\")","v":0},{"$f":"UPPER(VLOOKUP(V295,Inputs,13,FALSE))&\"  \"","v":"  "},null,{"$f":"IF(LEN(R300)>2,R300&VLOOKUP(V295,Inputs,14,FALSE),VLOOKUP(V295,Inputs,14,FALSE))","v":0},null,null,{"$f":"IF(V295>0,VLOOKUP(V295,Inputs,15,FALSE),\"\")","v":0},{"$f":"UPPER(VLOOKUP(AA295,Inputs,13,FALSE))&\"  \"","v":"  "},null,{"$f":"IF(LEN(X300)>2,X300&VLOOKUP(AA295,Inputs,14,FALSE),VLOOKUP(AA295,Inputs,14,FALSE))","v":0},null,null,{"$f":"IF(AA295>0,VLOOKUP(AA295,Inputs,15,FALSE),\"\")","v":0},{"$f":"UPPER(VLOOKUP(AG295,Inputs,13,FALSE))&\"  \"","v":"  "},null,{"$f":"IF(LEN(AD300)>2,AD300&VLOOKUP(AG295,Inputs,14,FALSE),VLOOKUP(AG295,Inputs,14,FALSE))","v":0},null,{"$f":"IF(AG295>0,VLOOKUP(AG295,Inputs,15,FALSE),\"\")","v":0},{"$f":"UPPER(VLOOKUP(AL295,Inputs,13,FALSE))&\"  \"","v":"  "},null,{"$f":"IF(LEN(AI300)>2,AI300&VLOOKUP(AL295,Inputs,14,FALSE),VLOOKUP(AL295,Inputs,14,FALSE))","v":0},null,{"$f":"IF(AL295>0,VLOOKUP(AL295,Inputs,15,FALSE),\"\")","v":0},null,null,{"$f":"IF($A300=AP$5,$G300,0)+IF($H300=AP$5,$L300,0)+IF($M300=AP$5,$Q300,0)+IF($R300=AP$5,$W300,0)+IF($X300=AP$5,AC300,0)+IF($AD300=AP$5,AH300,0)+IF(AI300=AP$5,AM300,0)","v":0},0,0,0,0,0,0,0,0,0,0,0,0,0]
[null,null,null,null,null,{"$f":"IF(F295>0,IF(VLOOKUP(F295,Inputs,3,FALSE)=\"T\",\"Telemarketing\",0),\"\")","v":0},null,null,null,null,{"$f":"IF(VLOOKUP(K295-1,Inputs,3,FALSE)=\"T\",0,IF(VLOOKUP(K295,Inputs,3,FALSE)=\"T\",\"Telemarketing\",0))","v":0},null,null,null,null,{"$f":"IF(VLOOKUP(P295-1,Inputs,3,FALSE)=\"T\",0,IF(VLOOKUP(P295,Inputs,3,FALSE)=\"T\",\"Telemarketing\",0))","v":0},null,null,null,null,null,{"$f":"IF(VLOOKUP(V295-1,Inputs,3,FALSE)=\"T\",0,IF(VLOOKUP(V295,Inputs,3,FALSE)=\"T\",\"Telemarketing\",0))","v":0},null,null,null,null,{"$f":"IF(VLOOKUP(AA295-1,Inputs,3,FALSE)=\"T\",0,IF(VLOOKUP(AA295,Inputs,3,FALSE)=\"T\",\"Telemarketing\",0))","v":0},null,null,null,null,null,{"$f":"IF(VLOOKUP(AG295-1,Inputs,3,FALSE)=\"T\",0,IF(VLOOKUP(AG295,Inputs,3,FALSE)=\"T\",\"Telemarketing\",0))","v":0},null,null,null,null,{"$f":"IF(VLOOKUP(AL295-1,Inputs,3,FALSE)=\"T\",0,IF(VLOOKUP(AL295,Inputs,3,FALSE)=\"T\",\"Telemarketing\",0))","v":0}]
[null,null,null,null,null,{"$f":"1+AL295","v":"2018-06-17"},null,null,null,null,{"$f":"1+F302","v":"2018-06-18"},null,null,null,null,{"$f":"1+K302","v":"2018-06-19"},null,null,null,null,null,{"$f":"1+P302","v":"2018-06-20"},null,null,null,null,{"$f":"1+V302","v":"2018-06-21"},null,null,null,null,null,{"$f":"1+AA302","v":"2018-06-22"},null,null,null,null,{"$f":"1+AG302","v":"2018-06-23"}]
[null,null,null,null,{"$f":"DAY(F302)","v":17},{"$f":"IF(F302>0,VLOOKUP(F302,Holidays,2),0)","v":0},null,null,null,{"$f":"DAY(K302)","v":18},{"$f":"IF(K302>0,VLOOKUP(K302,Holidays,2),0)","v":0},null,null,null,{"$f":"DAY(P302)","v":19},{"$f":"IF(P302>0,VLOOKUP(P302,Holidays,2),0)","v":0},null,null,null,{"$f":"DAY(V302)","v":20},{"$f":"IF(V302>0,VLOOKUP(V302,Holidays,2),0)","v":0},null,null,null,null,{"$f":"DAY(AA302)","v":21},{"$f":"IF(AA302>0,VLOOKUP(AA302,Holidays,2),0)","v":0},null,null,null,null,{"$f":"DAY(AG302)","v":22},{"$f":"IF(AG302>0,VLOOKUP(AG302,Holidays,2),0)","v":0},null,null,null,{"$f":"DAY(AL302)","v":23},{"$f":"IF(AL302>0,VLOOKUP(AL302,Holidays,2),0)","v":0}]
[{"$f":"UPPER(VLOOKUP(F302,Inputs,4,FALSE))&\"  \"","v":"  "},null,null,null,{"$f":"IF(LEN(A304)>2,A304&VLOOKUP(F302,Inputs,5,FALSE),VLOOKUP(F302,Inputs,5,FALSE))","v":0},null,{"$f":"IF(F302>0,VLOOKUP(F302,Inputs,6,FALSE),\"\")","v":0},{"$f":"UPPER(VLOOKUP(K302,Inputs,4,FALSE))&\"  \"","v":"  "},null,{"$f":"IF(LEN(H304)>2,H304&VLOOKUP(K302,Inputs,5,FALSE),VLOOKUP(K302,Inputs,5,FALSE))","v":0},null,{"$f":"IF(K302>0,VLOOKUP(K302,Inputs,6,FALSE),\"\")","v":0},{"$f":"UPPER(VLOOKUP(P302,Inputs,4,FALSE))&\"  \"","v":"  "},null,{"$f":"IF(LEN(M304)>2,M304&VLOOKUP(P302,Inputs,5,FALSE),VLOOKUP(P302,Inputs,5,FALSE))","v":0},null,{"$f":"IF(P302>0,VLOOKUP(P302,Inputs,6,FALSE),\"\")","v":0},{"$f":"UPPER(VLOOKUP(V302,Inputs,4,FALSE))&\"  \"","v":"  "},null,{"$f":"IF(LEN(R304)>2,R304&VLOOKUP(V302,Inputs,5,FALSE),VLOOKUP(V302,Inputs,5,FALSE))","v":0},null,null,{"$f":"IF(V302>0,VLOOKUP(V302,Inputs,6,FALSE),\"\")","v":0},{"$f":"UPPER(VLOOKUP(AA302,Inputs,4,FALSE))&\"  \"","v":"  "},null,{"$f":"IF(LEN(X304)>2,X304&VLOOKUP(AA302,Inputs,5,FALSE),VLOOKUP(AA302,Inputs,5,FALSE))","v":0},null,null,{"$f":"IF(AA302>0,VLOOKUP(AA302,Inputs,6,FALSE),\"\")","v":0},{"$f":"UPPER(VLOOKUP(AG302,Inputs,4,FALSE))&\"  \"","v":"  "},null,{"$f":"IF(LEN(AD304)>2,AD304&VLOOKUP(AG302,Inputs,5,FALSE),VLOOKUP(AG302,Inputs,5,FALSE))","v":0},null,{"$f":"IF(AG302>0,VLOOKUP(AG302,Inputs,6,FALSE),\"\")","v":0},{"$f":"UPPER(VLOOKUP(AL302,Inputs,4,FALSE))&\"  \"","v":"  "},null,{"$f":"IF(LEN(AI304)>2,AI304&VLOOKUP(AL302,Inputs,5,FALSE),VLOOKUP(AL302,Inputs,5,FALSE))","v":0},null,{"$f":"IF(AL302>0,VLOOKUP(AL302,Inputs,6,FALSE),\"\")","v":0},null,null,{"$f":"IF($A304=AP$5,$G304,0)+IF($H304=AP$5,$L304,0)+IF($M304=AP$5,$Q304,0)+IF($R304=AP$5,$W304,0)+IF($X304=AP$5,AC304,0)+IF($AD304=AP$5,AH304,0)+IF(AI304=AP$5,AM304,0)","v":0},{"$f":"IF($A304=AQ$5,$G304,0)+IF($H304=AQ$5,$L304,0)+IF($M304=AQ$5,$Q304,0)+IF($R304=AQ$5,$W304,0)+IF($X304=AQ$5,$AC304,0)+IF($AD304=AQ$5,$AH304,0)+IF($AI304=AQ$5,$AM304,0)","v":0},0,0,0,0,0,0,0,0,0,0,0,0]
[{"$f":"UPPER(VLOOKUP(F302,Inputs,7,FALSE))&\"  \"","v":"  "},null,null,null,{"$f":"IF(LEN(A305)>2,A305&VLOOKUP(F302,Inputs,8,FALSE),VLOOKUP(F302,Inputs,8,FALSE))","v":0},null,{"$f":"IF(F302>0,VLOOKUP(F302,Inputs,9,FALSE),\"\")","v":0},{"$f":"UPPER(VLOOKUP(K302,Inputs,7,FALSE))&\"  \"","v":"  "},null,{"$f":"IF(LEN(H305)>2,H305&VLOOKUP(K302,Inputs,8,FALSE),VLOOKUP(K302,Inputs,8,FALSE))","v":0},null,{"$f":"IF(K302>0,VLOOKUP(K302,Inputs,9,FALSE),\"\")","v":0},{"$f":"UPPER(VLOOKUP(P302,Inputs,7,FALSE))&\"  \"","v":"  "},null,{"$f":"IF(LEN(M305)>2,M305&VLOOKUP(P302,Inputs,8,FALSE),VLOOKUP(P302,Inputs,8,FALSE))","v":0},null,{"$f":"IF(P302>0,VLOOKUP(P302,Inputs,9,FALSE),\"\")","v":0},{"$f":"UPPER(VLOOKUP(V302,Inputs,7,FALSE))&\"  \"","v":"  "},null,{"$f":"IF(LEN(R305)>2,R305&VLOOKUP(V302,Inputs,8,FALSE),VLOOKUP(V302,Inputs,8,FALSE))","v":0},null,null,{"$f":"IF(V302>0,VLOOKUP(V302,Inputs,9,FALSE),\"\")","v":0},{"$f":"UPPER(VLOOKUP(AA302,Inputs,7,FALSE))&\"  \"","v":"  "},null,{"$f":"IF(LEN(X305)>2,X305&VLOOKUP(AA302,Inputs,8,FALSE),VLOOKUP(AA302,Inputs,8,FALSE))","v":0},null,null,{"$f":"IF(AA302>0,VLOOKUP(AA302,Inputs,9,FALSE),\"\")","v":0},{"$f":"UPPER(VLOOKUP(AG302,Inputs,7,FALSE))&\"  \"","v":"  "},null,{"$f":"IF(LEN(AD305)>2,AD305&VLOOKUP(AG302,Inputs,8,FALSE),VLOOKUP(AG302,Inputs,8,FALSE))","v":0},null,{"$f":"IF(AG302>0,VLOOKUP(AG302,Inputs,9,FALSE),\"\")","v":0},{"$f":"UPPER(VLOOKUP(AL302,Inputs,7,FALSE))&\"  \"","v":"  "},null,{"$f":"IF(LEN(AI305)>2,AI305&VLOOKUP(AL302,Inputs,8,FALSE),VLOOKUP(AL302,Inputs,8,FALSE))","v":0},null,{"$f":"IF(AL302>0,VLOOKUP(AL302,Inputs,9,FALSE),\"\")","v":0},null,null,{"$f":"IF($A305=AP$5,$G305,0)+IF($H305=AP$5,$L305,0)+IF($M305=AP$5,$Q305,0)+IF($R305=AP$5,$W305,0)+IF($X305=AP$5,AC305,0)+IF($AD305=AP$5,AH305,0)+IF(AI305=AP$5,AM305,0)","v":0},0,0,0,0,0,0,0,0,0,0,0,0,0]
[{"$f":"UPPER(VLOOKUP(F302,Inputs,10,FALSE))&\"  \"","v":"  "},null,null,null,{"$f":"IF(LEN(A306)>2,A306&VLOOKUP(F302,Inputs,11,FALSE),VLOOKUP(F302,Inputs,11,FALSE))","v":0},null,{"$f":"IF(F302>0,VLOOKUP(F302,Inputs,12,FALSE),\"\")","v":0},{"$f":"UPPER(VLOOKUP(K302,Inputs,10,FALSE))&\"  \"","v":"  "},null,{"$f":"IF(LEN(H306)>2,H306&VLOOKUP(K302,Inputs,11,FALSE),VLOOKUP(K302,Inputs,11,FALSE))","v":0},null,{"$f":"IF(K302>0,VLOOKUP(K302,Inputs,12,FALSE),\"\")","v":0},{"$f":"UPPER(VLOOKUP(P302,Inputs,10,FALSE))&\"  \"","v":"  "},null,{"$f":"IF(LEN(M306)>2,M306&VLOOKUP(P302,Inputs,11,FALSE),VLOOKUP(P302,Inputs,11,FALSE))","v":0},null,{"$f":"IF(P302>0,VLOOKUP(P302,Inputs,12,FALSE),\"\")","v":0},{"$f":"UPPER(VLOOKUP(V302,Inputs,10,FALSE))&\"  \"","v":"  "},null,{"$f":"IF(LEN(R306)>2,R306&VLOOKUP(V302,Inputs,11,FALSE),VLOOKUP(V302,Inputs,11,FALSE))","v":0},null,null,{"$f":"IF(V302>0,VLOOKUP(V302,Inputs,12,FALSE),\"\")","v":0},{"$f":"UPPER(VLOOKUP(AA302,Inputs,10,FALSE))&\"  \"","v":"  "},null,{"$f":"IF(LEN(X306)>2,X306&VLOOKUP(AA302,Inputs,11,FALSE),VLOOKUP(AA302,Inputs,11,FALSE))","v":0},null,null,{"$f":"IF(AA302>0,VLOOKUP(AA302,Inputs,12,FALSE),\"\")","v":0},{"$f":"UPPER(VLOOKUP(AG302,Inputs,10,FALSE))&\"  \"","v":"  "},null,{"$f":"IF(LEN(AD306)>2,AD306&VLOOKUP(AG302,Inputs,11,FALSE),VLOOKUP(AG302,Inputs,11,FALSE))","v":0},null,{"$f":"IF(AG302>0,VLOOKUP(AG302,Inputs,12,FALSE),\"\")","v":0},{"$f":"UPPER(VLOOKUP(AL302,Inputs,10,FALSE))&\"  \"","v":"  "},null,{"$f":"IF(LEN(AI306)>2,AI306&VLOOKUP(AL302,Inputs,11,FALSE),VLOOKUP(AL302,Inputs,11,FALSE))","v":0},null,{"$f":"IF(AL302>0,VLOOKUP(AL302,Inputs,12,FALSE),\"\")","v":0},null,null,{"$f":"IF($A306=AP$5,$G306,0)+IF($H306=AP$5,$L306,0)+IF($M306=AP$5,$Q306,0)+IF($R306=AP$5,$W306,0)+IF($X306=AP$5,AC306,0)+IF($AD306=AP$5,AH306,0)+IF(AI306=AP$5,AM306,0)","v":0},0,0,0,0,0,0,0,0,0,0,0,0,0]
[{"$f":"UPPER(VLOOKUP(F302,Inputs,13,FALSE))&\"  \"","v":"  "},null,null,null,{"$f":"IF(LEN(A307)>2,A307&VLOOKUP(F302,Inputs,14,FALSE),VLOOKUP(F302,Inputs,14,FALSE))","v":0},null,{"$f":"IF(F302>0,VLOOKUP(F302,Inputs,15,FALSE),\"\")","v":0},{"$f":"UPPER(VLOOKUP(K302,Inputs,13,FALSE))&\"  \"","v":"  "},null,{"$f":"IF(LEN(H307)>2,H307&VLOOKUP(K302,Inputs,14,FALSE),VLOOKUP(K302,Inputs,14,FALSE))","v":0},null,{"$f":"IF(K302>0,VLOOKUP(K302,Inputs,15,FALSE),\"\")","v":0},{"$f":"UPPER(VLOOKUP(P302,Inputs,13,FALSE))&\"  \"","v":"  "},null,{"$f":"IF(LEN(M307)>2,M307&VLOOKUP(P302,Inputs,14,FALSE),VLOOKUP(P302,Inputs,14,FALSE))","v":0},null,{"$f":"IF(P302>0,VLOOKUP(P302,Inputs,15,FALSE),\"\")","v":0},{"$f":"UPPER(VLOOKUP(V302,Inputs,13,FALSE))&\"  \"","v":"  "},null,{"$f":"IF(LEN(R307)>2,R307&VLOOKUP(V302,Inputs,14,FALSE),VLOOKUP(V302,Inputs,14,FALSE))","v":0},null,null,{"$f":"IF(V302>0,VLOOKUP(V302,Inputs,15,FALSE),\"\")","v":0},{"$f":"UPPER(VLOOKUP(AA302,Inputs,13,FALSE))&\"  \"","v":"  "},null,{"$f":"IF(LEN(X307)>2,X307&VLOOKUP(AA302,Inputs,14,FALSE),VLOOKUP(AA302,Inputs,14,FALSE))","v":0},null,null,{"$f":"IF(AA302>0,VLOOKUP(AA302,Inputs,15,FALSE),\"\")","v":0},{"$f":"UPPER(VLOOKUP(AG302,Inputs,13,FALSE))&\"  \"","v":"  "},null,{"$f":"IF(LEN(AD307)>2,AD307&VLOOKUP(AG302,Inputs,14,FALSE),VLOOKUP(AG302,Inputs,14,FALSE))","v":0},null,{"$f":"IF(AG302>0,VLOOKUP(AG302,Inputs,15,FALSE),\"\")","v":0},{"$f":"UPPER(VLOOKUP(AL302,Inputs,13,FALSE))&\"  \"","v":"  "},null,{"$f":"IF(LEN(AI307)>2,AI307&VLOOKUP(AL302,Inputs,14,FALSE),VLOOKUP(AL302,Inputs,14,FALSE))","v":0},null,{"$f":"IF(AL302>0,VLOOKUP(AL302,Inputs,15,FALSE),\"\")","v":0},null,null,{"$f":"IF($A307=AP$5,$G307,0)+IF($H307=AP$5,$L307,0)+IF($M307=AP$5,$Q307,0)+IF($R307=AP$5,$W307,0)+IF($X307=AP$5,AC307,0)+IF($AD307=AP$5,AH307,0)+IF(AI307=AP$5,AM307,0)","v":0},0,0,0,0,0,0,0,0,0,0,0,0,0]
[null,null,null,null,null,{"$f":"IF(F302>0,IF(VLOOKUP(F302,Inputs,3,FALSE)=\"T\",\"Telemarketing\",0),\"\")","v":0},null,null,null,null,{"$f":"IF(VLOOKUP(K302-1,Inputs,3,FALSE)=\"T\",0,IF(VLOOKUP(K302,Inputs,3,FALSE)=\"T\",\"Telemarketing\",0))","v":0},null,null,null,null,{"$f":"IF(VLOOKUP(P302-1,Inputs,3,FALSE)=\"T\",0,IF(VLOOKUP(P302,Inputs,3,FALSE)=\"T\",\"Telemarketing\",0))","v":0},null,null,null,null,null,{"$f":"IF(VLOOKUP(V302-1,Inputs,3,FALSE)=\"T\",0,IF(VLOOKUP(V302,Inputs,3,FALSE)=\"T\",\"Telemarketing\",0))","v":0},null,null,null,null,{"$f":"IF(VLOOKUP(AA302-1,Inputs,3,FALSE)=\"T\",0,IF(VLOOKUP(AA302,Inputs,3,FALSE)=\"T\",\"Telemarketing\",0))","v":0},null,null,null,null,null,{"$f":"IF(VLOOKUP(AG302-1,Inputs,3,FALSE)=\"T\",0,IF(VLOOKUP(AG302,Inputs,3,FALSE)=\"T\",\"Telemarketing\",0))","v":0},null,null,null,null,{"$f":"IF(VLOOKUP(AL302-1,Inputs,3,FALSE)=\"T\",0,IF(VLOOKUP(AL302,Inputs,3,FALSE)=\"T\",\"Telemarketing\",0))","v":0}]
[null,null,null,null,null,{"$f":"IF(AL302>0,IF(MONTH(1+AL302)=$A327,1+AL302,0),0)","v":"2018-06-24"},null,null,null,null,{"$f":"IF(F309>0,IF(MONTH(1+F309)=$A327,1+F309,0),0)","v":"2018-06-25"},null,null,null,null,{"$f":"IF(K309>0,IF(MONTH(1+K309)=$A327,1+K309,0),0)","v":"2018-06-26"},null,null,null,null,null,{"$f":"IF(P309>0,IF(MONTH(1+P309)=$A327,1+P309,0),0)","v":"2018-06-27"},null,null,null,null,{"$f":"IF(V309>0,IF(MONTH(1+V309)=$A327,1+V309,0),0)","v":"2018-06-28"},null,null,null,null,null,{"$f":"IF(AA309>0,IF(MONTH(1+AA309)=$A327,1+AA309,0),0)","v":"2018-06-29"},null,null,null,null,{"$f":"IF(AG309>0,IF(MONTH(1+AG309)=$A327,1+AG309,0),0)","v":"2018-06-30"}]
[null,null,null,null,{"$f":"DAY(F309)","v":24},{"$f":"VLOOKUP(F309,Holidays,2)","v":0},null,null,null,{"$f":"DAY(K309)","v":25},{"$f":"VLOOKUP(K309,Holidays,2)","v":0},null,null,null,{"$f":"DAY(P309)","v":26},{"$f":"VLOOKUP(P309,Holidays,2)","v":0},null,null,null,{"$f":"DAY(V309)","v":27},{"$f":"VLOOKUP(V309,Holidays,2)","v":0},null,null,null,null,{"$f":"DAY(AA309)","v":28},{"$f":"VLOOKUP(AA309,Holidays,2)","v":0},null,null,null,null,{"$f":"DAY(AG309)","v":29},{"$f":"VLOOKUP(AG309,Holidays,2)","v":0},null,null,null,{"$f":"DAY(AL309)","v":30},{"$f":"VLOOKUP(AL309,Holidays,2)","v":""}]
[{"$f":"UPPER(VLOOKUP(F309,Inputs,4,FALSE))&\"  \"","v":"  "},null,null,null,{"$f":"IF(LEN(A311)>2,A311&VLOOKUP(F309,Inputs,5,FALSE),VLOOKUP(F309,Inputs,5,FALSE))","v":0},null,{"$f":"IF(F309>0,VLOOKUP(F309,Inputs,6,FALSE),\"\")","v":0},{"$f":"UPPER(VLOOKUP(K309,Inputs,4,FALSE))&\"  \"","v":"  "},null,{"$f":"IF(LEN(H311)>2,H311&VLOOKUP(K309,Inputs,5,FALSE),VLOOKUP(K309,Inputs,5,FALSE))","v":0},null,{"$f":"IF(K309>0,VLOOKUP(K309,Inputs,6,FALSE),\"\")","v":0},{"$f":"UPPER(VLOOKUP(P309,Inputs,4,FALSE))&\"  \"","v":"  "},null,{"$f":"IF(LEN(M311)>2,M311&VLOOKUP(P309,Inputs,5,FALSE),VLOOKUP(P309,Inputs,5,FALSE))","v":0},null,{"$f":"IF(P309>0,VLOOKUP(P309,Inputs,6,FALSE),\"\")","v":0},{"$f":"IF(MONTH(V309)=A327,UPPER(VLOOKUP(V309,Inputs,4,FALSE))&\"  \",\"\")","v":"  "},null,{"$f":"IF(MONTH(V309)=A327,IF(LEN(R311)>0,R311&VLOOKUP(V309,Inputs,5,FALSE),VLOOKUP(V309,Inputs,5,FALSE)),\"\")","v":"  "},null,null,{"$f":"IF(MONTH(V309)=A327,IF(V309>0,VLOOKUP(V309,Inputs,6,FALSE),\"\"),0)","v":0},{"$f":"IF(MONTH(AA309)=A327,UPPER(VLOOKUP(AA309,Inputs,4,FALSE))&\"  \",\"\")","v":"  "},null,{"$f":"IF(MONTH(AA309)=A327,IF(LEN(X311)>0,X311&VLOOKUP(AA309,Inputs,5,FALSE),VLOOKUP(AA309,Inputs,5,FALSE)),\"\")","v":"  "},null,null,{"$f":"IF(MONTH(AA309)=A327,IF(AA309>0,VLOOKUP(AA309,Inputs,6,FALSE),\"\"),0)","v":0},{"$f":"IF(MONTH(AG309)=A327,UPPER(VLOOKUP(AG309,Inputs,4,FALSE))&\"  \",\"\")","v":"  "},null,{"$f":"IF(MONTH(AG309)=A327,IF(LEN(AD311)>0,AD311&VLOOKUP(AG309,Inputs,5,FALSE),VLOOKUP(AG309,Inputs,5,FALSE)),\"\")","v":"  "},null,{"$f":"IF(MONTH(AG309)=A327,IF(AG309>0,VLOOKUP(AG309,Inputs,6,FALSE),\"\"),0)","v":0},{"$f":"IF(MONTH(AL309)=A327,UPPER(VLOOKUP(AL309,Inputs,4,FALSE))&\"  \",\"\")","v":"  "},null,{"$f":"IF(MONTH(AL309)=A327,IF(LEN(AI311)>0,AI311&VLOOKUP(AL309,Inputs,5,FALSE),VLOOKUP(AL309,Inputs,5,FALSE)),\"\")","v":"  "},null,{"$f":"IF(MONTH(AL309)=A327,IF(AL309>0,VLOOKUP(AL309,Inputs,6,FALSE),\"\"),0)","v":0},null,null,{"$f":"IF($A311=AP$5,$G311,0)+IF($H311=AP$5,$L311,0)+IF($M311=AP$5,$Q311,0)+IF($R311=AP$5,$W311,0)+IF($X311=AP$5,AC311,0)+IF($AD311=AP$5,AH311,0)+IF(AI311=AP$5,AM311,0)","v":0},{"$f":"IF($A311=AQ$5,$G311,0)+IF($H311=AQ$5,$L311,0)+IF($M311=AQ$5,$Q311,0)+IF($R311=AQ$5,$W311,0)+IF($X311=AQ$5,$AC311,0)+IF($AD311=AQ$5,$AH311,0)+IF($AI311=AQ$5,$AM311,0)","v":0},0,0,0,0,0,0,0,0,0,0,0,0]
[{"$f":"UPPER(VLOOKUP(F309,Inputs,7,FALSE))&\"  \"","v":"  "},null,null,null,{"$f":"IF(LEN(A312)>2,A312&VLOOKUP(F309,Inputs,8,FALSE),VLOOKUP(F309,Inputs,8,FALSE))","v":0},null,{"$f":"IF(F309>0,VLOOKUP(F309,Inputs,9,FALSE),\"\")","v":0},{"$f":"UPPER(VLOOKUP(K309,Inputs,7,FALSE))&\"  \"","v":"  "},null,{"$f":"IF(LEN(H312)>2,H312&VLOOKUP(K309,Inputs,8,FALSE),VLOOKUP(K309,Inputs,8,FALSE))","v":0},null,{"$f":"IF(K309>0,VLOOKUP(K309,Inputs,9,FALSE),\"\")","v":0},{"$f":"UPPER(VLOOKUP(P309,Inputs,7,FALSE))&\"  \"","v":"  "},null,{"$f":"IF(LEN(M312)>2,M312&VLOOKUP(P309,Inputs,8,FALSE),VLOOKUP(P309,Inputs,8,FALSE))","v":0},null,{"$f":"IF(P309>0,VLOOKUP(P309,Inputs,9,FALSE),\"\")","v":0},{"$f":"IF(MONTH(V309)=A327,UPPER(VLOOKUP(V309,Inputs,7,FALSE))&\"  \",\"\")","v":"  "},null,{"$f":"IF(MONTH(V309)=A327,IF(LEN(R312)>0,R312&VLOOKUP(V309,Inputs,8,FALSE),VLOOKUP(V309,Inputs,8,FALSE)),\"\")","v":"  "},null,null,{"$f":"IF(MONTH(V309)=A327,IF(V309>0,VLOOKUP(V309,Inputs,9,FALSE),\"\"),0)","v":0},{"$f":"IF(MONTH(AA309)=A327,UPPER(VLOOKUP(AA309,Inputs,7,FALSE))&\"  \",\"\")","v":"  "},null,{"$f":"IF(MONTH(AA309)=A327,IF(LEN(X312)>0,X312&VLOOKUP(AA309,Inputs,8,FALSE),VLOOKUP(AA309,Inputs,8,FALSE)),\"\")","v":"  "},null,null,{"$f":"IF(MONTH(AA309)=A327,IF(AA309>0,VLOOKUP(AA309,Inputs,9,FALSE),\"\"),0)","v":0},{"$f":"IF(MONTH(AG309)=A327,UPPER(VLOOKUP(AG309,Inputs,7,FALSE))&\"  \",\"\")","v":"  "},null,{"$f":"IF(MONTH(AG309)=A327,IF(LEN(AD312)>0,AD312&VLOOKUP(AG309,Inputs,8,FALSE),VLOOKUP(AG309,Inputs,8,FALSE)),\"\")","v":"  "},null,{"$f":"IF(MONTH(AG309)=A327,IF(AG309>0,VLOOKUP(AG309,Inputs,9,FALSE),\"\"),0)","v":0},{"$f":"IF(MONTH(AL309)=A327,UPPER(VLOOKUP(AL309,Inputs,7,FALSE))&\"  \",\"\")","v":"  "},null,{"$f":"IF(MONTH(AL309)=A327,IF(LEN(AI312)>0,AI312&VLOOKUP(AL309,Inputs,8,FALSE),VLOOKUP(AL309,Inputs,8,FALSE)),\"\")","v":"  "},null,{"$f":"IF(MONTH(AL309)=A327,IF(AL309>0,VLOOKUP(AL309,Inputs,9,FALSE),\"\"),0)","v":0},null,null,{"$f":"IF($A312=AP$5,$G312,0)+IF($H312=AP$5,$L312,0)+IF($M312=AP$5,$Q312,0)+IF($R312=AP$5,$W312,0)+IF($X312=AP$5,AC312,0)+IF($AD312=AP$5,AH312,0)+IF(AI312=AP$5,AM312,0)","v":0},0,0,0,0,0,0,0,0,0,0,0,0,0]
[{"$f":"UPPER(VLOOKUP(F309,Inputs,10,FALSE))&\"  \"","v":"  "},null,null,null,{"$f":"IF(LEN(A313)>2,A313&VLOOKUP(F309,Inputs,11,FALSE),VLOOKUP(F309,Inputs,11,FALSE))","v":0},null,{"$f":"IF(F309>0,VLOOKUP(F309,Inputs,12,FALSE),\"\")","v":0},{"$f":"UPPER(VLOOKUP(K309,Inputs,10,FALSE))&\"  \"","v":"  "},null,{"$f":"IF(LEN(H313)>2,H313&VLOOKUP(K309,Inputs,11,FALSE),VLOOKUP(K309,Inputs,11,FALSE))","v":0},null,{"$f":"IF(K309>0,VLOOKUP(K309,Inputs,12,FALSE),\"\")","v":0},{"$f":"UPPER(VLOOKUP(P309,Inputs,10,FALSE))&\"  \"","v":"  "},null,{"$f":"IF(LEN(M313)>2,M313&VLOOKUP(P309,Inputs,11,FALSE),VLOOKUP(P309,Inputs,11,FALSE))","v":0},null,{"$f":"IF(P309>0,VLOOKUP(P309,Inputs,12,FALSE),\"\")","v":0},{"$f":"IF(MONTH(V309)=A327,UPPER(VLOOKUP(V309,Inputs,10,FALSE))&\"  \",\"\")","v":"  "},null,{"$f":"IF(MONTH(V309)=A327,IF(LEN(R313)>0,R313&VLOOKUP(V309,Inputs,11,FALSE),VLOOKUP(V309,Inputs,11,FALSE)),\"\")","v":"  "},null,null,{"$f":"IF(MONTH(V309)=A327,IF(V309>0,VLOOKUP(V309,Inputs,12,FALSE),\"\"),0)","v":0},{"$f":"IF(MONTH(AA309)=A327,UPPER(VLOOKUP(AA309,Inputs,10,FALSE))&\"  \",\"\")","v":"  "},null,{"$f":"IF(MONTH(AA309)=A327,IF(LEN(X313)>0,X313&VLOOKUP(AA309,Inputs,11,FALSE),VLOOKUP(AA309,Inputs,11,FALSE)),\"\")","v":"  "},null,null,{"$f":"IF(MONTH(AA309)=A327,IF(AA309>0,VLOOKUP(AA309,Inputs,12,FALSE),\"\"),0)","v":0},{"$f":"IF(MONTH(AG309)=A327,UPPER(VLOOKUP(AG309,Inputs,10,FALSE))&\"  \",\"\")","v":"  "},null,{"$f":"IF(MONTH(AG309)=A327,IF(LEN(AD313)>0,AD313&VLOOKUP(AG309,Inputs,11,FALSE),VLOOKUP(AG309,Inputs,11,FALSE)),\"\")","v":"  "},null,{"$f":"IF(MONTH(AG309)=A327,IF(AG309>0,VLOOKUP(AG309,Inputs,12,FALSE),\"\"),0)","v":0},{"$f":"IF(MONTH(AL309)=A327,UPPER(VLOOKUP(AL309,Inputs,10,FALSE))&\"  \",\"\")","v":"  "},null,{"$f":"IF(MONTH(AL309)=A327,IF(LEN(AI313)>0,AI313&VLOOKUP(AL309,Inputs,11,FALSE),VLOOKUP(AL309,Inputs,11,FALSE)),\"\")","v":"  "},null,{"$f":"IF(MONTH(AL309)=A327,IF(AL309>0,VLOOKUP(AL309,Inputs,12,FALSE),\"\"),0)","v":0},null,null,{"$f":"IF($A313=AP$5,$G313,0)+IF($H313=AP$5,$L313,0)+IF($M313=AP$5,$Q313,0)+IF($R313=AP$5,$W313,0)+IF($X313=AP$5,AC313,0)+IF($AD313=AP$5,AH313,0)+IF(AI313=AP$5,AM313,0)","v":0},0,0,0,0,0,0,0,0,0,0,0,0,0]
[{"$f":"UPPER(VLOOKUP(F309,Inputs,13,FALSE))&\"  \"","v":"  "},null,null,null,{"$f":"IF(LEN(A314)>2,A314&VLOOKUP(F309,Inputs,14,FALSE),VLOOKUP(F309,Inputs,14,FALSE))","v":0},null,{"$f":"IF(F309>0,VLOOKUP(F309,Inputs,15,FALSE),\"\")","v":0},{"$f":"UPPER(VLOOKUP(K309,Inputs,13,FALSE))&\"  \"","v":"  "},null,{"$f":"IF(LEN(H314)>2,H314&VLOOKUP(K309,Inputs,14,FALSE),VLOOKUP(K309,Inputs,14,FALSE))","v":0},null,{"$f":"IF(K309>0,VLOOKUP(K309,Inputs,15,FALSE),\"\")","v":0},{"$f":"UPPER(VLOOKUP(P309,Inputs,13,FALSE))&\"  \"","v":"  "},null,{"$f":"IF(LEN(M314)>2,M314&VLOOKUP(P309,Inputs,14,FALSE),VLOOKUP(P309,Inputs,14,FALSE))","v":0},null,{"$f":"IF(P309>0,VLOOKUP(P309,Inputs,15,FALSE),\"\")","v":0},{"$f":"IF(MONTH(V309)=A327,UPPER(VLOOKUP(V309,Inputs,13,FALSE))&\"  \",\"\")","v":"  "},null,{"$f":"IF(MONTH(V309)=A327,IF(LEN(R314)>0,R314&VLOOKUP(V309,Inputs,14,FALSE),VLOOKUP(V309,Inputs,14,FALSE)),\"\")","v":"  "},null,null,{"$f":"IF(MONTH(V309)=A327,IF(V309>0,VLOOKUP(V309,Inputs,15,FALSE),\"\"),0)","v":0},{"$f":"IF(MONTH(AA309)=A327,UPPER(VLOOKUP(AA309,Inputs,13,FALSE))&\"  \",\"\")","v":"  "},null,{"$f":"IF(MONTH(AA309)=A327,IF(LEN(X314)>0,X314&VLOOKUP(AA309,Inputs,14,FALSE),VLOOKUP(AA309,Inputs,14,FALSE)),\"\")","v":"  "},null,null,{"$f":"IF(MONTH(AA309)=A327,IF(AA309>0,VLOOKUP(AA309,Inputs,15,FALSE),\"\"),0)","v":0},{"$f":"IF(MONTH(AG309)=A327,UPPER(VLOOKUP(AG309,Inputs,13,FALSE))&\"  \",\"\")","v":"  "},null,{"$f":"IF(MONTH(AG309)=A327,IF(LEN(AD314)>0,AD314&VLOOKUP(AG309,Inputs,14,FALSE),VLOOKUP(AG309,Inputs,14,FALSE)),\"\")","v":"  "},null,{"$f":"IF(MONTH(AG309)=A327,IF(AG309>0,VLOOKUP(AG309,Inputs,15,FALSE),\"\"),0)","v":0},{"$f":"IF(MONTH(AL309)=A327,UPPER(VLOOKUP(AL309,Inputs,13,FALSE))&\"  \",\"\")","v":"  "},null,{"$f":"IF(MONTH(AL309)=A327,IF(LEN(AI314)>0,AI314&VLOOKUP(AL309,Inputs,14,FALSE),VLOOKUP(AL309,Inputs,14,FALSE)),\"\")","v":"  "},null,{"$f":"IF(MONTH(AL309)=A327,IF(AL309>0,VLOOKUP(AL309,Inputs,15,FALSE),\"\"),0)","v":0},null,null,{"$f":"IF($A314=AP$5,$G314,0)+IF($H314=AP$5,$L314,0)+IF($M314=AP$5,$Q314,0)+IF($R314=AP$5,$W314,0)+IF($X314=AP$5,AC314,0)+IF($AD314=AP$5,AH314,0)+IF(AI314=AP$5,AM314,0)","v":0},0,0,0,0,0,0,0,0,0,0,0,0,0]
[null,null,null,null,null,{"$f":"IF(F309>0,IF(VLOOKUP(F309,Inputs,3,FALSE)=\"T\",\"Telemarketing\",0),\"\")","v":0},null,null,null,null,{"$f":"IF(VLOOKUP(K309-1,Inputs,3,FALSE)=\"T\",0,IF(VLOOKUP(K309,Inputs,3,FALSE)=\"T\",\"Telemarketing\",0))","v":0},null,null,null,null,{"$f":"IF(VLOOKUP(P309-1,Inputs,3,FALSE)=\"T\",0,IF(VLOOKUP(P309,Inputs,3,FALSE)=\"T\",\"Telemarketing\",0))","v":0},null,null,null,null,null,{"$f":"IF(VLOOKUP(V309-1,Inputs,3,FALSE)=\"T\",0,IF(VLOOKUP(V309,Inputs,3,FALSE)=\"T\",\"Telemarketing\",0))","v":0},null,null,null,null,{"$f":"IF(VLOOKUP(AA309-1,Inputs,3,FALSE)=\"T\",0,IF(VLOOKUP(AA309,Inputs,3,FALSE)=\"T\",\"Telemarketing\",0))","v":0},null,null,null,null,null,{"$f":"IF(VLOOKUP(AG309-1,Inputs,3,FALSE)=\"T\",0,IF(VLOOKUP(AG309,Inputs,3,FALSE)=\"T\",\"Telemarketing\",0))","v":0},null,null,null,null,{"$f":"IF(VLOOKUP(AL309-1,Inputs,3,FALSE)=\"T\",0,IF(VLOOKUP(AL309,Inputs,3,FALSE)=\"T\",\"Telemarketing\",0))","v":0}]
[null,null,null,null,null,{"$f":"IF(AL309>0,IF(MONTH(1+AL309)=$A327,1+AL309,0),0)","v":"00:00:00"},null,null,null,null,{"$f":"IF(F316>0,IF(MONTH(1+F316)=$A327,1+F316,0),0)","v":"00:00:00"},null,null,null,null,null,null,null,null,null,null,null,null,null,null,null,null,null,null,null,null,null,null,null,null,null,null,{"$f":"IF(AG316>0,IF(MONTH(1+AG316)=$A327,1+AG316,0),0)","v":"00:00:00"}]
[null,null,null,null,{"$f":"DAY(F316)","v":0},{"$f":"VLOOKUP(F316,Holidays,2)","v":0},null,null,null,{"$f":"DAY(K316)","v":0},{"$f":"VLOOKUP(K316,Holidays,2)","v":0},null,null,null,{"$f":"DAY(P316)","v":0},{"$f":"VLOOKUP(P316,Holidays,2)","v":0},null,null,null,{"$f":"DAY(V316)","v":0},{"$f":"VLOOKUP(V316,Holidays,2)","v":0},null,null,null,null,{"$f":"DAY(AA316)","v":0},{"$f":"VLOOKUP(AA316,Holidays,2)","v":0},null,null,null,null,{"$f":"DAY(AG316)","v":0},{"$f":"VLOOKUP(AG316,Holidays,2)","v":0},null,null,null,{"$f":"DAY(AL316)","v":0},{"$f":"VLOOKUP(AL316,Holidays,2)","v":0}]
[{"$f":"IF(MONTH(F$316)=A$327,UPPER(VLOOKUP(F$316,Inputs,4,FALSE))&\"  \",\"\")","v":""},null,null,null,{"$f":"IF(MONTH(F316)=A327,IF(LEN(A318)>0,A318&VLOOKUP(F316,Inputs,5,FALSE),VLOOKUP(F316,Inputs,5,FALSE)),\"\")","v":""},null,{"$f":"IF(MONTH(F316)=A327,IF(F316>0,VLOOKUP(F316,Inputs,6,FALSE),\"\"),0)","v":0},{"$f":"IF(MONTH(K316)=A327,UPPER(VLOOKUP(K316,Inputs,4,FALSE))&\"  \",\"\")","v":""},null,{"$f":"IF(MONTH(K316)=A327,IF(LEN(H318)>2,H318&VLOOKUP(K316,Inputs,5,FALSE),VLOOKUP(K316,Inputs,5,FALSE)),\"\")","v":""},null,{"$f":"IF(MONTH(K316)=A327,IF(K316>0,VLOOKUP(K316,Inputs,6,FALSE),\"\"),0)","v":0},null,null,null,null,{"$f":"IF(MONTH(P316)=A327,IF(P316>0,VLOOKUP(P316,Inputs,6,FALSE),\"\"),0)","v":0},null,null,null,null,null,null,null,null,null,null,null,null,null,null,null,null,null,null,null,null,null,null,null,null,{"$f":"IF($A318=AP$5,$G318,0)+IF($H318=AP$5,$L318,0)+IF($M318=AP$5,$Q318,0)+IF($R318=AP$5,$W318,0)+IF($X318=AP$5,AC318,0)+IF($AD318=AP$5,AH318,0)+IF(AI318=AP$5,AM318,0)","v":0},{"$f":"IF($A318=AQ$5,$G318,0)+IF($H318=AQ$5,$L318,0)+IF($M318=AQ$5,$Q318,0)+IF($R318=AQ$5,$W318,0)+IF($X318=AQ$5,$AC318,0)+IF($AD318=AQ$5,$AH318,0)+IF($AI318=AQ$5,$AM318,0)","v":0},0,0,0,0,0,0,0,0,0,0,0,0]
[{"$f":"IF(MONTH(F$316)=A$327,UPPER(VLOOKUP(F$316,Inputs,4,FALSE))&\"  \",\"\")","v":""},null,null,null,{"$f":"IF(MONTH(F316)=A327,IF(LEN(A319)>0,A319&VLOOKUP(F316,Inputs,8,FALSE),VLOOKUP(F316,Inputs,8,FALSE)),\"\")","v":""},null,{"$f":"IF(MONTH(F316)=A327,IF(F316>0,VLOOKUP(F316,Inputs,9,FALSE),\"\"),0)","v":0},{"$f":"IF(MONTH(K316)=A327,UPPER(VLOOKUP(K316,Inputs,7,FALSE))&\"  \",\"\")","v":""},null,{"$f":"IF(MONTH(K316)=A327,IF(LEN(H319)>2,H319&VLOOKUP(K316,Inputs,8,FALSE),VLOOKUP(K316,Inputs,8,FALSE)),\"\")","v":""},null,{"$f":"IF(MONTH(K316)=A327,IF(K316>0,VLOOKUP(K316,Inputs,9,FALSE),\"\"),0)","v":0},null,null,null,null,{"$f":"IF(MONTH(P316)=A327,IF(P316>0,VLOOKUP(P316,Inputs,9,FALSE),\"\"),0)","v":0},null,null,null,null,null,null,null,null,null,null,null,null,null,null,null,null,null,null,null,null,null,null,null,null,{"$f":"IF($A319=AP$5,$G319,0)+IF($H319=AP$5,$L319,0)+IF($M319=AP$5,$Q319,0)+IF($R319=AP$5,$W319,0)+IF($X319=AP$5,AC319,0)+IF($AD319=AP$5,AH319,0)+IF(AI319=AP$5,AM319,0)","v":0},0,0,0,0,0,0,0,0,0,0,0,0,0]
[{"$f":"IF(MONTH(F$316)=A$327,UPPER(VLOOKUP(F$316,Inputs,4,FALSE))&\"  \",\"\")","v":""},null,null,null,{"$f":"IF(MONTH(F316)=A327,IF(LEN(A320)>0,A320&VLOOKUP(F316,Inputs,11,FALSE),VLOOKUP(F316,Inputs,11,FALSE)),\"\")","v":""},null,{"$f":"IF(MONTH(F316)=A327,IF(F316>0,VLOOKUP(F316,Inputs,12,FALSE),\"\"),0)","v":0},{"$f":"IF(MONTH(K316)=A327,UPPER(VLOOKUP(K316,Inputs,10,FALSE))&\"  \",\"\")","v":""},null,{"$f":"IF(MONTH(K316)=A327,IF(LEN(H320)>2,H320&VLOOKUP(K316,Inputs,11,FALSE),VLOOKUP(K316,Inputs,11,FALSE)),\"\")","v":""},null,{"$f":"IF(MONTH(K316)=A327,IF(K316>0,VLOOKUP(K316,Inputs,12,FALSE),\"\"),0)","v":0},null,null,null,null,{"$f":"IF(MONTH(P316)=A327,IF(P316>0,VLOOKUP(P316,Inputs,12,FALSE),\"\"),0)","v":0},null,null,null,null,null,null,null,null,null,null,null,null,null,null,null,null,null,null,null,null,null,null,null,null,{"$f":"IF($A320=AP$5,$G320,0)+IF($H320=AP$5,$L320,0)+IF($M320=AP$5,$Q320,0)+IF($R320=AP$5,$W320,0)+IF($X320=AP$5,AC320,0)+IF($AD320=AP$5,AH320,0)+IF(AI320=AP$5,AM320,0)","v":0},0,0,0,0,0,0,0,0,0,0,0,0,0]
[{"$f":"IF(MONTH(F$316)=A$327,UPPER(VLOOKUP(F$316,Inputs,4,FALSE))&\"  \",\"\")","v":""},null,null,null,{"$f":"IF(MONTH(F316)=A327,IF(LEN(A321)>0,A321&VLOOKUP(F316,Inputs,14,FALSE),VLOOKUP(F316,Inputs,14,FALSE)),\"\")","v":""},null,{"$f":"IF(MONTH(F316)=A327,IF(F316>0,VLOOKUP(F316,Inputs,15,FALSE),\"\"),0)","v":0},{"$f":"IF(MONTH(K316)=A327,UPPER(VLOOKUP(K316,Inputs,13,FALSE))&\"  \",\"\")","v":""},null,{"$f":"IF(MONTH(K316)=A327,IF(LEN(H321)>2,H321&VLOOKUP(K316,Inputs,14,FALSE),VLOOKUP(K316,Inputs,14,FALSE)),\"\")","v":""},null,{"$f":"IF(MONTH(K316)=A327,IF(K316>0,VLOOKUP(K316,Inputs,15,FALSE),\"\"),0)","v":0},null,null,null,null,{"$f":"IF(MONTH(P316)=A327,IF(P316>0,VLOOKUP(P316,Inputs,15,FALSE),\"\"),0)","v":0},null,null,null,null,null,null,null,null,null,null,null,null,null,null,null,null,null,null,null,null,null,null,null,null,{"$f":"IF($A321=AP$5,$G321,0)+IF($H321=AP$5,$L321,0)+IF($M321=AP$5,$Q321,0)+IF($R321=AP$5,$W321,0)+IF($X321=AP$5,AC321,0)+IF($AD321=AP$5,AH321,0)+IF(AI321=AP$5,AM321,0)","v":0},0,0,0,0,0,0,0,0,0,0,0,0,0]
[null,null,null,null,null,{"$f":"IF(F316>0,IF(VLOOKUP(F316,Inputs,3,FALSE)=\"T\",\"Telemarketing\",0),\"\")","v":""},null,null,null,null,{"$f":"IF(VLOOKUP(K316-1,Inputs,3,FALSE)=\"T\",0,IF(VLOOKUP(K316,Inputs,3,FALSE)=\"T\",\"Telemarketing\",0))","v":{"$error":"#N/A"}},null,null,null,null,null,null,null,null,null,null,null,null,null,null,null,null,null,null,null,null,null,null,null,null,null,null,null,null,null,null,{"$f":"SUM(AP282:AP321)","v":0},0,0,0,0,0,0,0,{"$f":"SUM(AX282:AX321)","v":0},0,0,0,0,0]
[]
[null,null,null,null,{"$f":"\"CODE KEY:  \"&'Company Setup'!L$22&'Company Setup'!L$23&'Company Setup'!L$24&'Company Setup'!L$25&'Company Setup'!L$26&'Company Setup'!L$27&'Company Setup'!L$28&'Company Setup'!L$29&'Company Setup'!L$30&'Company Setup'!L$31&'Company Setup'!L$32&'Company Setup'!L$33&'Company Setup'!L$33&'Company Setup'!L$34&'Company Setup'!L$35","v":"CODE KEY:  B=Broadcast, L=Letter, P=Postcard, F=Flyer, H=Hanger, I=Newspaper Ads, N=Newsletter, E=E-Mail, A=Banner Ads, Y=Yellow Pages, "}]
[null,null,null,null,null,null,null,null,null,null,null,null,null,null,null,null,null,null,null,null,null,null,null,null,null,{"$f":"'Company Setup'!D$30","v":"Broadcast"},{"$f":"AP322","v":0},null,null,null,null,null,null,{"$f":"'Company Setup'!D$29","v":"E-Mail"},null,null,{"$f":"AW322","v":0}]
[null,null,null,null,null,null,"Revenue Budget",null,null,{"$f":"VLOOKUP(A327,ClientTable,2,FALSE)","v":86677},null,null,null,null,null,{"$f":"'Company Setup'!$E$5","v":"Reviews"},{"$f":"VLOOKUP(A327,ClientTable,3)","v":0},null,null,null,null,null,null,null,null,{"$f":"'Company Setup'!D$23","v":"Letter"},{"$f":"AQ322","v":0},null,null,null,null,null,null,{"$f":"'Company Setup'!D30","v":"Broadcast"},null,null,{"$f":"AX322","v":0}]
[{"$f":"IF(A272=12,1,A272+1)","v":6},null,null,null,null,null,"Monthly Marketing Budget",null,null,{"$f":"VLOOKUP(A327,ClientTable,7,FALSE)*VLOOKUP(A327,ClientTable,2,FALSE)","v":4333.8500000000004},null,null,null,null,null,{"$f":"'Company Setup'!$F$5","v":"SEO"},{"$f":"VLOOKUP(A327,ClientTable,4)","v":0},null,null,null,null,null,null,null,null,{"$f":"'Company Setup'!D$24","v":"Postcard"},{"$f":"AR322","v":0},null,null,null,null,null,null,{"$f":"'Company Setup'!D$31","v":"Banner Ads"},null,null,{"$f":"AY322","v":0}]
[{"$f":"VLOOKUP(A327,ClientTable,9)","v":6},null,null,null,null,null,"Month's End Marketing Cost",null,null,{"$f":"SUM(AK325:AK330)+SUM(AA325:AA331)+SUM(Q325:Q331)","v":0},null,null,null,null,null,{"$f":"'Company Setup'!$H$5","v":"Community Events"},{"$f":"VLOOKUP(A327,ClientTable,5)","v":0},null,null,null,null,null,null,null,null,{"$f":"'Company Setup'!D$25","v":"Flyer"},{"$f":"AS322","v":0},null,null,null,null,null,null,{"$f":"'Company Setup'!D$32","v":"Yellow Pages"},null,null,{"$f":"AZ322","v":0}]
[null,null,null,null,null,null,"Variance",null,null,{"$f":"J328-J327","v":-4333.8500000000004},null,null,null,null,null,{"$f":"'Company Setup'!G5","v":"Shows & Contests"},{"$f":"VLOOKUP(A327,ClientTable,6)","v":0},null,null,null,null,null,null,null,null,{"$f":"'Company Setup'!D$26","v":"Hanger"},{"$f":"AT322","v":0},null,null,null,null,null,null,{"$f":"'Company Setup'!D$33","v":0},null,null,{"$f":"BA322","v":0}]
[null,null,null,null,null,null,null,null,null,null,null,null,null,null,null,null,null,null,null,null,null,null,null,null,null,{"$f":"'Company Setup'!D$27","v":"Newspaper Ads"},{"$f":"AU322","v":0},null,null,null,null,null,null,{"$f":"'Company Setup'!D$34","v":0},null,null,{"$f":"BB322","v":0}]
[null,null,null,{"$f":"MONTH(StartMonth)","v":{"$error":"#VALUE!"}},"©",{"$f":"+F56","v":"Bedrock Markets, Inc. 2000 - 2100"},null,null,null,null,null,null,null,null,null,null,null,null,null,null,null,null,null,null,null,{"$f":"'Company Setup'!D$28","v":"Newsletter"},{"$f":"AV322","v":0},null,null,null,null,null,null,{"$f":"'Company Setup'!D$35","v":0},null,null,{"$f":"BC322","v":0}]
[]
[null,null,null,null,{"$f":"IF(E278=12,1,E278+1)","v":7},{"$f":"VLOOKUP(E333,Monthlookup2,2)&\" \"&YEAR(Calendar!S193)","v":"July 2018"},null,null,null,null,null,null,null,null,null,{"$f":"P$3","v":"   ABC Heating and Air"},null,null,null,null,null,null,null,null,null,null,null,null,null,null,null,null,null,null,null,null,null,null,null,null,"Importante!  Add 2 spaces after code - es muy neccesita"]
[]
[null,null,null,null,"Sunday",null,null,null,null,"Monday",null,null,null,null,"Tuesday",null,null,null,null,"Wednesday",null,null,null,null,null,"Thursday",null,null,null,null,null,"Friday",null,null,null,null,"Saturday"]
[null,null,null,null,null,{"$f":"IF(VLOOKUP(DATE(RIGHT($F333,4),$A382,1),Calendar,3)=1,DATE(RIGHT($F333,4),$A382,1),0)","v":"2018-07-01"},null,null,null,null,{"$f":"IF(E337>0,F336+1,IF(VLOOKUP(DATE(RIGHT($F333,4),$A382,1),Calendar,3)=2,DATE(RIGHT($F333,4),$A382,1),0))","v":"2018-07-02"},null,null,null,null,{"$f":"IF(J337>0,K336+1,IF(VLOOKUP(DATE(RIGHT($F333,4),$A382,1),Calendar,3)=3,DATE(RIGHT($F333,4),$A382,1),0))","v":"2018-07-03"},null,null,null,null,null,{"$f":"IF(O337>0,P336+1,IF(VLOOKUP(DATE(RIGHT($F333,4),$A382,1),Calendar,3)=4,DATE(RIGHT($F333,4),$A382,1),0))","v":"2018-07-04"},null,null,null,null,{"$f":"IF(T337>0,V336+1,IF(VLOOKUP(DATE(RIGHT($F333,4),$A382,1),Calendar,3)=5,DATE(RIGHT($F333,4),$A382,1),0))","v":"2018-07-05"},null,null,null,null,null,{"$f":"IF(Z337>0,AA336+1,IF(VLOOKUP(DATE(RIGHT($F333,4),$A382,1),Calendar,3)=6,DATE(RIGHT($F333,4),$A382,1),0))","v":"2018-07-06"},null,null,null,null,{"$f":"IF(AF337>0,AG336+1,IF(VLOOKUP(DATE(RIGHT($F333,4),$A382,1),Calendar,3)=7,DATE(RIGHT($F333,4),$A382,1),0))","v":"2018-07-07"}]
[null,null,null,null,{"$f":"DAY(F336)","v":1},{"$f":"IF(F336>0,VLOOKUP(F336,Holidays,2),0)","v":""},null,null,null,{"$f":"DAY(K336)","v":2},{"$f":"IF(K336>0,VLOOKUP(K336,Holidays,2),0)","v":""},null,null,null,{"$f":"DAY(P336)","v":3},{"$f":"IF(P336>0,VLOOKUP(P336,Holidays,2),0)","v":""},null,null,null,{"$f":"DAY(V336)","v":4},{"$f":"IF(V336>0,VLOOKUP(V336,Holidays,2),0)","v":"4th of July"},null,null,null,null,{"$f":"DAY(AA336)","v":5},{"$f":"IF(AA336>0,VLOOKUP(AA336,Holidays,2),0)","v":""},null,null,null,null,{"$f":"DAY(AG336)","v":6},{"$f":"IF(AG336>0,VLOOKUP(AG336,Holidays,2),0)","v":""},null,null,null,{"$f":"DAY(AL336)","v":7},{"$f":"IF(AL336>0,VLOOKUP(AL336,Holidays,2),0)","v":""}]
[{"$f":"IF(F336>1,UPPER(VLOOKUP(F336,Inputs,4,FALSE))&\"  \",0)","v":"  "},null,null,null,{"$f":"IF(F336>0,IF(LEN(A338)>2,A338&VLOOKUP(F336,Inputs,5,FALSE),VLOOKUP(F336,Inputs,5,FALSE)),\"\")","v":0},null,{"$f":"IF(F336>0,VLOOKUP(F336,Inputs,6,FALSE),\"\")","v":0},{"$f":"IF(K336>1,UPPER(VLOOKUP(K336,Inputs,4,FALSE))&\"  \",0)","v":"  "},null,{"$f":"IF(K336>0,IF(LEN(H338)>2,H338&VLOOKUP(K336,Inputs,5,FALSE),VLOOKUP(K336,Inputs,5,FALSE)),\"\")","v":0},null,{"$f":"IF(K336>0,VLOOKUP(K336,Inputs,6,FALSE),\"\")","v":0},{"$f":"IF(P336>1,UPPER(VLOOKUP(P336,Inputs,4,FALSE))&\"  \",0)","v":"  "},null,{"$f":"IF(P336>0,IF(LEN(M338)>2,M338&VLOOKUP(P336,Inputs,5,FALSE),VLOOKUP(P336,Inputs,5,FALSE)),\"\")","v":0},null,{"$f":"IF(P336>0,VLOOKUP(P336,Inputs,6,FALSE),\"\")","v":0},{"$f":"IF(V336>1,UPPER(VLOOKUP(V336,Inputs,4,FALSE))&\"  \",0)","v":"  "},null,{"$f":"IF(V336>0,IF(LEN(R338)>2,R338&VLOOKUP(V336,Inputs,5,FALSE),VLOOKUP(V336,Inputs,5,FALSE)),\"\")","v":0},null,null,{"$f":"IF(V336>0,VLOOKUP(V336,Inputs,6,FALSE),\"\")","v":0},{"$f":"IF(AA336>1,UPPER(VLOOKUP(AA336,Inputs,4,FALSE))&\"  \",0)","v":"  "},null,{"$f":"IF(AA336>0,IF(LEN(X338)>2,X338&VLOOKUP(AA336,Inputs,5,FALSE),VLOOKUP(AA336,Inputs,5,FALSE)),\"\")","v":0},null,null,{"$f":"IF(AA336>0,VLOOKUP(AA336,Inputs,6,FALSE),\"\")","v":0},{"$f":"IF(AG336>1,UPPER(VLOOKUP(AG336,Inputs,4,FALSE))&\"  \",0)","v":"  "},null,{"$f":"IF(AG336>0,IF(LEN(AD338)>2,AD338&VLOOKUP(AG336,Inputs,5,FALSE),VLOOKUP(AG336,Inputs,5,FALSE)),\"\")","v":0},null,{"$f":"IF(AG336>0,VLOOKUP(AG336,Inputs,6,FALSE),\"\")","v":0},{"$f":"UPPER(VLOOKUP(AL336,Inputs,4,FALSE))&\"  \"","v":"  "},null,{"$f":"IF(LEN(AI338)>2,AI338&VLOOKUP(AL336,Inputs,5,FALSE),VLOOKUP(AL336,Inputs,5,FALSE))","v":0},null,{"$f":"VLOOKUP(AL336,Inputs,6,FALSE)","v":0},null,null,{"$f":"IF($A338=AP$5,$G338,0)+IF($H338=AP$5,$L338,0)+IF($M338=AP$5,$Q338,0)+IF($R338=AP$5,$W338,0)+IF($X338=AP$5,AC338,0)+IF($AD338=AP$5,AH338,0)+IF(AI338=AP$5,AM338,0)","v":0},{"$f":"IF($A338=AQ$5,$G338,0)+IF($H338=AQ$5,$L338,0)+IF($M338=AQ$5,$Q338,0)+IF($R338=AQ$5,$W338,0)+IF($X338=AQ$5,$AC338,0)+IF($AD338=AQ$5,$AH338,0)+IF($AI338=AQ$5,$AM338,0)","v":0},0,0,0,0,0,0,0,0,0,0,0,0]
[{"$f":"IF(F336>1,UPPER(VLOOKUP(F336,Inputs,7,FALSE))&\"  \",0)","v":"  "},null,null,null,{"$f":"IF(F336>0,IF(LEN(A339)>2,A339&VLOOKUP(F336,Inputs,8,FALSE),VLOOKUP(F336,Inputs,8,FALSE)),\"\")","v":0},null,{"$f":"IF(F336>0,VLOOKUP(F336,Inputs,9,FALSE),\"\")","v":0},{"$f":"IF(K336>1,UPPER(VLOOKUP(K336,Inputs,7,FALSE))&\"  \",0)","v":"  "},null,{"$f":"IF(K336>0,IF(LEN(H339)>2,H339&VLOOKUP(K336,Inputs,8,FALSE),VLOOKUP(K336,Inputs,8,FALSE)),\"\")","v":0},null,{"$f":"IF(K336>0,VLOOKUP(K336,Inputs,9,FALSE),\"\")","v":0},{"$f":"IF(P336>1,UPPER(VLOOKUP(P336,Inputs,7,FALSE))&\"  \",0)","v":"  "},null,{"$f":"IF(P336>0,IF(LEN(M339)>2,M339&VLOOKUP(P336,Inputs,8,FALSE),VLOOKUP(P336,Inputs,8,FALSE)),\"\")","v":0},null,{"$f":"IF(P336>0,VLOOKUP(P336,Inputs,9,FALSE),\"\")","v":0},{"$f":"IF(V336>1,UPPER(VLOOKUP(V336,Inputs,7,FALSE))&\"  \",0)","v":"  "},null,{"$f":"IF(V336>0,IF(LEN(R339)>2,R339&VLOOKUP(V336,Inputs,8,FALSE),VLOOKUP(V336,Inputs,8,FALSE)),\"\")","v":0},null,null,{"$f":"IF(V336>0,VLOOKUP(V336,Inputs,9,FALSE),\"\")","v":0},{"$f":"IF(AA336>1,UPPER(VLOOKUP(AA336,Inputs,7,FALSE))&\"  \",0)","v":"  "},null,{"$f":"IF(AA336>0,IF(LEN(X339)>2,X339&VLOOKUP(AA336,Inputs,8,FALSE),VLOOKUP(AA336,Inputs,8,FALSE)),\"\")","v":0},null,null,{"$f":"IF(AA336>0,VLOOKUP(AA336,Inputs,9,FALSE),\"\")","v":0},{"$f":"IF(AG336>1,UPPER(VLOOKUP(AG336,Inputs,7,FALSE))&\"  \",0)","v":"  "},null,{"$f":"IF(AG336>0,IF(LEN(AD339)>2,AD339&VLOOKUP(AG336,Inputs,8,FALSE),VLOOKUP(AG336,Inputs,8,FALSE)),\"\")","v":0},null,{"$f":"IF(AG336>0,VLOOKUP(AG336,Inputs,9,FALSE),\"\")","v":0},{"$f":"UPPER(VLOOKUP(AL336,Inputs,7,FALSE))&\"  \"","v":"  "},null,{"$f":"IF(LEN(AI339)>2,AI339&VLOOKUP(AL336,Inputs,8,FALSE),VLOOKUP(AL336,Inputs,8,FALSE))","v":0},null,{"$f":"VLOOKUP(AL336,Inputs,9,FALSE)","v":0},null,null,{"$f":"IF($A339=AP$5,$G339,0)+IF($H339=AP$5,$L339,0)+IF($M339=AP$5,$Q339,0)+IF($R339=AP$5,$W339,0)+IF($X339=AP$5,AC339,0)+IF($AD339=AP$5,AH339,0)+IF(AI339=AP$5,AM339,0)","v":0},0,0,0,0,0,0,0,0,0,0,0,0,0,null,"530-345-3280"]
[{"$f":"IF(F336>1,UPPER(VLOOKUP(F336,Inputs,10,FALSE))&\"  \",0)","v":"  "},null,null,null,{"$f":"IF(F336>0,IF(LEN(A340)>2,A340&VLOOKUP(F336,Inputs,11,FALSE),VLOOKUP(F336,Inputs,11,FALSE)),\"\")","v":0},null,{"$f":"IF(F336>0,VLOOKUP(F336,Inputs,12,FALSE),\"\")","v":0},{"$f":"IF(K336>1,UPPER(VLOOKUP(K336,Inputs,10,FALSE))&\"  \",0)","v":"  "},null,{"$f":"IF(K336>0,IF(LEN(H340)>0,H340&VLOOKUP(K336,Inputs,11,FALSE),VLOOKUP(K336,Inputs,11,FALSE)),\"\")","v":"  "},null,{"$f":"IF(K336>0,VLOOKUP(K336,Inputs,12,FALSE),\"\")","v":0},{"$f":"IF(P336>1,UPPER(VLOOKUP(P336,Inputs,10,FALSE))&\"  \",0)","v":"  "},null,{"$f":"IF(P336>0,IF(LEN(M340)>0,M340&VLOOKUP(P336,Inputs,11,FALSE),VLOOKUP(P336,Inputs,11,FALSE)),\"\")","v":"  "},null,{"$f":"IF(P336>0,VLOOKUP(P336,Inputs,12,FALSE),\"\")","v":0},{"$f":"IF(V336>1,UPPER(VLOOKUP(V336,Inputs,10,FALSE))&\"  \",0)","v":"  "},null,{"$f":"IF(V336>0,IF(LEN(R340)>0,R340&VLOOKUP(V336,Inputs,11,FALSE),VLOOKUP(V336,Inputs,11,FALSE)),\"\")","v":"  "},null,null,{"$f":"IF(V336>0,VLOOKUP(V336,Inputs,12,FALSE),\"\")","v":0},{"$f":"IF(AA336>1,UPPER(VLOOKUP(AA336,Inputs,10,FALSE))&\"  \",0)","v":"  "},null,{"$f":"IF(AA336>0,IF(LEN(X340)>0,X340&VLOOKUP(AA336,Inputs,11,FALSE),VLOOKUP(AA336,Inputs,11,FALSE)),\"\")","v":"  "},null,null,{"$f":"IF(AA336>0,VLOOKUP(AA336,Inputs,12,FALSE),\"\")","v":0},{"$f":"IF(AG336>1,UPPER(VLOOKUP(AG336,Inputs,10,FALSE))&\"  \",0)","v":"  "},null,{"$f":"IF(AG336>0,IF(LEN(AD340)>0,AD340&VLOOKUP(AG336,Inputs,11,FALSE),VLOOKUP(AG336,Inputs,11,FALSE)),\"\")","v":"  "},null,{"$f":"IF(AG336>0,VLOOKUP(AG336,Inputs,12,FALSE),\"\")","v":0},{"$f":"UPPER(VLOOKUP(AL336,Inputs,10,FALSE))&\"  \"","v":"  "},null,{"$f":"IF(LEN(AI340)>2,AI340&VLOOKUP(AL336,Inputs,11,FALSE),VLOOKUP(AL336,Inputs,11,FALSE))","v":0},null,{"$f":"VLOOKUP(AL336,Inputs,12,FALSE)","v":0},null,null,{"$f":"IF($A340=AP$5,$G340,0)+IF($H340=AP$5,$L340,0)+IF($M340=AP$5,$Q340,0)+IF($R340=AP$5,$W340,0)+IF($X340=AP$5,AC340,0)+IF($AD340=AP$5,AH340,0)+IF(AI340=AP$5,AM340,0)","v":0},0,0,0,0,0,0,0,0,0,0,0,0,0,null,"2540 Zanella Way, Suite 20"]
[{"$f":"IF(F336>1,UPPER(VLOOKUP(F336,Inputs,13,FALSE))&\"  \",0)","v":"  "},null,null,null,{"$f":"IF(F336>0,IF(LEN(A341)>2,A341&VLOOKUP(F336,Inputs,14,FALSE),VLOOKUP(F336,Inputs,14,FALSE)),\"\")","v":0},null,{"$f":"IF(F336>0,VLOOKUP(F336,Inputs,15,FALSE),\"\")","v":0},{"$f":"IF(K336>1,UPPER(VLOOKUP(K336,Inputs,13,FALSE))&\"  \",0)","v":"  "},null,{"$f":"IF(K336>0,IF(LEN(H341)>2,H341&VLOOKUP(K336,Inputs,14,FALSE),VLOOKUP(K336,Inputs,14,FALSE)),\"\")","v":0},null,{"$f":"IF(K336>0,VLOOKUP(K336,Inputs,15,FALSE),\"\")","v":0},{"$f":"IF(P336>1,UPPER(VLOOKUP(P336,Inputs,13,FALSE))&\"  \",0)","v":"  "},null,{"$f":"IF(P336>0,IF(LEN(M341)>2,M341&VLOOKUP(P336,Inputs,14,FALSE),VLOOKUP(P336,Inputs,14,FALSE)),\"\")","v":0},null,{"$f":"IF(P336>0,VLOOKUP(P336,Inputs,15,FALSE),\"\")","v":0},{"$f":"IF(V336>1,UPPER(VLOOKUP(V336,Inputs,13,FALSE))&\"  \",0)","v":"  "},null,{"$f":"IF(V336>0,IF(LEN(R341)>2,R341&VLOOKUP(V336,Inputs,14,FALSE),VLOOKUP(V336,Inputs,14,FALSE)),\"\")","v":0},null,null,{"$f":"IF(V336>0,VLOOKUP(V336,Inputs,15,FALSE),\"\")","v":0},{"$f":"IF(AA336>1,UPPER(VLOOKUP(AA336,Inputs,13,FALSE))&\"  \",0)","v":"  "},null,{"$f":"IF(AA336>0,IF(LEN(X341)>2,X341&VLOOKUP(AA336,Inputs,14,FALSE),VLOOKUP(AA336,Inputs,14,FALSE)),\"\")","v":0},null,null,{"$f":"IF(AA336>0,VLOOKUP(AA336,Inputs,15,FALSE),\"\")","v":0},{"$f":"IF(AG336>1,UPPER(VLOOKUP(AG336,Inputs,13,FALSE))&\"  \",0)","v":"  "},null,{"$f":"IF(AG336>0,IF(LEN(AD341)>2,AD341&VLOOKUP(AG336,Inputs,14,FALSE),VLOOKUP(AG336,Inputs,14,FALSE)),\"\")","v":0},null,{"$f":"IF(AG336>0,VLOOKUP(AG336,Inputs,15,FALSE),\"\")","v":0},{"$f":"UPPER(VLOOKUP(AL336,Inputs,13,FALSE))&\"  \"","v":"  "},null,{"$f":"IF(LEN(AI341)>2,AI341&VLOOKUP(AL336,Inputs,14,FALSE),VLOOKUP(AL336,Inputs,14,FALSE))","v":0},null,{"$f":"VLOOKUP(AL336,Inputs,15,FALSE)","v":0},null,null,{"$f":"IF($A341=AP$5,$G341,0)+IF($H341=AP$5,$L341,0)+IF($M341=AP$5,$Q341,0)+IF($R341=AP$5,$W341,0)+IF($X341=AP$5,AC341,0)+IF($AD341=AP$5,AH341,0)+IF(AI341=AP$5,AM341,0)","v":0},0,0,0,0,0,0,0,0,0,0,0,0,0,null,"    Chico, CA 95928"]
[null,null,null,null,null,{"$f":"IF(F336>0,IF(VLOOKUP(F336,Inputs,3,FALSE)=\"T\",\"Telemarketing\",0),\"\")","v":0},null,null,null,null,{"$f":"IF(F336>0,IF(VLOOKUP(F336,Inputs,3,FALSE)=\"T\",0,IF(VLOOKUP(K336,Inputs,3,FALSE)=\"T\",\"Telemarketing\",0)),IF(VLOOKUP(K336,Inputs,3,FALSE)=\"T\",\"Telemarketing\",0))","v":0},null,null,null,null,{"$f":"IF(K336>0,IF(VLOOKUP(K336,Inputs,3,FALSE)=\"T\",0,IF(VLOOKUP(P336,Inputs,3,FALSE)=\"T\",\"Telemarketing\",0)),IF(VLOOKUP(P336,Inputs,3,FALSE)=\"T\",\"Telemarketing\",0))","v":0},null,null,null,null,null,{"$f":"IF(P336>0,IF(VLOOKUP(P336,Inputs,3,FALSE)=\"T\",0,IF(VLOOKUP(V336,Inputs,3,FALSE)=\"T\",\"Telemarketing\",0)),IF(VLOOKUP(V336,Inputs,3,FALSE)=\"T\",\"Telemarketing\",0))","v":0},null,null,null,null,{"$f":"IF(V336>0,IF(VLOOKUP(V336,Inputs,3,FALSE)=\"T\",0,IF(VLOOKUP(AA336,Inputs,3,FALSE)=\"T\",\"Telemarketing\",0)),IF(VLOOKUP(AA336,Inputs,3,FALSE)=\"T\",\"Telemarketing\",0))","v":0},null,null,null,null,null,{"$f":"IF(AA336>0,IF(VLOOKUP(AA336,Inputs,3,FALSE)=\"T\",0,IF(VLOOKUP(AG336,Inputs,3,FALSE)=\"T\",\"Telemarketing\",0)),IF(VLOOKUP(AG336,Inputs,3,FALSE)=\"T\",\"Telemarketing\",0))","v":0},null,null,null,null,{"$f":"IF(AG336>0,IF(VLOOKUP(AG336,Inputs,3,FALSE)=\"T\",0,IF(VLOOKUP(AL336,Inputs,3,FALSE)=\"T\",\"Telemarketing\",0)),IF(VLOOKUP(AL336,Inputs,3,FALSE)=\"T\",\"Telemarketing\",0))","v":0}]
[null,null,null,null,null,{"$f":"1+AL336","v":"2018-07-08"},null,null,null,null,{"$f":"1+F343","v":"2018-07-09"},null,null,null,null,{"$f":"1+K343","v":"2018-07-10"},null,null,null,null,null,{"$f":"1+P343","v":"2018-07-11"},null,null,null,null,{"$f":"1+V343","v":"2018-07-12"},null,null,null,null,null,{"$f":"1+AA343","v":"2018-07-13"},null,null,null,null,{"$f":"1+AG343","v":"2018-07-14"}]
[null,null,null,null,{"$f":"DAY(F343)","v":8},{"$f":"IF(F343>0,VLOOKUP(F343,Holidays,2),0)","v":0},null,null,null,{"$f":"DAY(K343)","v":9},{"$f":"IF(K343>0,VLOOKUP(K343,Holidays,2),0)","v":0},null,null,null,{"$f":"DAY(P343)","v":10},{"$f":"IF(P343>0,VLOOKUP(P343,Holidays,2),0)","v":0},null,null,null,{"$f":"DAY(V343)","v":11},{"$f":"IF(V343>0,VLOOKUP(V343,Holidays,2),0)","v":0},null,null,null,null,{"$f":"DAY(AA343)","v":12},{"$f":"IF(AA343>0,VLOOKUP(AA343,Holidays,2),0)","v":0},null,null,null,null,{"$f":"DAY(AG343)","v":13},{"$f":"IF(AG343>0,VLOOKUP(AG343,Holidays,2),0)","v":0},null,null,null,{"$f":"DAY(AL343)","v":14},{"$f":"IF(AL343>0,VLOOKUP(AL343,Holidays,2),0)","v":0}]
[{"$f":"UPPER(VLOOKUP(F343,Inputs,4,FALSE))&\"  \"","v":"  "},null,null,null,{"$f":"IF(LEN(A345)>2,A345&VLOOKUP(F343,Inputs,5,FALSE),VLOOKUP(F343,Inputs,5,FALSE))","v":0},null,{"$f":"IF(F343>0,VLOOKUP(F343,Inputs,6,FALSE),\"\")","v":0},{"$f":"UPPER(VLOOKUP(K343,Inputs,4,FALSE))&\"  \"","v":"  "},null,{"$f":"IF(LEN(H345)>2,H345&VLOOKUP(K343,Inputs,5,FALSE),VLOOKUP(K343,Inputs,5,FALSE))","v":0},null,{"$f":"IF(K343>0,VLOOKUP(K343,Inputs,6,FALSE),\"\")","v":0},{"$f":"UPPER(VLOOKUP(P343,Inputs,4,FALSE))&\"  \"","v":"  "},null,{"$f":"IF(LEN(M345)>2,M345&VLOOKUP(P343,Inputs,5,FALSE),VLOOKUP(P343,Inputs,5,FALSE))","v":0},null,{"$f":"IF(P343>0,VLOOKUP(P343,Inputs,6,FALSE),\"\")","v":0},{"$f":"UPPER(VLOOKUP(V343,Inputs,4,FALSE))&\"  \"","v":"  "},null,{"$f":"IF(LEN(R345)>2,R345&VLOOKUP(V343,Inputs,5,FALSE),VLOOKUP(V343,Inputs,5,FALSE))","v":0},null,null,{"$f":"IF(V343>0,VLOOKUP(V343,Inputs,6,FALSE),\"\")","v":0},{"$f":"UPPER(VLOOKUP(AA343,Inputs,4,FALSE))&\"  \"","v":"  "},null,{"$f":"IF(LEN(X345)>2,X345&VLOOKUP(AA343,Inputs,5,FALSE),VLOOKUP(AA343,Inputs,5,FALSE))","v":0},null,null,{"$f":"IF(AA343>0,VLOOKUP(AA343,Inputs,6,FALSE),\"\")","v":0},{"$f":"UPPER(VLOOKUP(AG343,Inputs,4,FALSE))&\"  \"","v":"  "},null,{"$f":"IF(LEN(AD345)>2,AD345&VLOOKUP(AG343,Inputs,5,FALSE),VLOOKUP(AG343,Inputs,5,FALSE))","v":0},null,{"$f":"IF(AG343>0,VLOOKUP(AG343,Inputs,6,FALSE),\"\")","v":0},{"$f":"UPPER(VLOOKUP(AL343,Inputs,4,FALSE))&\"  \"","v":"  "},null,{"$f":"IF(LEN(AI345)>2,AI345&VLOOKUP(AL343,Inputs,5,FALSE),VLOOKUP(AL343,Inputs,5,FALSE))","v":0},null,{"$f":"IF(AL343>0,VLOOKUP(AL343,Inputs,6,FALSE),\"\")","v":0},null,null,{"$f":"IF($A345=AP$5,$G345,0)+IF($H345=AP$5,$L345,0)+IF($M345=AP$5,$Q345,0)+IF($R345=AP$5,$W345,0)+IF($X345=AP$5,AC345,0)+IF($AD345=AP$5,AH345,0)+IF(AI345=AP$5,AM345,0)","v":0},{"$f":"IF($A345=AQ$5,$G345,0)+IF($H345=AQ$5,$L345,0)+IF($M345=AQ$5,$Q345,0)+IF($R345=AQ$5,$W345,0)+IF($X345=AQ$5,$AC345,0)+IF($AD345=AQ$5,$AH345,0)+IF($AI345=AQ$5,$AM345,0)","v":0},0,0,0,0,0,0,0,0,0,0,0,0,null,"      TheBedrock.com"]
[{"$f":"UPPER(VLOOKUP(F343,Inputs,7,FALSE))&\"  \"","v":"  "},null,null,null,{"$f":"IF(LEN(A346)>2,A346&VLOOKUP(F343,Inputs,8,FALSE),VLOOKUP(F343,Inputs,8,FALSE))","v":0},null,{"$f":"IF(F343>0,VLOOKUP(F343,Inputs,9,FALSE),\"\")","v":0},{"$f":"UPPER(VLOOKUP(K343,Inputs,7,FALSE))&\"  \"","v":"  "},null,{"$f":"IF(LEN(H346)>2,H346&VLOOKUP(K343,Inputs,8,FALSE),VLOOKUP(K343,Inputs,8,FALSE))","v":0},null,{"$f":"IF(K343>0,VLOOKUP(K343,Inputs,9,FALSE),\"\")","v":0},{"$f":"UPPER(VLOOKUP(P343,Inputs,7,FALSE))&\"  \"","v":"  "},null,{"$f":"IF(LEN(M346)>2,M346&VLOOKUP(P343,Inputs,8,FALSE),VLOOKUP(P343,Inputs,8,FALSE))","v":0},null,{"$f":"IF(P343>0,VLOOKUP(P343,Inputs,9,FALSE),\"\")","v":0},{"$f":"UPPER(VLOOKUP(V343,Inputs,7,FALSE))&\"  \"","v":"  "},null,{"$f":"IF(LEN(R346)>2,R346&VLOOKUP(V343,Inputs,8,FALSE),VLOOKUP(V343,Inputs,8,FALSE))","v":0},null,null,{"$f":"IF(V343>0,VLOOKUP(V343,Inputs,9,FALSE),\"\")","v":0},{"$f":"UPPER(VLOOKUP(AA343,Inputs,7,FALSE))&\"  \"","v":"  "},null,{"$f":"IF(LEN(X346)>2,X346&VLOOKUP(AA343,Inputs,8,FALSE),VLOOKUP(AA343,Inputs,8,FALSE))","v":0},null,null,{"$f":"IF(AA343>0,VLOOKUP(AA343,Inputs,9,FALSE),\"\")","v":0},{"$f":"UPPER(VLOOKUP(AG343,Inputs,7,FALSE))&\"  \"","v":"  "},null,{"$f":"IF(LEN(AD346)>2,AD346&VLOOKUP(AG343,Inputs,8,FALSE),VLOOKUP(AG343,Inputs,8,FALSE))","v":0},null,{"$f":"IF(AG343>0,VLOOKUP(AG343,Inputs,9,FALSE),\"\")","v":0},{"$f":"UPPER(VLOOKUP(AL343,Inputs,7,FALSE))&\"  \"","v":"  "},null,{"$f":"IF(LEN(AI346)>2,AI346&VLOOKUP(AL343,Inputs,8,FALSE),VLOOKUP(AL343,Inputs,8,FALSE))","v":0},null,{"$f":"IF(AL343>0,VLOOKUP(AL343,Inputs,9,FALSE),\"\")","v":0},null,null,{"$f":"IF($A346=AP$5,$G346,0)+IF($H346=AP$5,$L346,0)+IF($M346=AP$5,$Q346,0)+IF($R346=AP$5,$W346,0)+IF($X346=AP$5,AC346,0)+IF($AD346=AP$5,AH346,0)+IF(AI346=AP$5,AM346,0)","v":0},0,0,0,0,0,0,0,0,0,0,0,0,0]
[{"$f":"UPPER(VLOOKUP(F343,Inputs,10,FALSE))&\"  \"","v":"  "},null,null,null,{"$f":"IF(LEN(A347)>2,A347&VLOOKUP(F343,Inputs,11,FALSE),VLOOKUP(F343,Inputs,11,FALSE))","v":0},null,{"$f":"IF(F343>0,VLOOKUP(F343,Inputs,12,FALSE),\"\")","v":0},{"$f":"UPPER(VLOOKUP(K343,Inputs,10,FALSE))&\"  \"","v":"  "},null,{"$f":"IF(LEN(H347)>2,H347&VLOOKUP(K343,Inputs,11,FALSE),VLOOKUP(K343,Inputs,11,FALSE))","v":0},null,{"$f":"IF(K343>0,VLOOKUP(K343,Inputs,12,FALSE),\"\")","v":0},{"$f":"UPPER(VLOOKUP(P343,Inputs,10,FALSE))&\"  \"","v":"  "},null,{"$f":"IF(LEN(M347)>2,M347&VLOOKUP(P343,Inputs,11,FALSE),VLOOKUP(P343,Inputs,11,FALSE))","v":0},null,{"$f":"IF(P343>0,VLOOKUP(P343,Inputs,12,FALSE),\"\")","v":0},{"$f":"UPPER(VLOOKUP(V343,Inputs,10,FALSE))&\"  \"","v":"  "},null,{"$f":"IF(LEN(R347)>2,R347&VLOOKUP(V343,Inputs,11,FALSE),VLOOKUP(V343,Inputs,11,FALSE))","v":0},null,null,{"$f":"IF(V343>0,VLOOKUP(V343,Inputs,12,FALSE),\"\")","v":0},{"$f":"UPPER(VLOOKUP(AA343,Inputs,10,FALSE))&\"  \"","v":"  "},null,{"$f":"IF(LEN(X347)>2,X347&VLOOKUP(AA343,Inputs,11,FALSE),VLOOKUP(AA343,Inputs,11,FALSE))","v":0},null,null,{"$f":"IF(AA343>0,VLOOKUP(AA343,Inputs,12,FALSE),\"\")","v":0},{"$f":"UPPER(VLOOKUP(AG343,Inputs,10,FALSE))&\"  \"","v":"  "},null,{"$f":"IF(LEN(AD347)>2,AD347&VLOOKUP(AG343,Inputs,11,FALSE),VLOOKUP(AG343,Inputs,11,FALSE))","v":0},null,{"$f":"IF(AG343>0,VLOOKUP(AG343,Inputs,12,FALSE),\"\")","v":0},{"$f":"UPPER(VLOOKUP(AL343,Inputs,10,FALSE))&\"  \"","v":"  "},null,{"$f":"IF(LEN(AI347)>2,AI347&VLOOKUP(AL343,Inputs,11,FALSE),VLOOKUP(AL343,Inputs,11,FALSE))","v":0},null,{"$f":"IF(AL343>0,VLOOKUP(AL343,Inputs,12,FALSE),\"\")","v":0},null,null,{"$f":"IF($A347=AP$5,$G347,0)+IF($H347=AP$5,$L347,0)+IF($M347=AP$5,$Q347,0)+IF($R347=AP$5,$W347,0)+IF($X347=AP$5,AC347,0)+IF($AD347=AP$5,AH347,0)+IF(AI347=AP$5,AM347,0)","v":0},0,0,0,0,0,0,0,0,0,0,0,0,0]
[{"$f":"UPPER(VLOOKUP(F343,Inputs,13,FALSE))&\"  \"","v":"  "},null,null,null,{"$f":"IF(LEN(A348)>2,A348&VLOOKUP(F343,Inputs,14,FALSE),VLOOKUP(F343,Inputs,14,FALSE))","v":0},null,{"$f":"IF(F343>0,VLOOKUP(F343,Inputs,15,FALSE),\"\")","v":0},{"$f":"UPPER(VLOOKUP(K343,Inputs,13,FALSE))&\"  \"","v":"  "},null,{"$f":"IF(LEN(H348)>2,H348&VLOOKUP(K343,Inputs,14,FALSE),VLOOKUP(K343,Inputs,14,FALSE))","v":0},null,{"$f":"IF(K343>0,VLOOKUP(K343,Inputs,15,FALSE),\"\")","v":0},{"$f":"UPPER(VLOOKUP(P343,Inputs,13,FALSE))&\"  \"","v":"  "},null,{"$f":"IF(LEN(M348)>2,M348&VLOOKUP(P343,Inputs,14,FALSE),VLOOKUP(P343,Inputs,14,FALSE))","v":0},null,{"$f":"IF(P343>0,VLOOKUP(P343,Inputs,15,FALSE),\"\")","v":0},{"$f":"UPPER(VLOOKUP(V343,Inputs,13,FALSE))&\"  \"","v":"  "},null,{"$f":"IF(LEN(R348)>2,R348&VLOOKUP(V343,Inputs,14,FALSE),VLOOKUP(V343,Inputs,14,FALSE))","v":0},null,null,{"$f":"IF(V343>0,VLOOKUP(V343,Inputs,15,FALSE),\"\")","v":0},{"$f":"UPPER(VLOOKUP(AA343,Inputs,13,FALSE))&\"  \"","v":"  "},null,{"$f":"IF(LEN(X348)>2,X348&VLOOKUP(AA343,Inputs,14,FALSE),VLOOKUP(AA343,Inputs,14,FALSE))","v":0},null,null,{"$f":"IF(AA343>0,VLOOKUP(AA343,Inputs,15,FALSE),\"\")","v":0},{"$f":"UPPER(VLOOKUP(AG343,Inputs,13,FALSE))&\"  \"","v":"  "},null,{"$f":"IF(LEN(AD348)>2,AD348&VLOOKUP(AG343,Inputs,14,FALSE),VLOOKUP(AG343,Inputs,14,FALSE))","v":0},null,{"$f":"IF(AG343>0,VLOOKUP(AG343,Inputs,15,FALSE),\"\")","v":0},{"$f":"UPPER(VLOOKUP(AL343,Inputs,13,FALSE))&\"  \"","v":"  "},null,{"$f":"IF(LEN(AI348)>2,AI348&VLOOKUP(AL343,Inputs,14,FALSE),VLOOKUP(AL343,Inputs,14,FALSE))","v":0},null,{"$f":"IF(AL343>0,VLOOKUP(AL343,Inputs,15,FALSE),\"\")","v":0},null,null,{"$f":"IF($A348=AP$5,$G348,0)+IF($H348=AP$5,$L348,0)+IF($M348=AP$5,$Q348,0)+IF($R348=AP$5,$W348,0)+IF($X348=AP$5,AC348,0)+IF($AD348=AP$5,AH348,0)+IF(AI348=AP$5,AM348,0)","v":0},0,0,0,0,0,0,0,0,0,0,0,0,0]
[null,null,null,null,null,{"$f":"IF(F343>0,IF(VLOOKUP(F343,Inputs,3,FALSE)=\"T\",\"Telemarketing\",0),\"\")","v":0},null,null,null,null,{"$f":"IF(VLOOKUP(K343-1,Inputs,3,FALSE)=\"T\",0,IF(VLOOKUP(K343,Inputs,3,FALSE)=\"T\",\"Telemarketing\",0))","v":0},null,null,null,null,{"$f":"IF(VLOOKUP(P343-1,Inputs,3,FALSE)=\"T\",0,IF(VLOOKUP(P343,Inputs,3,FALSE)=\"T\",\"Telemarketing\",0))","v":0},null,null,null,null,null,{"$f":"IF(VLOOKUP(V343-1,Inputs,3,FALSE)=\"T\",0,IF(VLOOKUP(V343,Inputs,3,FALSE)=\"T\",\"Telemarketing\",0))","v":0},null,null,null,null,{"$f":"IF(VLOOKUP(AA343-1,Inputs,3,FALSE)=\"T\",0,IF(VLOOKUP(AA343,Inputs,3,FALSE)=\"T\",\"Telemarketing\",0))","v":0},null,null,null,null,null,{"$f":"IF(VLOOKUP(AG343-1,Inputs,3,FALSE)=\"T\",0,IF(VLOOKUP(AG343,Inputs,3,FALSE)=\"T\",\"Telemarketing\",0))","v":0},null,null,null,null,{"$f":"IF(VLOOKUP(AL343-1,Inputs,3,FALSE)=\"T\",0,IF(VLOOKUP(AL343,Inputs,3,FALSE)=\"T\",\"Telemarketing\",0))","v":0}]
[null,null,null,null,null,{"$f":"1+AL343","v":"2018-07-15"},null,null,null,null,{"$f":"1+F350","v":"2018-07-16"},null,null,null,null,{"$f":"1+K350","v":"2018-07-17"},null,null,null,null,null,{"$f":"1+P350","v":"2018-07-18"},null,null,null,null,{"$f":"1+V350","v":"2018-07-19"},null,null,null,null,null,{"$f":"1+AA350","v":"2018-07-20"},null,null,null,null,{"$f":"1+AG350","v":"2018-07-21"}]
[null,null,null,null,{"$f":"DAY(F350)","v":15},{"$f":"IF(F350>0,VLOOKUP(F350,Holidays,2),0)","v":0},null,null,null,{"$f":"DAY(K350)","v":16},{"$f":"IF(K350>0,VLOOKUP(K350,Holidays,2),0)","v":0},null,null,null,{"$f":"DAY(P350)","v":17},{"$f":"IF(P350>0,VLOOKUP(P350,Holidays,2),0)","v":0},null,null,null,{"$f":"DAY(V350)","v":18},{"$f":"IF(V350>0,VLOOKUP(V350,Holidays,2),0)","v":0},null,null,null,null,{"$f":"DAY(AA350)","v":19},{"$f":"IF(AA350>0,VLOOKUP(AA350,Holidays,2),0)","v":0},null,null,null,null,{"$f":"DAY(AG350)","v":20},{"$f":"IF(AG350>0,VLOOKUP(AG350,Holidays,2),0)","v":0},null,null,null,{"$f":"DAY(AL350)","v":21},{"$f":"IF(AL350>0,VLOOKUP(AL350,Holidays,2),0)","v":0}]
[{"$f":"UPPER(VLOOKUP(F350,Inputs,4,FALSE))&\"  \"","v":"  "},null,null,null,{"$f":"IF(LEN(A352)>2,A352&VLOOKUP(F350,Inputs,5,FALSE),VLOOKUP(F350,Inputs,5,FALSE))","v":0},null,{"$f":"IF(F350>0,VLOOKUP(F350,Inputs,6,FALSE),\"\")","v":0},{"$f":"UPPER(VLOOKUP(K350,Inputs,4,FALSE))&\"  \"","v":"  "},null,{"$f":"IF(LEN(H352)>2,H352&VLOOKUP(K350,Inputs,5,FALSE),VLOOKUP(K350,Inputs,5,FALSE))","v":0},null,{"$f":"IF(K350>0,VLOOKUP(K350,Inputs,6,FALSE),\"\")","v":0},{"$f":"UPPER(VLOOKUP(P350,Inputs,4,FALSE))&\"  \"","v":"  "},null,{"$f":"IF(LEN(M352)>2,M352&VLOOKUP(P350,Inputs,5,FALSE),VLOOKUP(P350,Inputs,5,FALSE))","v":0},null,{"$f":"IF(P350>0,VLOOKUP(P350,Inputs,6,FALSE),\"\")","v":0},{"$f":"UPPER(VLOOKUP(V350,Inputs,4,FALSE))&\"  \"","v":"  "},null,{"$f":"IF(LEN(R352)>2,R352&VLOOKUP(V350,Inputs,5,FALSE),VLOOKUP(V350,Inputs,5,FALSE))","v":0},null,null,{"$f":"IF(V350>0,VLOOKUP(V350,Inputs,6,FALSE),\"\")","v":0},{"$f":"UPPER(VLOOKUP(AA350,Inputs,4,FALSE))&\"  \"","v":"  "},null,{"$f":"IF(LEN(X352)>2,X352&VLOOKUP(AA350,Inputs,5,FALSE),VLOOKUP(AA350,Inputs,5,FALSE))","v":0},null,null,{"$f":"IF(AA350>0,VLOOKUP(AA350,Inputs,6,FALSE),\"\")","v":0},{"$f":"UPPER(VLOOKUP(AG350,Inputs,4,FALSE))&\"  \"","v":"  "},null,{"$f":"IF(LEN(AD352)>2,AD352&VLOOKUP(AG350,Inputs,5,FALSE),VLOOKUP(AG350,Inputs,5,FALSE))","v":0},null,{"$f":"IF(AG350>0,VLOOKUP(AG350,Inputs,6,FALSE),\"\")","v":0},{"$f":"UPPER(VLOOKUP(AL350,Inputs,4,FALSE))&\"  \"","v":"  "},null,{"$f":"IF(LEN(AI352)>2,AI352&VLOOKUP(AL350,Inputs,5,FALSE),VLOOKUP(AL350,Inputs,5,FALSE))","v":0},null,{"$f":"IF(AL350>0,VLOOKUP(AL350,Inputs,6,FALSE),\"\")","v":0},null,null,{"$f":"IF($A352=AP$5,$G352,0)+IF($H352=AP$5,$L352,0)+IF($M352=AP$5,$Q352,0)+IF($R352=AP$5,$W352,0)+IF($X352=AP$5,AC352,0)+IF($AD352=AP$5,AH352,0)+IF(AI352=AP$5,AM352,0)","v":0},{"$f":"IF($A352=AQ$5,$G352,0)+IF($H352=AQ$5,$L352,0)+IF($M352=AQ$5,$Q352,0)+IF($R352=AQ$5,$W352,0)+IF($X352=AQ$5,$AC352,0)+IF($AD352=AQ$5,$AH352,0)+IF($AI352=AQ$5,$AM352,0)","v":0},0,0,0,0,0,0,0,0,0,0,0,0]
[{"$f":"UPPER(VLOOKUP(F350,Inputs,7,FALSE))&\"  \"","v":"  "},null,null,null,{"$f":"IF(LEN(A353)>2,A353&VLOOKUP(F350,Inputs,8,FALSE),VLOOKUP(F350,Inputs,8,FALSE))","v":0},null,{"$f":"IF(F350>0,VLOOKUP(F350,Inputs,9,FALSE),\"\")","v":0},{"$f":"UPPER(VLOOKUP(K350,Inputs,7,FALSE))&\"  \"","v":"  "},null,{"$f":"IF(LEN(H353)>2,H353&VLOOKUP(K350,Inputs,8,FALSE),VLOOKUP(K350,Inputs,8,FALSE))","v":0},null,{"$f":"IF(K350>0,VLOOKUP(K350,Inputs,9,FALSE),\"\")","v":0},{"$f":"UPPER(VLOOKUP(P350,Inputs,7,FALSE))&\"  \"","v":"  "},null,{"$f":"IF(LEN(M353)>2,M353&VLOOKUP(P350,Inputs,8,FALSE),VLOOKUP(P350,Inputs,8,FALSE))","v":0},null,{"$f":"IF(P350>0,VLOOKUP(P350,Inputs,9,FALSE),\"\")","v":0},{"$f":"UPPER(VLOOKUP(V350,Inputs,7,FALSE))&\"  \"","v":"  "},null,{"$f":"IF(LEN(R353)>2,R353&VLOOKUP(V350,Inputs,8,FALSE),VLOOKUP(V350,Inputs,8,FALSE))","v":0},null,null,{"$f":"IF(V350>0,VLOOKUP(V350,Inputs,9,FALSE),\"\")","v":0},{"$f":"UPPER(VLOOKUP(AA350,Inputs,7,FALSE))&\"  \"","v":"  "},null,{"$f":"IF(LEN(X353)>2,X353&VLOOKUP(AA350,Inputs,8,FALSE),VLOOKUP(AA350,Inputs,8,FALSE))","v":0},null,null,{"$f":"IF(AA350>0,VLOOKUP(AA350,Inputs,9,FALSE),\"\")","v":0},{"$f":"UPPER(VLOOKUP(AG350,Inputs,7,FALSE))&\"  \"","v":"  "},null,{"$f":"IF(LEN(AD353)>2,AD353&VLOOKUP(AG350,Inputs,8,FALSE),VLOOKUP(AG350,Inputs,8,FALSE))","v":0},null,{"$f":"IF(AG350>0,VLOOKUP(AG350,Inputs,9,FALSE),\"\")","v":0},{"$f":"UPPER(VLOOKUP(AL350,Inputs,7,FALSE))&\"  \"","v":"  "},null,{"$f":"IF(LEN(AI353)>2,AI353&VLOOKUP(AL350,Inputs,8,FALSE),VLOOKUP(AL350,Inputs,8,FALSE))","v":0},null,{"$f":"IF(AL350>0,VLOOKUP(AL350,Inputs,9,FALSE),\"\")","v":0},null,null,{"$f":"IF($A353=AP$5,$G353,0)+IF($H353=AP$5,$L353,0)+IF($M353=AP$5,$Q353,0)+IF($R353=AP$5,$W353,0)+IF($X353=AP$5,AC353,0)+IF($AD353=AP$5,AH353,0)+IF(AI353=AP$5,AM353,0)","v":0},0,0,0,0,0,0,0,0,0,0,0,0,0]
[{"$f":"UPPER(VLOOKUP(F350,Inputs,10,FALSE))&\"  \"","v":"  "},null,null,null,{"$f":"IF(LEN(A354)>2,A354&VLOOKUP(F350,Inputs,11,FALSE),VLOOKUP(F350,Inputs,11,FALSE))","v":0},null,{"$f":"IF(F350>0,VLOOKUP(F350,Inputs,12,FALSE),\"\")","v":0},{"$f":"UPPER(VLOOKUP(K350,Inputs,10,FALSE))&\"  \"","v":"  "},null,{"$f":"IF(LEN(H354)>2,H354&VLOOKUP(K350,Inputs,11,FALSE),VLOOKUP(K350,Inputs,11,FALSE))","v":0},null,{"$f":"IF(K350>0,VLOOKUP(K350,Inputs,12,FALSE),\"\")","v":0},{"$f":"UPPER(VLOOKUP(P350,Inputs,10,FALSE))&\"  \"","v":"  "},null,{"$f":"IF(LEN(M354)>2,M354&VLOOKUP(P350,Inputs,11,FALSE),VLOOKUP(P350,Inputs,11,FALSE))","v":0},null,{"$f":"IF(P350>0,VLOOKUP(P350,Inputs,12,FALSE),\"\")","v":0},{"$f":"UPPER(VLOOKUP(V350,Inputs,10,FALSE))&\"  \"","v":"  "},null,{"$f":"IF(LEN(R354)>2,R354&VLOOKUP(V350,Inputs,11,FALSE),VLOOKUP(V350,Inputs,11,FALSE))","v":0},null,null,{"$f":"IF(V350>0,VLOOKUP(V350,Inputs,12,FALSE),\"\")","v":0},{"$f":"UPPER(VLOOKUP(AA350,Inputs,10,FALSE))&\"  \"","v":"  "},null,{"$f":"IF(LEN(X354)>2,X354&VLOOKUP(AA350,Inputs,11,FALSE),VLOOKUP(AA350,Inputs,11,FALSE))","v":0},null,null,{"$f":"IF(AA350>0,VLOOKUP(AA350,Inputs,12,FALSE),\"\")","v":0},{"$f":"UPPER(VLOOKUP(AG350,Inputs,10,FALSE))&\"  \"","v":"  "},null,{"$f":"IF(LEN(AD354)>2,AD354&VLOOKUP(AG350,Inputs,11,FALSE),VLOOKUP(AG350,Inputs,11,FALSE))","v":0},null,{"$f":"IF(AG350>0,VLOOKUP(AG350,Inputs,12,FALSE),\"\")","v":0},{"$f":"UPPER(VLOOKUP(AL350,Inputs,10,FALSE))&\"  \"","v":"  "},null,{"$f":"IF(LEN(AI354)>2,AI354&VLOOKUP(AL350,Inputs,11,FALSE),VLOOKUP(AL350,Inputs,11,FALSE))","v":0},null,{"$f":"IF(AL350>0,VLOOKUP(AL350,Inputs,12,FALSE),\"\")","v":0},null,null,{"$f":"IF($A354=AP$5,$G354,0)+IF($H354=AP$5,$L354,0)+IF($M354=AP$5,$Q354,0)+IF($R354=AP$5,$W354,0)+IF($X354=AP$5,AC354,0)+IF($AD354=AP$5,AH354,0)+IF(AI354=AP$5,AM354,0)","v":0},0,0,0,0,0,0,0,0,0,0,0,0,0]
[{"$f":"UPPER(VLOOKUP(F350,Inputs,13,FALSE))&\"  \"","v":"  "},null,null,null,{"$f":"IF(LEN(A355)>2,A355&VLOOKUP(F350,Inputs,14,FALSE),VLOOKUP(F350,Inputs,14,FALSE))","v":0},null,{"$f":"IF(F350>0,VLOOKUP(F350,Inputs,15,FALSE),\"\")","v":0},{"$f":"UPPER(VLOOKUP(K350,Inputs,13,FALSE))&\"  \"","v":"  "},null,{"$f":"IF(LEN(H355)>2,H355&VLOOKUP(K350,Inputs,14,FALSE),VLOOKUP(K350,Inputs,14,FALSE))","v":0},null,{"$f":"IF(K350>0,VLOOKUP(K350,Inputs,15,FALSE),\"\")","v":0},{"$f":"UPPER(VLOOKUP(P350,Inputs,13,FALSE))&\"  \"","v":"  "},null,{"$f":"IF(LEN(M355)>2,M355&VLOOKUP(P350,Inputs,14,FALSE),VLOOKUP(P350,Inputs,14,FALSE))","v":0},null,{"$f":"IF(P350>0,VLOOKUP(P350,Inputs,15,FALSE),\"\")","v":0},{"$f":"UPPER(VLOOKUP(V350,Inputs,13,FALSE))&\"  \"","v":"  "},null,{"$f":"IF(LEN(R355)>2,R355&VLOOKUP(V350,Inputs,14,FALSE),VLOOKUP(V350,Inputs,14,FALSE))","v":0},null,null,{"$f":"IF(V350>0,VLOOKUP(V350,Inputs,15,FALSE),\"\")","v":0},{"$f":"UPPER(VLOOKUP(AA350,Inputs,13,FALSE))&\"  \"","v":"  "},null,{"$f":"IF(LEN(X355)>2,X355&VLOOKUP(AA350,Inputs,14,FALSE),VLOOKUP(AA350,Inputs,14,FALSE))","v":0},null,null,{"$f":"IF(AA350>0,VLOOKUP(AA350,Inputs,15,FALSE),\"\")","v":0},{"$f":"UPPER(VLOOKUP(AG350,Inputs,13,FALSE))&\"  \"","v":"  "},null,{"$f":"IF(LEN(AD355)>2,AD355&VLOOKUP(AG350,Inputs,14,FALSE),VLOOKUP(AG350,Inputs,14,FALSE))","v":0},null,{"$f":"IF(AG350>0,VLOOKUP(AG350,Inputs,15,FALSE),\"\")","v":0},{"$f":"UPPER(VLOOKUP(AL350,Inputs,13,FALSE))&\"  \"","v":"  "},null,{"$f":"IF(LEN(AI355)>2,AI355&VLOOKUP(AL350,Inputs,14,FALSE),VLOOKUP(AL350,Inputs,14,FALSE))","v":0},null,{"$f":"IF(AL350>0,VLOOKUP(AL350,Inputs,15,FALSE),\"\")","v":0},null,null,{"$f":"IF($A355=AP$5,$G355,0)+IF($H355=AP$5,$L355,0)+IF($M355=AP$5,$Q355,0)+IF($R355=AP$5,$W355,0)+IF($X355=AP$5,AC355,0)+IF($AD355=AP$5,AH355,0)+IF(AI355=AP$5,AM355,0)","v":0},0,0,0,0,0,0,0,0,0,0,0,0,0]
[null,null,null,null,null,{"$f":"IF(F350>0,IF(VLOOKUP(F350,Inputs,3,FALSE)=\"T\",\"Telemarketing\",0),\"\")","v":0},null,null,null,null,{"$f":"IF(VLOOKUP(K350-1,Inputs,3,FALSE)=\"T\",0,IF(VLOOKUP(K350,Inputs,3,FALSE)=\"T\",\"Telemarketing\",0))","v":0},null,null,null,null,{"$f":"IF(VLOOKUP(P350-1,Inputs,3,FALSE)=\"T\",0,IF(VLOOKUP(P350,Inputs,3,FALSE)=\"T\",\"Telemarketing\",0))","v":0},null,null,null,null,null,{"$f":"IF(VLOOKUP(V350-1,Inputs,3,FALSE)=\"T\",0,IF(VLOOKUP(V350,Inputs,3,FALSE)=\"T\",\"Telemarketing\",0))","v":0},null,null,null,null,{"$f":"IF(VLOOKUP(AA350-1,Inputs,3,FALSE)=\"T\",0,IF(VLOOKUP(AA350,Inputs,3,FALSE)=\"T\",\"Telemarketing\",0))","v":0},null,null,null,null,null,{"$f":"IF(VLOOKUP(AG350-1,Inputs,3,FALSE)=\"T\",0,IF(VLOOKUP(AG350,Inputs,3,FALSE)=\"T\",\"Telemarketing\",0))","v":0},null,null,null,null,{"$f":"IF(VLOOKUP(AL350-1,Inputs,3,FALSE)=\"T\",0,IF(VLOOKUP(AL350,Inputs,3,FALSE)=\"T\",\"Telemarketing\",0))","v":0}]
[null,null,null,null,null,{"$f":"1+AL350","v":"2018-07-22"},null,null,null,null,{"$f":"1+F357","v":"2018-07-23"},null,null,null,null,{"$f":"1+K357","v":"2018-07-24"},null,null,null,null,null,{"$f":"1+P357","v":"2018-07-25"},null,null,null,null,{"$f":"1+V357","v":"2018-07-26"},null,null,null,null,null,{"$f":"1+AA357","v":"2018-07-27"},null,null,null,null,{"$f":"1+AG357","v":"2018-07-28"}]
[null,null,null,null,{"$f":"DAY(F357)","v":22},{"$f":"IF(F357>0,VLOOKUP(F357,Holidays,2),0)","v":0},null,null,null,{"$f":"DAY(K357)","v":23},{"$f":"IF(K357>0,VLOOKUP(K357,Holidays,2),0)","v":0},null,null,null,{"$f":"DAY(P357)","v":24},{"$f":"IF(P357>0,VLOOKUP(P357,Holidays,2),0)","v":0},null,null,null,{"$f":"DAY(V357)","v":25},{"$f":"IF(V357>0,VLOOKUP(V357,Holidays,2),0)","v":0},null,null,null,null,{"$f":"DAY(AA357)","v":26},{"$f":"IF(AA357>0,VLOOKUP(AA357,Holidays,2),0)","v":0},null,null,null,null,{"$f":"DAY(AG357)","v":27},{"$f":"IF(AG357>0,VLOOKUP(AG357,Holidays,2),0)","v":0},null,null,null,{"$f":"DAY(AL357)","v":28},{"$f":"IF(AL357>0,VLOOKUP(AL357,Holidays,2),0)","v":0}]
[{"$f":"UPPER(VLOOKUP(F357,Inputs,4,FALSE))&\"  \"","v":"  "},null,null,null,{"$f":"IF(LEN(A359)>2,A359&VLOOKUP(F357,Inputs,5,FALSE),VLOOKUP(F357,Inputs,5,FALSE))","v":0},null,{"$f":"IF(F357>0,VLOOKUP(F357,Inputs,6,FALSE),\"\")","v":0},{"$f":"UPPER(VLOOKUP(K357,Inputs,4,FALSE))&\"  \"","v":"  "},null,{"$f":"IF(LEN(H359)>2,H359&VLOOKUP(K357,Inputs,5,FALSE),VLOOKUP(K357,Inputs,5,FALSE))","v":0},null,{"$f":"IF(K357>0,VLOOKUP(K357,Inputs,6,FALSE),\"\")","v":0},{"$f":"UPPER(VLOOKUP(P357,Inputs,4,FALSE))&\"  \"","v":"  "},null,{"$f":"IF(LEN(M359)>2,M359&VLOOKUP(P357,Inputs,5,FALSE),VLOOKUP(P357,Inputs,5,FALSE))","v":0},null,{"$f":"IF(P357>0,VLOOKUP(P357,Inputs,6,FALSE),\"\")","v":0},{"$f":"UPPER(VLOOKUP(V357,Inputs,4,FALSE))&\"  \"","v":"  "},null,{"$f":"IF(LEN(R359)>2,R359&VLOOKUP(V357,Inputs,5,FALSE),VLOOKUP(V357,Inputs,5,FALSE))","v":0},null,null,{"$f":"IF(V357>0,VLOOKUP(V357,Inputs,6,FALSE),\"\")","v":0},{"$f":"UPPER(VLOOKUP(AA357,Inputs,4,FALSE))&\"  \"","v":"  "},null,{"$f":"IF(LEN(X359)>2,X359&VLOOKUP(AA357,Inputs,5,FALSE),VLOOKUP(AA357,Inputs,5,FALSE))","v":0},null,null,{"$f":"IF(AA357>0,VLOOKUP(AA357,Inputs,6,FALSE),\"\")","v":0},{"$f":"UPPER(VLOOKUP(AG357,Inputs,4,FALSE))&\"  \"","v":"  "},null,{"$f":"IF(LEN(AD359)>2,AD359&VLOOKUP(AG357,Inputs,5,FALSE),VLOOKUP(AG357,Inputs,5,FALSE))","v":0},null,{"$f":"IF(AG357>0,VLOOKUP(AG357,Inputs,6,FALSE),\"\")","v":0},{"$f":"UPPER(VLOOKUP(AL357,Inputs,4,FALSE))&\"  \"","v":"  "},null,{"$f":"IF(LEN(AI359)>2,AI359&VLOOKUP(AL357,Inputs,5,FALSE),VLOOKUP(AL357,Inputs,5,FALSE))","v":0},null,{"$f":"IF(AL357>0,VLOOKUP(AL357,Inputs,6,FALSE),\"\")","v":0},null,null,{"$f":"IF($A359=AP$5,$G359,0)+IF($H359=AP$5,$L359,0)+IF($M359=AP$5,$Q359,0)+IF($R359=AP$5,$W359,0)+IF($X359=AP$5,AC359,0)+IF($AD359=AP$5,AH359,0)+IF(AI359=AP$5,AM359,0)","v":0},{"$f":"IF($A359=AQ$5,$G359,0)+IF($H359=AQ$5,$L359,0)+IF($M359=AQ$5,$Q359,0)+IF($R359=AQ$5,$W359,0)+IF($X359=AQ$5,$AC359,0)+IF($AD359=AQ$5,$AH359,0)+IF($AI359=AQ$5,$AM359,0)","v":0},0,0,0,0,0,0,0,0,0,0,0,0]
[{"$f":"UPPER(VLOOKUP(F357,Inputs,7,FALSE))&\"  \"","v":"  "},null,null,null,{"$f":"IF(LEN(A360)>2,A360&VLOOKUP(F357,Inputs,8,FALSE),VLOOKUP(F357,Inputs,8,FALSE))","v":0},null,{"$f":"IF(F357>0,VLOOKUP(F357,Inputs,9,FALSE),\"\")","v":0},{"$f":"UPPER(VLOOKUP(K357,Inputs,7,FALSE))&\"  \"","v":"  "},null,{"$f":"IF(LEN(H360)>2,H360&VLOOKUP(K357,Inputs,8,FALSE),VLOOKUP(K357,Inputs,8,FALSE))","v":0},null,{"$f":"IF(K357>0,VLOOKUP(K357,Inputs,9,FALSE),\"\")","v":0},{"$f":"UPPER(VLOOKUP(P357,Inputs,7,FALSE))&\"  \"","v":"  "},null,{"$f":"IF(LEN(M360)>2,M360&VLOOKUP(P357,Inputs,8,FALSE),VLOOKUP(P357,Inputs,8,FALSE))","v":0},null,{"$f":"IF(P357>0,VLOOKUP(P357,Inputs,9,FALSE),\"\")","v":0},{"$f":"UPPER(VLOOKUP(V357,Inputs,7,FALSE))&\"  \"","v":"  "},null,{"$f":"IF(LEN(R360)>2,R360&VLOOKUP(V357,Inputs,8,FALSE),VLOOKUP(V357,Inputs,8,FALSE))","v":0},null,null,{"$f":"IF(V357>0,VLOOKUP(V357,Inputs,9,FALSE),\"\")","v":0},{"$f":"UPPER(VLOOKUP(AA357,Inputs,7,FALSE))&\"  \"","v":"  "},null,{"$f":"IF(LEN(X360)>2,X360&VLOOKUP(AA357,Inputs,8,FALSE),VLOOKUP(AA357,Inputs,8,FALSE))","v":0},null,null,{"$f":"IF(AA357>0,VLOOKUP(AA357,Inputs,9,FALSE),\"\")","v":0},{"$f":"UPPER(VLOOKUP(AG357,Inputs,7,FALSE))&\"  \"","v":"  "},null,{"$f":"IF(LEN(AD360)>2,AD360&VLOOKUP(AG357,Inputs,8,FALSE),VLOOKUP(AG357,Inputs,8,FALSE))","v":0},null,{"$f":"IF(AG357>0,VLOOKUP(AG357,Inputs,9,FALSE),\"\")","v":0},{"$f":"UPPER(VLOOKUP(AL357,Inputs,7,FALSE))&\"  \"","v":"  "},null,{"$f":"IF(LEN(AI360)>2,AI360&VLOOKUP(AL357,Inputs,8,FALSE),VLOOKUP(AL357,Inputs,8,FALSE))","v":0},null,{"$f":"IF(AL357>0,VLOOKUP(AL357,Inputs,9,FALSE),\"\")","v":0},null,null,{"$f":"IF($A360=AP$5,$G360,0)+IF($H360=AP$5,$L360,0)+IF($M360=AP$5,$Q360,0)+IF($R360=AP$5,$W360,0)+IF($X360=AP$5,AC360,0)+IF($AD360=AP$5,AH360,0)+IF(AI360=AP$5,AM360,0)","v":0},0,0,0,0,0,0,0,0,0,0,0,0,0]
[{"$f":"UPPER(VLOOKUP(F357,Inputs,10,FALSE))&\"  \"","v":"  "},null,null,null,{"$f":"IF(LEN(A361)>2,A361&VLOOKUP(F357,Inputs,11,FALSE),VLOOKUP(F357,Inputs,11,FALSE))","v":0},null,{"$f":"IF(F357>0,VLOOKUP(F357,Inputs,12,FALSE),\"\")","v":0},{"$f":"UPPER(VLOOKUP(K357,Inputs,10,FALSE))&\"  \"","v":"  "},null,{"$f":"IF(LEN(H361)>2,H361&VLOOKUP(K357,Inputs,11,FALSE),VLOOKUP(K357,Inputs,11,FALSE))","v":0},null,{"$f":"IF(K357>0,VLOOKUP(K357,Inputs,12,FALSE),\"\")","v":0},{"$f":"UPPER(VLOOKUP(P357,Inputs,10,FALSE))&\"  \"","v":"  "},null,{"$f":"IF(LEN(M361)>2,M361&VLOOKUP(P357,Inputs,11,FALSE),VLOOKUP(P357,Inputs,11,FALSE))","v":0},null,{"$f":"IF(P357>0,VLOOKUP(P357,Inputs,12,FALSE),\"\")","v":0},{"$f":"UPPER(VLOOKUP(V357,Inputs,10,FALSE))&\"  \"","v":"  "},null,{"$f":"IF(LEN(R361)>2,R361&VLOOKUP(V357,Inputs,11,FALSE),VLOOKUP(V357,Inputs,11,FALSE))","v":0},null,null,{"$f":"IF(V357>0,VLOOKUP(V357,Inputs,12,FALSE),\"\")","v":0},{"$f":"UPPER(VLOOKUP(AA357,Inputs,10,FALSE))&\"  \"","v":"  "},null,{"$f":"IF(LEN(X361)>2,X361&VLOOKUP(AA357,Inputs,11,FALSE),VLOOKUP(AA357,Inputs,11,FALSE))","v":0},null,null,{"$f":"IF(AA357>0,VLOOKUP(AA357,Inputs,12,FALSE),\"\")","v":0},{"$f":"UPPER(VLOOKUP(AG357,Inputs,10,FALSE))&\"  \"","v":"  "},null,{"$f":"IF(LEN(AD361)>2,AD361&VLOOKUP(AG357,Inputs,11,FALSE),VLOOKUP(AG357,Inputs,11,FALSE))","v":0},null,{"$f":"IF(AG357>0,VLOOKUP(AG357,Inputs,12,FALSE),\"\")","v":0},{"$f":"UPPER(VLOOKUP(AL357,Inputs,10,FALSE))&\"  \"","v":"  "},null,{"$f":"IF(LEN(AI361)>2,AI361&VLOOKUP(AL357,Inputs,11,FALSE),VLOOKUP(AL357,Inputs,11,FALSE))","v":0},null,{"$f":"IF(AL357>0,VLOOKUP(AL357,Inputs,12,FALSE),\"\")","v":0},null,null,{"$f":"IF($A361=AP$5,$G361,0)+IF($H361=AP$5,$L361,0)+IF($M361=AP$5,$Q361,0)+IF($R361=AP$5,$W361,0)+IF($X361=AP$5,AC361,0)+IF($AD361=AP$5,AH361,0)+IF(AI361=AP$5,AM361,0)","v":0},0,0,0,0,0,0,0,0,0,0,0,0,0]
[{"$f":"UPPER(VLOOKUP(F357,Inputs,13,FALSE))&\"  \"","v":"  "},null,null,null,{"$f":"IF(LEN(A362)>2,A362&VLOOKUP(F357,Inputs,14,FALSE),VLOOKUP(F357,Inputs,14,FALSE))","v":0},null,{"$f":"IF(F357>0,VLOOKUP(F357,Inputs,15,FALSE),\"\")","v":0},{"$f":"UPPER(VLOOKUP(K357,Inputs,13,FALSE))&\"  \"","v":"  "},null,{"$f":"IF(LEN(H362)>2,H362&VLOOKUP(K357,Inputs,14,FALSE),VLOOKUP(K357,Inputs,14,FALSE))","v":0},null,{"$f":"IF(K357>0,VLOOKUP(K357,Inputs,15,FALSE),\"\")","v":0},{"$f":"UPPER(VLOOKUP(P357,Inputs,13,FALSE))&\"  \"","v":"  "},null,{"$f":"IF(LEN(M362)>2,M362&VLOOKUP(P357,Inputs,14,FALSE),VLOOKUP(P357,Inputs,14,FALSE))","v":0},null,{"$f":"IF(P357>0,VLOOKUP(P357,Inputs,15,FALSE),\"\")","v":0},{"$f":"UPPER(VLOOKUP(V357,Inputs,13,FALSE))&\"  \"","v":"  "},null,{"$f":"IF(LEN(R362)>2,R362&VLOOKUP(V357,Inputs,14,FALSE),VLOOKUP(V357,Inputs,14,FALSE))","v":0},null,null,{"$f":"IF(V357>0,VLOOKUP(V357,Inputs,15,FALSE),\"\")","v":0},{"$f":"UPPER(VLOOKUP(AA357,Inputs,13,FALSE))&\"  \"","v":"  "},null,{"$f":"IF(LEN(X362)>2,X362&VLOOKUP(AA357,Inputs,14,FALSE),VLOOKUP(AA357,Inputs,14,FALSE))","v":0},null,null,{"$f":"IF(AA357>0,VLOOKUP(AA357,Inputs,15,FALSE),\"\")","v":0},{"$f":"UPPER(VLOOKUP(AG357,Inputs,13,FALSE))&\"  \"","v":"  "},null,{"$f":"IF(LEN(AD362)>2,AD362&VLOOKUP(AG357,Inputs,14,FALSE),VLOOKUP(AG357,Inputs,14,FALSE))","v":0},null,{"$f":"IF(AG357>0,VLOOKUP(AG357,Inputs,15,FALSE),\"\")","v":0},{"$f":"UPPER(VLOOKUP(AL357,Inputs,13,FALSE))&\"  \"","v":"  "},null,{"$f":"IF(LEN(AI362)>2,AI362&VLOOKUP(AL357,Inputs,14,FALSE),VLOOKUP(AL357,Inputs,14,FALSE))","v":0},null,{"$f":"IF(AL357>0,VLOOKUP(AL357,Inputs,15,FALSE),\"\")","v":0},null,null,{"$f":"IF($A362=AP$5,$G362,0)+IF($H362=AP$5,$L362,0)+IF($M362=AP$5,$Q362,0)+IF($R362=AP$5,$W362,0)+IF($X362=AP$5,AC362,0)+IF($AD362=AP$5,AH362,0)+IF(AI362=AP$5,AM362,0)","v":0},0,0,0,0,0,0,0,0,0,0,0,0,0]
[null,null,null,null,null,{"$f":"IF(F357>0,IF(VLOOKUP(F357,Inputs,3,FALSE)=\"T\",\"Telemarketing\",0),\"\")","v":0},null,null,null,null,{"$f":"IF(VLOOKUP(K357-1,Inputs,3,FALSE)=\"T\",0,IF(VLOOKUP(K357,Inputs,3,FALSE)=\"T\",\"Telemarketing\",0))","v":0},null,null,null,null,{"$f":"IF(VLOOKUP(P357-1,Inputs,3,FALSE)=\"T\",0,IF(VLOOKUP(P357,Inputs,3,FALSE)=\"T\",\"Telemarketing\",0))","v":0},null,null,null,null,null,{"$f":"IF(VLOOKUP(V357-1,Inputs,3,FALSE)=\"T\",0,IF(VLOOKUP(V357,Inputs,3,FALSE)=\"T\",\"Telemarketing\",0))","v":0},null,null,null,null,{"$f":"IF(VLOOKUP(AA357-1,Inputs,3,FALSE)=\"T\",0,IF(VLOOKUP(AA357,Inputs,3,FALSE)=\"T\",\"Telemarketing\",0))","v":0},null,null,null,null,null,{"$f":"IF(VLOOKUP(AG357-1,Inputs,3,FALSE)=\"T\",0,IF(VLOOKUP(AG357,Inputs,3,FALSE)=\"T\",\"Telemarketing\",0))","v":0},null,null,null,null,{"$f":"IF(VLOOKUP(AL357-1,Inputs,3,FALSE)=\"T\",0,IF(VLOOKUP(AL357,Inputs,3,FALSE)=\"T\",\"Telemarketing\",0))","v":0}]
[null,null,null,null,null,{"$f":"IF(AL357>0,IF(MONTH(1+AL357)=$A382,1+AL357,0),0)","v":"2018-07-29"},null,null,null,null,{"$f":"IF(F364>0,IF(MONTH(1+F364)=$A382,1+F364,0),0)","v":"2018-07-30"},null,null,null,null,{"$f":"IF(K364>0,IF(MONTH(1+K364)=$A382,1+K364,0),0)","v":"2018-07-31"},null,null,null,null,null,{"$f":"IF(P364>0,IF(MONTH(1+P364)=$A382,1+P364,0),0)","v":"00:00:00"},null,null,null,null,{"$f":"IF(V364>0,IF(MONTH(1+V364)=$A382,1+V364,0),0)","v":"00:00:00"},null,null,null,null,null,{"$f":"IF(AA364>0,IF(MONTH(1+AA364)=$A382,1+AA364,0),0)","v":"00:00:00"},null,null,null,null,{"$f":"IF(AG364>0,IF(MONTH(1+AG364)=$A382,1+AG364,0),0)","v":"00:00:00"}]
[null,null,null,null,{"$f":"DAY(F364)","v":29},{"$f":"VLOOKUP(F364,Holidays,2)","v":0},null,null,null,{"$f":"DAY(K364)","v":30},{"$f":"VLOOKUP(K364,Holidays,2)","v":0},null,null,null,{"$f":"DAY(P364)","v":31},{"$f":"VLOOKUP(P364,Holidays,2)","v":0},null,null,null,{"$f":"DAY(V364)","v":0},{"$f":"VLOOKUP(V364,Holidays,2)","v":0},null,null,null,null,{"$f":"DAY(AA364)","v":0},{"$f":"VLOOKUP(AA364,Holidays,2)","v":0},null,null,null,null,{"$f":"DAY(AG364)","v":0},{"$f":"VLOOKUP(AG364,Holidays,2)","v":0},null,null,null,{"$f":"DAY(AL364)","v":0},{"$f":"VLOOKUP(AL364,Holidays,2)","v":0}]
[{"$f":"UPPER(VLOOKUP(F364,Inputs,4,FALSE))&\"  \"","v":"  "},null,null,null,{"$f":"IF(LEN(A366)>2,A366&VLOOKUP(F364,Inputs,5,FALSE),VLOOKUP(F364,Inputs,5,FALSE))","v":0},null,{"$f":"IF(F364>0,VLOOKUP(F364,Inputs,6,FALSE),\"\")","v":0},{"$f":"UPPER(VLOOKUP(K364,Inputs,4,FALSE))&\"  \"","v":"  "},null,{"$f":"IF(LEN(H366)>2,H366&VLOOKUP(K364,Inputs,5,FALSE),VLOOKUP(K364,Inputs,5,FALSE))","v":0},null,{"$f":"IF(K364>0,VLOOKUP(K364,Inputs,6,FALSE),\"\")","v":0},{"$f":"UPPER(VLOOKUP(P364,Inputs,4,FALSE))&\"  \"","v":"  "},null,{"$f":"IF(LEN(M366)>2,M366&VLOOKUP(P364,Inputs,5,FALSE),VLOOKUP(P364,Inputs,5,FALSE))","v":0},null,{"$f":"IF(P364>0,VLOOKUP(P364,Inputs,6,FALSE),\"\")","v":0},{"$f":"IF(MONTH(V364)=A382,UPPER(VLOOKUP(V364,Inputs,4,FALSE))&\"  \",\"\")","v":""},null,{"$f":"IF(MONTH(V364)=A382,IF(LEN(R366)>0,R366&VLOOKUP(V364,Inputs,5,FALSE),VLOOKUP(V364,Inputs,5,FALSE)),\"\")","v":""},null,null,{"$f":"IF(MONTH(V364)=A382,IF(V364>0,VLOOKUP(V364,Inputs,6,FALSE),\"\"),0)","v":0},{"$f":"IF(MONTH(AA364)=A382,UPPER(VLOOKUP(AA364,Inputs,4,FALSE))&\"  \",\"\")","v":""},null,{"$f":"IF(MONTH(AA364)=A382,IF(LEN(X366)>0,X366&VLOOKUP(AA364,Inputs,5,FALSE),VLOOKUP(AA364,Inputs,5,FALSE)),\"\")","v":""},null,null,{"$f":"IF(MONTH(AA364)=A382,IF(AA364>0,VLOOKUP(AA364,Inputs,6,FALSE),\"\"),0)","v":0},{"$f":"IF(MONTH(AG364)=A382,UPPER(VLOOKUP(AG364,Inputs,4,FALSE))&\"  \",\"\")","v":""},null,{"$f":"IF(MONTH(AG364)=A382,IF(LEN(AD366)>0,AD366&VLOOKUP(AG364,Inputs,5,FALSE),VLOOKUP(AG364,Inputs,5,FALSE)),\"\")","v":""},null,{"$f":"IF(MONTH(AG364)=A382,IF(AG364>0,VLOOKUP(AG364,Inputs,6,FALSE),\"\"),0)","v":0},{"$f":"IF(MONTH(AL364)=A382,UPPER(VLOOKUP(AL364,Inputs,4,FALSE))&\"  \",\"\")","v":""},null,{"$f":"IF(MONTH(AL364)=A382,IF(LEN(AI366)>0,AI366&VLOOKUP(AL364,Inputs,5,FALSE),VLOOKUP(AL364,Inputs,5,FALSE)),\"\")","v":""},null,{"$f":"IF(MONTH(AL364)=A382,IF(AL364>0,VLOOKUP(AL364,Inputs,6,FALSE),\"\"),0)","v":0},null,null,{"$f":"IF($A366=AP$5,$G366,0)+IF($H366=AP$5,$L366,0)+IF($M366=AP$5,$Q366,0)+IF($R366=AP$5,$W366,0)+IF($X366=AP$5,AC366,0)+IF($AD366=AP$5,AH366,0)+IF(AI366=AP$5,AM366,0)","v":0},{"$f":"IF($A366=AQ$5,$G366,0)+IF($H366=AQ$5,$L366,0)+IF($M366=AQ$5,$Q366,0)+IF($R366=AQ$5,$W366,0)+IF($X366=AQ$5,$AC366,0)+IF($AD366=AQ$5,$AH366,0)+IF($AI366=AQ$5,$AM366,0)","v":0},0,0,0,0,0,0,0,0,0,0,0,0]
[{"$f":"UPPER(VLOOKUP(F364,Inputs,7,FALSE))&\"  \"","v":"  "},null,null,null,{"$f":"IF(LEN(A367)>2,A367&VLOOKUP(F364,Inputs,8,FALSE),VLOOKUP(F364,Inputs,8,FALSE))","v":0},null,{"$f":"IF(F364>0,VLOOKUP(F364,Inputs,9,FALSE),\"\")","v":0},{"$f":"UPPER(VLOOKUP(K364,Inputs,7,FALSE))&\"  \"","v":"  "},null,{"$f":"IF(LEN(H367)>2,H367&VLOOKUP(K364,Inputs,8,FALSE),VLOOKUP(K364,Inputs,8,FALSE))","v":0},null,{"$f":"IF(K364>0,VLOOKUP(K364,Inputs,9,FALSE),\"\")","v":0},{"$f":"UPPER(VLOOKUP(P364,Inputs,7,FALSE))&\"  \"","v":"  "},null,{"$f":"IF(LEN(M367)>2,M367&VLOOKUP(P364,Inputs,8,FALSE),VLOOKUP(P364,Inputs,8,FALSE))","v":0},null,{"$f":"IF(P364>0,VLOOKUP(P364,Inputs,9,FALSE),\"\")","v":0},{"$f":"IF(MONTH(V364)=A382,UPPER(VLOOKUP(V364,Inputs,7,FALSE))&\"  \",\"\")","v":""},null,{"$f":"IF(MONTH(V364)=A382,IF(LEN(R367)>0,R367&VLOOKUP(V364,Inputs,8,FALSE),VLOOKUP(V364,Inputs,8,FALSE)),\"\")","v":""},null,null,{"$f":"IF(MONTH(V364)=A382,IF(V364>0,VLOOKUP(V364,Inputs,9,FALSE),\"\"),0)","v":0},{"$f":"IF(MONTH(AA364)=A382,UPPER(VLOOKUP(AA364,Inputs,7,FALSE))&\"  \",\"\")","v":""},null,{"$f":"IF(MONTH(AA364)=A382,IF(LEN(X367)>0,X367&VLOOKUP(AA364,Inputs,8,FALSE),VLOOKUP(AA364,Inputs,8,FALSE)),\"\")","v":""},null,null,{"$f":"IF(MONTH(AA364)=A382,IF(AA364>0,VLOOKUP(AA364,Inputs,9,FALSE),\"\"),0)","v":0},{"$f":"IF(MONTH(AG364)=A382,UPPER(VLOOKUP(AG364,Inputs,7,FALSE))&\"  \",\"\")","v":""},null,{"$f":"IF(MONTH(AG364)=A382,IF(LEN(AD367)>0,AD367&VLOOKUP(AG364,Inputs,8,FALSE),VLOOKUP(AG364,Inputs,8,FALSE)),\"\")","v":""},null,{"$f":"IF(MONTH(AG364)=A382,IF(AG364>0,VLOOKUP(AG364,Inputs,9,FALSE),\"\"),0)","v":0},{"$f":"IF(MONTH(AL364)=A382,UPPER(VLOOKUP(AL364,Inputs,7,FALSE))&\"  \",\"\")","v":""},null,{"$f":"IF(MONTH(AL364)=A382,IF(LEN(AI367)>0,AI367&VLOOKUP(AL364,Inputs,8,FALSE),VLOOKUP(AL364,Inputs,8,FALSE)),\"\")","v":""},null,{"$f":"IF(MONTH(AL364)=A382,IF(AL364>0,VLOOKUP(AL364,Inputs,9,FALSE),\"\"),0)","v":0},null,null,{"$f":"IF($A367=AP$5,$G367,0)+IF($H367=AP$5,$L367,0)+IF($M367=AP$5,$Q367,0)+IF($R367=AP$5,$W367,0)+IF($X367=AP$5,AC367,0)+IF($AD367=AP$5,AH367,0)+IF(AI367=AP$5,AM367,0)","v":0},0,0,0,0,0,0,0,0,0,0,0,0,0]
[{"$f":"UPPER(VLOOKUP(F364,Inputs,10,FALSE))&\"  \"","v":"  "},null,null,null,{"$f":"IF(LEN(A368)>2,A368&VLOOKUP(F364,Inputs,11,FALSE),VLOOKUP(F364,Inputs,11,FALSE))","v":0},null,{"$f":"IF(F364>0,VLOOKUP(F364,Inputs,12,FALSE),\"\")","v":0},{"$f":"UPPER(VLOOKUP(K364,Inputs,10,FALSE))&\"  \"","v":"  "},null,{"$f":"IF(LEN(H368)>2,H368&VLOOKUP(K364,Inputs,11,FALSE),VLOOKUP(K364,Inputs,11,FALSE))","v":0},null,{"$f":"IF(K364>0,VLOOKUP(K364,Inputs,12,FALSE),\"\")","v":0},{"$f":"UPPER(VLOOKUP(P364,Inputs,10,FALSE))&\"  \"","v":"  "},null,{"$f":"IF(LEN(M368)>2,M368&VLOOKUP(P364,Inputs,11,FALSE),VLOOKUP(P364,Inputs,11,FALSE))","v":0},null,{"$f":"IF(P364>0,VLOOKUP(P364,Inputs,12,FALSE),\"\")","v":0},{"$f":"IF(MONTH(V364)=A382,UPPER(VLOOKUP(V364,Inputs,10,FALSE))&\"  \",\"\")","v":""},null,{"$f":"IF(MONTH(V364)=A382,IF(LEN(R368)>0,R368&VLOOKUP(V364,Inputs,11,FALSE),VLOOKUP(V364,Inputs,11,FALSE)),\"\")","v":""},null,null,{"$f":"IF(MONTH(V364)=A382,IF(V364>0,VLOOKUP(V364,Inputs,12,FALSE),\"\"),0)","v":0},{"$f":"IF(MONTH(AA364)=A382,UPPER(VLOOKUP(AA364,Inputs,10,FALSE))&\"  \",\"\")","v":""},null,{"$f":"IF(MONTH(AA364)=A382,IF(LEN(X368)>0,X368&VLOOKUP(AA364,Inputs,11,FALSE),VLOOKUP(AA364,Inputs,11,FALSE)),\"\")","v":""},null,null,{"$f":"IF(MONTH(AA364)=A382,IF(AA364>0,VLOOKUP(AA364,Inputs,12,FALSE),\"\"),0)","v":0},{"$f":"IF(MONTH(AG364)=A382,UPPER(VLOOKUP(AG364,Inputs,10,FALSE))&\"  \",\"\")","v":""},null,{"$f":"IF(MONTH(AG364)=A382,IF(LEN(AD368)>0,AD368&VLOOKUP(AG364,Inputs,11,FALSE),VLOOKUP(AG364,Inputs,11,FALSE)),\"\")","v":""},null,{"$f":"IF(MONTH(AG364)=A382,IF(AG364>0,VLOOKUP(AG364,Inputs,12,FALSE),\"\"),0)","v":0},{"$f":"IF(MONTH(AL364)=A382,UPPER(VLOOKUP(AL364,Inputs,10,FALSE))&\"  \",\"\")","v":""},null,{"$f":"IF(MONTH(AL364)=A382,IF(LEN(AI368)>0,AI368&VLOOKUP(AL364,Inputs,11,FALSE),VLOOKUP(AL364,Inputs,11,FALSE)),\"\")","v":""},null,{"$f":"IF(MONTH(AL364)=A382,IF(AL364>0,VLOOKUP(AL364,Inputs,12,FALSE),\"\"),0)","v":0},null,null,{"$f":"IF($A368=AP$5,$G368,0)+IF($H368=AP$5,$L368,0)+IF($M368=AP$5,$Q368,0)+IF($R368=AP$5,$W368,0)+IF($X368=AP$5,AC368,0)+IF($AD368=AP$5,AH368,0)+IF(AI368=AP$5,AM368,0)","v":0},0,0,0,0,0,0,0,0,0,0,0,0,0]
[{"$f":"UPPER(VLOOKUP(F364,Inputs,13,FALSE))&\"  \"","v":"  "},null,null,null,{"$f":"IF(LEN(A369)>2,A369&VLOOKUP(F364,Inputs,14,FALSE),VLOOKUP(F364,Inputs,14,FALSE))","v":0},null,{"$f":"IF(F364>0,VLOOKUP(F364,Inputs,15,FALSE),\"\")","v":0},{"$f":"UPPER(VLOOKUP(K364,Inputs,13,FALSE))&\"  \"","v":"  "},null,{"$f":"IF(LEN(H369)>2,H369&VLOOKUP(K364,Inputs,14,FALSE),VLOOKUP(K364,Inputs,14,FALSE))","v":0},null,{"$f":"IF(K364>0,VLOOKUP(K364,Inputs,15,FALSE),\"\")","v":0},{"$f":"UPPER(VLOOKUP(P364,Inputs,13,FALSE))&\"  \"","v":"  "},null,{"$f":"IF(LEN(M369)>2,M369&VLOOKUP(P364,Inputs,14,FALSE),VLOOKUP(P364,Inputs,14,FALSE))","v":0},null,{"$f":"IF(P364>0,VLOOKUP(P364,Inputs,15,FALSE),\"\")","v":0},{"$f":"IF(MONTH(V364)=A382,UPPER(VLOOKUP(V364,Inputs,13,FALSE))&\"  \",\"\")","v":""},null,{"$f":"IF(MONTH(V364)=A382,IF(LEN(R369)>0,R369&VLOOKUP(V364,Inputs,14,FALSE),VLOOKUP(V364,Inputs,14,FALSE)),\"\")","v":""},null,null,{"$f":"IF(MONTH(V364)=A382,IF(V364>0,VLOOKUP(V364,Inputs,15,FALSE),\"\"),0)","v":0},{"$f":"IF(MONTH(AA364)=A382,UPPER(VLOOKUP(AA364,Inputs,13,FALSE))&\"  \",\"\")","v":""},null,{"$f":"IF(MONTH(AA364)=A382,IF(LEN(X369)>0,X369&VLOOKUP(AA364,Inputs,14,FALSE),VLOOKUP(AA364,Inputs,14,FALSE)),\"\")","v":""},null,null,{"$f":"IF(MONTH(AA364)=A382,IF(AA364>0,VLOOKUP(AA364,Inputs,15,FALSE),\"\"),0)","v":0},{"$f":"IF(MONTH(AG364)=A382,UPPER(VLOOKUP(AG364,Inputs,13,FALSE))&\"  \",\"\")","v":""},null,{"$f":"IF(MONTH(AG364)=A382,IF(LEN(AD369)>0,AD369&VLOOKUP(AG364,Inputs,14,FALSE),VLOOKUP(AG364,Inputs,14,FALSE)),\"\")","v":""},null,{"$f":"IF(MONTH(AG364)=A382,IF(AG364>0,VLOOKUP(AG364,Inputs,15,FALSE),\"\"),0)","v":0},{"$f":"IF(MONTH(AL364)=A382,UPPER(VLOOKUP(AL364,Inputs,13,FALSE))&\"  \",\"\")","v":""},null,{"$f":"IF(MONTH(AL364)=A382,IF(LEN(AI369)>0,AI369&VLOOKUP(AL364,Inputs,14,FALSE),VLOOKUP(AL364,Inputs,14,FALSE)),\"\")","v":""},null,{"$f":"IF(MONTH(AL364)=A382,IF(AL364>0,VLOOKUP(AL364,Inputs,15,FALSE),\"\"),0)","v":0},null,null,{"$f":"IF($A369=AP$5,$G369,0)+IF($H369=AP$5,$L369,0)+IF($M369=AP$5,$Q369,0)+IF($R369=AP$5,$W369,0)+IF($X369=AP$5,AC369,0)+IF($AD369=AP$5,AH369,0)+IF(AI369=AP$5,AM369,0)","v":0},0,0,0,0,0,0,0,0,0,0,0,0,0]
[null,null,null,null,null,{"$f":"IF(F364>0,IF(VLOOKUP(F364,Inputs,3,FALSE)=\"T\",\"Telemarketing\",0),\"\")","v":0},null,null,null,null,{"$f":"IF(VLOOKUP(K364-1,Inputs,3,FALSE)=\"T\",0,IF(VLOOKUP(K364,Inputs,3,FALSE)=\"T\",\"Telemarketing\",0))","v":0},null,null,null,null,{"$f":"IF(VLOOKUP(P364-1,Inputs,3,FALSE)=\"T\",0,IF(VLOOKUP(P364,Inputs,3,FALSE)=\"T\",\"Telemarketing\",0))","v":0},null,null,null,null,null,{"$f":"IF(VLOOKUP(V364-1,Inputs,3,FALSE)=\"T\",0,IF(VLOOKUP(V364,Inputs,3,FALSE)=\"T\",\"Telemarketing\",0))","v":{"$error":"#N/A"}},null,null,null,null,{"$f":"IF(VLOOKUP(AA364-1,Inputs,3,FALSE)=\"T\",0,IF(VLOOKUP(AA364,Inputs,3,FALSE)=\"T\",\"Telemarketing\",0))","v":{"$error":"#N/A"}},null,null,null,null,null,{"$f":"IF(VLOOKUP(AG364-1,Inputs,3,FALSE)=\"T\",0,IF(VLOOKUP(AG364,Inputs,3,FALSE)=\"T\",\"Telemarketing\",0))","v":{"$error":"#N/A"}},null,null,null,null,{"$f":"IF(VLOOKUP(AL364-1,Inputs,3,FALSE)=\"T\",0,IF(VLOOKUP(AL364,Inputs,3,FALSE)=\"T\",\"Telemarketing\",0))","v":{"$error":"#N/A"}}]
[null,null,null,null,null,{"$f":"IF(AL364>0,IF(MONTH(1+AL364)=$A382,1+AL364,0),0)","v":"00:00:00"},null,null,null,null,{"$f":"IF(F371>0,IF(MONTH(1+F371)=$A382,1+F371,0),0)","v":"00:00:00"},null,null,null,null,null,null,null,null,null,null,null,null,null,null,null,null,null,null,null,null,null,null,null,null,null,null,{"$f":"IF(AG371>0,IF(MONTH(1+AG371)=$A382,1+AG371,0),0)","v":"00:00:00"}]
[null,null,null,null,{"$f":"DAY(F371)","v":0},{"$f":"VLOOKUP(F371,Holidays,2)","v":0},null,null,null,{"$f":"DAY(K371)","v":0},{"$f":"VLOOKUP(K371,Holidays,2)","v":0},null,null,null,{"$f":"DAY(P371)","v":0},{"$f":"VLOOKUP(P371,Holidays,2)","v":0},null,null,null,{"$f":"DAY(V371)","v":0},{"$f":"VLOOKUP(V371,Holidays,2)","v":0},null,null,null,null,{"$f":"DAY(AA371)","v":0},{"$f":"VLOOKUP(AA371,Holidays,2)","v":0},null,null,null,null,{"$f":"DAY(AG371)","v":0},{"$f":"VLOOKUP(AG371,Holidays,2)","v":0},null,null,null,{"$f":"DAY(AL371)","v":0},{"$f":"VLOOKUP(AL371,Holidays,2)","v":0}]
[{"$f":"IF(MONTH(F$371)=A$382,UPPER(VLOOKUP(F$371,Inputs,4,FALSE))&\"  \",\"\")","v":""},null,null,null,{"$f":"IF(MONTH(F371)=A382,IF(LEN(A373)>0,A373&VLOOKUP(F371,Inputs,5,FALSE),VLOOKUP(F371,Inputs,5,FALSE)),\"\")","v":""},null,{"$f":"IF(MONTH(F371)=A382,IF(F371>0,VLOOKUP(F371,Inputs,6,FALSE),\"\"),0)","v":0},{"$f":"IF(MONTH(K371)=A382,UPPER(VLOOKUP(K371,Inputs,4,FALSE))&\"  \",\"\")","v":""},null,{"$f":"IF(MONTH(K371)=A382,IF(LEN(H373)>2,H373&VLOOKUP(K371,Inputs,5,FALSE),VLOOKUP(K371,Inputs,5,FALSE)),\"\")","v":""},null,{"$f":"IF(MONTH(K371)=A382,IF(K371>0,VLOOKUP(K371,Inputs,6,FALSE),\"\"),0)","v":0},null,null,null,null,{"$f":"IF(MONTH(P371)=A382,IF(P371>0,VLOOKUP(P371,Inputs,6,FALSE),\"\"),0)","v":0},null,null,null,null,null,null,null,null,null,null,null,null,null,null,null,null,null,null,null,null,null,null,null,null,{"$f":"IF($A373=AP$5,$G373,0)+IF($H373=AP$5,$L373,0)+IF($M373=AP$5,$Q373,0)+IF($R373=AP$5,$W373,0)+IF($X373=AP$5,AC373,0)+IF($AD373=AP$5,AH373,0)+IF(AI373=AP$5,AM373,0)","v":0},{"$f":"IF($A373=AQ$5,$G373,0)+IF($H373=AQ$5,$L373,0)+IF($M373=AQ$5,$Q373,0)+IF($R373=AQ$5,$W373,0)+IF($X373=AQ$5,$AC373,0)+IF($AD373=AQ$5,$AH373,0)+IF($AI373=AQ$5,$AM373,0)","v":0},0,0,0,0,0,0,0,0,0,0,0,0]
[{"$f":"IF(MONTH(F$371)=A$382,UPPER(VLOOKUP(F$371,Inputs,4,FALSE))&\"  \",\"\")","v":""},null,null,null,{"$f":"IF(MONTH(F371)=A382,IF(LEN(A374)>0,A374&VLOOKUP(F371,Inputs,8,FALSE),VLOOKUP(F371,Inputs,8,FALSE)),\"\")","v":""},null,{"$f":"IF(MONTH(F371)=A382,IF(F371>0,VLOOKUP(F371,Inputs,9,FALSE),\"\"),0)","v":0},{"$f":"IF(MONTH(K371)=A382,UPPER(VLOOKUP(K371,Inputs,7,FALSE))&\"  \",\"\")","v":""},null,{"$f":"IF(MONTH(K371)=A382,IF(LEN(H374)>2,H374&VLOOKUP(K371,Inputs,8,FALSE),VLOOKUP(K371,Inputs,8,FALSE)),\"\")","v":""},null,{"$f":"IF(MONTH(K371)=A382,IF(K371>0,VLOOKUP(K371,Inputs,9,FALSE),\"\"),0)","v":0},null,null,null,null,{"$f":"IF(MONTH(P371)=A382,IF(P371>0,VLOOKUP(P371,Inputs,9,FALSE),\"\"),0)","v":0},null,null,null,null,null,null,null,null,null,null,null,null,null,null,null,null,null,null,null,null,null,null,null,null,{"$f":"IF($A374=AP$5,$G374,0)+IF($H374=AP$5,$L374,0)+IF($M374=AP$5,$Q374,0)+IF($R374=AP$5,$W374,0)+IF($X374=AP$5,AC374,0)+IF($AD374=AP$5,AH374,0)+IF(AI374=AP$5,AM374,0)","v":0},0,0,0,0,0,0,0,0,0,0,0,0,0]
[{"$f":"IF(MONTH(F$371)=A$382,UPPER(VLOOKUP(F$371,Inputs,4,FALSE))&\"  \",\"\")","v":""},null,null,null,{"$f":"IF(MONTH(F371)=A382,IF(LEN(A375)>0,A375&VLOOKUP(F371,Inputs,11,FALSE),VLOOKUP(F371,Inputs,11,FALSE)),\"\")","v":""},null,{"$f":"IF(MONTH(F371)=A382,IF(F371>0,VLOOKUP(F371,Inputs,12,FALSE),\"\"),0)","v":0},{"$f":"IF(MONTH(K371)=A382,UPPER(VLOOKUP(K371,Inputs,10,FALSE))&\"  \",\"\")","v":""},null,{"$f":"IF(MONTH(K371)=A382,IF(LEN(H375)>2,H375&VLOOKUP(K371,Inputs,11,FALSE),VLOOKUP(K371,Inputs,11,FALSE)),\"\")","v":""},null,{"$f":"IF(MONTH(K371)=A382,IF(K371>0,VLOOKUP(K371,Inputs,12,FALSE),\"\"),0)","v":0},null,null,null,null,{"$f":"IF(MONTH(P371)=A382,IF(P371>0,VLOOKUP(P371,Inputs,12,FALSE),\"\"),0)","v":0},null,null,null,null,null,null,null,null,null,null,null,null,null,null,null,null,null,null,null,null,null,null,null,null,{"$f":"IF($A375=AP$5,$G375,0)+IF($H375=AP$5,$L375,0)+IF($M375=AP$5,$Q375,0)+IF($R375=AP$5,$W375,0)+IF($X375=AP$5,AC375,0)+IF($AD375=AP$5,AH375,0)+IF(AI375=AP$5,AM375,0)","v":0},0,0,0,0,0,0,0,0,0,0,0,0,0]
[{"$f":"IF(MONTH(F$371)=A$382,UPPER(VLOOKUP(F$371,Inputs,4,FALSE))&\"  \",\"\")","v":""},null,null,null,{"$f":"IF(MONTH(F371)=A382,IF(LEN(A376)>0,A376&VLOOKUP(F371,Inputs,14,FALSE),VLOOKUP(F371,Inputs,14,FALSE)),\"\")","v":""},null,{"$f":"IF(MONTH(F371)=A382,IF(F371>0,VLOOKUP(F371,Inputs,15,FALSE),\"\"),0)","v":0},{"$f":"IF(MONTH(K371)=A382,UPPER(VLOOKUP(K371,Inputs,13,FALSE))&\"  \",\"\")","v":""},null,{"$f":"IF(MONTH(K371)=A382,IF(LEN(H376)>2,H376&VLOOKUP(K371,Inputs,14,FALSE),VLOOKUP(K371,Inputs,14,FALSE)),\"\")","v":""},null,{"$f":"IF(MONTH(K371)=A382,IF(K371>0,VLOOKUP(K371,Inputs,15,FALSE),\"\"),0)","v":0},null,null,null,null,{"$f":"IF(MONTH(P371)=A382,IF(P371>0,VLOOKUP(P371,Inputs,15,FALSE),\"\"),0)","v":0},null,null,null,null,null,null,null,null,null,null,null,null,null,null,null,null,null,null,null,null,null,null,null,null,{"$f":"IF($A376=AP$5,$G376,0)+IF($H376=AP$5,$L376,0)+IF($M376=AP$5,$Q376,0)+IF($R376=AP$5,$W376,0)+IF($X376=AP$5,AC376,0)+IF($AD376=AP$5,AH376,0)+IF(AI376=AP$5,AM376,0)","v":0},0,0,0,0,0,0,0,0,0,0,0,0,0]
[null,null,null,null,null,{"$f":"IF(F371>0,IF(VLOOKUP(F371,Inputs,3,FALSE)=\"T\",\"Telemarketing\",0),\"\")","v":""},null,null,null,null,{"$f":"IF(VLOOKUP(K371-1,Inputs,3,FALSE)=\"T\",0,IF(VLOOKUP(K371,Inputs,3,FALSE)=\"T\",\"Telemarketing\",0))","v":{"$error":"#N/A"}},null,null,null,null,null,null,null,null,null,null,null,null,null,null,null,null,null,null,null,null,null,null,null,null,null,null,null,null,null,null,{"$f":"SUM(AP337:AP376)","v":0},0,0,0,0,0,0,0,{"$f":"SUM(AX337:AX376)","v":0},0,0,0,0,0]
[]
[null,null,null,null,{"$f":"\"CODE KEY:  \"&'Company Setup'!L$22&'Company Setup'!L$23&'Company Setup'!L$24&'Company Setup'!L$25&'Company Setup'!L$26&'Company Setup'!L$27&'Company Setup'!L$28&'Company Setup'!L$29&'Company Setup'!L$30&'Company Setup'!L$31&'Company Setup'!L$32&'Company Setup'!L$33&'Company Setup'!L$33&'Company Setup'!L$34&'Company Setup'!L$35","v":"CODE KEY:  B=Broadcast, L=Letter, P=Postcard, F=Flyer, H=Hanger, I=Newspaper Ads, N=Newsletter, E=E-Mail, A=Banner Ads, Y=Yellow Pages, "}]
[null,null,null,null,null,null,null,null,null,null,null,null,null,null,null,null,null,null,null,null,null,null,null,null,null,{"$f":"'Company Setup'!D$30","v":"Broadcast"},{"$f":"AP377","v":0},null,null,null,null,null,null,{"$f":"'Company Setup'!D$29","v":"E-Mail"},null,null,{"$f":"AW377","v":0}]
[null,null,null,null,null,null,"Revenue Budget",null,null,{"$f":"VLOOKUP(A382,ClientTable,2,FALSE)","v":86677},null,null,null,null,null,{"$f":"'Company Setup'!$E$5","v":"Reviews"},{"$f":"VLOOKUP(A382,ClientTable,3)","v":0},null,null,null,null,null,null,null,null,{"$f":"'Company Setup'!D$23","v":"Letter"},{"$f":"AQ377","v":0},null,null,null,null,null,null,{"$f":"'Company Setup'!D30","v":"Broadcast"},null,null,{"$f":"AX377","v":0}]
[{"$f":"IF(A327=12,1,A327+1)","v":7},null,null,null,null,null,"Monthly Marketing Budget",null,null,{"$f":"VLOOKUP(A382,ClientTable,7,FALSE)*VLOOKUP(A382,ClientTable,2,FALSE)","v":4333.8500000000004},null,null,null,null,null,{"$f":"'Company Setup'!$F$5","v":"SEO"},{"$f":"VLOOKUP(A382,ClientTable,4)","v":0},null,null,null,null,null,null,null,null,{"$f":"'Company Setup'!D$24","v":"Postcard"},{"$f":"AR377","v":0},null,null,null,null,null,null,{"$f":"'Company Setup'!D$31","v":"Banner Ads"},null,null,{"$f":"AY377","v":0}]
[{"$f":"VLOOKUP(A382,ClientTable,9)","v":7},null,null,null,null,null,"Month's End Marketing Cost",null,null,{"$f":"SUM(AK380:AK385)+SUM(AA380:AA386)+SUM(Q380:Q386)","v":0},null,null,null,null,null,{"$f":"'Company Setup'!$H$5","v":"Community Events"},{"$f":"VLOOKUP(A382,ClientTable,5)","v":0},null,null,null,null,null,null,null,null,{"$f":"'Company Setup'!D$25","v":"Flyer"},{"$f":"AS377","v":0},null,null,null,null,null,null,{"$f":"'Company Setup'!D$32","v":"Yellow Pages"},null,null,{"$f":"AZ377","v":0}]
[null,null,null,null,null,null,"Variance",null,null,{"$f":"J383-J382","v":-4333.8500000000004},null,null,null,null,null,{"$f":"'Company Setup'!G5","v":"Shows & Contests"},{"$f":"VLOOKUP(A382,ClientTable,6)","v":0},null,null,null,null,null,null,null,null,{"$f":"'Company Setup'!D$26","v":"Hanger"},{"$f":"AT377","v":0},null,null,null,null,null,null,{"$f":"'Company Setup'!D$33","v":0},null,null,{"$f":"BA377","v":0}]
[null,null,null,null,null,null,null,null,null,null,null,null,null,null,null,null,null,null,null,null,null,null,null,null,null,{"$f":"'Company Setup'!D$27","v":"Newspaper Ads"},{"$f":"AU377","v":0},null,null,null,null,null,null,{"$f":"'Company Setup'!D$34","v":0},null,null,{"$f":"BB377","v":0}]
[null,null,null,{"$f":"MONTH(StartMonth)","v":{"$error":"#VALUE!"}},"©",{"$f":"+F56","v":"Bedrock Markets, Inc. 2000 - 2100"},null,null,null,null,null,null,null,null,null,null,null,null,null,null,null,null,null,null,null,{"$f":"'Company Setup'!D$28","v":"Newsletter"},{"$f":"AV377","v":0},null,null,null,null,null,null,{"$f":"'Company Setup'!D$35","v":0},null,null,{"$f":"BC377","v":0}]
[]
[null,null,null,null,{"$f":"IF(E333=12,1,E333+1)","v":8},{"$f":"VLOOKUP(E388,Monthlookup2,2)&\" \"&YEAR(Calendar!S223)","v":"August 2018"},null,null,null,null,null,null,null,null,null,{"$f":"P$3","v":"   ABC Heating and Air"},null,null,null,null,null,null,null,null,null,null,null,null,null,null,null,null,null,null,null,null,null,null,null,null,"Importante!  Add 2 spaces after code - es muy neccesita"]
[]
[null,null,null,null,"Sunday",null,null,null,null,"Monday",null,null,null,null,"Tuesday",null,null,null,null,"Wednesday",null,null,null,null,null,"Thursday",null,null,null,null,null,"Friday",null,null,null,null,"Saturday"]
[null,null,null,null,null,{"$f":"IF(VLOOKUP(DATE(RIGHT($F388,4),$A437,1),Calendar,3)=1,DATE(RIGHT($F388,4),$A437,1),0)","v":"00:00:00"},null,null,null,null,{"$f":"IF(E392>0,F391+1,IF(VLOOKUP(DATE(RIGHT($F388,4),$A437,1),Calendar,3)=2,DATE(RIGHT($F388,4),$A437,1),0))","v":"00:00:00"},null,null,null,null,{"$f":"IF(J392>0,K391+1,IF(VLOOKUP(DATE(RIGHT($F388,4),$A437,1),Calendar,3)=3,DATE(RIGHT($F388,4),$A437,1),0))","v":"00:00:00"},null,null,null,null,null,{"$f":"IF(O392>0,P391+1,IF(VLOOKUP(DATE(RIGHT($F388,4),$A437,1),Calendar,3)=4,DATE(RIGHT($F388,4),$A437,1),0))","v":"2018-08-01"},null,null,null,null,{"$f":"IF(T392>0,V391+1,IF(VLOOKUP(DATE(RIGHT($F388,4),$A437,1),Calendar,3)=5,DATE(RIGHT($F388,4),$A437,1),0))","v":"2018-08-02"},null,null,null,null,null,{"$f":"IF(Z392>0,AA391+1,IF(VLOOKUP(DATE(RIGHT($F388,4),$A437,1),Calendar,3)=6,DATE(RIGHT($F388,4),$A437,1),0))","v":"2018-08-03"},null,null,null,null,{"$f":"IF(AF392>0,AG391+1,IF(VLOOKUP(DATE(RIGHT($F388,4),$A437,1),Calendar,3)=7,DATE(RIGHT($F388,4),$A437,1),0))","v":"2018-08-04"}]
[null,null,null,null,{"$f":"DAY(F391)","v":0},{"$f":"IF(F391>0,VLOOKUP(F391,Holidays,2),0)","v":0},null,null,null,{"$f":"DAY(K391)","v":0},{"$f":"IF(K391>0,VLOOKUP(K391,Holidays,2),0)","v":0},null,null,null,{"$f":"DAY(P391)","v":0},{"$f":"IF(P391>0,VLOOKUP(P391,Holidays,2),0)","v":0},null,null,null,{"$f":"DAY(V391)","v":1},{"$f":"IF(V391>0,VLOOKUP(V391,Holidays,2),0)","v":0},null,null,null,null,{"$f":"DAY(AA391)","v":2},{"$f":"IF(AA391>0,VLOOKUP(AA391,Holidays,2),0)","v":0},null,null,null,null,{"$f":"DAY(AG391)","v":3},{"$f":"IF(AG391>0,VLOOKUP(AG391,Holidays,2),0)","v":0},null,null,null,{"$f":"DAY(AL391)","v":4},{"$f":"IF(AL391>0,VLOOKUP(AL391,Holidays,2),0)","v":0}]
[{"$f":"IF(F391>1,UPPER(VLOOKUP(F391,Inputs,4,FALSE))&\"  \",0)","v":0},null,null,null,{"$f":"IF(F391>0,IF(LEN(A393)>2,A393&VLOOKUP(F391,Inputs,5,FALSE),VLOOKUP(F391,Inputs,5,FALSE)),\"\")","v":""},null,{"$f":"IF(F391>0,VLOOKUP(F391,Inputs,6,FALSE),\"\")","v":""},{"$f":"IF(K391>1,UPPER(VLOOKUP(K391,Inputs,4,FALSE))&\"  \",0)","v":0},null,{"$f":"IF(K391>0,IF(LEN(H393)>2,H393&VLOOKUP(K391,Inputs,5,FALSE),VLOOKUP(K391,Inputs,5,FALSE)),\"\")","v":""},null,{"$f":"IF(K391>0,VLOOKUP(K391,Inputs,6,FALSE),\"\")","v":""},{"$f":"IF(P391>1,UPPER(VLOOKUP(P391,Inputs,4,FALSE))&\"  \",0)","v":0},null,{"$f":"IF(P391>0,IF(LEN(M393)>2,M393&VLOOKUP(P391,Inputs,5,FALSE),VLOOKUP(P391,Inputs,5,FALSE)),\"\")","v":""},null,{"$f":"IF(P391>0,VLOOKUP(P391,Inputs,6,FALSE),\"\")","v":""},{"$f":"IF(V391>1,UPPER(VLOOKUP(V391,Inputs,4,FALSE))&\"  \",0)","v":"  "},null,{"$f":"IF(V391>0,IF(LEN(R393)>2,R393&VLOOKUP(V391,Inputs,5,FALSE),VLOOKUP(V391,Inputs,5,FALSE)),\"\")","v":0},null,null,{"$f":"IF(V391>0,VLOOKUP(V391,Inputs,6,FALSE),\"\")","v":0},{"$f":"IF(AA391>1,UPPER(VLOOKUP(AA391,Inputs,4,FALSE))&\"  \",0)","v":"  "},null,{"$f":"IF(AA391>0,IF(LEN(X393)>2,X393&VLOOKUP(AA391,Inputs,5,FALSE),VLOOKUP(AA391,Inputs,5,FALSE)),\"\")","v":0},null,null,{"$f":"IF(AA391>0,VLOOKUP(AA391,Inputs,6,FALSE),\"\")","v":0},{"$f":"IF(AG391>1,UPPER(VLOOKUP(AG391,Inputs,4,FALSE))&\"  \",0)","v":"  "},null,{"$f":"IF(AG391>0,IF(LEN(AD393)>2,AD393&VLOOKUP(AG391,Inputs,5,FALSE),VLOOKUP(AG391,Inputs,5,FALSE)),\"\")","v":0},null,{"$f":"IF(AG391>0,VLOOKUP(AG391,Inputs,6,FALSE),\"\")","v":0},{"$f":"UPPER(VLOOKUP(AL391,Inputs,4,FALSE))&\"  \"","v":"  "},null,{"$f":"IF(LEN(AI393)>2,AI393&VLOOKUP(AL391,Inputs,5,FALSE),VLOOKUP(AL391,Inputs,5,FALSE))","v":0},null,{"$f":"VLOOKUP(AL391,Inputs,6,FALSE)","v":0},null,null,{"$f":"IF($A393=AP$5,$G393,0)+IF($H393=AP$5,$L393,0)+IF($M393=AP$5,$Q393,0)+IF($R393=AP$5,$W393,0)+IF($X393=AP$5,AC393,0)+IF($AD393=AP$5,AH393,0)+IF(AI393=AP$5,AM393,0)","v":0},{"$f":"IF($A393=AQ$5,$G393,0)+IF($H393=AQ$5,$L393,0)+IF($M393=AQ$5,$Q393,0)+IF($R393=AQ$5,$W393,0)+IF($X393=AQ$5,$AC393,0)+IF($AD393=AQ$5,$AH393,0)+IF($AI393=AQ$5,$AM393,0)","v":0},0,0,0,0,0,0,0,0,0,0,0,0]
[{"$f":"IF(F391>1,UPPER(VLOOKUP(F391,Inputs,7,FALSE))&\"  \",0)","v":0},null,null,null,{"$f":"IF(F391>0,IF(LEN(A394)>2,A394&VLOOKUP(F391,Inputs,8,FALSE),VLOOKUP(F391,Inputs,8,FALSE)),\"\")","v":""},null,{"$f":"IF(F391>0,VLOOKUP(F391,Inputs,9,FALSE),\"\")","v":""},{"$f":"IF(K391>1,UPPER(VLOOKUP(K391,Inputs,7,FALSE))&\"  \",0)","v":0},null,{"$f":"IF(K391>0,IF(LEN(H394)>2,H394&VLOOKUP(K391,Inputs,8,FALSE),VLOOKUP(K391,Inputs,8,FALSE)),\"\")","v":""},null,{"$f":"IF(K391>0,VLOOKUP(K391,Inputs,9,FALSE),\"\")","v":""},{"$f":"IF(P391>1,UPPER(VLOOKUP(P391,Inputs,7,FALSE))&\"  \",0)","v":0},null,{"$f":"IF(P391>0,IF(LEN(M394)>2,M394&VLOOKUP(P391,Inputs,8,FALSE),VLOOKUP(P391,Inputs,8,FALSE)),\"\")","v":""},null,{"$f":"IF(P391>0,VLOOKUP(P391,Inputs,9,FALSE),\"\")","v":""},{"$f":"IF(V391>1,UPPER(VLOOKUP(V391,Inputs,7,FALSE))&\"  \",0)","v":"  "},null,{"$f":"IF(V391>0,IF(LEN(R394)>2,R394&VLOOKUP(V391,Inputs,8,FALSE),VLOOKUP(V391,Inputs,8,FALSE)),\"\")","v":0},null,null,{"$f":"IF(V391>0,VLOOKUP(V391,Inputs,9,FALSE),\"\")","v":0},{"$f":"IF(AA391>1,UPPER(VLOOKUP(AA391,Inputs,7,FALSE))&\"  \",0)","v":"  "},null,{"$f":"IF(AA391>0,IF(LEN(X394)>2,X394&VLOOKUP(AA391,Inputs,8,FALSE),VLOOKUP(AA391,Inputs,8,FALSE)),\"\")","v":0},null,null,{"$f":"IF(AA391>0,VLOOKUP(AA391,Inputs,9,FALSE),\"\")","v":0},{"$f":"IF(AG391>1,UPPER(VLOOKUP(AG391,Inputs,7,FALSE))&\"  \",0)","v":"  "},null,{"$f":"IF(AG391>0,IF(LEN(AD394)>2,AD394&VLOOKUP(AG391,Inputs,8,FALSE),VLOOKUP(AG391,Inputs,8,FALSE)),\"\")","v":0},null,{"$f":"IF(AG391>0,VLOOKUP(AG391,Inputs,9,FALSE),\"\")","v":0},{"$f":"UPPER(VLOOKUP(AL391,Inputs,7,FALSE))&\"  \"","v":"  "},null,{"$f":"IF(LEN(AI394)>2,AI394&VLOOKUP(AL391,Inputs,8,FALSE),VLOOKUP(AL391,Inputs,8,FALSE))","v":0},null,{"$f":"VLOOKUP(AL391,Inputs,9,FALSE)","v":0},null,null,{"$f":"IF($A394=AP$5,$G394,0)+IF($H394=AP$5,$L394,0)+IF($M394=AP$5,$Q394,0)+IF($R394=AP$5,$W394,0)+IF($X394=AP$5,AC394,0)+IF($AD394=AP$5,AH394,0)+IF(AI394=AP$5,AM394,0)","v":0},0,0,0,0,0,0,0,0,0,0,0,0,0,null,"530-345-3280"]
[{"$f":"IF(F391>1,UPPER(VLOOKUP(F391,Inputs,10,FALSE))&\"  \",0)","v":0},null,null,null,{"$f":"IF(F391>0,IF(LEN(A395)>2,A395&VLOOKUP(F391,Inputs,11,FALSE),VLOOKUP(F391,Inputs,11,FALSE)),\"\")","v":""},null,{"$f":"IF(F391>0,VLOOKUP(F391,Inputs,12,FALSE),\"\")","v":""},{"$f":"IF(K391>1,UPPER(VLOOKUP(K391,Inputs,10,FALSE))&\"  \",0)","v":0},null,{"$f":"IF(K391>0,IF(LEN(H395)>0,H395&VLOOKUP(K391,Inputs,11,FALSE),VLOOKUP(K391,Inputs,11,FALSE)),\"\")","v":""},null,{"$f":"IF(K391>0,VLOOKUP(K391,Inputs,12,FALSE),\"\")","v":""},{"$f":"IF(P391>1,UPPER(VLOOKUP(P391,Inputs,10,FALSE))&\"  \",0)","v":0},null,{"$f":"IF(P391>0,IF(LEN(M395)>0,M395&VLOOKUP(P391,Inputs,11,FALSE),VLOOKUP(P391,Inputs,11,FALSE)),\"\")","v":""},null,{"$f":"IF(P391>0,VLOOKUP(P391,Inputs,12,FALSE),\"\")","v":""},{"$f":"IF(V391>1,UPPER(VLOOKUP(V391,Inputs,10,FALSE))&\"  \",0)","v":"  "},null,{"$f":"IF(V391>0,IF(LEN(R395)>0,R395&VLOOKUP(V391,Inputs,11,FALSE),VLOOKUP(V391,Inputs,11,FALSE)),\"\")","v":"  "},null,null,{"$f":"IF(V391>0,VLOOKUP(V391,Inputs,12,FALSE),\"\")","v":0},{"$f":"IF(AA391>1,UPPER(VLOOKUP(AA391,Inputs,10,FALSE))&\"  \",0)","v":"  "},null,{"$f":"IF(AA391>0,IF(LEN(X395)>0,X395&VLOOKUP(AA391,Inputs,11,FALSE),VLOOKUP(AA391,Inputs,11,FALSE)),\"\")","v":"  "},null,null,{"$f":"IF(AA391>0,VLOOKUP(AA391,Inputs,12,FALSE),\"\")","v":0},{"$f":"IF(AG391>1,UPPER(VLOOKUP(AG391,Inputs,10,FALSE))&\"  \",0)","v":"  "},null,{"$f":"IF(AG391>0,IF(LEN(AD395)>0,AD395&VLOOKUP(AG391,Inputs,11,FALSE),VLOOKUP(AG391,Inputs,11,FALSE)),\"\")","v":"  "},null,{"$f":"IF(AG391>0,VLOOKUP(AG391,Inputs,12,FALSE),\"\")","v":0},{"$f":"UPPER(VLOOKUP(AL391,Inputs,10,FALSE))&\"  \"","v":"  "},null,{"$f":"IF(LEN(AI395)>2,AI395&VLOOKUP(AL391,Inputs,11,FALSE),VLOOKUP(AL391,Inputs,11,FALSE))","v":0},null,{"$f":"VLOOKUP(AL391,Inputs,12,FALSE)","v":0},null,null,{"$f":"IF($A395=AP$5,$G395,0)+IF($H395=AP$5,$L395,0)+IF($M395=AP$5,$Q395,0)+IF($R395=AP$5,$W395,0)+IF($X395=AP$5,AC395,0)+IF($AD395=AP$5,AH395,0)+IF(AI395=AP$5,AM395,0)","v":0},0,0,0,0,0,0,0,0,0,0,0,0,0,null,"2540 Zanella Way, Suite 20"]
[{"$f":"IF(F391>1,UPPER(VLOOKUP(F391,Inputs,13,FALSE))&\"  \",0)","v":0},null,null,null,{"$f":"IF(F391>0,IF(LEN(A396)>2,A396&VLOOKUP(F391,Inputs,14,FALSE),VLOOKUP(F391,Inputs,14,FALSE)),\"\")","v":""},null,{"$f":"IF(F391>0,VLOOKUP(F391,Inputs,15,FALSE),\"\")","v":""},{"$f":"IF(K391>1,UPPER(VLOOKUP(K391,Inputs,13,FALSE))&\"  \",0)","v":0},null,{"$f":"IF(K391>0,IF(LEN(H396)>2,H396&VLOOKUP(K391,Inputs,14,FALSE),VLOOKUP(K391,Inputs,14,FALSE)),\"\")","v":""},null,{"$f":"IF(K391>0,VLOOKUP(K391,Inputs,15,FALSE),\"\")","v":""},{"$f":"IF(P391>1,UPPER(VLOOKUP(P391,Inputs,13,FALSE))&\"  \",0)","v":0},null,{"$f":"IF(P391>0,IF(LEN(M396)>2,M396&VLOOKUP(P391,Inputs,14,FALSE),VLOOKUP(P391,Inputs,14,FALSE)),\"\")","v":""},null,{"$f":"IF(P391>0,VLOOKUP(P391,Inputs,15,FALSE),\"\")","v":""},{"$f":"IF(V391>1,UPPER(VLOOKUP(V391,Inputs,13,FALSE))&\"  \",0)","v":"  "},null,{"$f":"IF(V391>0,IF(LEN(R396)>2,R396&VLOOKUP(V391,Inputs,14,FALSE),VLOOKUP(V391,Inputs,14,FALSE)),\"\")","v":0},null,null,{"$f":"IF(V391>0,VLOOKUP(V391,Inputs,15,FALSE),\"\")","v":0},{"$f":"IF(AA391>1,UPPER(VLOOKUP(AA391,Inputs,13,FALSE))&\"  \",0)","v":"  "},null,{"$f":"IF(AA391>0,IF(LEN(X396)>2,X396&VLOOKUP(AA391,Inputs,14,FALSE),VLOOKUP(AA391,Inputs,14,FALSE)),\"\")","v":0},null,null,{"$f":"IF(AA391>0,VLOOKUP(AA391,Inputs,15,FALSE),\"\")","v":0},{"$f":"IF(AG391>1,UPPER(VLOOKUP(AG391,Inputs,13,FALSE))&\"  \",0)","v":"  "},null,{"$f":"IF(AG391>0,IF(LEN(AD396)>2,AD396&VLOOKUP(AG391,Inputs,14,FALSE),VLOOKUP(AG391,Inputs,14,FALSE)),\"\")","v":0},null,{"$f":"IF(AG391>0,VLOOKUP(AG391,Inputs,15,FALSE),\"\")","v":0},{"$f":"UPPER(VLOOKUP(AL391,Inputs,13,FALSE))&\"  \"","v":"  "},null,{"$f":"IF(LEN(AI396)>2,AI396&VLOOKUP(AL391,Inputs,14,FALSE),VLOOKUP(AL391,Inputs,14,FALSE))","v":0},null,{"$f":"VLOOKUP(AL391,Inputs,15,FALSE)","v":0},null,null,{"$f":"IF($A396=AP$5,$G396,0)+IF($H396=AP$5,$L396,0)+IF($M396=AP$5,$Q396,0)+IF($R396=AP$5,$W396,0)+IF($X396=AP$5,AC396,0)+IF($AD396=AP$5,AH396,0)+IF(AI396=AP$5,AM396,0)","v":0},0,0,0,0,0,0,0,0,0,0,0,0,0,null,"    Chico, CA 95928"]
[null,null,null,null,null,{"$f":"IF(F391>0,IF(VLOOKUP(F391,Inputs,3,FALSE)=\"T\",\"Telemarketing\",0),\"\")","v":""},null,null,null,null,{"$f":"IF(F391>0,IF(VLOOKUP(F391,Inputs,3,FALSE)=\"T\",0,IF(VLOOKUP(K391,Inputs,3,FALSE)=\"T\",\"Telemarketing\",0)),IF(VLOOKUP(K391,Inputs,3,FALSE)=\"T\",\"Telemarketing\",0))","v":0},null,null,null,null,{"$f":"IF(K391>0,IF(VLOOKUP(K391,Inputs,3,FALSE)=\"T\",0,IF(VLOOKUP(P391,Inputs,3,FALSE)=\"T\",\"Telemarketing\",0)),IF(VLOOKUP(P391,Inputs,3,FALSE)=\"T\",\"Telemarketing\",0))","v":0},null,null,null,null,null,{"$f":"IF(P391>0,IF(VLOOKUP(P391,Inputs,3,FALSE)=\"T\",0,IF(VLOOKUP(V391,Inputs,3,FALSE)=\"T\",\"Telemarketing\",0)),IF(VLOOKUP(V391,Inputs,3,FALSE)=\"T\",\"Telemarketing\",0))","v":0},null,null,null,null,{"$f":"IF(V391>0,IF(VLOOKUP(V391,Inputs,3,FALSE)=\"T\",0,IF(VLOOKUP(AA391,Inputs,3,FALSE)=\"T\",\"Telemarketing\",0)),IF(VLOOKUP(AA391,Inputs,3,FALSE)=\"T\",\"Telemarketing\",0))","v":0},null,null,null,null,null,{"$f":"IF(AA391>0,IF(VLOOKUP(AA391,Inputs,3,FALSE)=\"T\",0,IF(VLOOKUP(AG391,Inputs,3,FALSE)=\"T\",\"Telemarketing\",0)),IF(VLOOKUP(AG391,Inputs,3,FALSE)=\"T\",\"Telemarketing\",0))","v":0},null,null,null,null,{"$f":"IF(AG391>0,IF(VLOOKUP(AG391,Inputs,3,FALSE)=\"T\",0,IF(VLOOKUP(AL391,Inputs,3,FALSE)=\"T\",\"Telemarketing\",0)),IF(VLOOKUP(AL391,Inputs,3,FALSE)=\"T\",\"Telemarketing\",0))","v":0}]
[null,null,null,null,null,{"$f":"1+AL391","v":"2018-08-05"},null,null,null,null,{"$f":"1+F398","v":"2018-08-06"},null,null,null,null,{"$f":"1+K398","v":"2018-08-07"},null,null,null,null,null,{"$f":"1+P398","v":"2018-08-08"},null,null,null,null,{"$f":"1+V398","v":"2018-08-09"},null,null,null,null,null,{"$f":"1+AA398","v":"2018-08-10"},null,null,null,null,{"$f":"1+AG398","v":"2018-08-11"}]
[null,null,null,null,{"$f":"DAY(F398)","v":5},{"$f":"IF(F398>0,VLOOKUP(F398,Holidays,2),0)","v":0},null,null,null,{"$f":"DAY(K398)","v":6},{"$f":"IF(K398>0,VLOOKUP(K398,Holidays,2),0)","v":0},null,null,null,{"$f":"DAY(P398)","v":7},{"$f":"IF(P398>0,VLOOKUP(P398,Holidays,2),0)","v":0},null,null,null,{"$f":"DAY(V398)","v":8},{"$f":"IF(V398>0,VLOOKUP(V398,Holidays,2),0)","v":0},null,null,null,null,{"$f":"DAY(AA398)","v":9},{"$f":"IF(AA398>0,VLOOKUP(AA398,Holidays,2),0)","v":0},null,null,null,null,{"$f":"DAY(AG398)","v":10},{"$f":"IF(AG398>0,VLOOKUP(AG398,Holidays,2),0)","v":0},null,null,null,{"$f":"DAY(AL398)","v":11},{"$f":"IF(AL398>0,VLOOKUP(AL398,Holidays,2),0)","v":0}]
[{"$f":"UPPER(VLOOKUP(F398,Inputs,4,FALSE))&\"  \"","v":"  "},null,null,null,{"$f":"IF(LEN(A400)>2,A400&VLOOKUP(F398,Inputs,5,FALSE),VLOOKUP(F398,Inputs,5,FALSE))","v":0},null,{"$f":"IF(F398>0,VLOOKUP(F398,Inputs,6,FALSE),\"\")","v":0},{"$f":"UPPER(VLOOKUP(K398,Inputs,4,FALSE))&\"  \"","v":"  "},null,{"$f":"IF(LEN(H400)>2,H400&VLOOKUP(K398,Inputs,5,FALSE),VLOOKUP(K398,Inputs,5,FALSE))","v":0},null,{"$f":"IF(K398>0,VLOOKUP(K398,Inputs,6,FALSE),\"\")","v":0},{"$f":"UPPER(VLOOKUP(P398,Inputs,4,FALSE))&\"  \"","v":"  "},null,{"$f":"IF(LEN(M400)>2,M400&VLOOKUP(P398,Inputs,5,FALSE),VLOOKUP(P398,Inputs,5,FALSE))","v":0},null,{"$f":"IF(P398>0,VLOOKUP(P398,Inputs,6,FALSE),\"\")","v":0},{"$f":"UPPER(VLOOKUP(V398,Inputs,4,FALSE))&\"  \"","v":"  "},null,{"$f":"IF(LEN(R400)>2,R400&VLOOKUP(V398,Inputs,5,FALSE),VLOOKUP(V398,Inputs,5,FALSE))","v":0},null,null,{"$f":"IF(V398>0,VLOOKUP(V398,Inputs,6,FALSE),\"\")","v":0},{"$f":"UPPER(VLOOKUP(AA398,Inputs,4,FALSE))&\"  \"","v":"  "},null,{"$f":"IF(LEN(X400)>2,X400&VLOOKUP(AA398,Inputs,5,FALSE),VLOOKUP(AA398,Inputs,5,FALSE))","v":0},null,null,{"$f":"IF(AA398>0,VLOOKUP(AA398,Inputs,6,FALSE),\"\")","v":0},{"$f":"UPPER(VLOOKUP(AG398,Inputs,4,FALSE))&\"  \"","v":"  "},null,{"$f":"IF(LEN(AD400)>2,AD400&VLOOKUP(AG398,Inputs,5,FALSE),VLOOKUP(AG398,Inputs,5,FALSE))","v":0},null,{"$f":"IF(AG398>0,VLOOKUP(AG398,Inputs,6,FALSE),\"\")","v":0},{"$f":"UPPER(VLOOKUP(AL398,Inputs,4,FALSE))&\"  \"","v":"  "},null,{"$f":"IF(LEN(AI400)>2,AI400&VLOOKUP(AL398,Inputs,5,FALSE),VLOOKUP(AL398,Inputs,5,FALSE))","v":0},null,{"$f":"IF(AL398>0,VLOOKUP(AL398,Inputs,6,FALSE),\"\")","v":0},null,null,{"$f":"IF($A400=AP$5,$G400,0)+IF($H400=AP$5,$L400,0)+IF($M400=AP$5,$Q400,0)+IF($R400=AP$5,$W400,0)+IF($X400=AP$5,AC400,0)+IF($AD400=AP$5,AH400,0)+IF(AI400=AP$5,AM400,0)","v":0},{"$f":"IF($A400=AQ$5,$G400,0)+IF($H400=AQ$5,$L400,0)+IF($M400=AQ$5,$Q400,0)+IF($R400=AQ$5,$W400,0)+IF($X400=AQ$5,$AC400,0)+IF($AD400=AQ$5,$AH400,0)+IF($AI400=AQ$5,$AM400,0)","v":0},0,0,0,0,0,0,0,0,0,0,0,0,null,"      TheBedrock.com"]
[{"$f":"UPPER(VLOOKUP(F398,Inputs,7,FALSE))&\"  \"","v":"  "},null,null,null,{"$f":"IF(LEN(A401)>2,A401&VLOOKUP(F398,Inputs,8,FALSE),VLOOKUP(F398,Inputs,8,FALSE))","v":0},null,{"$f":"IF(F398>0,VLOOKUP(F398,Inputs,9,FALSE),\"\")","v":0},{"$f":"UPPER(VLOOKUP(K398,Inputs,7,FALSE))&\"  \"","v":"  "},null,{"$f":"IF(LEN(H401)>2,H401&VLOOKUP(K398,Inputs,8,FALSE),VLOOKUP(K398,Inputs,8,FALSE))","v":0},null,{"$f":"IF(K398>0,VLOOKUP(K398,Inputs,9,FALSE),\"\")","v":0},{"$f":"UPPER(VLOOKUP(P398,Inputs,7,FALSE))&\"  \"","v":"  "},null,{"$f":"IF(LEN(M401)>2,M401&VLOOKUP(P398,Inputs,8,FALSE),VLOOKUP(P398,Inputs,8,FALSE))","v":0},null,{"$f":"IF(P398>0,VLOOKUP(P398,Inputs,9,FALSE),\"\")","v":0},{"$f":"UPPER(VLOOKUP(V398,Inputs,7,FALSE))&\"  \"","v":"  "},null,{"$f":"IF(LEN(R401)>2,R401&VLOOKUP(V398,Inputs,8,FALSE),VLOOKUP(V398,Inputs,8,FALSE))","v":0},null,null,{"$f":"IF(V398>0,VLOOKUP(V398,Inputs,9,FALSE),\"\")","v":0},{"$f":"UPPER(VLOOKUP(AA398,Inputs,7,FALSE))&\"  \"","v":"  "},null,{"$f":"IF(LEN(X401)>2,X401&VLOOKUP(AA398,Inputs,8,FALSE),VLOOKUP(AA398,Inputs,8,FALSE))","v":0},null,null,{"$f":"IF(AA398>0,VLOOKUP(AA398,Inputs,9,FALSE),\"\")","v":0},{"$f":"UPPER(VLOOKUP(AG398,Inputs,7,FALSE))&\"  \"","v":"  "},null,{"$f":"IF(LEN(AD401)>2,AD401&VLOOKUP(AG398,Inputs,8,FALSE),VLOOKUP(AG398,Inputs,8,FALSE))","v":0},null,{"$f":"IF(AG398>0,VLOOKUP(AG398,Inputs,9,FALSE),\"\")","v":0},{"$f":"UPPER(VLOOKUP(AL398,Inputs,7,FALSE))&\"  \"","v":"  "},null,{"$f":"IF(LEN(AI401)>2,AI401&VLOOKUP(AL398,Inputs,8,FALSE),VLOOKUP(AL398,Inputs,8,FALSE))","v":0},null,{"$f":"IF(AL398>0,VLOOKUP(AL398,Inputs,9,FALSE),\"\")","v":0},null,null,{"$f":"IF($A401=AP$5,$G401,0)+IF($H401=AP$5,$L401,0)+IF($M401=AP$5,$Q401,0)+IF($R401=AP$5,$W401,0)+IF($X401=AP$5,AC401,0)+IF($AD401=AP$5,AH401,0)+IF(AI401=AP$5,AM401,0)","v":0},0,0,0,0,0,0,0,0,0,0,0,0,0]
[{"$f":"UPPER(VLOOKUP(F398,Inputs,10,FALSE))&\"  \"","v":"  "},null,null,null,{"$f":"IF(LEN(A402)>2,A402&VLOOKUP(F398,Inputs,11,FALSE),VLOOKUP(F398,Inputs,11,FALSE))","v":0},null,{"$f":"IF(F398>0,VLOOKUP(F398,Inputs,12,FALSE),\"\")","v":0},{"$f":"UPPER(VLOOKUP(K398,Inputs,10,FALSE))&\"  \"","v":"  "},null,{"$f":"IF(LEN(H402)>2,H402&VLOOKUP(K398,Inputs,11,FALSE),VLOOKUP(K398,Inputs,11,FALSE))","v":0},null,{"$f":"IF(K398>0,VLOOKUP(K398,Inputs,12,FALSE),\"\")","v":0},{"$f":"UPPER(VLOOKUP(P398,Inputs,10,FALSE))&\"  \"","v":"  "},null,{"$f":"IF(LEN(M402)>2,M402&VLOOKUP(P398,Inputs,11,FALSE),VLOOKUP(P398,Inputs,11,FALSE))","v":0},null,{"$f":"IF(P398>0,VLOOKUP(P398,Inputs,12,FALSE),\"\")","v":0},{"$f":"UPPER(VLOOKUP(V398,Inputs,10,FALSE))&\"  \"","v":"  "},null,{"$f":"IF(LEN(R402)>2,R402&VLOOKUP(V398,Inputs,11,FALSE),VLOOKUP(V398,Inputs,11,FALSE))","v":0},null,null,{"$f":"IF(V398>0,VLOOKUP(V398,Inputs,12,FALSE),\"\")","v":0},{"$f":"UPPER(VLOOKUP(AA398,Inputs,10,FALSE))&\"  \"","v":"  "},null,{"$f":"IF(LEN(X402)>2,X402&VLOOKUP(AA398,Inputs,11,FALSE),VLOOKUP(AA398,Inputs,11,FALSE))","v":0},null,null,{"$f":"IF(AA398>0,VLOOKUP(AA398,Inputs,12,FALSE),\"\")","v":0},{"$f":"UPPER(VLOOKUP(AG398,Inputs,10,FALSE))&\"  \"","v":"  "},null,{"$f":"IF(LEN(AD402)>2,AD402&VLOOKUP(AG398,Inputs,11,FALSE),VLOOKUP(AG398,Inputs,11,FALSE))","v":0},null,{"$f":"IF(AG398>0,VLOOKUP(AG398,Inputs,12,FALSE),\"\")","v":0},{"$f":"UPPER(VLOOKUP(AL398,Inputs,10,FALSE))&\"  \"","v":"  "},null,{"$f":"IF(LEN(AI402)>2,AI402&VLOOKUP(AL398,Inputs,11,FALSE),VLOOKUP(AL398,Inputs,11,FALSE))","v":0},null,{"$f":"IF(AL398>0,VLOOKUP(AL398,Inputs,12,FALSE),\"\")","v":0},null,null,{"$f":"IF($A402=AP$5,$G402,0)+IF($H402=AP$5,$L402,0)+IF($M402=AP$5,$Q402,0)+IF($R402=AP$5,$W402,0)+IF($X402=AP$5,AC402,0)+IF($AD402=AP$5,AH402,0)+IF(AI402=AP$5,AM402,0)","v":0},0,0,0,0,0,0,0,0,0,0,0,0,0]
[{"$f":"UPPER(VLOOKUP(F398,Inputs,13,FALSE))&\"  \"","v":"  "},null,null,null,{"$f":"IF(LEN(A403)>2,A403&VLOOKUP(F398,Inputs,14,FALSE),VLOOKUP(F398,Inputs,14,FALSE))","v":0},null,{"$f":"IF(F398>0,VLOOKUP(F398,Inputs,15,FALSE),\"\")","v":0},{"$f":"UPPER(VLOOKUP(K398,Inputs,13,FALSE))&\"  \"","v":"  "},null,{"$f":"IF(LEN(H403)>2,H403&VLOOKUP(K398,Inputs,14,FALSE),VLOOKUP(K398,Inputs,14,FALSE))","v":0},null,{"$f":"IF(K398>0,VLOOKUP(K398,Inputs,15,FALSE),\"\")","v":0},{"$f":"UPPER(VLOOKUP(P398,Inputs,13,FALSE))&\"  \"","v":"  "},null,{"$f":"IF(LEN(M403)>2,M403&VLOOKUP(P398,Inputs,14,FALSE),VLOOKUP(P398,Inputs,14,FALSE))","v":0},null,{"$f":"IF(P398>0,VLOOKUP(P398,Inputs,15,FALSE),\"\")","v":0},{"$f":"UPPER(VLOOKUP(V398,Inputs,13,FALSE))&\"  \"","v":"  "},null,{"$f":"IF(LEN(R403)>2,R403&VLOOKUP(V398,Inputs,14,FALSE),VLOOKUP(V398,Inputs,14,FALSE))","v":0},null,null,{"$f":"IF(V398>0,VLOOKUP(V398,Inputs,15,FALSE),\"\")","v":0},{"$f":"UPPER(VLOOKUP(AA398,Inputs,13,FALSE))&\"  \"","v":"  "},null,{"$f":"IF(LEN(X403)>2,X403&VLOOKUP(AA398,Inputs,14,FALSE),VLOOKUP(AA398,Inputs,14,FALSE))","v":0},null,null,{"$f":"IF(AA398>0,VLOOKUP(AA398,Inputs,15,FALSE),\"\")","v":0},{"$f":"UPPER(VLOOKUP(AG398,Inputs,13,FALSE))&\"  \"","v":"  "},null,{"$f":"IF(LEN(AD403)>2,AD403&VLOOKUP(AG398,Inputs,14,FALSE),VLOOKUP(AG398,Inputs,14,FALSE))","v":0},null,{"$f":"IF(AG398>0,VLOOKUP(AG398,Inputs,15,FALSE),\"\")","v":0},{"$f":"UPPER(VLOOKUP(AL398,Inputs,13,FALSE))&\"  \"","v":"  "},null,{"$f":"IF(LEN(AI403)>2,AI403&VLOOKUP(AL398,Inputs,14,FALSE),VLOOKUP(AL398,Inputs,14,FALSE))","v":0},null,{"$f":"IF(AL398>0,VLOOKUP(AL398,Inputs,15,FALSE),\"\")","v":0},null,null,{"$f":"IF($A403=AP$5,$G403,0)+IF($H403=AP$5,$L403,0)+IF($M403=AP$5,$Q403,0)+IF($R403=AP$5,$W403,0)+IF($X403=AP$5,AC403,0)+IF($AD403=AP$5,AH403,0)+IF(AI403=AP$5,AM403,0)","v":0},0,0,0,0,0,0,0,0,0,0,0,0,0]
[null,null,null,null,null,{"$f":"IF(F398>0,IF(VLOOKUP(F398,Inputs,3,FALSE)=\"T\",\"Telemarketing\",0),\"\")","v":0},null,null,null,null,{"$f":"IF(VLOOKUP(K398-1,Inputs,3,FALSE)=\"T\",0,IF(VLOOKUP(K398,Inputs,3,FALSE)=\"T\",\"Telemarketing\",0))","v":0},null,null,null,null,{"$f":"IF(VLOOKUP(P398-1,Inputs,3,FALSE)=\"T\",0,IF(VLOOKUP(P398,Inputs,3,FALSE)=\"T\",\"Telemarketing\",0))","v":0},null,null,null,null,null,{"$f":"IF(VLOOKUP(V398-1,Inputs,3,FALSE)=\"T\",0,IF(VLOOKUP(V398,Inputs,3,FALSE)=\"T\",\"Telemarketing\",0))","v":0},null,null,null,null,{"$f":"IF(VLOOKUP(AA398-1,Inputs,3,FALSE)=\"T\",0,IF(VLOOKUP(AA398,Inputs,3,FALSE)=\"T\",\"Telemarketing\",0))","v":0},null,null,null,null,null,{"$f":"IF(VLOOKUP(AG398-1,Inputs,3,FALSE)=\"T\",0,IF(VLOOKUP(AG398,Inputs,3,FALSE)=\"T\",\"Telemarketing\",0))","v":0},null,null,null,null,{"$f":"IF(VLOOKUP(AL398-1,Inputs,3,FALSE)=\"T\",0,IF(VLOOKUP(AL398,Inputs,3,FALSE)=\"T\",\"Telemarketing\",0))","v":0}]
[null,null,null,null,null,{"$f":"1+AL398","v":"2018-08-12"},null,null,null,null,{"$f":"1+F405","v":"2018-08-13"},null,null,null,null,{"$f":"1+K405","v":"2018-08-14"},null,null,null,null,null,{"$f":"1+P405","v":"2018-08-15"},null,null,null,null,{"$f":"1+V405","v":"2018-08-16"},null,null,null,null,null,{"$f":"1+AA405","v":"2018-08-17"},null,null,null,null,{"$f":"1+AG405","v":"2018-08-18"}]
[null,null,null,null,{"$f":"DAY(F405)","v":12},{"$f":"IF(F405>0,VLOOKUP(F405,Holidays,2),0)","v":0},null,null,null,{"$f":"DAY(K405)","v":13},{"$f":"IF(K405>0,VLOOKUP(K405,Holidays,2),0)","v":0},null,null,null,{"$f":"DAY(P405)","v":14},{"$f":"IF(P405>0,VLOOKUP(P405,Holidays,2),0)","v":0},null,null,null,{"$f":"DAY(V405)","v":15},{"$f":"IF(V405>0,VLOOKUP(V405,Holidays,2),0)","v":0},null,null,null,null,{"$f":"DAY(AA405)","v":16},{"$f":"IF(AA405>0,VLOOKUP(AA405,Holidays,2),0)","v":0},null,null,null,null,{"$f":"DAY(AG405)","v":17},{"$f":"IF(AG405>0,VLOOKUP(AG405,Holidays,2),0)","v":0},null,null,null,{"$f":"DAY(AL405)","v":18},{"$f":"IF(AL405>0,VLOOKUP(AL405,Holidays,2),0)","v":0}]
[{"$f":"UPPER(VLOOKUP(F405,Inputs,4,FALSE))&\"  \"","v":"  "},null,null,null,{"$f":"IF(LEN(A407)>2,A407&VLOOKUP(F405,Inputs,5,FALSE),VLOOKUP(F405,Inputs,5,FALSE))","v":0},null,{"$f":"IF(F405>0,VLOOKUP(F405,Inputs,6,FALSE),\"\")","v":0},{"$f":"UPPER(VLOOKUP(K405,Inputs,4,FALSE))&\"  \"","v":"  "},null,{"$f":"IF(LEN(H407)>2,H407&VLOOKUP(K405,Inputs,5,FALSE),VLOOKUP(K405,Inputs,5,FALSE))","v":0},null,{"$f":"IF(K405>0,VLOOKUP(K405,Inputs,6,FALSE),\"\")","v":0},{"$f":"UPPER(VLOOKUP(P405,Inputs,4,FALSE))&\"  \"","v":"  "},null,{"$f":"IF(LEN(M407)>2,M407&VLOOKUP(P405,Inputs,5,FALSE),VLOOKUP(P405,Inputs,5,FALSE))","v":0},null,{"$f":"IF(P405>0,VLOOKUP(P405,Inputs,6,FALSE),\"\")","v":0},{"$f":"UPPER(VLOOKUP(V405,Inputs,4,FALSE))&\"  \"","v":"  "},null,{"$f":"IF(LEN(R407)>2,R407&VLOOKUP(V405,Inputs,5,FALSE),VLOOKUP(V405,Inputs,5,FALSE))","v":0},null,null,{"$f":"IF(V405>0,VLOOKUP(V405,Inputs,6,FALSE),\"\")","v":0},{"$f":"UPPER(VLOOKUP(AA405,Inputs,4,FALSE))&\"  \"","v":"  "},null,{"$f":"IF(LEN(X407)>2,X407&VLOOKUP(AA405,Inputs,5,FALSE),VLOOKUP(AA405,Inputs,5,FALSE))","v":0},null,null,{"$f":"IF(AA405>0,VLOOKUP(AA405,Inputs,6,FALSE),\"\")","v":0},{"$f":"UPPER(VLOOKUP(AG405,Inputs,4,FALSE))&\"  \"","v":"  "},null,{"$f":"IF(LEN(AD407)>2,AD407&VLOOKUP(AG405,Inputs,5,FALSE),VLOOKUP(AG405,Inputs,5,FALSE))","v":0},null,{"$f":"IF(AG405>0,VLOOKUP(AG405,Inputs,6,FALSE),\"\")","v":0},{"$f":"UPPER(VLOOKUP(AL405,Inputs,4,FALSE))&\"  \"","v":"  "},null,{"$f":"IF(LEN(AI407)>2,AI407&VLOOKUP(AL405,Inputs,5,FALSE),VLOOKUP(AL405,Inputs,5,FALSE))","v":0},null,{"$f":"IF(AL405>0,VLOOKUP(AL405,Inputs,6,FALSE),\"\")","v":0},null,null,{"$f":"IF($A407=AP$5,$G407,0)+IF($H407=AP$5,$L407,0)+IF($M407=AP$5,$Q407,0)+IF($R407=AP$5,$W407,0)+IF($X407=AP$5,AC407,0)+IF($AD407=AP$5,AH407,0)+IF(AI407=AP$5,AM407,0)","v":0},{"$f":"IF($A407=AQ$5,$G407,0)+IF($H407=AQ$5,$L407,0)+IF($M407=AQ$5,$Q407,0)+IF($R407=AQ$5,$W407,0)+IF($X407=AQ$5,$AC407,0)+IF($AD407=AQ$5,$AH407,0)+IF($AI407=AQ$5,$AM407,0)","v":0},0,0,0,0,0,0,0,0,0,0,0,0]
[{"$f":"UPPER(VLOOKUP(F405,Inputs,7,FALSE))&\"  \"","v":"  "},null,null,null,{"$f":"IF(LEN(A408)>2,A408&VLOOKUP(F405,Inputs,8,FALSE),VLOOKUP(F405,Inputs,8,FALSE))","v":0},null,{"$f":"IF(F405>0,VLOOKUP(F405,Inputs,9,FALSE),\"\")","v":0},{"$f":"UPPER(VLOOKUP(K405,Inputs,7,FALSE))&\"  \"","v":"  "},null,{"$f":"IF(LEN(H408)>2,H408&VLOOKUP(K405,Inputs,8,FALSE),VLOOKUP(K405,Inputs,8,FALSE))","v":0},null,{"$f":"IF(K405>0,VLOOKUP(K405,Inputs,9,FALSE),\"\")","v":0},{"$f":"UPPER(VLOOKUP(P405,Inputs,7,FALSE))&\"  \"","v":"  "},null,{"$f":"IF(LEN(M408)>2,M408&VLOOKUP(P405,Inputs,8,FALSE),VLOOKUP(P405,Inputs,8,FALSE))","v":0},null,{"$f":"IF(P405>0,VLOOKUP(P405,Inputs,9,FALSE),\"\")","v":0},{"$f":"UPPER(VLOOKUP(V405,Inputs,7,FALSE))&\"  \"","v":"  "},null,{"$f":"IF(LEN(R408)>2,R408&VLOOKUP(V405,Inputs,8,FALSE),VLOOKUP(V405,Inputs,8,FALSE))","v":0},null,null,{"$f":"IF(V405>0,VLOOKUP(V405,Inputs,9,FALSE),\"\")","v":0},{"$f":"UPPER(VLOOKUP(AA405,Inputs,7,FALSE))&\"  \"","v":"  "},null,{"$f":"IF(LEN(X408)>2,X408&VLOOKUP(AA405,Inputs,8,FALSE),VLOOKUP(AA405,Inputs,8,FALSE))","v":0},null,null,{"$f":"IF(AA405>0,VLOOKUP(AA405,Inputs,9,FALSE),\"\")","v":0},{"$f":"UPPER(VLOOKUP(AG405,Inputs,7,FALSE))&\"  \"","v":"  "},null,{"$f":"IF(LEN(AD408)>2,AD408&VLOOKUP(AG405,Inputs,8,FALSE),VLOOKUP(AG405,Inputs,8,FALSE))","v":0},null,{"$f":"IF(AG405>0,VLOOKUP(AG405,Inputs,9,FALSE),\"\")","v":0},{"$f":"UPPER(VLOOKUP(AL405,Inputs,7,FALSE))&\"  \"","v":"  "},null,{"$f":"IF(LEN(AI408)>2,AI408&VLOOKUP(AL405,Inputs,8,FALSE),VLOOKUP(AL405,Inputs,8,FALSE))","v":0},null,{"$f":"IF(AL405>0,VLOOKUP(AL405,Inputs,9,FALSE),\"\")","v":0},null,null,{"$f":"IF($A408=AP$5,$G408,0)+IF($H408=AP$5,$L408,0)+IF($M408=AP$5,$Q408,0)+IF($R408=AP$5,$W408,0)+IF($X408=AP$5,AC408,0)+IF($AD408=AP$5,AH408,0)+IF(AI408=AP$5,AM408,0)","v":0},0,0,0,0,0,0,0,0,0,0,0,0,0]
[{"$f":"UPPER(VLOOKUP(F405,Inputs,10,FALSE))&\"  \"","v":"  "},null,null,null,{"$f":"IF(LEN(A409)>2,A409&VLOOKUP(F405,Inputs,11,FALSE),VLOOKUP(F405,Inputs,11,FALSE))","v":0},null,{"$f":"IF(F405>0,VLOOKUP(F405,Inputs,12,FALSE),\"\")","v":0},{"$f":"UPPER(VLOOKUP(K405,Inputs,10,FALSE))&\"  \"","v":"  "},null,{"$f":"IF(LEN(H409)>2,H409&VLOOKUP(K405,Inputs,11,FALSE),VLOOKUP(K405,Inputs,11,FALSE))","v":0},null,{"$f":"IF(K405>0,VLOOKUP(K405,Inputs,12,FALSE),\"\")","v":0},{"$f":"UPPER(VLOOKUP(P405,Inputs,10,FALSE))&\"  \"","v":"  "},null,{"$f":"IF(LEN(M409)>2,M409&VLOOKUP(P405,Inputs,11,FALSE),VLOOKUP(P405,Inputs,11,FALSE))","v":0},null,{"$f":"IF(P405>0,VLOOKUP(P405,Inputs,12,FALSE),\"\")","v":0},{"$f":"UPPER(VLOOKUP(V405,Inputs,10,FALSE))&\"  \"","v":"  "},null,{"$f":"IF(LEN(R409)>2,R409&VLOOKUP(V405,Inputs,11,FALSE),VLOOKUP(V405,Inputs,11,FALSE))","v":0},null,null,{"$f":"IF(V405>0,VLOOKUP(V405,Inputs,12,FALSE),\"\")","v":0},{"$f":"UPPER(VLOOKUP(AA405,Inputs,10,FALSE))&\"  \"","v":"  "},null,{"$f":"IF(LEN(X409)>2,X409&VLOOKUP(AA405,Inputs,11,FALSE),VLOOKUP(AA405,Inputs,11,FALSE))","v":0},null,null,{"$f":"IF(AA405>0,VLOOKUP(AA405,Inputs,12,FALSE),\"\")","v":0},{"$f":"UPPER(VLOOKUP(AG405,Inputs,10,FALSE))&\"  \"","v":"  "},null,{"$f":"IF(LEN(AD409)>2,AD409&VLOOKUP(AG405,Inputs,11,FALSE),VLOOKUP(AG405,Inputs,11,FALSE))","v":0},null,{"$f":"IF(AG405>0,VLOOKUP(AG405,Inputs,12,FALSE),\"\")","v":0},{"$f":"UPPER(VLOOKUP(AL405,Inputs,10,FALSE))&\"  \"","v":"  "},null,{"$f":"IF(LEN(AI409)>2,AI409&VLOOKUP(AL405,Inputs,11,FALSE),VLOOKUP(AL405,Inputs,11,FALSE))","v":0},null,{"$f":"IF(AL405>0,VLOOKUP(AL405,Inputs,12,FALSE),\"\")","v":0},null,null,{"$f":"IF($A409=AP$5,$G409,0)+IF($H409=AP$5,$L409,0)+IF($M409=AP$5,$Q409,0)+IF($R409=AP$5,$W409,0)+IF($X409=AP$5,AC409,0)+IF($AD409=AP$5,AH409,0)+IF(AI409=AP$5,AM409,0)","v":0},0,0,0,0,0,0,0,0,0,0,0,0,0]
[{"$f":"UPPER(VLOOKUP(F405,Inputs,13,FALSE))&\"  \"","v":"  "},null,null,null,{"$f":"IF(LEN(A410)>2,A410&VLOOKUP(F405,Inputs,14,FALSE),VLOOKUP(F405,Inputs,14,FALSE))","v":0},null,{"$f":"IF(F405>0,VLOOKUP(F405,Inputs,15,FALSE),\"\")","v":0},{"$f":"UPPER(VLOOKUP(K405,Inputs,13,FALSE))&\"  \"","v":"  "},null,{"$f":"IF(LEN(H410)>2,H410&VLOOKUP(K405,Inputs,14,FALSE),VLOOKUP(K405,Inputs,14,FALSE))","v":0},null,{"$f":"IF(K405>0,VLOOKUP(K405,Inputs,15,FALSE),\"\")","v":0},{"$f":"UPPER(VLOOKUP(P405,Inputs,13,FALSE))&\"  \"","v":"  "},null,{"$f":"IF(LEN(M410)>2,M410&VLOOKUP(P405,Inputs,14,FALSE),VLOOKUP(P405,Inputs,14,FALSE))","v":0},null,{"$f":"IF(P405>0,VLOOKUP(P405,Inputs,15,FALSE),\"\")","v":0},{"$f":"UPPER(VLOOKUP(V405,Inputs,13,FALSE))&\"  \"","v":"  "},null,{"$f":"IF(LEN(R410)>2,R410&VLOOKUP(V405,Inputs,14,FALSE),VLOOKUP(V405,Inputs,14,FALSE))","v":0},null,null,{"$f":"IF(V405>0,VLOOKUP(V405,Inputs,15,FALSE),\"\")","v":0},{"$f":"UPPER(VLOOKUP(AA405,Inputs,13,FALSE))&\"  \"","v":"  "},null,{"$f":"IF(LEN(X410)>2,X410&VLOOKUP(AA405,Inputs,14,FALSE),VLOOKUP(AA405,Inputs,14,FALSE))","v":0},null,null,{"$f":"IF(AA405>0,VLOOKUP(AA405,Inputs,15,FALSE),\"\")","v":0},{"$f":"UPPER(VLOOKUP(AG405,Inputs,13,FALSE))&\"  \"","v":"  "},null,{"$f":"IF(LEN(AD410)>2,AD410&VLOOKUP(AG405,Inputs,14,FALSE),VLOOKUP(AG405,Inputs,14,FALSE))","v":0},null,{"$f":"IF(AG405>0,VLOOKUP(AG405,Inputs,15,FALSE),\"\")","v":0},{"$f":"UPPER(VLOOKUP(AL405,Inputs,13,FALSE))&\"  \"","v":"  "},null,{"$f":"IF(LEN(AI410)>2,AI410&VLOOKUP(AL405,Inputs,14,FALSE),VLOOKUP(AL405,Inputs,14,FALSE))","v":0},null,{"$f":"IF(AL405>0,VLOOKUP(AL405,Inputs,15,FALSE),\"\")","v":0},null,null,{"$f":"IF($A410=AP$5,$G410,0)+IF($H410=AP$5,$L410,0)+IF($M410=AP$5,$Q410,0)+IF($R410=AP$5,$W410,0)+IF($X410=AP$5,AC410,0)+IF($AD410=AP$5,AH410,0)+IF(AI410=AP$5,AM410,0)","v":0},0,0,0,0,0,0,0,0,0,0,0,0,0]
[null,null,null,null,null,{"$f":"IF(F405>0,IF(VLOOKUP(F405,Inputs,3,FALSE)=\"T\",\"Telemarketing\",0),\"\")","v":0},null,null,null,null,{"$f":"IF(VLOOKUP(K405-1,Inputs,3,FALSE)=\"T\",0,IF(VLOOKUP(K405,Inputs,3,FALSE)=\"T\",\"Telemarketing\",0))","v":0},null,null,null,null,{"$f":"IF(VLOOKUP(P405-1,Inputs,3,FALSE)=\"T\",0,IF(VLOOKUP(P405,Inputs,3,FALSE)=\"T\",\"Telemarketing\",0))","v":0},null,null,null,null,null,{"$f":"IF(VLOOKUP(V405-1,Inputs,3,FALSE)=\"T\",0,IF(VLOOKUP(V405,Inputs,3,FALSE)=\"T\",\"Telemarketing\",0))","v":0},null,null,null,null,{"$f":"IF(VLOOKUP(AA405-1,Inputs,3,FALSE)=\"T\",0,IF(VLOOKUP(AA405,Inputs,3,FALSE)=\"T\",\"Telemarketing\",0))","v":0},null,null,null,null,null,{"$f":"IF(VLOOKUP(AG405-1,Inputs,3,FALSE)=\"T\",0,IF(VLOOKUP(AG405,Inputs,3,FALSE)=\"T\",\"Telemarketing\",0))","v":0},null,null,null,null,{"$f":"IF(VLOOKUP(AL405-1,Inputs,3,FALSE)=\"T\",0,IF(VLOOKUP(AL405,Inputs,3,FALSE)=\"T\",\"Telemarketing\",0))","v":0}]
[null,null,null,null,null,{"$f":"1+AL405","v":"2018-08-19"},null,null,null,null,{"$f":"1+F412","v":"2018-08-20"},null,null,null,null,{"$f":"1+K412","v":"2018-08-21"},null,null,null,null,null,{"$f":"1+P412","v":"2018-08-22"},null,null,null,null,{"$f":"1+V412","v":"2018-08-23"},null,null,null,null,null,{"$f":"1+AA412","v":"2018-08-24"},null,null,null,null,{"$f":"1+AG412","v":"2018-08-25"}]
[null,null,null,null,{"$f":"DAY(F412)","v":19},{"$f":"IF(F412>0,VLOOKUP(F412,Holidays,2),0)","v":0},null,null,null,{"$f":"DAY(K412)","v":20},{"$f":"IF(K412>0,VLOOKUP(K412,Holidays,2),0)","v":0},null,null,null,{"$f":"DAY(P412)","v":21},{"$f":"IF(P412>0,VLOOKUP(P412,Holidays,2),0)","v":0},null,null,null,{"$f":"DAY(V412)","v":22},{"$f":"IF(V412>0,VLOOKUP(V412,Holidays,2),0)","v":0},null,null,null,null,{"$f":"DAY(AA412)","v":23},{"$f":"IF(AA412>0,VLOOKUP(AA412,Holidays,2),0)","v":0},null,null,null,null,{"$f":"DAY(AG412)","v":24},{"$f":"IF(AG412>0,VLOOKUP(AG412,Holidays,2),0)","v":0},null,null,null,{"$f":"DAY(AL412)","v":25},{"$f":"IF(AL412>0,VLOOKUP(AL412,Holidays,2),0)","v":0}]
[{"$f":"UPPER(VLOOKUP(F412,Inputs,4,FALSE))&\"  \"","v":"  "},null,null,null,{"$f":"IF(LEN(A414)>2,A414&VLOOKUP(F412,Inputs,5,FALSE),VLOOKUP(F412,Inputs,5,FALSE))","v":0},null,{"$f":"IF(F412>0,VLOOKUP(F412,Inputs,6,FALSE),\"\")","v":0},{"$f":"UPPER(VLOOKUP(K412,Inputs,4,FALSE))&\"  \"","v":"  "},null,{"$f":"IF(LEN(H414)>2,H414&VLOOKUP(K412,Inputs,5,FALSE),VLOOKUP(K412,Inputs,5,FALSE))","v":0},null,{"$f":"IF(K412>0,VLOOKUP(K412,Inputs,6,FALSE),\"\")","v":0},{"$f":"UPPER(VLOOKUP(P412,Inputs,4,FALSE))&\"  \"","v":"  "},null,{"$f":"IF(LEN(M414)>2,M414&VLOOKUP(P412,Inputs,5,FALSE),VLOOKUP(P412,Inputs,5,FALSE))","v":0},null,{"$f":"IF(P412>0,VLOOKUP(P412,Inputs,6,FALSE),\"\")","v":0},{"$f":"UPPER(VLOOKUP(V412,Inputs,4,FALSE))&\"  \"","v":"  "},null,{"$f":"IF(LEN(R414)>2,R414&VLOOKUP(V412,Inputs,5,FALSE),VLOOKUP(V412,Inputs,5,FALSE))","v":0},null,null,{"$f":"IF(V412>0,VLOOKUP(V412,Inputs,6,FALSE),\"\")","v":0},{"$f":"UPPER(VLOOKUP(AA412,Inputs,4,FALSE))&\"  \"","v":"  "},null,{"$f":"IF(LEN(X414)>2,X414&VLOOKUP(AA412,Inputs,5,FALSE),VLOOKUP(AA412,Inputs,5,FALSE))","v":0},null,null,{"$f":"IF(AA412>0,VLOOKUP(AA412,Inputs,6,FALSE),\"\")","v":0},{"$f":"UPPER(VLOOKUP(AG412,Inputs,4,FALSE))&\"  \"","v":"  "},null,{"$f":"IF(LEN(AD414)>2,AD414&VLOOKUP(AG412,Inputs,5,FALSE),VLOOKUP(AG412,Inputs,5,FALSE))","v":0},null,{"$f":"IF(AG412>0,VLOOKUP(AG412,Inputs,6,FALSE),\"\")","v":0},{"$f":"UPPER(VLOOKUP(AL412,Inputs,4,FALSE))&\"  \"","v":"  "},null,{"$f":"IF(LEN(AI414)>2,AI414&VLOOKUP(AL412,Inputs,5,FALSE),VLOOKUP(AL412,Inputs,5,FALSE))","v":0},null,{"$f":"IF(AL412>0,VLOOKUP(AL412,Inputs,6,FALSE),\"\")","v":0},null,null,{"$f":"IF($A414=AP$5,$G414,0)+IF($H414=AP$5,$L414,0)+IF($M414=AP$5,$Q414,0)+IF($R414=AP$5,$W414,0)+IF($X414=AP$5,AC414,0)+IF($AD414=AP$5,AH414,0)+IF(AI414=AP$5,AM414,0)","v":0},{"$f":"IF($A414=AQ$5,$G414,0)+IF($H414=AQ$5,$L414,0)+IF($M414=AQ$5,$Q414,0)+IF($R414=AQ$5,$W414,0)+IF($X414=AQ$5,$AC414,0)+IF($AD414=AQ$5,$AH414,0)+IF($AI414=AQ$5,$AM414,0)","v":0},0,0,0,0,0,0,0,0,0,0,0,0]
[{"$f":"UPPER(VLOOKUP(F412,Inputs,7,FALSE))&\"  \"","v":"  "},null,null,null,{"$f":"IF(LEN(A415)>2,A415&VLOOKUP(F412,Inputs,8,FALSE),VLOOKUP(F412,Inputs,8,FALSE))","v":0},null,{"$f":"IF(F412>0,VLOOKUP(F412,Inputs,9,FALSE),\"\")","v":0},{"$f":"UPPER(VLOOKUP(K412,Inputs,7,FALSE))&\"  \"","v":"  "},null,{"$f":"IF(LEN(H415)>2,H415&VLOOKUP(K412,Inputs,8,FALSE),VLOOKUP(K412,Inputs,8,FALSE))","v":0},null,{"$f":"IF(K412>0,VLOOKUP(K412,Inputs,9,FALSE),\"\")","v":0},{"$f":"UPPER(VLOOKUP(P412,Inputs,7,FALSE))&\"  \"","v":"  "},null,{"$f":"IF(LEN(M415)>2,M415&VLOOKUP(P412,Inputs,8,FALSE),VLOOKUP(P412,Inputs,8,FALSE))","v":0},null,{"$f":"IF(P412>0,VLOOKUP(P412,Inputs,9,FALSE),\"\")","v":0},{"$f":"UPPER(VLOOKUP(V412,Inputs,7,FALSE))&\"  \"","v":"  "},null,{"$f":"IF(LEN(R415)>2,R415&VLOOKUP(V412,Inputs,8,FALSE),VLOOKUP(V412,Inputs,8,FALSE))","v":0},null,null,{"$f":"IF(V412>0,VLOOKUP(V412,Inputs,9,FALSE),\"\")","v":0},{"$f":"UPPER(VLOOKUP(AA412,Inputs,7,FALSE))&\"  \"","v":"  "},null,{"$f":"IF(LEN(X415)>2,X415&VLOOKUP(AA412,Inputs,8,FALSE),VLOOKUP(AA412,Inputs,8,FALSE))","v":0},null,null,{"$f":"IF(AA412>0,VLOOKUP(AA412,Inputs,9,FALSE),\"\")","v":0},{"$f":"UPPER(VLOOKUP(AG412,Inputs,7,FALSE))&\"  \"","v":"  "},null,{"$f":"IF(LEN(AD415)>2,AD415&VLOOKUP(AG412,Inputs,8,FALSE),VLOOKUP(AG412,Inputs,8,FALSE))","v":0},null,{"$f":"IF(AG412>0,VLOOKUP(AG412,Inputs,9,FALSE),\"\")","v":0},{"$f":"UPPER(VLOOKUP(AL412,Inputs,7,FALSE))&\"  \"","v":"  "},null,{"$f":"IF(LEN(AI415)>2,AI415&VLOOKUP(AL412,Inputs,8,FALSE),VLOOKUP(AL412,Inputs,8,FALSE))","v":0},null,{"$f":"IF(AL412>0,VLOOKUP(AL412,Inputs,9,FALSE),\"\")","v":0},null,null,{"$f":"IF($A415=AP$5,$G415,0)+IF($H415=AP$5,$L415,0)+IF($M415=AP$5,$Q415,0)+IF($R415=AP$5,$W415,0)+IF($X415=AP$5,AC415,0)+IF($AD415=AP$5,AH415,0)+IF(AI415=AP$5,AM415,0)","v":0},0,0,0,0,0,0,0,0,0,0,0,0,0]
[{"$f":"UPPER(VLOOKUP(F412,Inputs,10,FALSE))&\"  \"","v":"  "},null,null,null,{"$f":"IF(LEN(A416)>2,A416&VLOOKUP(F412,Inputs,11,FALSE),VLOOKUP(F412,Inputs,11,FALSE))","v":0},null,{"$f":"IF(F412>0,VLOOKUP(F412,Inputs,12,FALSE),\"\")","v":0},{"$f":"UPPER(VLOOKUP(K412,Inputs,10,FALSE))&\"  \"","v":"  "},null,{"$f":"IF(LEN(H416)>2,H416&VLOOKUP(K412,Inputs,11,FALSE),VLOOKUP(K412,Inputs,11,FALSE))","v":0},null,{"$f":"IF(K412>0,VLOOKUP(K412,Inputs,12,FALSE),\"\")","v":0},{"$f":"UPPER(VLOOKUP(P412,Inputs,10,FALSE))&\"  \"","v":"  "},null,{"$f":"IF(LEN(M416)>2,M416&VLOOKUP(P412,Inputs,11,FALSE),VLOOKUP(P412,Inputs,11,FALSE))","v":0},null,{"$f":"IF(P412>0,VLOOKUP(P412,Inputs,12,FALSE),\"\")","v":0},{"$f":"UPPER(VLOOKUP(V412,Inputs,10,FALSE))&\"  \"","v":"  "},null,{"$f":"IF(LEN(R416)>2,R416&VLOOKUP(V412,Inputs,11,FALSE),VLOOKUP(V412,Inputs,11,FALSE))","v":0},null,null,{"$f":"IF(V412>0,VLOOKUP(V412,Inputs,12,FALSE),\"\")","v":0},{"$f":"UPPER(VLOOKUP(AA412,Inputs,10,FALSE))&\"  \"","v":"  "},null,{"$f":"IF(LEN(X416)>2,X416&VLOOKUP(AA412,Inputs,11,FALSE),VLOOKUP(AA412,Inputs,11,FALSE))","v":0},null,null,{"$f":"IF(AA412>0,VLOOKUP(AA412,Inputs,12,FALSE),\"\")","v":0},{"$f":"UPPER(VLOOKUP(AG412,Inputs,10,FALSE))&\"  \"","v":"  "},null,{"$f":"IF(LEN(AD416)>2,AD416&VLOOKUP(AG412,Inputs,11,FALSE),VLOOKUP(AG412,Inputs,11,FALSE))","v":0},null,{"$f":"IF(AG412>0,VLOOKUP(AG412,Inputs,12,FALSE),\"\")","v":0},{"$f":"UPPER(VLOOKUP(AL412,Inputs,10,FALSE))&\"  \"","v":"  "},null,{"$f":"IF(LEN(AI416)>2,AI416&VLOOKUP(AL412,Inputs,11,FALSE),VLOOKUP(AL412,Inputs,11,FALSE))","v":0},null,{"$f":"IF(AL412>0,VLOOKUP(AL412,Inputs,12,FALSE),\"\")","v":0},null,null,{"$f":"IF($A416=AP$5,$G416,0)+IF($H416=AP$5,$L416,0)+IF($M416=AP$5,$Q416,0)+IF($R416=AP$5,$W416,0)+IF($X416=AP$5,AC416,0)+IF($AD416=AP$5,AH416,0)+IF(AI416=AP$5,AM416,0)","v":0},0,0,0,0,0,0,0,0,0,0,0,0,0]
[{"$f":"UPPER(VLOOKUP(F412,Inputs,13,FALSE))&\"  \"","v":"  "},null,null,null,{"$f":"IF(LEN(A417)>2,A417&VLOOKUP(F412,Inputs,14,FALSE),VLOOKUP(F412,Inputs,14,FALSE))","v":0},null,{"$f":"IF(F412>0,VLOOKUP(F412,Inputs,15,FALSE),\"\")","v":0},{"$f":"UPPER(VLOOKUP(K412,Inputs,13,FALSE))&\"  \"","v":"  "},null,{"$f":"IF(LEN(H417)>2,H417&VLOOKUP(K412,Inputs,14,FALSE),VLOOKUP(K412,Inputs,14,FALSE))","v":0},null,{"$f":"IF(K412>0,VLOOKUP(K412,Inputs,15,FALSE),\"\")","v":0},{"$f":"UPPER(VLOOKUP(P412,Inputs,13,FALSE))&\"  \"","v":"  "},null,{"$f":"IF(LEN(M417)>2,M417&VLOOKUP(P412,Inputs,14,FALSE),VLOOKUP(P412,Inputs,14,FALSE))","v":0},null,{"$f":"IF(P412>0,VLOOKUP(P412,Inputs,15,FALSE),\"\")","v":0},{"$f":"UPPER(VLOOKUP(V412,Inputs,13,FALSE))&\"  \"","v":"  "},null,{"$f":"IF(LEN(R417)>2,R417&VLOOKUP(V412,Inputs,14,FALSE),VLOOKUP(V412,Inputs,14,FALSE))","v":0},null,null,{"$f":"IF(V412>0,VLOOKUP(V412,Inputs,15,FALSE),\"\")","v":0},{"$f":"UPPER(VLOOKUP(AA412,Inputs,13,FALSE))&\"  \"","v":"  "},null,{"$f":"IF(LEN(X417)>2,X417&VLOOKUP(AA412,Inputs,14,FALSE),VLOOKUP(AA412,Inputs,14,FALSE))","v":0},null,null,{"$f":"IF(AA412>0,VLOOKUP(AA412,Inputs,15,FALSE),\"\")","v":0},{"$f":"UPPER(VLOOKUP(AG412,Inputs,13,FALSE))&\"  \"","v":"  "},null,{"$f":"IF(LEN(AD417)>2,AD417&VLOOKUP(AG412,Inputs,14,FALSE),VLOOKUP(AG412,Inputs,14,FALSE))","v":0},null,{"$f":"IF(AG412>0,VLOOKUP(AG412,Inputs,15,FALSE),\"\")","v":0},{"$f":"UPPER(VLOOKUP(AL412,Inputs,13,FALSE))&\"  \"","v":"  "},null,{"$f":"IF(LEN(AI417)>2,AI417&VLOOKUP(AL412,Inputs,14,FALSE),VLOOKUP(AL412,Inputs,14,FALSE))","v":0},null,{"$f":"IF(AL412>0,VLOOKUP(AL412,Inputs,15,FALSE),\"\")","v":0},null,null,{"$f":"IF($A417=AP$5,$G417,0)+IF($H417=AP$5,$L417,0)+IF($M417=AP$5,$Q417,0)+IF($R417=AP$5,$W417,0)+IF($X417=AP$5,AC417,0)+IF($AD417=AP$5,AH417,0)+IF(AI417=AP$5,AM417,0)","v":0},0,0,0,0,0,0,0,0,0,0,0,0,0]
[null,null,null,null,null,{"$f":"IF(F412>0,IF(VLOOKUP(F412,Inputs,3,FALSE)=\"T\",\"Telemarketing\",0),\"\")","v":0},null,null,null,null,{"$f":"IF(VLOOKUP(K412-1,Inputs,3,FALSE)=\"T\",0,IF(VLOOKUP(K412,Inputs,3,FALSE)=\"T\",\"Telemarketing\",0))","v":0},null,null,null,null,{"$f":"IF(VLOOKUP(P412-1,Inputs,3,FALSE)=\"T\",0,IF(VLOOKUP(P412,Inputs,3,FALSE)=\"T\",\"Telemarketing\",0))","v":0},null,null,null,null,null,{"$f":"IF(VLOOKUP(V412-1,Inputs,3,FALSE)=\"T\",0,IF(VLOOKUP(V412,Inputs,3,FALSE)=\"T\",\"Telemarketing\",0))","v":0},null,null,null,null,{"$f":"IF(VLOOKUP(AA412-1,Inputs,3,FALSE)=\"T\",0,IF(VLOOKUP(AA412,Inputs,3,FALSE)=\"T\",\"Telemarketing\",0))","v":0},null,null,null,null,null,{"$f":"IF(VLOOKUP(AG412-1,Inputs,3,FALSE)=\"T\",0,IF(VLOOKUP(AG412,Inputs,3,FALSE)=\"T\",\"Telemarketing\",0))","v":0},null,null,null,null,{"$f":"IF(VLOOKUP(AL412-1,Inputs,3,FALSE)=\"T\",0,IF(VLOOKUP(AL412,Inputs,3,FALSE)=\"T\",\"Telemarketing\",0))","v":0}]
[null,null,null,null,null,{"$f":"IF(AL412>0,IF(MONTH(1+AL412)=$A437,1+AL412,0),0)","v":"2018-08-26"},null,null,null,null,{"$f":"IF(F419>0,IF(MONTH(1+F419)=$A437,1+F419,0),0)","v":"2018-08-27"},null,null,null,null,{"$f":"IF(K419>0,IF(MONTH(1+K419)=$A437,1+K419,0),0)","v":"2018-08-28"},null,null,null,null,null,{"$f":"IF(P419>0,IF(MONTH(1+P419)=$A437,1+P419,0),0)","v":"2018-08-29"},null,null,null,null,{"$f":"IF(V419>0,IF(MONTH(1+V419)=$A437,1+V419,0),0)","v":"2018-08-30"},null,null,null,null,null,{"$f":"IF(AA419>0,IF(MONTH(1+AA419)=$A437,1+AA419,0),0)","v":"2018-08-31"},null,null,null,null,{"$f":"IF(AG419>0,IF(MONTH(1+AG419)=$A437,1+AG419,0),0)","v":"00:00:00"}]
[null,null,null,null,{"$f":"DAY(F419)","v":26},{"$f":"VLOOKUP(F419,Holidays,2)","v":0},null,null,null,{"$f":"DAY(K419)","v":27},{"$f":"VLOOKUP(K419,Holidays,2)","v":0},null,null,null,{"$f":"DAY(P419)","v":28},{"$f":"VLOOKUP(P419,Holidays,2)","v":0},null,null,null,{"$f":"DAY(V419)","v":29},{"$f":"VLOOKUP(V419,Holidays,2)","v":""},null,null,null,null,{"$f":"DAY(AA419)","v":30},{"$f":"VLOOKUP(AA419,Holidays,2)","v":""},null,null,null,null,{"$f":"DAY(AG419)","v":31},{"$f":"VLOOKUP(AG419,Holidays,2)","v":""},null,null,null,{"$f":"DAY(AL419)","v":0},{"$f":"VLOOKUP(AL419,Holidays,2)","v":0}]
[{"$f":"UPPER(VLOOKUP(F419,Inputs,4,FALSE))&\"  \"","v":"  "},null,null,null,{"$f":"IF(LEN(A421)>2,A421&VLOOKUP(F419,Inputs,5,FALSE),VLOOKUP(F419,Inputs,5,FALSE))","v":0},null,{"$f":"IF(F419>0,VLOOKUP(F419,Inputs,6,FALSE),\"\")","v":0},{"$f":"UPPER(VLOOKUP(K419,Inputs,4,FALSE))&\"  \"","v":"  "},null,{"$f":"IF(LEN(H421)>2,H421&VLOOKUP(K419,Inputs,5,FALSE),VLOOKUP(K419,Inputs,5,FALSE))","v":0},null,{"$f":"IF(K419>0,VLOOKUP(K419,Inputs,6,FALSE),\"\")","v":0},{"$f":"UPPER(VLOOKUP(P419,Inputs,4,FALSE))&\"  \"","v":"  "},null,{"$f":"IF(LEN(M421)>2,M421&VLOOKUP(P419,Inputs,5,FALSE),VLOOKUP(P419,Inputs,5,FALSE))","v":0},null,{"$f":"IF(P419>0,VLOOKUP(P419,Inputs,6,FALSE),\"\")","v":0},{"$f":"IF(MONTH(V419)=A437,UPPER(VLOOKUP(V419,Inputs,4,FALSE))&\"  \",\"\")","v":"  "},null,{"$f":"IF(MONTH(V419)=A437,IF(LEN(R421)>0,R421&VLOOKUP(V419,Inputs,5,FALSE),VLOOKUP(V419,Inputs,5,FALSE)),\"\")","v":"  "},null,null,{"$f":"IF(MONTH(V419)=A437,IF(V419>0,VLOOKUP(V419,Inputs,6,FALSE),\"\"),0)","v":0},{"$f":"IF(MONTH(AA419)=A437,UPPER(VLOOKUP(AA419,Inputs,4,FALSE))&\"  \",\"\")","v":"  "},null,{"$f":"IF(MONTH(AA419)=A437,IF(LEN(X421)>0,X421&VLOOKUP(AA419,Inputs,5,FALSE),VLOOKUP(AA419,Inputs,5,FALSE)),\"\")","v":"  "},null,null,{"$f":"IF(MONTH(AA419)=A437,IF(AA419>0,VLOOKUP(AA419,Inputs,6,FALSE),\"\"),0)","v":0},{"$f":"IF(MONTH(AG419)=A437,UPPER(VLOOKUP(AG419,Inputs,4,FALSE))&\"  \",\"\")","v":"  "},null,{"$f":"IF(MONTH(AG419)=A437,IF(LEN(AD421)>0,AD421&VLOOKUP(AG419,Inputs,5,FALSE),VLOOKUP(AG419,Inputs,5,FALSE)),\"\")","v":"  "},null,{"$f":"IF(MONTH(AG419)=A437,IF(AG419>0,VLOOKUP(AG419,Inputs,6,FALSE),\"\"),0)","v":0},{"$f":"IF(MONTH(AL419)=A437,UPPER(VLOOKUP(AL419,Inputs,4,FALSE))&\"  \",\"\")","v":""},null,{"$f":"IF(MONTH(AL419)=A437,IF(LEN(AI421)>0,AI421&VLOOKUP(AL419,Inputs,5,FALSE),VLOOKUP(AL419,Inputs,5,FALSE)),\"\")","v":""},null,{"$f":"IF(MONTH(AL419)=A437,IF(AL419>0,VLOOKUP(AL419,Inputs,6,FALSE),\"\"),0)","v":0},null,null,{"$f":"IF($A421=AP$5,$G421,0)+IF($H421=AP$5,$L421,0)+IF($M421=AP$5,$Q421,0)+IF($R421=AP$5,$W421,0)+IF($X421=AP$5,AC421,0)+IF($AD421=AP$5,AH421,0)+IF(AI421=AP$5,AM421,0)","v":0},{"$f":"IF($A421=AQ$5,$G421,0)+IF($H421=AQ$5,$L421,0)+IF($M421=AQ$5,$Q421,0)+IF($R421=AQ$5,$W421,0)+IF($X421=AQ$5,$AC421,0)+IF($AD421=AQ$5,$AH421,0)+IF($AI421=AQ$5,$AM421,0)","v":0},0,0,0,0,0,0,0,0,0,0,0,0]
[{"$f":"UPPER(VLOOKUP(F419,Inputs,7,FALSE))&\"  \"","v":"  "},null,null,null,{"$f":"IF(LEN(A422)>2,A422&VLOOKUP(F419,Inputs,8,FALSE),VLOOKUP(F419,Inputs,8,FALSE))","v":0},null,{"$f":"IF(F419>0,VLOOKUP(F419,Inputs,9,FALSE),\"\")","v":0},{"$f":"UPPER(VLOOKUP(K419,Inputs,7,FALSE))&\"  \"","v":"  "},null,{"$f":"IF(LEN(H422)>2,H422&VLOOKUP(K419,Inputs,8,FALSE),VLOOKUP(K419,Inputs,8,FALSE))","v":0},null,{"$f":"IF(K419>0,VLOOKUP(K419,Inputs,9,FALSE),\"\")","v":0},{"$f":"UPPER(VLOOKUP(P419,Inputs,7,FALSE))&\"  \"","v":"  "},null,{"$f":"IF(LEN(M422)>2,M422&VLOOKUP(P419,Inputs,8,FALSE),VLOOKUP(P419,Inputs,8,FALSE))","v":0},null,{"$f":"IF(P419>0,VLOOKUP(P419,Inputs,9,FALSE),\"\")","v":0},{"$f":"IF(MONTH(V419)=A437,UPPER(VLOOKUP(V419,Inputs,7,FALSE))&\"  \",\"\")","v":"  "},null,{"$f":"IF(MONTH(V419)=A437,IF(LEN(R422)>0,R422&VLOOKUP(V419,Inputs,8,FALSE),VLOOKUP(V419,Inputs,8,FALSE)),\"\")","v":"  "},null,null,{"$f":"IF(MONTH(V419)=A437,IF(V419>0,VLOOKUP(V419,Inputs,9,FALSE),\"\"),0)","v":0},{"$f":"IF(MONTH(AA419)=A437,UPPER(VLOOKUP(AA419,Inputs,7,FALSE))&\"  \",\"\")","v":"  "},null,{"$f":"IF(MONTH(AA419)=A437,IF(LEN(X422)>0,X422&VLOOKUP(AA419,Inputs,8,FALSE),VLOOKUP(AA419,Inputs,8,FALSE)),\"\")","v":"  "},null,null,{"$f":"IF(MONTH(AA419)=A437,IF(AA419>0,VLOOKUP(AA419,Inputs,9,FALSE),\"\"),0)","v":0},{"$f":"IF(MONTH(AG419)=A437,UPPER(VLOOKUP(AG419,Inputs,7,FALSE))&\"  \",\"\")","v":"  "},null,{"$f":"IF(MONTH(AG419)=A437,IF(LEN(AD422)>0,AD422&VLOOKUP(AG419,Inputs,8,FALSE),VLOOKUP(AG419,Inputs,8,FALSE)),\"\")","v":"  "},null,{"$f":"IF(MONTH(AG419)=A437,IF(AG419>0,VLOOKUP(AG419,Inputs,9,FALSE),\"\"),0)","v":0},{"$f":"IF(MONTH(AL419)=A437,UPPER(VLOOKUP(AL419,Inputs,7,FALSE))&\"  \",\"\")","v":""},null,{"$f":"IF(MONTH(AL419)=A437,IF(LEN(AI422)>0,AI422&VLOOKUP(AL419,Inputs,8,FALSE),VLOOKUP(AL419,Inputs,8,FALSE)),\"\")","v":""},null,{"$f":"IF(MONTH(AL419)=A437,IF(AL419>0,VLOOKUP(AL419,Inputs,9,FALSE),\"\"),0)","v":0},null,null,{"$f":"IF($A422=AP$5,$G422,0)+IF($H422=AP$5,$L422,0)+IF($M422=AP$5,$Q422,0)+IF($R422=AP$5,$W422,0)+IF($X422=AP$5,AC422,0)+IF($AD422=AP$5,AH422,0)+IF(AI422=AP$5,AM422,0)","v":0},0,0,0,0,0,0,0,0,0,0,0,0,0]
[{"$f":"UPPER(VLOOKUP(F419,Inputs,10,FALSE))&\"  \"","v":"  "},null,null,null,{"$f":"IF(LEN(A423)>2,A423&VLOOKUP(F419,Inputs,11,FALSE),VLOOKUP(F419,Inputs,11,FALSE))","v":0},null,{"$f":"IF(F419>0,VLOOKUP(F419,Inputs,12,FALSE),\"\")","v":0},{"$f":"UPPER(VLOOKUP(K419,Inputs,10,FALSE))&\"  \"","v":"  "},null,{"$f":"IF(LEN(H423)>2,H423&VLOOKUP(K419,Inputs,11,FALSE),VLOOKUP(K419,Inputs,11,FALSE))","v":0},null,{"$f":"IF(K419>0,VLOOKUP(K419,Inputs,12,FALSE),\"\")","v":0},{"$f":"UPPER(VLOOKUP(P419,Inputs,10,FALSE))&\"  \"","v":"  "},null,{"$f":"IF(LEN(M423)>2,M423&VLOOKUP(P419,Inputs,11,FALSE),VLOOKUP(P419,Inputs,11,FALSE))","v":0},null,{"$f":"IF(P419>0,VLOOKUP(P419,Inputs,12,FALSE),\"\")","v":0},{"$f":"IF(MONTH(V419)=A437,UPPER(VLOOKUP(V419,Inputs,10,FALSE))&\"  \",\"\")","v":"  "},null,{"$f":"IF(MONTH(V419)=A437,IF(LEN(R423)>0,R423&VLOOKUP(V419,Inputs,11,FALSE),VLOOKUP(V419,Inputs,11,FALSE)),\"\")","v":"  "},null,null,{"$f":"IF(MONTH(V419)=A437,IF(V419>0,VLOOKUP(V419,Inputs,12,FALSE),\"\"),0)","v":0},{"$f":"IF(MONTH(AA419)=A437,UPPER(VLOOKUP(AA419,Inputs,10,FALSE))&\"  \",\"\")","v":"  "},null,{"$f":"IF(MONTH(AA419)=A437,IF(LEN(X423)>0,X423&VLOOKUP(AA419,Inputs,11,FALSE),VLOOKUP(AA419,Inputs,11,FALSE)),\"\")","v":"  "},null,null,{"$f":"IF(MONTH(AA419)=A437,IF(AA419>0,VLOOKUP(AA419,Inputs,12,FALSE),\"\"),0)","v":0},{"$f":"IF(MONTH(AG419)=A437,UPPER(VLOOKUP(AG419,Inputs,10,FALSE))&\"  \",\"\")","v":"  "},null,{"$f":"IF(MONTH(AG419)=A437,IF(LEN(AD423)>0,AD423&VLOOKUP(AG419,Inputs,11,FALSE),VLOOKUP(AG419,Inputs,11,FALSE)),\"\")","v":"  "},null,{"$f":"IF(MONTH(AG419)=A437,IF(AG419>0,VLOOKUP(AG419,Inputs,12,FALSE),\"\"),0)","v":0},{"$f":"IF(MONTH(AL419)=A437,UPPER(VLOOKUP(AL419,Inputs,10,FALSE))&\"  \",\"\")","v":""},null,{"$f":"IF(MONTH(AL419)=A437,IF(LEN(AI423)>0,AI423&VLOOKUP(AL419,Inputs,11,FALSE),VLOOKUP(AL419,Inputs,11,FALSE)),\"\")","v":""},null,{"$f":"IF(MONTH(AL419)=A437,IF(AL419>0,VLOOKUP(AL419,Inputs,12,FALSE),\"\"),0)","v":0},null,null,{"$f":"IF($A423=AP$5,$G423,0)+IF($H423=AP$5,$L423,0)+IF($M423=AP$5,$Q423,0)+IF($R423=AP$5,$W423,0)+IF($X423=AP$5,AC423,0)+IF($AD423=AP$5,AH423,0)+IF(AI423=AP$5,AM423,0)","v":0},0,0,0,0,0,0,0,0,0,0,0,0,0]
[{"$f":"UPPER(VLOOKUP(F419,Inputs,13,FALSE))&\"  \"","v":"  "},null,null,null,{"$f":"IF(LEN(A424)>2,A424&VLOOKUP(F419,Inputs,14,FALSE),VLOOKUP(F419,Inputs,14,FALSE))","v":0},null,{"$f":"IF(F419>0,VLOOKUP(F419,Inputs,15,FALSE),\"\")","v":0},{"$f":"UPPER(VLOOKUP(K419,Inputs,13,FALSE))&\"  \"","v":"  "},null,{"$f":"IF(LEN(H424)>2,H424&VLOOKUP(K419,Inputs,14,FALSE),VLOOKUP(K419,Inputs,14,FALSE))","v":0},null,{"$f":"IF(K419>0,VLOOKUP(K419,Inputs,15,FALSE),\"\")","v":0},{"$f":"UPPER(VLOOKUP(P419,Inputs,13,FALSE))&\"  \"","v":"  "},null,{"$f":"IF(LEN(M424)>2,M424&VLOOKUP(P419,Inputs,14,FALSE),VLOOKUP(P419,Inputs,14,FALSE))","v":0},null,{"$f":"IF(P419>0,VLOOKUP(P419,Inputs,15,FALSE),\"\")","v":0},{"$f":"IF(MONTH(V419)=A437,UPPER(VLOOKUP(V419,Inputs,13,FALSE))&\"  \",\"\")","v":"  "},null,{"$f":"IF(MONTH(V419)=A437,IF(LEN(R424)>0,R424&VLOOKUP(V419,Inputs,14,FALSE),VLOOKUP(V419,Inputs,14,FALSE)),\"\")","v":"  "},null,null,{"$f":"IF(MONTH(V419)=A437,IF(V419>0,VLOOKUP(V419,Inputs,15,FALSE),\"\"),0)","v":0},{"$f":"IF(MONTH(AA419)=A437,UPPER(VLOOKUP(AA419,Inputs,13,FALSE))&\"  \",\"\")","v":"  "},null,{"$f":"IF(MONTH(AA419)=A437,IF(LEN(X424)>0,X424&VLOOKUP(AA419,Inputs,14,FALSE),VLOOKUP(AA419,Inputs,14,FALSE)),\"\")","v":"  "},null,null,{"$f":"IF(MONTH(AA419)=A437,IF(AA419>0,VLOOKUP(AA419,Inputs,15,FALSE),\"\"),0)","v":0},{"$f":"IF(MONTH(AG419)=A437,UPPER(VLOOKUP(AG419,Inputs,13,FALSE))&\"  \",\"\")","v":"  "},null,{"$f":"IF(MONTH(AG419)=A437,IF(LEN(AD424)>0,AD424&VLOOKUP(AG419,Inputs,14,FALSE),VLOOKUP(AG419,Inputs,14,FALSE)),\"\")","v":"  "},null,{"$f":"IF(MONTH(AG419)=A437,IF(AG419>0,VLOOKUP(AG419,Inputs,15,FALSE),\"\"),0)","v":0},{"$f":"IF(MONTH(AL419)=A437,UPPER(VLOOKUP(AL419,Inputs,13,FALSE))&\"  \",\"\")","v":""},null,{"$f":"IF(MONTH(AL419)=A437,IF(LEN(AI424)>0,AI424&VLOOKUP(AL419,Inputs,14,FALSE),VLOOKUP(AL419,Inputs,14,FALSE)),\"\")","v":""},null,{"$f":"IF(MONTH(AL419)=A437,IF(AL419>0,VLOOKUP(AL419,Inputs,15,FALSE),\"\"),0)","v":0},null,null,{"$f":"IF($A424=AP$5,$G424,0)+IF($H424=AP$5,$L424,0)+IF($M424=AP$5,$Q424,0)+IF($R424=AP$5,$W424,0)+IF($X424=AP$5,AC424,0)+IF($AD424=AP$5,AH424,0)+IF(AI424=AP$5,AM424,0)","v":0},0,0,0,0,0,0,0,0,0,0,0,0,0]
[null,null,null,null,null,{"$f":"IF(F419>0,IF(VLOOKUP(F419,Inputs,3,FALSE)=\"T\",\"Telemarketing\",0),\"\")","v":0},null,null,null,null,{"$f":"IF(VLOOKUP(K419-1,Inputs,3,FALSE)=\"T\",0,IF(VLOOKUP(K419,Inputs,3,FALSE)=\"T\",\"Telemarketing\",0))","v":0},null,null,null,null,{"$f":"IF(VLOOKUP(P419-1,Inputs,3,FALSE)=\"T\",0,IF(VLOOKUP(P419,Inputs,3,FALSE)=\"T\",\"Telemarketing\",0))","v":0},null,null,null,null,null,{"$f":"IF(VLOOKUP(V419-1,Inputs,3,FALSE)=\"T\",0,IF(VLOOKUP(V419,Inputs,3,FALSE)=\"T\",\"Telemarketing\",0))","v":0},null,null,null,null,{"$f":"IF(VLOOKUP(AA419-1,Inputs,3,FALSE)=\"T\",0,IF(VLOOKUP(AA419,Inputs,3,FALSE)=\"T\",\"Telemarketing\",0))","v":0},null,null,null,null,null,{"$f":"IF(VLOOKUP(AG419-1,Inputs,3,FALSE)=\"T\",0,IF(VLOOKUP(AG419,Inputs,3,FALSE)=\"T\",\"Telemarketing\",0))","v":0},null,null,null,null,{"$f":"IF(VLOOKUP(AL419-1,Inputs,3,FALSE)=\"T\",0,IF(VLOOKUP(AL419,Inputs,3,FALSE)=\"T\",\"Telemarketing\",0))","v":{"$error":"#N/A"}}]
[null,null,null,null,null,{"$f":"IF(AL419>0,IF(MONTH(1+AL419)=$A437,1+AL419,0),0)","v":"00:00:00"},null,null,null,null,{"$f":"IF(F426>0,IF(MONTH(1+F426)=$A437,1+F426,0),0)","v":"00:00:00"},null,null,null,null,null,null,null,null,null,null,null,null,null,null,null,null,null,null,null,null,null,null,null,null,null,null,{"$f":"IF(AG426>0,IF(MONTH(1+AG426)=$A437,1+AG426,0),0)","v":"00:00:00"}]
[null,null,null,null,{"$f":"DAY(F426)","v":0},{"$f":"VLOOKUP(F426,Holidays,2)","v":0},null,null,null,{"$f":"DAY(K426)","v":0},{"$f":"VLOOKUP(K426,Holidays,2)","v":0},null,null,null,{"$f":"DAY(P426)","v":0},{"$f":"VLOOKUP(P426,Holidays,2)","v":0},null,null,null,{"$f":"DAY(V426)","v":0},{"$f":"VLOOKUP(V426,Holidays,2)","v":0},null,null,null,null,{"$f":"DAY(AA426)","v":0},{"$f":"VLOOKUP(AA426,Holidays,2)","v":0},null,null,null,null,{"$f":"DAY(AG426)","v":0},{"$f":"VLOOKUP(AG426,Holidays,2)","v":0},null,null,null,{"$f":"DAY(AL426)","v":0},{"$f":"VLOOKUP(AL426,Holidays,2)","v":0}]
[{"$f":"IF(MONTH(F$426)=A$437,UPPER(VLOOKUP(F$426,Inputs,4,FALSE))&\"  \",\"\")","v":""},null,null,null,{"$f":"IF(MONTH(F426)=A437,IF(LEN(A428)>0,A428&VLOOKUP(F426,Inputs,5,FALSE),VLOOKUP(F426,Inputs,5,FALSE)),\"\")","v":""},null,{"$f":"IF(MONTH(F426)=A437,IF(F426>0,VLOOKUP(F426,Inputs,6,FALSE),\"\"),0)","v":0},{"$f":"IF(MONTH(K426)=A437,UPPER(VLOOKUP(K426,Inputs,4,FALSE))&\"  \",\"\")","v":""},null,{"$f":"IF(MONTH(K426)=A437,IF(LEN(H428)>2,H428&VLOOKUP(K426,Inputs,5,FALSE),VLOOKUP(K426,Inputs,5,FALSE)),\"\")","v":""},null,{"$f":"IF(MONTH(K426)=A437,IF(K426>0,VLOOKUP(K426,Inputs,6,FALSE),\"\"),0)","v":0},{"$f":"IF(MONTH(P426)=A437,UPPER(VLOOKUP(P426,Inputs,4,FALSE))&\"  \",\"\")","v":""},null,null,null,{"$f":"IF(MONTH(P426)=A437,IF(P426>0,VLOOKUP(P426,Inputs,6,FALSE),\"\"),0)","v":0},null,null,null,null,null,null,null,null,null,null,null,null,null,null,null,null,null,null,null,null,null,null,null,null,{"$f":"IF($A428=AP$5,$G428,0)+IF($H428=AP$5,$L428,0)+IF($M428=AP$5,$Q428,0)+IF($R428=AP$5,$W428,0)+IF($X428=AP$5,AC428,0)+IF($AD428=AP$5,AH428,0)+IF(AI428=AP$5,AM428,0)","v":0},{"$f":"IF($A428=AQ$5,$G428,0)+IF($H428=AQ$5,$L428,0)+IF($M428=AQ$5,$Q428,0)+IF($R428=AQ$5,$W428,0)+IF($X428=AQ$5,$AC428,0)+IF($AD428=AQ$5,$AH428,0)+IF($AI428=AQ$5,$AM428,0)","v":0},0,0,0,0,0,0,0,0,0,0,0,0]
[{"$f":"IF(MONTH(F$426)=A$437,UPPER(VLOOKUP(F$426,Inputs,4,FALSE))&\"  \",\"\")","v":""},null,null,null,{"$f":"IF(MONTH(F426)=A437,IF(LEN(A429)>0,A429&VLOOKUP(F426,Inputs,8,FALSE),VLOOKUP(F426,Inputs,8,FALSE)),\"\")","v":""},null,{"$f":"IF(MONTH(F426)=A437,IF(F426>0,VLOOKUP(F426,Inputs,9,FALSE),\"\"),0)","v":0},{"$f":"IF(MONTH(K426)=A437,UPPER(VLOOKUP(K426,Inputs,7,FALSE))&\"  \",\"\")","v":""},null,{"$f":"IF(MONTH(K426)=A437,IF(LEN(H429)>2,H429&VLOOKUP(K426,Inputs,8,FALSE),VLOOKUP(K426,Inputs,8,FALSE)),\"\")","v":""},null,{"$f":"IF(MONTH(K426)=A437,IF(K426>0,VLOOKUP(K426,Inputs,9,FALSE),\"\"),0)","v":0},{"$f":"IF(MONTH(P426)=A437,UPPER(VLOOKUP(P426,Inputs,7,FALSE))&\"  \",\"\")","v":""},null,null,null,{"$f":"IF(MONTH(P426)=A437,IF(P426>0,VLOOKUP(P426,Inputs,9,FALSE),\"\"),0)","v":0},null,null,null,null,null,null,null,null,null,null,null,null,null,null,null,null,null,null,null,null,null,null,null,null,{"$f":"IF($A429=AP$5,$G429,0)+IF($H429=AP$5,$L429,0)+IF($M429=AP$5,$Q429,0)+IF($R429=AP$5,$W429,0)+IF($X429=AP$5,AC429,0)+IF($AD429=AP$5,AH429,0)+IF(AI429=AP$5,AM429,0)","v":0},0,0,0,0,0,0,0,0,0,0,0,0,0]
[{"$f":"IF(MONTH(F$426)=A$437,UPPER(VLOOKUP(F$426,Inputs,4,FALSE))&\"  \",\"\")","v":""},null,null,null,{"$f":"IF(MONTH(F426)=A437,IF(LEN(A430)>0,A430&VLOOKUP(F426,Inputs,11,FALSE),VLOOKUP(F426,Inputs,11,FALSE)),\"\")","v":""},null,{"$f":"IF(MONTH(F426)=A437,IF(F426>0,VLOOKUP(F426,Inputs,12,FALSE),\"\"),0)","v":0},{"$f":"IF(MONTH(K426)=A437,UPPER(VLOOKUP(K426,Inputs,10,FALSE))&\"  \",\"\")","v":""},null,{"$f":"IF(MONTH(K426)=A437,IF(LEN(H430)>2,H430&VLOOKUP(K426,Inputs,11,FALSE),VLOOKUP(K426,Inputs,11,FALSE)),\"\")","v":""},null,{"$f":"IF(MONTH(K426)=A437,IF(K426>0,VLOOKUP(K426,Inputs,12,FALSE),\"\"),0)","v":0},{"$f":"IF(MONTH(P426)=A437,UPPER(VLOOKUP(P426,Inputs,10,FALSE))&\"  \",\"\")","v":""},null,null,null,{"$f":"IF(MONTH(P426)=A437,IF(P426>0,VLOOKUP(P426,Inputs,12,FALSE),\"\"),0)","v":0},null,null,null,null,null,null,null,null,null,null,null,null,null,null,null,null,null,null,null,null,null,null,null,null,{"$f":"IF($A430=AP$5,$G430,0)+IF($H430=AP$5,$L430,0)+IF($M430=AP$5,$Q430,0)+IF($R430=AP$5,$W430,0)+IF($X430=AP$5,AC430,0)+IF($AD430=AP$5,AH430,0)+IF(AI430=AP$5,AM430,0)","v":0},0,0,0,0,0,0,0,0,0,0,0,0,0]
[{"$f":"IF(MONTH(F$426)=A$437,UPPER(VLOOKUP(F$426,Inputs,4,FALSE))&\"  \",\"\")","v":""},null,null,null,{"$f":"IF(MONTH(F426)=A437,IF(LEN(A431)>0,A431&VLOOKUP(F426,Inputs,14,FALSE),VLOOKUP(F426,Inputs,14,FALSE)),\"\")","v":""},null,{"$f":"IF(MONTH(F426)=A437,IF(F426>0,VLOOKUP(F426,Inputs,15,FALSE),\"\"),0)","v":0},{"$f":"IF(MONTH(K426)=A437,UPPER(VLOOKUP(K426,Inputs,13,FALSE))&\"  \",\"\")","v":""},null,{"$f":"IF(MONTH(K426)=A437,IF(LEN(H431)>2,H431&VLOOKUP(K426,Inputs,14,FALSE),VLOOKUP(K426,Inputs,14,FALSE)),\"\")","v":""},null,{"$f":"IF(MONTH(K426)=A437,IF(K426>0,VLOOKUP(K426,Inputs,15,FALSE),\"\"),0)","v":0},{"$f":"IF(MONTH(P426)=A437,UPPER(VLOOKUP(P426,Inputs,13,FALSE))&\"  \",\"\")","v":""},null,null,null,{"$f":"IF(MONTH(P426)=A437,IF(P426>0,VLOOKUP(P426,Inputs,15,FALSE),\"\"),0)","v":0},null,null,null,null,null,null,null,null,null,null,null,null,null,null,null,null,null,null,null,null,null,null,null,null,{"$f":"IF($A431=AP$5,$G431,0)+IF($H431=AP$5,$L431,0)+IF($M431=AP$5,$Q431,0)+IF($R431=AP$5,$W431,0)+IF($X431=AP$5,AC431,0)+IF($AD431=AP$5,AH431,0)+IF(AI431=AP$5,AM431,0)","v":0},0,0,0,0,0,0,0,0,0,0,0,0,0]
[null,null,null,null,null,{"$f":"IF(F426>0,IF(VLOOKUP(F426,Inputs,3,FALSE)=\"T\",\"Telemarketing\",0),\"\")","v":""},null,null,null,null,{"$f":"IF(VLOOKUP(K426-1,Inputs,3,FALSE)=\"T\",0,IF(VLOOKUP(K426,Inputs,3,FALSE)=\"T\",\"Telemarketing\",0))","v":{"$error":"#N/A"}},null,null,null,null,null,null,null,null,null,null,null,null,null,null,null,null,null,null,null,null,null,null,null,null,null,null,null,null,null,null,{"$f":"SUM(AP392:AP431)","v":0},0,0,0,0,0,0,0,{"$f":"SUM(AX392:AX431)","v":0},0,0,0,0,0]
[]
[null,null,null,null,{"$f":"\"CODE KEY:  \"&'Company Setup'!L$22&'Company Setup'!L$23&'Company Setup'!L$24&'Company Setup'!L$25&'Company Setup'!L$26&'Company Setup'!L$27&'Company Setup'!L$28&'Company Setup'!L$29&'Company Setup'!L$30&'Company Setup'!L$31&'Company Setup'!L$32&'Company Setup'!L$33&'Company Setup'!L$33&'Company Setup'!L$34&'Company Setup'!L$35","v":"CODE KEY:  B=Broadcast, L=Letter, P=Postcard, F=Flyer, H=Hanger, I=Newspaper Ads, N=Newsletter, E=E-Mail, A=Banner Ads, Y=Yellow Pages, "}]
[null,null,null,null,null,null,null,null,null,null,null,null,null,null,null,null,null,null,null,null,null,null,null,null,null,{"$f":"'Company Setup'!D$30","v":"Broadcast"},{"$f":"AP432","v":0},null,null,null,null,null,null,{"$f":"'Company Setup'!D$29","v":"E-Mail"},null,null,{"$f":"AW432","v":0}]
[null,null,null,null,null,null,"Revenue Budget",null,null,{"$f":"VLOOKUP(A437,ClientTable,2,FALSE)","v":86677},null,null,null,null,null,{"$f":"'Company Setup'!$E$5","v":"Reviews"},{"$f":"VLOOKUP(A437,ClientTable,3)","v":0},null,null,null,null,null,null,null,null,{"$f":"'Company Setup'!D$23","v":"Letter"},{"$f":"AQ432","v":0},null,null,null,null,null,null,{"$f":"'Company Setup'!D30","v":"Broadcast"},null,null,{"$f":"AX432","v":0}]
[{"$f":"IF(A382=12,1,A382+1)","v":8},null,null,null,null,null,"Monthly Marketing Budget",null,null,{"$f":"VLOOKUP(A437,ClientTable,7,FALSE)*VLOOKUP(A437,ClientTable,2,FALSE)","v":4333.8500000000004},null,null,null,null,null,{"$f":"'Company Setup'!$F$5","v":"SEO"},{"$f":"VLOOKUP(A437,ClientTable,4)","v":0},null,null,null,null,null,null,null,null,{"$f":"'Company Setup'!D$24","v":"Postcard"},{"$f":"AR432","v":0},null,null,null,null,null,null,{"$f":"'Company Setup'!D$31","v":"Banner Ads"},null,null,{"$f":"AY432","v":0}]
[{"$f":"VLOOKUP(A437,ClientTable,9)","v":8},null,null,null,null,null,"Month's End Marketing Cost",null,null,{"$f":"SUM(AK435:AK440)+SUM(AA435:AA441)+SUM(Q435:Q441)","v":0},null,null,null,null,null,{"$f":"'Company Setup'!$H$5","v":"Community Events"},{"$f":"VLOOKUP(A437,ClientTable,5)","v":0},null,null,null,null,null,null,null,null,{"$f":"'Company Setup'!D$25","v":"Flyer"},{"$f":"AS432","v":0},null,null,null,null,null,null,{"$f":"'Company Setup'!D$32","v":"Yellow Pages"},null,null,{"$f":"AZ432","v":0}]
[null,null,null,null,null,null,"Variance",null,null,{"$f":"J438-J437","v":-4333.8500000000004},null,null,null,null,null,{"$f":"'Company Setup'!G5","v":"Shows & Contests"},{"$f":"VLOOKUP(A437,ClientTable,6)","v":0},null,null,null,null,null,null,null,null,{"$f":"'Company Setup'!D$26","v":"Hanger"},{"$f":"AT432","v":0},null,null,null,null,null,null,{"$f":"'Company Setup'!D$33","v":0},null,null,{"$f":"BA432","v":0}]
[null,null,null,null,null,null,null,null,null,null,null,null,null,null,null,null,null,null,null,null,null,null,null,null,null,{"$f":"'Company Setup'!D$27","v":"Newspaper Ads"},{"$f":"AU432","v":0},null,null,null,null,null,null,{"$f":"'Company Setup'!D$34","v":0},null,null,{"$f":"BB432","v":0}]
[null,null,null,{"$f":"MONTH(StartMonth)","v":{"$error":"#VALUE!"}},"©",{"$f":"+F56","v":"Bedrock Markets, Inc. 2000 - 2100"},null,null,null,null,null,null,null,null,null,null,null,null,null,null,null,null,null,null,null,{"$f":"'Company Setup'!D$28","v":"Newsletter"},{"$f":"AV432","v":0},null,null,null,null,null,null,{"$f":"'Company Setup'!D$35","v":0},null,null,{"$f":"BC432","v":0}]
[]
[null,null,null,null,{"$f":"IF(E388=12,1,E388+1)","v":9},{"$f":"VLOOKUP(E443,Monthlookup2,2)&\" \"&YEAR(Calendar!S253)","v":"September 2018"},null,null,null,null,null,null,null,null,null,{"$f":"P$3","v":"   ABC Heating and Air"},null,null,null,null,null,null,null,null,null,null,null,null,null,null,null,null,null,null,null,null,null,null,null,null,"Importante!  Add 2 spaces after code - es muy neccesita"]
[]
[null,null,null,null,"Sunday",null,null,null,null,"Monday",null,null,null,null,"Tuesday",null,null,null,null,"Wednesday",null,null,null,null,null,"Thursday",null,null,null,null,null,"Friday",null,null,null,null,"Saturday"]
[null,null,null,null,null,{"$f":"IF(VLOOKUP(DATE(RIGHT($F443,4),$A492,1),Calendar,3)=1,DATE(RIGHT($F443,4),$A492,1),0)","v":"00:00:00"},null,null,null,null,{"$f":"IF(E447>0,F446+1,IF(VLOOKUP(DATE(RIGHT($F443,4),$A492,1),Calendar,3)=2,DATE(RIGHT($F443,4),$A492,1),0))","v":"00:00:00"},null,null,null,null,{"$f":"IF(J447>0,K446+1,IF(VLOOKUP(DATE(RIGHT($F443,4),$A492,1),Calendar,3)=3,DATE(RIGHT($F443,4),$A492,1),0))","v":"00:00:00"},null,null,null,null,null,{"$f":"IF(O447>0,P446+1,IF(VLOOKUP(DATE(RIGHT($F443,4),$A492,1),Calendar,3)=4,DATE(RIGHT($F443,4),$A492,1),0))","v":"00:00:00"},null,null,null,null,{"$f":"IF(T447>0,V446+1,IF(VLOOKUP(DATE(RIGHT($F443,4),$A492,1),Calendar,3)=5,DATE(RIGHT($F443,4),$A492,1),0))","v":"00:00:00"},null,null,null,null,null,{"$f":"IF(Z447>0,AA446+1,IF(VLOOKUP(DATE(RIGHT($F443,4),$A492,1),Calendar,3)=6,DATE(RIGHT($F443,4),$A492,1),0))","v":"00:00:00"},null,null,null,null,{"$f":"IF(AF447>0,AG446+1,IF(VLOOKUP(DATE(RIGHT($F443,4),$A492,1),Calendar,3)=7,DATE(RIGHT($F443,4),$A492,1),0))","v":"2018-09-01"}]
[null,null,null,null,{"$f":"DAY(F446)","v":0},{"$f":"IF(F446>0,VLOOKUP(F446,Holidays,2),0)","v":0},null,null,null,{"$f":"DAY(K446)","v":0},{"$f":"IF(K446>0,VLOOKUP(K446,Holidays,2),0)","v":0},null,null,null,{"$f":"DAY(P446)","v":0},{"$f":"IF(P446>0,VLOOKUP(P446,Holidays,2),0)","v":0},null,null,null,{"$f":"DAY(V446)","v":0},{"$f":"IF(V446>0,VLOOKUP(V446,Holidays,2),0)","v":0},null,null,null,null,{"$f":"DAY(AA446)","v":0},{"$f":"IF(AA446>0,VLOOKUP(AA446,Holidays,2),0)","v":0},null,null,null,null,{"$f":"DAY(AG446)","v":0},{"$f":"IF(AG446>0,VLOOKUP(AG446,Holidays,2),0)","v":0},null,null,null,{"$f":"DAY(AL446)","v":1},{"$f":"IF(AL446>0,VLOOKUP(AL446,Holidays,2),0)","v":""}]
[{"$f":"IF(F446>1,UPPER(VLOOKUP(F446,Inputs,4,FALSE))&\"  \",0)","v":0},null,null,null,{"$f":"IF(F446>0,IF(LEN(A448)>2,A448&VLOOKUP(F446,Inputs,5,FALSE),VLOOKUP(F446,Inputs,5,FALSE)),\"\")","v":""},null,{"$f":"IF(F446>0,VLOOKUP(F446,Inputs,6,FALSE),\"\")","v":""},{"$f":"IF(K446>1,UPPER(VLOOKUP(K446,Inputs,4,FALSE))&\"  \",0)","v":0},null,{"$f":"IF(K446>0,IF(LEN(H448)>2,H448&VLOOKUP(K446,Inputs,5,FALSE),VLOOKUP(K446,Inputs,5,FALSE)),\"\")","v":""},null,{"$f":"IF(K446>0,VLOOKUP(K446,Inputs,6,FALSE),\"\")","v":""},{"$f":"IF(P446>1,UPPER(VLOOKUP(P446,Inputs,4,FALSE))&\"  \",0)","v":0},null,{"$f":"IF(P446>0,IF(LEN(M448)>2,M448&VLOOKUP(P446,Inputs,5,FALSE),VLOOKUP(P446,Inputs,5,FALSE)),\"\")","v":""},null,{"$f":"IF(P446>0,VLOOKUP(P446,Inputs,6,FALSE),\"\")","v":""},{"$f":"IF(V446>1,UPPER(VLOOKUP(V446,Inputs,4,FALSE))&\"  \",0)","v":0},null,{"$f":"IF(V446>0,IF(LEN(R448)>2,R448&VLOOKUP(V446,Inputs,5,FALSE),VLOOKUP(V446,Inputs,5,FALSE)),\"\")","v":""},null,null,{"$f":"IF(V446>0,VLOOKUP(V446,Inputs,6,FALSE),\"\")","v":""},{"$f":"IF(AA446>1,UPPER(VLOOKUP(AA446,Inputs,4,FALSE))&\"  \",0)","v":0},null,{"$f":"IF(AA446>0,IF(LEN(X448)>2,X448&VLOOKUP(AA446,Inputs,5,FALSE),VLOOKUP(AA446,Inputs,5,FALSE)),\"\")","v":""},null,null,{"$f":"IF(AA446>0,VLOOKUP(AA446,Inputs,6,FALSE),\"\")","v":""},{"$f":"IF(AG446>1,UPPER(VLOOKUP(AG446,Inputs,4,FALSE))&\"  \",0)","v":0},null,{"$f":"IF(AG446>0,IF(LEN(AD448)>2,AD448&VLOOKUP(AG446,Inputs,5,FALSE),VLOOKUP(AG446,Inputs,5,FALSE)),\"\")","v":""},null,{"$f":"IF(AG446>0,VLOOKUP(AG446,Inputs,6,FALSE),\"\")","v":""},{"$f":"UPPER(VLOOKUP(AL446,Inputs,4,FALSE))&\"  \"","v":"  "},null,{"$f":"IF(LEN(AI448)>2,AI448&VLOOKUP(AL446,Inputs,5,FALSE),VLOOKUP(AL446,Inputs,5,FALSE))","v":0},null,{"$f":"VLOOKUP(AL446,Inputs,6,FALSE)","v":0},null,null,{"$f":"IF($A448=AP$5,$G448,0)+IF($H448=AP$5,$L448,0)+IF($M448=AP$5,$Q448,0)+IF($R448=AP$5,$W448,0)+IF($X448=AP$5,AC448,0)+IF($AD448=AP$5,AH448,0)+IF(AI448=AP$5,AM448,0)","v":0},{"$f":"IF($A448=AQ$5,$G448,0)+IF($H448=AQ$5,$L448,0)+IF($M448=AQ$5,$Q448,0)+IF($R448=AQ$5,$W448,0)+IF($X448=AQ$5,$AC448,0)+IF($AD448=AQ$5,$AH448,0)+IF($AI448=AQ$5,$AM448,0)","v":0},0,0,0,0,0,0,0,0,0,0,0,0]
[{"$f":"IF(F446>1,UPPER(VLOOKUP(F446,Inputs,7,FALSE))&\"  \",0)","v":0},null,null,null,{"$f":"IF(F446>0,IF(LEN(A449)>2,A449&VLOOKUP(F446,Inputs,8,FALSE),VLOOKUP(F446,Inputs,8,FALSE)),\"\")","v":""},null,{"$f":"IF(F446>0,VLOOKUP(F446,Inputs,9,FALSE),\"\")","v":""},{"$f":"IF(K446>1,UPPER(VLOOKUP(K446,Inputs,7,FALSE))&\"  \",0)","v":0},null,{"$f":"IF(K446>0,IF(LEN(H449)>2,H449&VLOOKUP(K446,Inputs,8,FALSE),VLOOKUP(K446,Inputs,8,FALSE)),\"\")","v":""},null,{"$f":"IF(K446>0,VLOOKUP(K446,Inputs,9,FALSE),\"\")","v":""},{"$f":"IF(P446>1,UPPER(VLOOKUP(P446,Inputs,7,FALSE))&\"  \",0)","v":0},null,{"$f":"IF(P446>0,IF(LEN(M449)>2,M449&VLOOKUP(P446,Inputs,8,FALSE),VLOOKUP(P446,Inputs,8,FALSE)),\"\")","v":""},null,{"$f":"IF(P446>0,VLOOKUP(P446,Inputs,9,FALSE),\"\")","v":""},{"$f":"IF(V446>1,UPPER(VLOOKUP(V446,Inputs,7,FALSE))&\"  \",0)","v":0},null,{"$f":"IF(V446>0,IF(LEN(R449)>2,R449&VLOOKUP(V446,Inputs,8,FALSE),VLOOKUP(V446,Inputs,8,FALSE)),\"\")","v":""},null,null,{"$f":"IF(V446>0,VLOOKUP(V446,Inputs,9,FALSE),\"\")","v":""},{"$f":"IF(AA446>1,UPPER(VLOOKUP(AA446,Inputs,7,FALSE))&\"  \",0)","v":0},null,{"$f":"IF(AA446>0,IF(LEN(X449)>2,X449&VLOOKUP(AA446,Inputs,8,FALSE),VLOOKUP(AA446,Inputs,8,FALSE)),\"\")","v":""},null,null,{"$f":"IF(AA446>0,VLOOKUP(AA446,Inputs,9,FALSE),\"\")","v":""},{"$f":"IF(AG446>1,UPPER(VLOOKUP(AG446,Inputs,7,FALSE))&\"  \",0)","v":0},null,{"$f":"IF(AG446>0,IF(LEN(AD449)>2,AD449&VLOOKUP(AG446,Inputs,8,FALSE),VLOOKUP(AG446,Inputs,8,FALSE)),\"\")","v":""},null,{"$f":"IF(AG446>0,VLOOKUP(AG446,Inputs,9,FALSE),\"\")","v":""},{"$f":"UPPER(VLOOKUP(AL446,Inputs,7,FALSE))&\"  \"","v":"  "},null,{"$f":"IF(LEN(AI449)>2,AI449&VLOOKUP(AL446,Inputs,8,FALSE),VLOOKUP(AL446,Inputs,8,FALSE))","v":0},null,{"$f":"VLOOKUP(AL446,Inputs,9,FALSE)","v":0},null,null,{"$f":"IF($A449=AP$5,$G449,0)+IF($H449=AP$5,$L449,0)+IF($M449=AP$5,$Q449,0)+IF($R449=AP$5,$W449,0)+IF($X449=AP$5,AC449,0)+IF($AD449=AP$5,AH449,0)+IF(AI449=AP$5,AM449,0)","v":0},0,0,0,0,0,0,0,0,0,0,0,0,0,null,"530-345-3280"]
[{"$f":"IF(F446>1,UPPER(VLOOKUP(F446,Inputs,10,FALSE))&\"  \",0)","v":0},null,null,null,{"$f":"IF(F446>0,IF(LEN(A450)>2,A450&VLOOKUP(F446,Inputs,11,FALSE),VLOOKUP(F446,Inputs,11,FALSE)),\"\")","v":""},null,{"$f":"IF(F446>0,VLOOKUP(F446,Inputs,12,FALSE),\"\")","v":""},{"$f":"IF(K446>1,UPPER(VLOOKUP(K446,Inputs,10,FALSE))&\"  \",0)","v":0},null,{"$f":"IF(K446>0,IF(LEN(H450)>0,H450&VLOOKUP(K446,Inputs,11,FALSE),VLOOKUP(K446,Inputs,11,FALSE)),\"\")","v":""},null,{"$f":"IF(K446>0,VLOOKUP(K446,Inputs,12,FALSE),\"\")","v":""},{"$f":"IF(P446>1,UPPER(VLOOKUP(P446,Inputs,10,FALSE))&\"  \",0)","v":0},null,{"$f":"IF(P446>0,IF(LEN(M450)>0,M450&VLOOKUP(P446,Inputs,11,FALSE),VLOOKUP(P446,Inputs,11,FALSE)),\"\")","v":""},null,{"$f":"IF(P446>0,VLOOKUP(P446,Inputs,12,FALSE),\"\")","v":""},{"$f":"IF(V446>1,UPPER(VLOOKUP(V446,Inputs,10,FALSE))&\"  \",0)","v":0},null,{"$f":"IF(V446>0,IF(LEN(R450)>0,R450&VLOOKUP(V446,Inputs,11,FALSE),VLOOKUP(V446,Inputs,11,FALSE)),\"\")","v":""},null,null,{"$f":"IF(V446>0,VLOOKUP(V446,Inputs,12,FALSE),\"\")","v":""},{"$f":"IF(AA446>1,UPPER(VLOOKUP(AA446,Inputs,10,FALSE))&\"  \",0)","v":0},null,{"$f":"IF(AA446>0,IF(LEN(X450)>0,X450&VLOOKUP(AA446,Inputs,11,FALSE),VLOOKUP(AA446,Inputs,11,FALSE)),\"\")","v":""},null,null,{"$f":"IF(AA446>0,VLOOKUP(AA446,Inputs,12,FALSE),\"\")","v":""},{"$f":"IF(AG446>1,UPPER(VLOOKUP(AG446,Inputs,10,FALSE))&\"  \",0)","v":0},null,{"$f":"IF(AG446>0,IF(LEN(AD450)>0,AD450&VLOOKUP(AG446,Inputs,11,FALSE),VLOOKUP(AG446,Inputs,11,FALSE)),\"\")","v":""},null,{"$f":"IF(AG446>0,VLOOKUP(AG446,Inputs,12,FALSE),\"\")","v":""},{"$f":"UPPER(VLOOKUP(AL446,Inputs,10,FALSE))&\"  \"","v":"  "},null,{"$f":"IF(LEN(AI450)>2,AI450&VLOOKUP(AL446,Inputs,11,FALSE),VLOOKUP(AL446,Inputs,11,FALSE))","v":0},null,{"$f":"VLOOKUP(AL446,Inputs,12,FALSE)","v":0},null,null,{"$f":"IF($A450=AP$5,$G450,0)+IF($H450=AP$5,$L450,0)+IF($M450=AP$5,$Q450,0)+IF($R450=AP$5,$W450,0)+IF($X450=AP$5,AC450,0)+IF($AD450=AP$5,AH450,0)+IF(AI450=AP$5,AM450,0)","v":0},0,0,0,0,0,0,0,0,0,0,0,0,0,null,"2540 Zanella Way, Suite 20"]
[{"$f":"IF(F446>1,UPPER(VLOOKUP(F446,Inputs,13,FALSE))&\"  \",0)","v":0},null,null,null,{"$f":"IF(F446>0,IF(LEN(A451)>2,A451&VLOOKUP(F446,Inputs,14,FALSE),VLOOKUP(F446,Inputs,14,FALSE)),\"\")","v":""},null,{"$f":"IF(F446>0,VLOOKUP(F446,Inputs,15,FALSE),\"\")","v":""},{"$f":"IF(K446>1,UPPER(VLOOKUP(K446,Inputs,13,FALSE))&\"  \",0)","v":0},null,{"$f":"IF(K446>0,IF(LEN(H451)>2,H451&VLOOKUP(K446,Inputs,14,FALSE),VLOOKUP(K446,Inputs,14,FALSE)),\"\")","v":""},null,{"$f":"IF(K446>0,VLOOKUP(K446,Inputs,15,FALSE),\"\")","v":""},{"$f":"IF(P446>1,UPPER(VLOOKUP(P446,Inputs,13,FALSE))&\"  \",0)","v":0},null,{"$f":"IF(P446>0,IF(LEN(M451)>2,M451&VLOOKUP(P446,Inputs,14,FALSE),VLOOKUP(P446,Inputs,14,FALSE)),\"\")","v":""},null,{"$f":"IF(P446>0,VLOOKUP(P446,Inputs,15,FALSE),\"\")","v":""},{"$f":"IF(V446>1,UPPER(VLOOKUP(V446,Inputs,13,FALSE))&\"  \",0)","v":0},null,{"$f":"IF(V446>0,IF(LEN(R451)>2,R451&VLOOKUP(V446,Inputs,14,FALSE),VLOOKUP(V446,Inputs,14,FALSE)),\"\")","v":""},null,null,{"$f":"IF(V446>0,VLOOKUP(V446,Inputs,15,FALSE),\"\")","v":""},{"$f":"IF(AA446>1,UPPER(VLOOKUP(AA446,Inputs,13,FALSE))&\"  \",0)","v":0},null,{"$f":"IF(AA446>0,IF(LEN(X451)>2,X451&VLOOKUP(AA446,Inputs,14,FALSE),VLOOKUP(AA446,Inputs,14,FALSE)),\"\")","v":""},null,null,{"$f":"IF(AA446>0,VLOOKUP(AA446,Inputs,15,FALSE),\"\")","v":""},{"$f":"IF(AG446>1,UPPER(VLOOKUP(AG446,Inputs,13,FALSE))&\"  \",0)","v":0},null,{"$f":"IF(AG446>0,IF(LEN(AD451)>2,AD451&VLOOKUP(AG446,Inputs,14,FALSE),VLOOKUP(AG446,Inputs,14,FALSE)),\"\")","v":""},null,{"$f":"IF(AG446>0,VLOOKUP(AG446,Inputs,15,FALSE),\"\")","v":""},{"$f":"UPPER(VLOOKUP(AL446,Inputs,13,FALSE))&\"  \"","v":"  "},null,{"$f":"IF(LEN(AI451)>2,AI451&VLOOKUP(AL446,Inputs,14,FALSE),VLOOKUP(AL446,Inputs,14,FALSE))","v":0},null,{"$f":"VLOOKUP(AL446,Inputs,15,FALSE)","v":0},null,null,{"$f":"IF($A451=AP$5,$G451,0)+IF($H451=AP$5,$L451,0)+IF($M451=AP$5,$Q451,0)+IF($R451=AP$5,$W451,0)+IF($X451=AP$5,AC451,0)+IF($AD451=AP$5,AH451,0)+IF(AI451=AP$5,AM451,0)","v":0},0,0,0,0,0,0,0,0,0,0,0,0,0,null,"    Chico, CA 95928"]
[null,null,null,null,null,{"$f":"IF(F446>0,IF(VLOOKUP(F446,Inputs,3,FALSE)=\"T\",\"Telemarketing\",0),\"\")","v":""},null,null,null,null,{"$f":"IF(F446>0,IF(VLOOKUP(F446,Inputs,3,FALSE)=\"T\",0,IF(VLOOKUP(K446,Inputs,3,FALSE)=\"T\",\"Telemarketing\",0)),IF(VLOOKUP(K446,Inputs,3,FALSE)=\"T\",\"Telemarketing\",0))","v":0},null,null,null,null,{"$f":"IF(K446>0,IF(VLOOKUP(K446,Inputs,3,FALSE)=\"T\",0,IF(VLOOKUP(P446,Inputs,3,FALSE)=\"T\",\"Telemarketing\",0)),IF(VLOOKUP(P446,Inputs,3,FALSE)=\"T\",\"Telemarketing\",0))","v":0},null,null,null,null,null,{"$f":"IF(P446>0,IF(VLOOKUP(P446,Inputs,3,FALSE)=\"T\",0,IF(VLOOKUP(V446,Inputs,3,FALSE)=\"T\",\"Telemarketing\",0)),IF(VLOOKUP(V446,Inputs,3,FALSE)=\"T\",\"Telemarketing\",0))","v":0},null,null,null,null,{"$f":"IF(V446>0,IF(VLOOKUP(V446,Inputs,3,FALSE)=\"T\",0,IF(VLOOKUP(AA446,Inputs,3,FALSE)=\"T\",\"Telemarketing\",0)),IF(VLOOKUP(AA446,Inputs,3,FALSE)=\"T\",\"Telemarketing\",0))","v":0},null,null,null,null,null,{"$f":"IF(AA446>0,IF(VLOOKUP(AA446,Inputs,3,FALSE)=\"T\",0,IF(VLOOKUP(AG446,Inputs,3,FALSE)=\"T\",\"Telemarketing\",0)),IF(VLOOKUP(AG446,Inputs,3,FALSE)=\"T\",\"Telemarketing\",0))","v":0},null,null,null,null,{"$f":"IF(AG446>0,IF(VLOOKUP(AG446,Inputs,3,FALSE)=\"T\",0,IF(VLOOKUP(AL446,Inputs,3,FALSE)=\"T\",\"Telemarketing\",0)),IF(VLOOKUP(AL446,Inputs,3,FALSE)=\"T\",\"Telemarketing\",0))","v":0}]
[null,null,null,null,null,{"$f":"1+AL446","v":"2018-09-02"},null,null,null,null,{"$f":"1+F453","v":"2018-09-03"},null,null,null,null,{"$f":"1+K453","v":"2018-09-04"},null,null,null,null,null,{"$f":"1+P453","v":"2018-09-05"},null,null,null,null,{"$f":"1+V453","v":"2018-09-06"},null,null,null,null,null,{"$f":"1+AA453","v":"2018-09-07"},null,null,null,null,{"$f":"1+AG453","v":"2018-09-08"}]
[null,null,null,null,{"$f":"DAY(F453)","v":2},{"$f":"IF(F453>0,VLOOKUP(F453,Holidays,2),0)","v":""},null,null,null,{"$f":"DAY(K453)","v":3},{"$f":"IF(K453>0,VLOOKUP(K453,Holidays,2),0)","v":"Labor Day"},null,null,null,{"$f":"DAY(P453)","v":4},{"$f":"IF(P453>0,VLOOKUP(P453,Holidays,2),0)","v":""},null,null,null,{"$f":"DAY(V453)","v":5},{"$f":"IF(V453>0,VLOOKUP(V453,Holidays,2),0)","v":""},null,null,null,null,{"$f":"DAY(AA453)","v":6},{"$f":"IF(AA453>0,VLOOKUP(AA453,Holidays,2),0)","v":""},null,null,null,null,{"$f":"DAY(AG453)","v":7},{"$f":"IF(AG453>0,VLOOKUP(AG453,Holidays,2),0)","v":""},null,null,null,{"$f":"DAY(AL453)","v":8},{"$f":"IF(AL453>0,VLOOKUP(AL453,Holidays,2),0)","v":""}]
[{"$f":"UPPER(VLOOKUP(F453,Inputs,4,FALSE))&\"  \"","v":"  "},null,null,null,{"$f":"IF(LEN(A455)>2,A455&VLOOKUP(F453,Inputs,5,FALSE),VLOOKUP(F453,Inputs,5,FALSE))","v":0},null,{"$f":"IF(F453>0,VLOOKUP(F453,Inputs,6,FALSE),\"\")","v":0},{"$f":"UPPER(VLOOKUP(K453,Inputs,4,FALSE))&\"  \"","v":"  "},null,{"$f":"IF(LEN(H455)>2,H455&VLOOKUP(K453,Inputs,5,FALSE),VLOOKUP(K453,Inputs,5,FALSE))","v":0},null,{"$f":"IF(K453>0,VLOOKUP(K453,Inputs,6,FALSE),\"\")","v":0},{"$f":"UPPER(VLOOKUP(P453,Inputs,4,FALSE))&\"  \"","v":"  "},null,{"$f":"IF(LEN(M455)>2,M455&VLOOKUP(P453,Inputs,5,FALSE),VLOOKUP(P453,Inputs,5,FALSE))","v":0},null,{"$f":"IF(P453>0,VLOOKUP(P453,Inputs,6,FALSE),\"\")","v":0},{"$f":"UPPER(VLOOKUP(V453,Inputs,4,FALSE))&\"  \"","v":"  "},null,{"$f":"IF(LEN(R455)>2,R455&VLOOKUP(V453,Inputs,5,FALSE),VLOOKUP(V453,Inputs,5,FALSE))","v":0},null,null,{"$f":"IF(V453>0,VLOOKUP(V453,Inputs,6,FALSE),\"\")","v":0},{"$f":"UPPER(VLOOKUP(AA453,Inputs,4,FALSE))&\"  \"","v":"  "},null,{"$f":"IF(LEN(X455)>2,X455&VLOOKUP(AA453,Inputs,5,FALSE),VLOOKUP(AA453,Inputs,5,FALSE))","v":0},null,null,{"$f":"IF(AA453>0,VLOOKUP(AA453,Inputs,6,FALSE),\"\")","v":0},{"$f":"UPPER(VLOOKUP(AG453,Inputs,4,FALSE))&\"  \"","v":"  "},null,{"$f":"IF(LEN(AD455)>2,AD455&VLOOKUP(AG453,Inputs,5,FALSE),VLOOKUP(AG453,Inputs,5,FALSE))","v":0},null,{"$f":"IF(AG453>0,VLOOKUP(AG453,Inputs,6,FALSE),\"\")","v":0},{"$f":"UPPER(VLOOKUP(AL453,Inputs,4,FALSE))&\"  \"","v":"  "},null,{"$f":"IF(LEN(AI455)>2,AI455&VLOOKUP(AL453,Inputs,5,FALSE),VLOOKUP(AL453,Inputs,5,FALSE))","v":0},null,{"$f":"IF(AL453>0,VLOOKUP(AL453,Inputs,6,FALSE),\"\")","v":0},null,null,{"$f":"IF($A455=AP$5,$G455,0)+IF($H455=AP$5,$L455,0)+IF($M455=AP$5,$Q455,0)+IF($R455=AP$5,$W455,0)+IF($X455=AP$5,AC455,0)+IF($AD455=AP$5,AH455,0)+IF(AI455=AP$5,AM455,0)","v":0},{"$f":"IF($A455=AQ$5,$G455,0)+IF($H455=AQ$5,$L455,0)+IF($M455=AQ$5,$Q455,0)+IF($R455=AQ$5,$W455,0)+IF($X455=AQ$5,$AC455,0)+IF($AD455=AQ$5,$AH455,0)+IF($AI455=AQ$5,$AM455,0)","v":0},0,0,0,0,0,0,0,0,0,0,0,0,null,"      TheBedrock.com"]
[{"$f":"UPPER(VLOOKUP(F453,Inputs,7,FALSE))&\"  \"","v":"  "},null,null,null,{"$f":"IF(LEN(A456)>2,A456&VLOOKUP(F453,Inputs,8,FALSE),VLOOKUP(F453,Inputs,8,FALSE))","v":0},null,{"$f":"IF(F453>0,VLOOKUP(F453,Inputs,9,FALSE),\"\")","v":0},{"$f":"UPPER(VLOOKUP(K453,Inputs,7,FALSE))&\"  \"","v":"  "},null,{"$f":"IF(LEN(H456)>2,H456&VLOOKUP(K453,Inputs,8,FALSE),VLOOKUP(K453,Inputs,8,FALSE))","v":0},null,{"$f":"IF(K453>0,VLOOKUP(K453,Inputs,9,FALSE),\"\")","v":0},{"$f":"UPPER(VLOOKUP(P453,Inputs,7,FALSE))&\"  \"","v":"  "},null,{"$f":"IF(LEN(M456)>2,M456&VLOOKUP(P453,Inputs,8,FALSE),VLOOKUP(P453,Inputs,8,FALSE))","v":0},null,{"$f":"IF(P453>0,VLOOKUP(P453,Inputs,9,FALSE),\"\")","v":0},{"$f":"UPPER(VLOOKUP(V453,Inputs,7,FALSE))&\"  \"","v":"  "},null,{"$f":"IF(LEN(R456)>2,R456&VLOOKUP(V453,Inputs,8,FALSE),VLOOKUP(V453,Inputs,8,FALSE))","v":0},null,null,{"$f":"IF(V453>0,VLOOKUP(V453,Inputs,9,FALSE),\"\")","v":0},{"$f":"UPPER(VLOOKUP(AA453,Inputs,7,FALSE))&\"  \"","v":"  "},null,{"$f":"IF(LEN(X456)>2,X456&VLOOKUP(AA453,Inputs,8,FALSE),VLOOKUP(AA453,Inputs,8,FALSE))","v":0},null,null,{"$f":"IF(AA453>0,VLOOKUP(AA453,Inputs,9,FALSE),\"\")","v":0},{"$f":"UPPER(VLOOKUP(AG453,Inputs,7,FALSE))&\"  \"","v":"  "},null,{"$f":"IF(LEN(AD456)>2,AD456&VLOOKUP(AG453,Inputs,8,FALSE),VLOOKUP(AG453,Inputs,8,FALSE))","v":0},null,{"$f":"IF(AG453>0,VLOOKUP(AG453,Inputs,9,FALSE),\"\")","v":0},{"$f":"UPPER(VLOOKUP(AL453,Inputs,7,FALSE))&\"  \"","v":"  "},null,{"$f":"IF(LEN(AI456)>2,AI456&VLOOKUP(AL453,Inputs,8,FALSE),VLOOKUP(AL453,Inputs,8,FALSE))","v":0},null,{"$f":"IF(AL453>0,VLOOKUP(AL453,Inputs,9,FALSE),\"\")","v":0},null,null,{"$f":"IF($A456=AP$5,$G456,0)+IF($H456=AP$5,$L456,0)+IF($M456=AP$5,$Q456,0)+IF($R456=AP$5,$W456,0)+IF($X456=AP$5,AC456,0)+IF($AD456=AP$5,AH456,0)+IF(AI456=AP$5,AM456,0)","v":0},0,0,0,0,0,0,0,0,0,0,0,0,0]
[{"$f":"UPPER(VLOOKUP(F453,Inputs,10,FALSE))&\"  \"","v":"  "},null,null,null,{"$f":"IF(LEN(A457)>2,A457&VLOOKUP(F453,Inputs,11,FALSE),VLOOKUP(F453,Inputs,11,FALSE))","v":0},null,{"$f":"IF(F453>0,VLOOKUP(F453,Inputs,12,FALSE),\"\")","v":0},{"$f":"UPPER(VLOOKUP(K453,Inputs,10,FALSE))&\"  \"","v":"  "},null,{"$f":"IF(LEN(H457)>2,H457&VLOOKUP(K453,Inputs,11,FALSE),VLOOKUP(K453,Inputs,11,FALSE))","v":0},null,{"$f":"IF(K453>0,VLOOKUP(K453,Inputs,12,FALSE),\"\")","v":0},{"$f":"UPPER(VLOOKUP(P453,Inputs,10,FALSE))&\"  \"","v":"  "},null,{"$f":"IF(LEN(M457)>2,M457&VLOOKUP(P453,Inputs,11,FALSE),VLOOKUP(P453,Inputs,11,FALSE))","v":0},null,{"$f":"IF(P453>0,VLOOKUP(P453,Inputs,12,FALSE),\"\")","v":0},{"$f":"UPPER(VLOOKUP(V453,Inputs,10,FALSE))&\"  \"","v":"  "},null,{"$f":"IF(LEN(R457)>2,R457&VLOOKUP(V453,Inputs,11,FALSE),VLOOKUP(V453,Inputs,11,FALSE))","v":0},null,null,{"$f":"IF(V453>0,VLOOKUP(V453,Inputs,12,FALSE),\"\")","v":0},{"$f":"UPPER(VLOOKUP(AA453,Inputs,10,FALSE))&\"  \"","v":"  "},null,{"$f":"IF(LEN(X457)>2,X457&VLOOKUP(AA453,Inputs,11,FALSE),VLOOKUP(AA453,Inputs,11,FALSE))","v":0},null,null,{"$f":"IF(AA453>0,VLOOKUP(AA453,Inputs,12,FALSE),\"\")","v":0},{"$f":"UPPER(VLOOKUP(AG453,Inputs,10,FALSE))&\"  \"","v":"  "},null,{"$f":"IF(LEN(AD457)>2,AD457&VLOOKUP(AG453,Inputs,11,FALSE),VLOOKUP(AG453,Inputs,11,FALSE))","v":0},null,{"$f":"IF(AG453>0,VLOOKUP(AG453,Inputs,12,FALSE),\"\")","v":0},{"$f":"UPPER(VLOOKUP(AL453,Inputs,10,FALSE))&\"  \"","v":"  "},null,{"$f":"IF(LEN(AI457)>2,AI457&VLOOKUP(AL453,Inputs,11,FALSE),VLOOKUP(AL453,Inputs,11,FALSE))","v":0},null,{"$f":"IF(AL453>0,VLOOKUP(AL453,Inputs,12,FALSE),\"\")","v":0},null,null,{"$f":"IF($A457=AP$5,$G457,0)+IF($H457=AP$5,$L457,0)+IF($M457=AP$5,$Q457,0)+IF($R457=AP$5,$W457,0)+IF($X457=AP$5,AC457,0)+IF($AD457=AP$5,AH457,0)+IF(AI457=AP$5,AM457,0)","v":0},0,0,0,0,0,0,0,0,0,0,0,0,0]
[{"$f":"UPPER(VLOOKUP(F453,Inputs,13,FALSE))&\"  \"","v":"  "},null,null,null,{"$f":"IF(LEN(A458)>2,A458&VLOOKUP(F453,Inputs,14,FALSE),VLOOKUP(F453,Inputs,14,FALSE))","v":0},null,{"$f":"IF(F453>0,VLOOKUP(F453,Inputs,15,FALSE),\"\")","v":0},{"$f":"UPPER(VLOOKUP(K453,Inputs,13,FALSE))&\"  \"","v":"  "},null,{"$f":"IF(LEN(H458)>2,H458&VLOOKUP(K453,Inputs,14,FALSE),VLOOKUP(K453,Inputs,14,FALSE))","v":0},null,{"$f":"IF(K453>0,VLOOKUP(K453,Inputs,15,FALSE),\"\")","v":0},{"$f":"UPPER(VLOOKUP(P453,Inputs,13,FALSE))&\"  \"","v":"  "},null,{"$f":"IF(LEN(M458)>2,M458&VLOOKUP(P453,Inputs,14,FALSE),VLOOKUP(P453,Inputs,14,FALSE))","v":0},null,{"$f":"IF(P453>0,VLOOKUP(P453,Inputs,15,FALSE),\"\")","v":0},{"$f":"UPPER(VLOOKUP(V453,Inputs,13,FALSE))&\"  \"","v":"  "},null,{"$f":"IF(LEN(R458)>2,R458&VLOOKUP(V453,Inputs,14,FALSE),VLOOKUP(V453,Inputs,14,FALSE))","v":0},null,null,{"$f":"IF(V453>0,VLOOKUP(V453,Inputs,15,FALSE),\"\")","v":0},{"$f":"UPPER(VLOOKUP(AA453,Inputs,13,FALSE))&\"  \"","v":"  "},null,{"$f":"IF(LEN(X458)>2,X458&VLOOKUP(AA453,Inputs,14,FALSE),VLOOKUP(AA453,Inputs,14,FALSE))","v":0},null,null,{"$f":"IF(AA453>0,VLOOKUP(AA453,Inputs,15,FALSE),\"\")","v":0},{"$f":"UPPER(VLOOKUP(AG453,Inputs,13,FALSE))&\"  \"","v":"  "},null,{"$f":"IF(LEN(AD458)>2,AD458&VLOOKUP(AG453,Inputs,14,FALSE),VLOOKUP(AG453,Inputs,14,FALSE))","v":0},null,{"$f":"IF(AG453>0,VLOOKUP(AG453,Inputs,15,FALSE),\"\")","v":0},{"$f":"UPPER(VLOOKUP(AL453,Inputs,13,FALSE))&\"  \"","v":"  "},null,{"$f":"IF(LEN(AI458)>2,AI458&VLOOKUP(AL453,Inputs,14,FALSE),VLOOKUP(AL453,Inputs,14,FALSE))","v":0},null,{"$f":"IF(AL453>0,VLOOKUP(AL453,Inputs,15,FALSE),\"\")","v":0},null,null,{"$f":"IF($A458=AP$5,$G458,0)+IF($H458=AP$5,$L458,0)+IF($M458=AP$5,$Q458,0)+IF($R458=AP$5,$W458,0)+IF($X458=AP$5,AC458,0)+IF($AD458=AP$5,AH458,0)+IF(AI458=AP$5,AM458,0)","v":0},0,0,0,0,0,0,0,0,0,0,0,0,0]
[null,null,null,null,null,{"$f":"IF(F453>0,IF(VLOOKUP(F453,Inputs,3,FALSE)=\"T\",\"Telemarketing\",0),\"\")","v":0},null,null,null,null,{"$f":"IF(VLOOKUP(K453-1,Inputs,3,FALSE)=\"T\",0,IF(VLOOKUP(K453,Inputs,3,FALSE)=\"T\",\"Telemarketing\",0))","v":0},null,null,null,null,{"$f":"IF(VLOOKUP(P453-1,Inputs,3,FALSE)=\"T\",0,IF(VLOOKUP(P453,Inputs,3,FALSE)=\"T\",\"Telemarketing\",0))","v":0},null,null,null,null,null,{"$f":"IF(VLOOKUP(V453-1,Inputs,3,FALSE)=\"T\",0,IF(VLOOKUP(V453,Inputs,3,FALSE)=\"T\",\"Telemarketing\",0))","v":0},null,null,null,null,{"$f":"IF(VLOOKUP(AA453-1,Inputs,3,FALSE)=\"T\",0,IF(VLOOKUP(AA453,Inputs,3,FALSE)=\"T\",\"Telemarketing\",0))","v":0},null,null,null,null,null,{"$f":"IF(VLOOKUP(AG453-1,Inputs,3,FALSE)=\"T\",0,IF(VLOOKUP(AG453,Inputs,3,FALSE)=\"T\",\"Telemarketing\",0))","v":0},null,null,null,null,{"$f":"IF(VLOOKUP(AL453-1,Inputs,3,FALSE)=\"T\",0,IF(VLOOKUP(AL453,Inputs,3,FALSE)=\"T\",\"Telemarketing\",0))","v":0}]
[null,null,null,null,null,{"$f":"1+AL453","v":"2018-09-09"},null,null,null,null,{"$f":"1+F460","v":"2018-09-10"},null,null,null,null,{"$f":"1+K460","v":"2018-09-11"},null,null,null,null,null,{"$f":"1+P460","v":"2018-09-12"},null,null,null,null,{"$f":"1+V460","v":"2018-09-13"},null,null,null,null,null,{"$f":"1+AA460","v":"2018-09-14"},null,null,null,null,{"$f":"1+AG460","v":"2018-09-15"}]
[null,null,null,null,{"$f":"DAY(F460)","v":9},{"$f":"IF(F460>0,VLOOKUP(F460,Holidays,2),0)","v":0},null,null,null,{"$f":"DAY(K460)","v":10},{"$f":"IF(K460>0,VLOOKUP(K460,Holidays,2),0)","v":0},null,null,null,{"$f":"DAY(P460)","v":11},{"$f":"IF(P460>0,VLOOKUP(P460,Holidays,2),0)","v":0},null,null,null,{"$f":"DAY(V460)","v":12},{"$f":"IF(V460>0,VLOOKUP(V460,Holidays,2),0)","v":0},null,null,null,null,{"$f":"DAY(AA460)","v":13},{"$f":"IF(AA460>0,VLOOKUP(AA460,Holidays,2),0)","v":0},null,null,null,null,{"$f":"DAY(AG460)","v":14},{"$f":"IF(AG460>0,VLOOKUP(AG460,Holidays,2),0)","v":0},null,null,null,{"$f":"DAY(AL460)","v":15},{"$f":"IF(AL460>0,VLOOKUP(AL460,Holidays,2),0)","v":0}]
[{"$f":"UPPER(VLOOKUP(F460,Inputs,4,FALSE))&\"  \"","v":"  "},null,null,null,{"$f":"IF(LEN(A462)>2,A462&VLOOKUP(F460,Inputs,5,FALSE),VLOOKUP(F460,Inputs,5,FALSE))","v":0},null,{"$f":"IF(F460>0,VLOOKUP(F460,Inputs,6,FALSE),\"\")","v":0},{"$f":"UPPER(VLOOKUP(K460,Inputs,4,FALSE))&\"  \"","v":"  "},null,{"$f":"IF(LEN(H462)>2,H462&VLOOKUP(K460,Inputs,5,FALSE),VLOOKUP(K460,Inputs,5,FALSE))","v":0},null,{"$f":"IF(K460>0,VLOOKUP(K460,Inputs,6,FALSE),\"\")","v":0},{"$f":"UPPER(VLOOKUP(P460,Inputs,4,FALSE))&\"  \"","v":"  "},null,{"$f":"IF(LEN(M462)>2,M462&VLOOKUP(P460,Inputs,5,FALSE),VLOOKUP(P460,Inputs,5,FALSE))","v":0},null,{"$f":"IF(P460>0,VLOOKUP(P460,Inputs,6,FALSE),\"\")","v":0},{"$f":"UPPER(VLOOKUP(V460,Inputs,4,FALSE))&\"  \"","v":"  "},null,{"$f":"IF(LEN(R462)>2,R462&VLOOKUP(V460,Inputs,5,FALSE),VLOOKUP(V460,Inputs,5,FALSE))","v":0},null,null,{"$f":"IF(V460>0,VLOOKUP(V460,Inputs,6,FALSE),\"\")","v":0},{"$f":"UPPER(VLOOKUP(AA460,Inputs,4,FALSE))&\"  \"","v":"  "},null,{"$f":"IF(LEN(X462)>2,X462&VLOOKUP(AA460,Inputs,5,FALSE),VLOOKUP(AA460,Inputs,5,FALSE))","v":0},null,null,{"$f":"IF(AA460>0,VLOOKUP(AA460,Inputs,6,FALSE),\"\")","v":0},{"$f":"UPPER(VLOOKUP(AG460,Inputs,4,FALSE))&\"  \"","v":"  "},null,{"$f":"IF(LEN(AD462)>2,AD462&VLOOKUP(AG460,Inputs,5,FALSE),VLOOKUP(AG460,Inputs,5,FALSE))","v":0},null,{"$f":"IF(AG460>0,VLOOKUP(AG460,Inputs,6,FALSE),\"\")","v":0},{"$f":"UPPER(VLOOKUP(AL460,Inputs,4,FALSE))&\"  \"","v":"  "},null,{"$f":"IF(LEN(AI462)>2,AI462&VLOOKUP(AL460,Inputs,5,FALSE),VLOOKUP(AL460,Inputs,5,FALSE))","v":0},null,{"$f":"IF(AL460>0,VLOOKUP(AL460,Inputs,6,FALSE),\"\")","v":0},null,null,{"$f":"IF($A462=AP$5,$G462,0)+IF($H462=AP$5,$L462,0)+IF($M462=AP$5,$Q462,0)+IF($R462=AP$5,$W462,0)+IF($X462=AP$5,AC462,0)+IF($AD462=AP$5,AH462,0)+IF(AI462=AP$5,AM462,0)","v":0},{"$f":"IF($A462=AQ$5,$G462,0)+IF($H462=AQ$5,$L462,0)+IF($M462=AQ$5,$Q462,0)+IF($R462=AQ$5,$W462,0)+IF($X462=AQ$5,$AC462,0)+IF($AD462=AQ$5,$AH462,0)+IF($AI462=AQ$5,$AM462,0)","v":0},0,0,0,0,0,0,0,0,0,0,0,0]
[{"$f":"UPPER(VLOOKUP(F460,Inputs,7,FALSE))&\"  \"","v":"  "},null,null,null,{"$f":"IF(LEN(A463)>2,A463&VLOOKUP(F460,Inputs,8,FALSE),VLOOKUP(F460,Inputs,8,FALSE))","v":0},null,{"$f":"IF(F460>0,VLOOKUP(F460,Inputs,9,FALSE),\"\")","v":0},{"$f":"UPPER(VLOOKUP(K460,Inputs,7,FALSE))&\"  \"","v":"  "},null,{"$f":"IF(LEN(H463)>2,H463&VLOOKUP(K460,Inputs,8,FALSE),VLOOKUP(K460,Inputs,8,FALSE))","v":0},null,{"$f":"IF(K460>0,VLOOKUP(K460,Inputs,9,FALSE),\"\")","v":0},{"$f":"UPPER(VLOOKUP(P460,Inputs,7,FALSE))&\"  \"","v":"  "},null,{"$f":"IF(LEN(M463)>2,M463&VLOOKUP(P460,Inputs,8,FALSE),VLOOKUP(P460,Inputs,8,FALSE))","v":0},null,{"$f":"IF(P460>0,VLOOKUP(P460,Inputs,9,FALSE),\"\")","v":0},{"$f":"UPPER(VLOOKUP(V460,Inputs,7,FALSE))&\"  \"","v":"  "},null,{"$f":"IF(LEN(R463)>2,R463&VLOOKUP(V460,Inputs,8,FALSE),VLOOKUP(V460,Inputs,8,FALSE))","v":0},null,null,{"$f":"IF(V460>0,VLOOKUP(V460,Inputs,9,FALSE),\"\")","v":0},{"$f":"UPPER(VLOOKUP(AA460,Inputs,7,FALSE))&\"  \"","v":"  "},null,{"$f":"IF(LEN(X463)>2,X463&VLOOKUP(AA460,Inputs,8,FALSE),VLOOKUP(AA460,Inputs,8,FALSE))","v":0},null,null,{"$f":"IF(AA460>0,VLOOKUP(AA460,Inputs,9,FALSE),\"\")","v":0},{"$f":"UPPER(VLOOKUP(AG460,Inputs,7,FALSE))&\"  \"","v":"  "},null,{"$f":"IF(LEN(AD463)>2,AD463&VLOOKUP(AG460,Inputs,8,FALSE),VLOOKUP(AG460,Inputs,8,FALSE))","v":0},null,{"$f":"IF(AG460>0,VLOOKUP(AG460,Inputs,9,FALSE),\"\")","v":0},{"$f":"UPPER(VLOOKUP(AL460,Inputs,7,FALSE))&\"  \"","v":"  "},null,{"$f":"IF(LEN(AI463)>2,AI463&VLOOKUP(AL460,Inputs,8,FALSE),VLOOKUP(AL460,Inputs,8,FALSE))","v":0},null,{"$f":"IF(AL460>0,VLOOKUP(AL460,Inputs,9,FALSE),\"\")","v":0},null,null,{"$f":"IF($A463=AP$5,$G463,0)+IF($H463=AP$5,$L463,0)+IF($M463=AP$5,$Q463,0)+IF($R463=AP$5,$W463,0)+IF($X463=AP$5,AC463,0)+IF($AD463=AP$5,AH463,0)+IF(AI463=AP$5,AM463,0)","v":0},0,0,0,0,0,0,0,0,0,0,0,0,0]
[{"$f":"UPPER(VLOOKUP(F460,Inputs,10,FALSE))&\"  \"","v":"  "},null,null,null,{"$f":"IF(LEN(A464)>2,A464&VLOOKUP(F460,Inputs,11,FALSE),VLOOKUP(F460,Inputs,11,FALSE))","v":0},null,{"$f":"IF(F460>0,VLOOKUP(F460,Inputs,12,FALSE),\"\")","v":0},{"$f":"UPPER(VLOOKUP(K460,Inputs,10,FALSE))&\"  \"","v":"  "},null,{"$f":"IF(LEN(H464)>2,H464&VLOOKUP(K460,Inputs,11,FALSE),VLOOKUP(K460,Inputs,11,FALSE))","v":0},null,{"$f":"IF(K460>0,VLOOKUP(K460,Inputs,12,FALSE),\"\")","v":0},{"$f":"UPPER(VLOOKUP(P460,Inputs,10,FALSE))&\"  \"","v":"  "},null,{"$f":"IF(LEN(M464)>2,M464&VLOOKUP(P460,Inputs,11,FALSE),VLOOKUP(P460,Inputs,11,FALSE))","v":0},null,{"$f":"IF(P460>0,VLOOKUP(P460,Inputs,12,FALSE),\"\")","v":0},{"$f":"UPPER(VLOOKUP(V460,Inputs,10,FALSE))&\"  \"","v":"  "},null,{"$f":"IF(LEN(R464)>2,R464&VLOOKUP(V460,Inputs,11,FALSE),VLOOKUP(V460,Inputs,11,FALSE))","v":0},null,null,{"$f":"IF(V460>0,VLOOKUP(V460,Inputs,12,FALSE),\"\")","v":0},{"$f":"UPPER(VLOOKUP(AA460,Inputs,10,FALSE))&\"  \"","v":"  "},null,{"$f":"IF(LEN(X464)>2,X464&VLOOKUP(AA460,Inputs,11,FALSE),VLOOKUP(AA460,Inputs,11,FALSE))","v":0},null,null,{"$f":"IF(AA460>0,VLOOKUP(AA460,Inputs,12,FALSE),\"\")","v":0},{"$f":"UPPER(VLOOKUP(AG460,Inputs,10,FALSE))&\"  \"","v":"  "},null,{"$f":"IF(LEN(AD464)>2,AD464&VLOOKUP(AG460,Inputs,11,FALSE),VLOOKUP(AG460,Inputs,11,FALSE))","v":0},null,{"$f":"IF(AG460>0,VLOOKUP(AG460,Inputs,12,FALSE),\"\")","v":0},{"$f":"UPPER(VLOOKUP(AL460,Inputs,10,FALSE))&\"  \"","v":"  "},null,{"$f":"IF(LEN(AI464)>2,AI464&VLOOKUP(AL460,Inputs,11,FALSE),VLOOKUP(AL460,Inputs,11,FALSE))","v":0},null,{"$f":"IF(AL460>0,VLOOKUP(AL460,Inputs,12,FALSE),\"\")","v":0},null,null,{"$f":"IF($A464=AP$5,$G464,0)+IF($H464=AP$5,$L464,0)+IF($M464=AP$5,$Q464,0)+IF($R464=AP$5,$W464,0)+IF($X464=AP$5,AC464,0)+IF($AD464=AP$5,AH464,0)+IF(AI464=AP$5,AM464,0)","v":0},0,0,0,0,0,0,0,0,0,0,0,0,0]
[{"$f":"UPPER(VLOOKUP(F460,Inputs,13,FALSE))&\"  \"","v":"  "},null,null,null,{"$f":"IF(LEN(A465)>2,A465&VLOOKUP(F460,Inputs,14,FALSE),VLOOKUP(F460,Inputs,14,FALSE))","v":0},null,{"$f":"IF(F460>0,VLOOKUP(F460,Inputs,15,FALSE),\"\")","v":0},{"$f":"UPPER(VLOOKUP(K460,Inputs,13,FALSE))&\"  \"","v":"  "},null,{"$f":"IF(LEN(H465)>2,H465&VLOOKUP(K460,Inputs,14,FALSE),VLOOKUP(K460,Inputs,14,FALSE))","v":0},null,{"$f":"IF(K460>0,VLOOKUP(K460,Inputs,15,FALSE),\"\")","v":0},{"$f":"UPPER(VLOOKUP(P460,Inputs,13,FALSE))&\"  \"","v":"  "},null,{"$f":"IF(LEN(M465)>2,M465&VLOOKUP(P460,Inputs,14,FALSE),VLOOKUP(P460,Inputs,14,FALSE))","v":0},null,{"$f":"IF(P460>0,VLOOKUP(P460,Inputs,15,FALSE),\"\")","v":0},{"$f":"UPPER(VLOOKUP(V460,Inputs,13,FALSE))&\"  \"","v":"  "},null,{"$f":"IF(LEN(R465)>2,R465&VLOOKUP(V460,Inputs,14,FALSE),VLOOKUP(V460,Inputs,14,FALSE))","v":0},null,null,{"$f":"IF(V460>0,VLOOKUP(V460,Inputs,15,FALSE),\"\")","v":0},{"$f":"UPPER(VLOOKUP(AA460,Inputs,13,FALSE))&\"  \"","v":"  "},null,{"$f":"IF(LEN(X465)>2,X465&VLOOKUP(AA460,Inputs,14,FALSE),VLOOKUP(AA460,Inputs,14,FALSE))","v":0},null,null,{"$f":"IF(AA460>0,VLOOKUP(AA460,Inputs,15,FALSE),\"\")","v":0},{"$f":"UPPER(VLOOKUP(AG460,Inputs,13,FALSE))&\"  \"","v":"  "},null,{"$f":"IF(LEN(AD465)>2,AD465&VLOOKUP(AG460,Inputs,14,FALSE),VLOOKUP(AG460,Inputs,14,FALSE))","v":0},null,{"$f":"IF(AG460>0,VLOOKUP(AG460,Inputs,15,FALSE),\"\")","v":0},{"$f":"UPPER(VLOOKUP(AL460,Inputs,13,FALSE))&\"  \"","v":"  "},null,{"$f":"IF(LEN(AI465)>2,AI465&VLOOKUP(AL460,Inputs,14,FALSE),VLOOKUP(AL460,Inputs,14,FALSE))","v":0},null,{"$f":"IF(AL460>0,VLOOKUP(AL460,Inputs,15,FALSE),\"\")","v":0},null,null,{"$f":"IF($A465=AP$5,$G465,0)+IF($H465=AP$5,$L465,0)+IF($M465=AP$5,$Q465,0)+IF($R465=AP$5,$W465,0)+IF($X465=AP$5,AC465,0)+IF($AD465=AP$5,AH465,0)+IF(AI465=AP$5,AM465,0)","v":0},0,0,0,0,0,0,0,0,0,0,0,0,0]
[null,null,null,null,null,{"$f":"IF(F460>0,IF(VLOOKUP(F460,Inputs,3,FALSE)=\"T\",\"Telemarketing\",0),\"\")","v":0},null,null,null,null,{"$f":"IF(VLOOKUP(K460-1,Inputs,3,FALSE)=\"T\",0,IF(VLOOKUP(K460,Inputs,3,FALSE)=\"T\",\"Telemarketing\",0))","v":0},null,null,null,null,{"$f":"IF(VLOOKUP(P460-1,Inputs,3,FALSE)=\"T\",0,IF(VLOOKUP(P460,Inputs,3,FALSE)=\"T\",\"Telemarketing\",0))","v":0},null,null,null,null,null,{"$f":"IF(VLOOKUP(V460-1,Inputs,3,FALSE)=\"T\",0,IF(VLOOKUP(V460,Inputs,3,FALSE)=\"T\",\"Telemarketing\",0))","v":0},null,null,null,null,{"$f":"IF(VLOOKUP(AA460-1,Inputs,3,FALSE)=\"T\",0,IF(VLOOKUP(AA460,Inputs,3,FALSE)=\"T\",\"Telemarketing\",0))","v":0},null,null,null,null,null,{"$f":"IF(VLOOKUP(AG460-1,Inputs,3,FALSE)=\"T\",0,IF(VLOOKUP(AG460,Inputs,3,FALSE)=\"T\",\"Telemarketing\",0))","v":0},null,null,null,null,{"$f":"IF(VLOOKUP(AL460-1,Inputs,3,FALSE)=\"T\",0,IF(VLOOKUP(AL460,Inputs,3,FALSE)=\"T\",\"Telemarketing\",0))","v":0}]
[null,null,null,null,null,{"$f":"1+AL460","v":"2018-09-16"},null,null,null,null,{"$f":"1+F467","v":"2018-09-17"},null,null,null,null,{"$f":"1+K467","v":"2018-09-18"},null,null,null,null,null,{"$f":"1+P467","v":"2018-09-19"},null,null,null,null,{"$f":"1+V467","v":"2018-09-20"},null,null,null,null,null,{"$f":"1+AA467","v":"2018-09-21"},null,null,null,null,{"$f":"1+AG467","v":"2018-09-22"}]
[null,null,null,null,{"$f":"DAY(F467)","v":16},{"$f":"IF(F467>0,VLOOKUP(F467,Holidays,2),0)","v":0},null,null,null,{"$f":"DAY(K467)","v":17},{"$f":"IF(K467>0,VLOOKUP(K467,Holidays,2),0)","v":0},null,null,null,{"$f":"DAY(P467)","v":18},{"$f":"IF(P467>0,VLOOKUP(P467,Holidays,2),0)","v":0},null,null,null,{"$f":"DAY(V467)","v":19},{"$f":"IF(V467>0,VLOOKUP(V467,Holidays,2),0)","v":0},null,null,null,null,{"$f":"DAY(AA467)","v":20},{"$f":"IF(AA467>0,VLOOKUP(AA467,Holidays,2),0)","v":0},null,null,null,null,{"$f":"DAY(AG467)","v":21},{"$f":"IF(AG467>0,VLOOKUP(AG467,Holidays,2),0)","v":0},null,null,null,{"$f":"DAY(AL467)","v":22},{"$f":"IF(AL467>0,VLOOKUP(AL467,Holidays,2),0)","v":0}]
[{"$f":"UPPER(VLOOKUP(F467,Inputs,4,FALSE))&\"  \"","v":"  "},null,null,null,{"$f":"IF(LEN(A469)>2,A469&VLOOKUP(F467,Inputs,5,FALSE),VLOOKUP(F467,Inputs,5,FALSE))","v":0},null,{"$f":"IF(F467>0,VLOOKUP(F467,Inputs,6,FALSE),\"\")","v":0},{"$f":"UPPER(VLOOKUP(K467,Inputs,4,FALSE))&\"  \"","v":"  "},null,{"$f":"IF(LEN(H469)>2,H469&VLOOKUP(K467,Inputs,5,FALSE),VLOOKUP(K467,Inputs,5,FALSE))","v":0},null,{"$f":"IF(K467>0,VLOOKUP(K467,Inputs,6,FALSE),\"\")","v":0},{"$f":"UPPER(VLOOKUP(P467,Inputs,4,FALSE))&\"  \"","v":"  "},null,{"$f":"IF(LEN(M469)>2,M469&VLOOKUP(P467,Inputs,5,FALSE),VLOOKUP(P467,Inputs,5,FALSE))","v":0},null,{"$f":"IF(P467>0,VLOOKUP(P467,Inputs,6,FALSE),\"\")","v":0},{"$f":"UPPER(VLOOKUP(V467,Inputs,4,FALSE))&\"  \"","v":"  "},null,{"$f":"IF(LEN(R469)>2,R469&VLOOKUP(V467,Inputs,5,FALSE),VLOOKUP(V467,Inputs,5,FALSE))","v":0},null,null,{"$f":"IF(V467>0,VLOOKUP(V467,Inputs,6,FALSE),\"\")","v":0},{"$f":"UPPER(VLOOKUP(AA467,Inputs,4,FALSE))&\"  \"","v":"  "},null,{"$f":"IF(LEN(X469)>2,X469&VLOOKUP(AA467,Inputs,5,FALSE),VLOOKUP(AA467,Inputs,5,FALSE))","v":0},null,null,{"$f":"IF(AA467>0,VLOOKUP(AA467,Inputs,6,FALSE),\"\")","v":0},{"$f":"UPPER(VLOOKUP(AG467,Inputs,4,FALSE))&\"  \"","v":"  "},null,{"$f":"IF(LEN(AD469)>2,AD469&VLOOKUP(AG467,Inputs,5,FALSE),VLOOKUP(AG467,Inputs,5,FALSE))","v":0},null,{"$f":"IF(AG467>0,VLOOKUP(AG467,Inputs,6,FALSE),\"\")","v":0},{"$f":"UPPER(VLOOKUP(AL467,Inputs,4,FALSE))&\"  \"","v":"  "},null,{"$f":"IF(LEN(AI469)>2,AI469&VLOOKUP(AL467,Inputs,5,FALSE),VLOOKUP(AL467,Inputs,5,FALSE))","v":0},null,{"$f":"IF(AL467>0,VLOOKUP(AL467,Inputs,6,FALSE),\"\")","v":0},null,null,{"$f":"IF($A469=AP$5,$G469,0)+IF($H469=AP$5,$L469,0)+IF($M469=AP$5,$Q469,0)+IF($R469=AP$5,$W469,0)+IF($X469=AP$5,AC469,0)+IF($AD469=AP$5,AH469,0)+IF(AI469=AP$5,AM469,0)","v":0},{"$f":"IF($A469=AQ$5,$G469,0)+IF($H469=AQ$5,$L469,0)+IF($M469=AQ$5,$Q469,0)+IF($R469=AQ$5,$W469,0)+IF($X469=AQ$5,$AC469,0)+IF($AD469=AQ$5,$AH469,0)+IF($AI469=AQ$5,$AM469,0)","v":0},0,0,0,0,0,0,0,0,0,0,0,0]
[{"$f":"UPPER(VLOOKUP(F467,Inputs,7,FALSE))&\"  \"","v":"  "},null,null,null,{"$f":"IF(LEN(A470)>2,A470&VLOOKUP(F467,Inputs,8,FALSE),VLOOKUP(F467,Inputs,8,FALSE))","v":0},null,{"$f":"IF(F467>0,VLOOKUP(F467,Inputs,9,FALSE),\"\")","v":0},{"$f":"UPPER(VLOOKUP(K467,Inputs,7,FALSE))&\"  \"","v":"  "},null,{"$f":"IF(LEN(H470)>2,H470&VLOOKUP(K467,Inputs,8,FALSE),VLOOKUP(K467,Inputs,8,FALSE))","v":0},null,{"$f":"IF(K467>0,VLOOKUP(K467,Inputs,9,FALSE),\"\")","v":0},{"$f":"UPPER(VLOOKUP(P467,Inputs,7,FALSE))&\"  \"","v":"  "},null,{"$f":"IF(LEN(M470)>2,M470&VLOOKUP(P467,Inputs,8,FALSE),VLOOKUP(P467,Inputs,8,FALSE))","v":0},null,{"$f":"IF(P467>0,VLOOKUP(P467,Inputs,9,FALSE),\"\")","v":0},{"$f":"UPPER(VLOOKUP(V467,Inputs,7,FALSE))&\"  \"","v":"  "},null,{"$f":"IF(LEN(R470)>2,R470&VLOOKUP(V467,Inputs,8,FALSE),VLOOKUP(V467,Inputs,8,FALSE))","v":0},null,null,{"$f":"IF(V467>0,VLOOKUP(V467,Inputs,9,FALSE),\"\")","v":0},{"$f":"UPPER(VLOOKUP(AA467,Inputs,7,FALSE))&\"  \"","v":"  "},null,{"$f":"IF(LEN(X470)>2,X470&VLOOKUP(AA467,Inputs,8,FALSE),VLOOKUP(AA467,Inputs,8,FALSE))","v":0},null,null,{"$f":"IF(AA467>0,VLOOKUP(AA467,Inputs,9,FALSE),\"\")","v":0},{"$f":"UPPER(VLOOKUP(AG467,Inputs,7,FALSE))&\"  \"","v":"  "},null,{"$f":"IF(LEN(AD470)>2,AD470&VLOOKUP(AG467,Inputs,8,FALSE),VLOOKUP(AG467,Inputs,8,FALSE))","v":0},null,{"$f":"IF(AG467>0,VLOOKUP(AG467,Inputs,9,FALSE),\"\")","v":0},{"$f":"UPPER(VLOOKUP(AL467,Inputs,7,FALSE))&\"  \"","v":"  "},null,{"$f":"IF(LEN(AI470)>2,AI470&VLOOKUP(AL467,Inputs,8,FALSE),VLOOKUP(AL467,Inputs,8,FALSE))","v":0},null,{"$f":"IF(AL467>0,VLOOKUP(AL467,Inputs,9,FALSE),\"\")","v":0},null,null,{"$f":"IF($A470=AP$5,$G470,0)+IF($H470=AP$5,$L470,0)+IF($M470=AP$5,$Q470,0)+IF($R470=AP$5,$W470,0)+IF($X470=AP$5,AC470,0)+IF($AD470=AP$5,AH470,0)+IF(AI470=AP$5,AM470,0)","v":0},0,0,0,0,0,0,0,0,0,0,0,0,0]
[{"$f":"UPPER(VLOOKUP(F467,Inputs,10,FALSE))&\"  \"","v":"  "},null,null,null,{"$f":"IF(LEN(A471)>2,A471&VLOOKUP(F467,Inputs,11,FALSE),VLOOKUP(F467,Inputs,11,FALSE))","v":0},null,{"$f":"IF(F467>0,VLOOKUP(F467,Inputs,12,FALSE),\"\")","v":0},{"$f":"UPPER(VLOOKUP(K467,Inputs,10,FALSE))&\"  \"","v":"  "},null,{"$f":"IF(LEN(H471)>2,H471&VLOOKUP(K467,Inputs,11,FALSE),VLOOKUP(K467,Inputs,11,FALSE))","v":0},null,{"$f":"IF(K467>0,VLOOKUP(K467,Inputs,12,FALSE),\"\")","v":0},{"$f":"UPPER(VLOOKUP(P467,Inputs,10,FALSE))&\"  \"","v":"  "},null,{"$f":"IF(LEN(M471)>2,M471&VLOOKUP(P467,Inputs,11,FALSE),VLOOKUP(P467,Inputs,11,FALSE))","v":0},null,{"$f":"IF(P467>0,VLOOKUP(P467,Inputs,12,FALSE),\"\")","v":0},{"$f":"UPPER(VLOOKUP(V467,Inputs,10,FALSE))&\"  \"","v":"  "},null,{"$f":"IF(LEN(R471)>2,R471&VLOOKUP(V467,Inputs,11,FALSE),VLOOKUP(V467,Inputs,11,FALSE))","v":0},null,null,{"$f":"IF(V467>0,VLOOKUP(V467,Inputs,12,FALSE),\"\")","v":0},{"$f":"UPPER(VLOOKUP(AA467,Inputs,10,FALSE))&\"  \"","v":"  "},null,{"$f":"IF(LEN(X471)>2,X471&VLOOKUP(AA467,Inputs,11,FALSE),VLOOKUP(AA467,Inputs,11,FALSE))","v":0},null,null,{"$f":"IF(AA467>0,VLOOKUP(AA467,Inputs,12,FALSE),\"\")","v":0},{"$f":"UPPER(VLOOKUP(AG467,Inputs,10,FALSE))&\"  \"","v":"  "},null,{"$f":"IF(LEN(AD471)>2,AD471&VLOOKUP(AG467,Inputs,11,FALSE),VLOOKUP(AG467,Inputs,11,FALSE))","v":0},null,{"$f":"IF(AG467>0,VLOOKUP(AG467,Inputs,12,FALSE),\"\")","v":0},{"$f":"UPPER(VLOOKUP(AL467,Inputs,10,FALSE))&\"  \"","v":"  "},null,{"$f":"IF(LEN(AI471)>2,AI471&VLOOKUP(AL467,Inputs,11,FALSE),VLOOKUP(AL467,Inputs,11,FALSE))","v":0},null,{"$f":"IF(AL467>0,VLOOKUP(AL467,Inputs,12,FALSE),\"\")","v":0},null,null,{"$f":"IF($A471=AP$5,$G471,0)+IF($H471=AP$5,$L471,0)+IF($M471=AP$5,$Q471,0)+IF($R471=AP$5,$W471,0)+IF($X471=AP$5,AC471,0)+IF($AD471=AP$5,AH471,0)+IF(AI471=AP$5,AM471,0)","v":0},0,0,0,0,0,0,0,0,0,0,0,0,0]
[{"$f":"UPPER(VLOOKUP(F467,Inputs,13,FALSE))&\"  \"","v":"  "},null,null,null,{"$f":"IF(LEN(A472)>2,A472&VLOOKUP(F467,Inputs,14,FALSE),VLOOKUP(F467,Inputs,14,FALSE))","v":0},null,{"$f":"IF(F467>0,VLOOKUP(F467,Inputs,15,FALSE),\"\")","v":0},{"$f":"UPPER(VLOOKUP(K467,Inputs,13,FALSE))&\"  \"","v":"  "},null,{"$f":"IF(LEN(H472)>2,H472&VLOOKUP(K467,Inputs,14,FALSE),VLOOKUP(K467,Inputs,14,FALSE))","v":0},null,{"$f":"IF(K467>0,VLOOKUP(K467,Inputs,15,FALSE),\"\")","v":0},{"$f":"UPPER(VLOOKUP(P467,Inputs,13,FALSE))&\"  \"","v":"  "},null,{"$f":"IF(LEN(M472)>2,M472&VLOOKUP(P467,Inputs,14,FALSE),VLOOKUP(P467,Inputs,14,FALSE))","v":0},null,{"$f":"IF(P467>0,VLOOKUP(P467,Inputs,15,FALSE),\"\")","v":0},{"$f":"UPPER(VLOOKUP(V467,Inputs,13,FALSE))&\"  \"","v":"  "},null,{"$f":"IF(LEN(R472)>2,R472&VLOOKUP(V467,Inputs,14,FALSE),VLOOKUP(V467,Inputs,14,FALSE))","v":0},null,null,{"$f":"IF(V467>0,VLOOKUP(V467,Inputs,15,FALSE),\"\")","v":0},{"$f":"UPPER(VLOOKUP(AA467,Inputs,13,FALSE))&\"  \"","v":"  "},null,{"$f":"IF(LEN(X472)>2,X472&VLOOKUP(AA467,Inputs,14,FALSE),VLOOKUP(AA467,Inputs,14,FALSE))","v":0},null,null,{"$f":"IF(AA467>0,VLOOKUP(AA467,Inputs,15,FALSE),\"\")","v":0},{"$f":"UPPER(VLOOKUP(AG467,Inputs,13,FALSE))&\"  \"","v":"  "},null,{"$f":"IF(LEN(AD472)>2,AD472&VLOOKUP(AG467,Inputs,14,FALSE),VLOOKUP(AG467,Inputs,14,FALSE))","v":0},null,{"$f":"IF(AG467>0,VLOOKUP(AG467,Inputs,15,FALSE),\"\")","v":0},{"$f":"UPPER(VLOOKUP(AL467,Inputs,13,FALSE))&\"  \"","v":"  "},null,{"$f":"IF(LEN(AI472)>2,AI472&VLOOKUP(AL467,Inputs,14,FALSE),VLOOKUP(AL467,Inputs,14,FALSE))","v":0},null,{"$f":"IF(AL467>0,VLOOKUP(AL467,Inputs,15,FALSE),\"\")","v":0},null,null,{"$f":"IF($A472=AP$5,$G472,0)+IF($H472=AP$5,$L472,0)+IF($M472=AP$5,$Q472,0)+IF($R472=AP$5,$W472,0)+IF($X472=AP$5,AC472,0)+IF($AD472=AP$5,AH472,0)+IF(AI472=AP$5,AM472,0)","v":0},0,0,0,0,0,0,0,0,0,0,0,0,0]
[null,null,null,null,null,{"$f":"IF(F467>0,IF(VLOOKUP(F467,Inputs,3,FALSE)=\"T\",\"Telemarketing\",0),\"\")","v":0},null,null,null,null,{"$f":"IF(VLOOKUP(K467-1,Inputs,3,FALSE)=\"T\",0,IF(VLOOKUP(K467,Inputs,3,FALSE)=\"T\",\"Telemarketing\",0))","v":0},null,null,null,null,{"$f":"IF(VLOOKUP(P467-1,Inputs,3,FALSE)=\"T\",0,IF(VLOOKUP(P467,Inputs,3,FALSE)=\"T\",\"Telemarketing\",0))","v":0},null,null,null,null,null,{"$f":"IF(VLOOKUP(V467-1,Inputs,3,FALSE)=\"T\",0,IF(VLOOKUP(V467,Inputs,3,FALSE)=\"T\",\"Telemarketing\",0))","v":0},null,null,null,null,{"$f":"IF(VLOOKUP(AA467-1,Inputs,3,FALSE)=\"T\",0,IF(VLOOKUP(AA467,Inputs,3,FALSE)=\"T\",\"Telemarketing\",0))","v":0},null,null,null,null,null,{"$f":"IF(VLOOKUP(AG467-1,Inputs,3,FALSE)=\"T\",0,IF(VLOOKUP(AG467,Inputs,3,FALSE)=\"T\",\"Telemarketing\",0))","v":0},null,null,null,null,{"$f":"IF(VLOOKUP(AL467-1,Inputs,3,FALSE)=\"T\",0,IF(VLOOKUP(AL467,Inputs,3,FALSE)=\"T\",\"Telemarketing\",0))","v":0}]
[null,null,null,null,null,{"$f":"IF(AL467>0,IF(MONTH(1+AL467)=$A492,1+AL467,0),0)","v":"2018-09-23"},null,null,null,null,{"$f":"IF(F474>0,IF(MONTH(1+F474)=$A492,1+F474,0),0)","v":"2018-09-24"},null,null,null,null,{"$f":"IF(K474>0,IF(MONTH(1+K474)=$A492,1+K474,0),0)","v":"2018-09-25"},null,null,null,null,null,{"$f":"IF(P474>0,IF(MONTH(1+P474)=$A492,1+P474,0),0)","v":"2018-09-26"},null,null,null,null,{"$f":"IF(V474>0,IF(MONTH(1+V474)=$A492,1+V474,0),0)","v":"2018-09-27"},null,null,null,null,null,{"$f":"IF(AA474>0,IF(MONTH(1+AA474)=$A492,1+AA474,0),0)","v":"2018-09-28"},null,null,null,null,{"$f":"IF(AG474>0,IF(MONTH(1+AG474)=$A492,1+AG474,0),0)","v":"2018-09-29"}]
[null,null,null,null,{"$f":"DAY(F474)","v":23},{"$f":"VLOOKUP(F474,Holidays,2)","v":0},null,null,null,{"$f":"DAY(K474)","v":24},{"$f":"VLOOKUP(K474,Holidays,2)","v":0},null,null,null,{"$f":"DAY(P474)","v":25},{"$f":"VLOOKUP(P474,Holidays,2)","v":0},null,null,null,{"$f":"DAY(V474)","v":26},{"$f":"VLOOKUP(V474,Holidays,2)","v":0},null,null,null,null,{"$f":"DAY(AA474)","v":27},{"$f":"VLOOKUP(AA474,Holidays,2)","v":0},null,null,null,null,{"$f":"DAY(AG474)","v":28},{"$f":"VLOOKUP(AG474,Holidays,2)","v":0},null,null,null,{"$f":"DAY(AL474)","v":29},{"$f":"VLOOKUP(AL474,Holidays,2)","v":0}]
[{"$f":"UPPER(VLOOKUP(F474,Inputs,4,FALSE))&\"  \"","v":"  "},null,null,null,{"$f":"IF(LEN(A476)>2,A476&VLOOKUP(F474,Inputs,5,FALSE),VLOOKUP(F474,Inputs,5,FALSE))","v":0},null,{"$f":"IF(F474>0,VLOOKUP(F474,Inputs,6,FALSE),\"\")","v":0},{"$f":"UPPER(VLOOKUP(K474,Inputs,4,FALSE))&\"  \"","v":"  "},null,{"$f":"IF(LEN(H476)>2,H476&VLOOKUP(K474,Inputs,5,FALSE),VLOOKUP(K474,Inputs,5,FALSE))","v":0},null,{"$f":"IF(K474>0,VLOOKUP(K474,Inputs,6,FALSE),\"\")","v":0},{"$f":"UPPER(VLOOKUP(P474,Inputs,4,FALSE))&\"  \"","v":"  "},null,{"$f":"IF(LEN(M476)>2,M476&VLOOKUP(P474,Inputs,5,FALSE),VLOOKUP(P474,Inputs,5,FALSE))","v":0},null,{"$f":"IF(P474>0,VLOOKUP(P474,Inputs,6,FALSE),\"\")","v":0},{"$f":"IF(MONTH(V474)=A492,UPPER(VLOOKUP(V474,Inputs,4,FALSE))&\"  \",\"\")","v":"  "},null,{"$f":"IF(MONTH(V474)=A492,IF(LEN(R476)>0,R476&VLOOKUP(V474,Inputs,5,FALSE),VLOOKUP(V474,Inputs,5,FALSE)),\"\")","v":"  "},null,null,{"$f":"IF(MONTH(V474)=A492,IF(V474>0,VLOOKUP(V474,Inputs,6,FALSE),\"\"),0)","v":0},{"$f":"IF(MONTH(AA474)=A492,UPPER(VLOOKUP(AA474,Inputs,4,FALSE))&\"  \",\"\")","v":"  "},null,{"$f":"IF(MONTH(AA474)=A492,IF(LEN(X476)>0,X476&VLOOKUP(AA474,Inputs,5,FALSE),VLOOKUP(AA474,Inputs,5,FALSE)),\"\")","v":"  "},null,null,{"$f":"IF(MONTH(AA474)=A492,IF(AA474>0,VLOOKUP(AA474,Inputs,6,FALSE),\"\"),0)","v":0},{"$f":"IF(MONTH(AG474)=A492,UPPER(VLOOKUP(AG474,Inputs,4,FALSE))&\"  \",\"\")","v":"  "},null,{"$f":"IF(MONTH(AG474)=A492,IF(LEN(AD476)>0,AD476&VLOOKUP(AG474,Inputs,5,FALSE),VLOOKUP(AG474,Inputs,5,FALSE)),\"\")","v":"  "},null,{"$f":"IF(MONTH(AG474)=A492,IF(AG474>0,VLOOKUP(AG474,Inputs,6,FALSE),\"\"),0)","v":0},{"$f":"IF(MONTH(AL474)=A492,UPPER(VLOOKUP(AL474,Inputs,4,FALSE))&\"  \",\"\")","v":"  "},null,{"$f":"IF(MONTH(AL474)=A492,IF(LEN(AI476)>0,AI476&VLOOKUP(AL474,Inputs,5,FALSE),VLOOKUP(AL474,Inputs,5,FALSE)),\"\")","v":"  "},null,{"$f":"IF(MONTH(AL474)=A492,IF(AL474>0,VLOOKUP(AL474,Inputs,6,FALSE),\"\"),0)","v":0},null,null,{"$f":"IF($A476=AP$5,$G476,0)+IF($H476=AP$5,$L476,0)+IF($M476=AP$5,$Q476,0)+IF($R476=AP$5,$W476,0)+IF($X476=AP$5,AC476,0)+IF($AD476=AP$5,AH476,0)+IF(AI476=AP$5,AM476,0)","v":0},{"$f":"IF($A476=AQ$5,$G476,0)+IF($H476=AQ$5,$L476,0)+IF($M476=AQ$5,$Q476,0)+IF($R476=AQ$5,$W476,0)+IF($X476=AQ$5,$AC476,0)+IF($AD476=AQ$5,$AH476,0)+IF($AI476=AQ$5,$AM476,0)","v":0},0,0,0,0,0,0,0,0,0,0,0,0]
[{"$f":"UPPER(VLOOKUP(F474,Inputs,7,FALSE))&\"  \"","v":"  "},null,null,null,{"$f":"IF(LEN(A477)>2,A477&VLOOKUP(F474,Inputs,8,FALSE),VLOOKUP(F474,Inputs,8,FALSE))","v":0},null,{"$f":"IF(F474>0,VLOOKUP(F474,Inputs,9,FALSE),\"\")","v":0},{"$f":"UPPER(VLOOKUP(K474,Inputs,7,FALSE))&\"  \"","v":"  "},null,{"$f":"IF(LEN(H477)>2,H477&VLOOKUP(K474,Inputs,8,FALSE),VLOOKUP(K474,Inputs,8,FALSE))","v":0},null,{"$f":"IF(K474>0,VLOOKUP(K474,Inputs,9,FALSE),\"\")","v":0},{"$f":"UPPER(VLOOKUP(P474,Inputs,7,FALSE))&\"  \"","v":"  "},null,{"$f":"IF(LEN(M477)>2,M477&VLOOKUP(P474,Inputs,8,FALSE),VLOOKUP(P474,Inputs,8,FALSE))","v":0},null,{"$f":"IF(P474>0,VLOOKUP(P474,Inputs,9,FALSE),\"\")","v":0},{"$f":"IF(MONTH(V474)=A492,UPPER(VLOOKUP(V474,Inputs,7,FALSE))&\"  \",\"\")","v":"  "},null,{"$f":"IF(MONTH(V474)=A492,IF(LEN(R477)>0,R477&VLOOKUP(V474,Inputs,8,FALSE),VLOOKUP(V474,Inputs,8,FALSE)),\"\")","v":"  "},null,null,{"$f":"IF(MONTH(V474)=A492,IF(V474>0,VLOOKUP(V474,Inputs,9,FALSE),\"\"),0)","v":0},{"$f":"IF(MONTH(AA474)=A492,UPPER(VLOOKUP(AA474,Inputs,7,FALSE))&\"  \",\"\")","v":"  "},null,{"$f":"IF(MONTH(AA474)=A492,IF(LEN(X477)>0,X477&VLOOKUP(AA474,Inputs,8,FALSE),VLOOKUP(AA474,Inputs,8,FALSE)),\"\")","v":"  "},null,null,{"$f":"IF(MONTH(AA474)=A492,IF(AA474>0,VLOOKUP(AA474,Inputs,9,FALSE),\"\"),0)","v":0},{"$f":"IF(MONTH(AG474)=A492,UPPER(VLOOKUP(AG474,Inputs,7,FALSE))&\"  \",\"\")","v":"  "},null,{"$f":"IF(MONTH(AG474)=A492,IF(LEN(AD477)>0,AD477&VLOOKUP(AG474,Inputs,8,FALSE),VLOOKUP(AG474,Inputs,8,FALSE)),\"\")","v":"  "},null,{"$f":"IF(MONTH(AG474)=A492,IF(AG474>0,VLOOKUP(AG474,Inputs,9,FALSE),\"\"),0)","v":0},{"$f":"IF(MONTH(AL474)=A492,UPPER(VLOOKUP(AL474,Inputs,7,FALSE))&\"  \",\"\")","v":"  "},null,{"$f":"IF(MONTH(AL474)=A492,IF(LEN(AI477)>0,AI477&VLOOKUP(AL474,Inputs,8,FALSE),VLOOKUP(AL474,Inputs,8,FALSE)),\"\")","v":"  "},null,{"$f":"IF(MONTH(AL474)=A492,IF(AL474>0,VLOOKUP(AL474,Inputs,9,FALSE),\"\"),0)","v":0},null,null,{"$f":"IF($A477=AP$5,$G477,0)+IF($H477=AP$5,$L477,0)+IF($M477=AP$5,$Q477,0)+IF($R477=AP$5,$W477,0)+IF($X477=AP$5,AC477,0)+IF($AD477=AP$5,AH477,0)+IF(AI477=AP$5,AM477,0)","v":0},0,0,0,0,0,0,0,0,0,0,0,0,0]
[{"$f":"UPPER(VLOOKUP(F474,Inputs,10,FALSE))&\"  \"","v":"  "},null,null,null,{"$f":"IF(LEN(A478)>2,A478&VLOOKUP(F474,Inputs,11,FALSE),VLOOKUP(F474,Inputs,11,FALSE))","v":0},null,{"$f":"IF(F474>0,VLOOKUP(F474,Inputs,12,FALSE),\"\")","v":0},{"$f":"UPPER(VLOOKUP(K474,Inputs,10,FALSE))&\"  \"","v":"  "},null,{"$f":"IF(LEN(H478)>2,H478&VLOOKUP(K474,Inputs,11,FALSE),VLOOKUP(K474,Inputs,11,FALSE))","v":0},null,{"$f":"IF(K474>0,VLOOKUP(K474,Inputs,12,FALSE),\"\")","v":0},{"$f":"UPPER(VLOOKUP(P474,Inputs,10,FALSE))&\"  \"","v":"  "},null,{"$f":"IF(LEN(M478)>2,M478&VLOOKUP(P474,Inputs,11,FALSE),VLOOKUP(P474,Inputs,11,FALSE))","v":0},null,{"$f":"IF(P474>0,VLOOKUP(P474,Inputs,12,FALSE),\"\")","v":0},{"$f":"IF(MONTH(V474)=A492,UPPER(VLOOKUP(V474,Inputs,10,FALSE))&\"  \",\"\")","v":"  "},null,{"$f":"IF(MONTH(V474)=A492,IF(LEN(R478)>0,R478&VLOOKUP(V474,Inputs,11,FALSE),VLOOKUP(V474,Inputs,11,FALSE)),\"\")","v":"  "},null,null,{"$f":"IF(MONTH(V474)=A492,IF(V474>0,VLOOKUP(V474,Inputs,12,FALSE),\"\"),0)","v":0},{"$f":"IF(MONTH(AA474)=A492,UPPER(VLOOKUP(AA474,Inputs,10,FALSE))&\"  \",\"\")","v":"  "},null,{"$f":"IF(MONTH(AA474)=A492,IF(LEN(X478)>0,X478&VLOOKUP(AA474,Inputs,11,FALSE),VLOOKUP(AA474,Inputs,11,FALSE)),\"\")","v":"  "},null,null,{"$f":"IF(MONTH(AA474)=A492,IF(AA474>0,VLOOKUP(AA474,Inputs,12,FALSE),\"\"),0)","v":0},{"$f":"IF(MONTH(AG474)=A492,UPPER(VLOOKUP(AG474,Inputs,10,FALSE))&\"  \",\"\")","v":"  "},null,{"$f":"IF(MONTH(AG474)=A492,IF(LEN(AD478)>0,AD478&VLOOKUP(AG474,Inputs,11,FALSE),VLOOKUP(AG474,Inputs,11,FALSE)),\"\")","v":"  "},null,{"$f":"IF(MONTH(AG474)=A492,IF(AG474>0,VLOOKUP(AG474,Inputs,12,FALSE),\"\"),0)","v":0},{"$f":"IF(MONTH(AL474)=A492,UPPER(VLOOKUP(AL474,Inputs,10,FALSE))&\"  \",\"\")","v":"  "},null,{"$f":"IF(MONTH(AL474)=A492,IF(LEN(AI478)>0,AI478&VLOOKUP(AL474,Inputs,11,FALSE),VLOOKUP(AL474,Inputs,11,FALSE)),\"\")","v":"  "},null,{"$f":"IF(MONTH(AL474)=A492,IF(AL474>0,VLOOKUP(AL474,Inputs,12,FALSE),\"\"),0)","v":0},null,null,{"$f":"IF($A478=AP$5,$G478,0)+IF($H478=AP$5,$L478,0)+IF($M478=AP$5,$Q478,0)+IF($R478=AP$5,$W478,0)+IF($X478=AP$5,AC478,0)+IF($AD478=AP$5,AH478,0)+IF(AI478=AP$5,AM478,0)","v":0},0,0,0,0,0,0,0,0,0,0,0,0,0]
[{"$f":"UPPER(VLOOKUP(F474,Inputs,13,FALSE))&\"  \"","v":"  "},null,null,null,{"$f":"IF(LEN(A479)>2,A479&VLOOKUP(F474,Inputs,14,FALSE),VLOOKUP(F474,Inputs,14,FALSE))","v":0},null,{"$f":"IF(F474>0,VLOOKUP(F474,Inputs,15,FALSE),\"\")","v":0},{"$f":"UPPER(VLOOKUP(K474,Inputs,13,FALSE))&\"  \"","v":"  "},null,{"$f":"IF(LEN(H479)>2,H479&VLOOKUP(K474,Inputs,14,FALSE),VLOOKUP(K474,Inputs,14,FALSE))","v":0},null,{"$f":"IF(K474>0,VLOOKUP(K474,Inputs,15,FALSE),\"\")","v":0},{"$f":"UPPER(VLOOKUP(P474,Inputs,13,FALSE))&\"  \"","v":"  "},null,{"$f":"IF(LEN(M479)>2,M479&VLOOKUP(P474,Inputs,14,FALSE),VLOOKUP(P474,Inputs,14,FALSE))","v":0},null,{"$f":"IF(P474>0,VLOOKUP(P474,Inputs,15,FALSE),\"\")","v":0},{"$f":"IF(MONTH(V474)=A492,UPPER(VLOOKUP(V474,Inputs,13,FALSE))&\"  \",\"\")","v":"  "},null,{"$f":"IF(MONTH(V474)=A492,IF(LEN(R479)>0,R479&VLOOKUP(V474,Inputs,14,FALSE),VLOOKUP(V474,Inputs,14,FALSE)),\"\")","v":"  "},null,null,{"$f":"IF(MONTH(V474)=A492,IF(V474>0,VLOOKUP(V474,Inputs,15,FALSE),\"\"),0)","v":0},{"$f":"IF(MONTH(AA474)=A492,UPPER(VLOOKUP(AA474,Inputs,13,FALSE))&\"  \",\"\")","v":"  "},null,{"$f":"IF(MONTH(AA474)=A492,IF(LEN(X479)>0,X479&VLOOKUP(AA474,Inputs,14,FALSE),VLOOKUP(AA474,Inputs,14,FALSE)),\"\")","v":"  "},null,null,{"$f":"IF(MONTH(AA474)=A492,IF(AA474>0,VLOOKUP(AA474,Inputs,15,FALSE),\"\"),0)","v":0},{"$f":"IF(MONTH(AG474)=A492,UPPER(VLOOKUP(AG474,Inputs,13,FALSE))&\"  \",\"\")","v":"  "},null,{"$f":"IF(MONTH(AG474)=A492,IF(LEN(AD479)>0,AD479&VLOOKUP(AG474,Inputs,14,FALSE),VLOOKUP(AG474,Inputs,14,FALSE)),\"\")","v":"  "},null,{"$f":"IF(MONTH(AG474)=A492,IF(AG474>0,VLOOKUP(AG474,Inputs,15,FALSE),\"\"),0)","v":0},{"$f":"IF(MONTH(AL474)=A492,UPPER(VLOOKUP(AL474,Inputs,13,FALSE))&\"  \",\"\")","v":"  "},null,{"$f":"IF(MONTH(AL474)=A492,IF(LEN(AI479)>0,AI479&VLOOKUP(AL474,Inputs,14,FALSE),VLOOKUP(AL474,Inputs,14,FALSE)),\"\")","v":"  "},null,{"$f":"IF(MONTH(AL474)=A492,IF(AL474>0,VLOOKUP(AL474,Inputs,15,FALSE),\"\"),0)","v":0},null,null,{"$f":"IF($A479=AP$5,$G479,0)+IF($H479=AP$5,$L479,0)+IF($M479=AP$5,$Q479,0)+IF($R479=AP$5,$W479,0)+IF($X479=AP$5,AC479,0)+IF($AD479=AP$5,AH479,0)+IF(AI479=AP$5,AM479,0)","v":0},0,0,0,0,0,0,0,0,0,0,0,0,0]
[null,null,null,null,null,{"$f":"IF(F474>0,IF(VLOOKUP(F474,Inputs,3,FALSE)=\"T\",\"Telemarketing\",0),\"\")","v":0},null,null,null,null,{"$f":"IF(VLOOKUP(K474-1,Inputs,3,FALSE)=\"T\",0,IF(VLOOKUP(K474,Inputs,3,FALSE)=\"T\",\"Telemarketing\",0))","v":0},null,null,null,null,{"$f":"IF(VLOOKUP(P474-1,Inputs,3,FALSE)=\"T\",0,IF(VLOOKUP(P474,Inputs,3,FALSE)=\"T\",\"Telemarketing\",0))","v":0},null,null,null,null,null,{"$f":"IF(VLOOKUP(V474-1,Inputs,3,FALSE)=\"T\",0,IF(VLOOKUP(V474,Inputs,3,FALSE)=\"T\",\"Telemarketing\",0))","v":0},null,null,null,null,{"$f":"IF(VLOOKUP(AA474-1,Inputs,3,FALSE)=\"T\",0,IF(VLOOKUP(AA474,Inputs,3,FALSE)=\"T\",\"Telemarketing\",0))","v":0},null,null,null,null,null,{"$f":"IF(VLOOKUP(AG474-1,Inputs,3,FALSE)=\"T\",0,IF(VLOOKUP(AG474,Inputs,3,FALSE)=\"T\",\"Telemarketing\",0))","v":0},null,null,null,null,{"$f":"IF(VLOOKUP(AL474-1,Inputs,3,FALSE)=\"T\",0,IF(VLOOKUP(AL474,Inputs,3,FALSE)=\"T\",\"Telemarketing\",0))","v":0}]
[null,null,null,null,null,{"$f":"IF(AL474>0,IF(MONTH(1+AL474)=$A492,1+AL474,0),0)","v":"2018-09-30"},null,null,null,null,{"$f":"IF(F481>0,IF(MONTH(1+F481)=$A492,1+F481,0),0)","v":"00:00:00"},null,null,null,null,null,null,null,null,null,null,null,null,null,null,null,null,null,null,null,null,null,null,null,null,null,null,{"$f":"IF(AG481>0,IF(MONTH(1+AG481)=$A492,1+AG481,0),0)","v":"00:00:00"}]
[null,null,null,null,{"$f":"DAY(F481)","v":30},{"$f":"VLOOKUP(F481,Holidays,2)","v":0},null,null,null,{"$f":"DAY(K481)","v":0},{"$f":"VLOOKUP(K481,Holidays,2)","v":0},null,null,null,{"$f":"DAY(P481)","v":0},{"$f":"VLOOKUP(P481,Holidays,2)","v":0},null,null,null,{"$f":"DAY(V481)","v":0},{"$f":"VLOOKUP(V481,Holidays,2)","v":0},null,null,null,null,{"$f":"DAY(AA481)","v":0},{"$f":"VLOOKUP(AA481,Holidays,2)","v":0},null,null,null,null,{"$f":"DAY(AG481)","v":0},{"$f":"VLOOKUP(AG481,Holidays,2)","v":0},null,null,null,{"$f":"DAY(AL481)","v":0},{"$f":"VLOOKUP(AL481,Holidays,2)","v":0}]
[{"$f":"IF(MONTH(F$481)=A492,UPPER(VLOOKUP(F$481,Inputs,4,FALSE))&\"  \",\"\")","v":"  "},null,null,null,{"$f":"IF(MONTH(F481)=A492,IF(LEN(A483)>0,A483&VLOOKUP(F481,Inputs,5,FALSE),VLOOKUP(F481,Inputs,5,FALSE)),\"\")","v":"  "},null,{"$f":"IF(MONTH(F481)=A492,IF(F481>0,VLOOKUP(F481,Inputs,6,FALSE),\"\"),0)","v":0},{"$f":"IF(MONTH(K481)=A492,UPPER(VLOOKUP(K481,Inputs,4,FALSE))&\"  \",\"\")","v":""},null,{"$f":"IF(MONTH(K481)=A492,IF(LEN(H483)>2,H483&VLOOKUP(K481,Inputs,5,FALSE),VLOOKUP(K481,Inputs,5,FALSE)),\"\")","v":""},null,{"$f":"IF(MONTH(K481)=A492,IF(K481>0,VLOOKUP(K481,Inputs,6,FALSE),\"\"),0)","v":0},{"$f":"IF(MONTH(P481)=A492,UPPER(VLOOKUP(P481,Inputs,4,FALSE))&\"  \",\"\")","v":""},null,null,null,{"$f":"IF(MONTH(P481)=A492,IF(P481>0,VLOOKUP(P481,Inputs,6,FALSE),\"\"),0)","v":0},null,null,null,null,null,null,null,null,null,null,null,null,null,null,null,null,null,null,null,null,null,null,null,null,{"$f":"IF($A483=AP$5,$G483,0)+IF($H483=AP$5,$L483,0)+IF($M483=AP$5,$Q483,0)+IF($R483=AP$5,$W483,0)+IF($X483=AP$5,AC483,0)+IF($AD483=AP$5,AH483,0)+IF(AI483=AP$5,AM483,0)","v":0},{"$f":"IF($A483=AQ$5,$G483,0)+IF($H483=AQ$5,$L483,0)+IF($M483=AQ$5,$Q483,0)+IF($R483=AQ$5,$W483,0)+IF($X483=AQ$5,$AC483,0)+IF($AD483=AQ$5,$AH483,0)+IF($AI483=AQ$5,$AM483,0)","v":0},0,0,0,0,0,0,0,0,0,0,0,0]
[{"$f":"IF(MONTH(F$481)=A492,UPPER(VLOOKUP(F$481,Inputs,4,FALSE))&\"  \",\"\")","v":"  "},null,null,null,{"$f":"IF(MONTH(F481)=A492,IF(LEN(A484)>0,A484&VLOOKUP(F481,Inputs,8,FALSE),VLOOKUP(F481,Inputs,8,FALSE)),\"\")","v":"  "},null,{"$f":"IF(MONTH(F481)=A492,IF(F481>0,VLOOKUP(F481,Inputs,9,FALSE),\"\"),0)","v":0},{"$f":"IF(MONTH(K481)=A492,UPPER(VLOOKUP(K481,Inputs,7,FALSE))&\"  \",\"\")","v":""},null,{"$f":"IF(MONTH(K481)=A492,IF(LEN(H484)>2,H484&VLOOKUP(K481,Inputs,8,FALSE),VLOOKUP(K481,Inputs,8,FALSE)),\"\")","v":""},null,{"$f":"IF(MONTH(K481)=A492,IF(K481>0,VLOOKUP(K481,Inputs,9,FALSE),\"\"),0)","v":0},{"$f":"IF(MONTH(P481)=A492,UPPER(VLOOKUP(P481,Inputs,7,FALSE))&\"  \",\"\")","v":""},null,null,null,{"$f":"IF(MONTH(P481)=A492,IF(P481>0,VLOOKUP(P481,Inputs,9,FALSE),\"\"),0)","v":0},null,null,null,null,null,null,null,null,null,null,null,null,null,null,null,null,null,null,null,null,null,null,null,null,{"$f":"IF($A484=AP$5,$G484,0)+IF($H484=AP$5,$L484,0)+IF($M484=AP$5,$Q484,0)+IF($R484=AP$5,$W484,0)+IF($X484=AP$5,AC484,0)+IF($AD484=AP$5,AH484,0)+IF(AI484=AP$5,AM484,0)","v":0},0,0,0,0,0,0,0,0,0,0,0,0,0]
[{"$f":"IF(MONTH(F$481)=A492,UPPER(VLOOKUP(F$481,Inputs,4,FALSE))&\"  \",\"\")","v":"  "},null,null,null,{"$f":"IF(MONTH(F481)=A492,IF(LEN(A485)>0,A485&VLOOKUP(F481,Inputs,11,FALSE),VLOOKUP(F481,Inputs,11,FALSE)),\"\")","v":"  "},null,{"$f":"IF(MONTH(F481)=A492,IF(F481>0,VLOOKUP(F481,Inputs,12,FALSE),\"\"),0)","v":0},{"$f":"IF(MONTH(K481)=A492,UPPER(VLOOKUP(K481,Inputs,10,FALSE))&\"  \",\"\")","v":""},null,{"$f":"IF(MONTH(K481)=A492,IF(LEN(H485)>2,H485&VLOOKUP(K481,Inputs,11,FALSE),VLOOKUP(K481,Inputs,11,FALSE)),\"\")","v":""},null,{"$f":"IF(MONTH(K481)=A492,IF(K481>0,VLOOKUP(K481,Inputs,12,FALSE),\"\"),0)","v":0},{"$f":"IF(MONTH(P481)=A492,UPPER(VLOOKUP(P481,Inputs,10,FALSE))&\"  \",\"\")","v":""},null,null,null,{"$f":"IF(MONTH(P481)=A492,IF(P481>0,VLOOKUP(P481,Inputs,12,FALSE),\"\"),0)","v":0},null,null,null,null,null,null,null,null,null,null,null,null,null,null,null,null,null,null,null,null,null,null,null,null,{"$f":"IF($A485=AP$5,$G485,0)+IF($H485=AP$5,$L485,0)+IF($M485=AP$5,$Q485,0)+IF($R485=AP$5,$W485,0)+IF($X485=AP$5,AC485,0)+IF($AD485=AP$5,AH485,0)+IF(AI485=AP$5,AM485,0)","v":0},0,0,0,0,0,0,0,0,0,0,0,0,0]
[{"$f":"IF(MONTH(F$481)=A492,UPPER(VLOOKUP(F$481,Inputs,4,FALSE))&\"  \",\"\")","v":"  "},null,null,null,{"$f":"IF(MONTH(F481)=A492,IF(LEN(A486)>0,A486&VLOOKUP(F481,Inputs,14,FALSE),VLOOKUP(F481,Inputs,14,FALSE)),\"\")","v":"  "},null,{"$f":"IF(MONTH(F481)=A492,IF(F481>0,VLOOKUP(F481,Inputs,15,FALSE),\"\"),0)","v":0},{"$f":"IF(MONTH(K481)=A492,UPPER(VLOOKUP(K481,Inputs,13,FALSE))&\"  \",\"\")","v":""},null,{"$f":"IF(MONTH(K481)=A492,IF(LEN(H486)>2,H486&VLOOKUP(K481,Inputs,14,FALSE),VLOOKUP(K481,Inputs,14,FALSE)),\"\")","v":""},null,{"$f":"IF(MONTH(K481)=A492,IF(K481>0,VLOOKUP(K481,Inputs,15,FALSE),\"\"),0)","v":0},{"$f":"IF(MONTH(P481)=A492,UPPER(VLOOKUP(P481,Inputs,13,FALSE))&\"  \",\"\")","v":""},null,null,null,{"$f":"IF(MONTH(P481)=A492,IF(P481>0,VLOOKUP(P481,Inputs,15,FALSE),\"\"),0)","v":0},null,null,null,null,null,null,null,null,null,null,null,null,null,null,null,null,null,null,null,null,null,null,null,null,{"$f":"IF($A486=AP$5,$G486,0)+IF($H486=AP$5,$L486,0)+IF($M486=AP$5,$Q486,0)+IF($R486=AP$5,$W486,0)+IF($X486=AP$5,AC486,0)+IF($AD486=AP$5,AH486,0)+IF(AI486=AP$5,AM486,0)","v":0},0,0,0,0,0,0,0,0,0,0,0,0,0]
[null,null,null,null,null,{"$f":"IF(F481>0,IF(VLOOKUP(F481,Inputs,3,FALSE)=\"T\",\"Telemarketing\",0),\"\")","v":0},null,null,null,null,{"$f":"IF(VLOOKUP(K481-1,Inputs,3,FALSE)=\"T\",0,IF(VLOOKUP(K481,Inputs,3,FALSE)=\"T\",\"Telemarketing\",0))","v":{"$error":"#N/A"}},null,null,null,null,null,null,null,null,null,null,null,null,null,null,null,null,null,null,null,null,null,null,null,null,null,null,null,null,null,null,{"$f":"SUM(AP447:AP486)","v":0},0,0,0,0,0,0,0,{"$f":"SUM(AX447:AX486)","v":0},0,0,0,0,0]
[]
[null,null,null,null,{"$f":"\"CODE KEY:  \"&'Company Setup'!L$22&'Company Setup'!L$23&'Company Setup'!L$24&'Company Setup'!L$25&'Company Setup'!L$26&'Company Setup'!L$27&'Company Setup'!L$28&'Company Setup'!L$29&'Company Setup'!L$30&'Company Setup'!L$31&'Company Setup'!L$32&'Company Setup'!L$33&'Company Setup'!L$33&'Company Setup'!L$34&'Company Setup'!L$35","v":"CODE KEY:  B=Broadcast, L=Letter, P=Postcard, F=Flyer, H=Hanger, I=Newspaper Ads, N=Newsletter, E=E-Mail, A=Banner Ads, Y=Yellow Pages, "}]
[null,null,null,null,null,null,null,null,null,null,null,null,null,null,null,null,null,null,null,null,null,null,null,null,null,{"$f":"'Company Setup'!D$30","v":"Broadcast"},{"$f":"AP487","v":0},null,null,null,null,null,null,{"$f":"'Company Setup'!D$29","v":"E-Mail"},null,null,{"$f":"AW487","v":0}]
[null,null,null,null,null,null,"Revenue Budget",null,null,{"$f":"VLOOKUP(A492,ClientTable,2,FALSE)","v":86677},null,null,null,null,null,{"$f":"'Company Setup'!$E$5","v":"Reviews"},{"$f":"VLOOKUP(A492,ClientTable,3)","v":0},null,null,null,null,null,null,null,null,{"$f":"'Company Setup'!D$23","v":"Letter"},{"$f":"AQ487","v":0},null,null,null,null,null,null,{"$f":"'Company Setup'!D30","v":"Broadcast"},null,null,{"$f":"AX487","v":0}]
[{"$f":"IF(A437=12,1,A437+1)","v":9},null,null,null,null,null,"Monthly Marketing Budget",null,null,{"$f":"VLOOKUP(A492,ClientTable,7,FALSE)*VLOOKUP(A492,ClientTable,2,FALSE)","v":4333.8500000000004},null,null,null,null,null,{"$f":"'Company Setup'!$F$5","v":"SEO"},{"$f":"VLOOKUP(A492,ClientTable,4)","v":0},null,null,null,null,null,null,null,null,{"$f":"'Company Setup'!D$24","v":"Postcard"},{"$f":"AR487","v":0},null,null,null,null,null,null,{"$f":"'Company Setup'!D$31","v":"Banner Ads"},null,null,{"$f":"AY487","v":0}]
[{"$f":"VLOOKUP(A492,ClientTable,9)","v":9},null,null,null,null,null,"Month's End Marketing Cost",null,null,{"$f":"SUM(AK490:AK495)+SUM(AA490:AA496)+SUM(Q490:Q496)","v":0},null,null,null,null,null,{"$f":"'Company Setup'!$H$5","v":"Community Events"},{"$f":"VLOOKUP(A492,ClientTable,5)","v":0},null,null,null,null,null,null,null,null,{"$f":"'Company Setup'!D$25","v":"Flyer"},{"$f":"AS487","v":0},null,null,null,null,null,null,{"$f":"'Company Setup'!D$32","v":"Yellow Pages"},null,null,{"$f":"AZ487","v":0}]
[null,null,null,null,null,null,"Variance",null,null,{"$f":"J493-J492","v":-4333.8500000000004},null,null,null,null,null,{"$f":"'Company Setup'!G5","v":"Shows & Contests"},{"$f":"VLOOKUP(A492,ClientTable,6)","v":0},null,null,null,null,null,null,null,null,{"$f":"'Company Setup'!D$26","v":"Hanger"},{"$f":"AT487","v":0},null,null,null,null,null,null,{"$f":"'Company Setup'!D$33","v":0},null,null,{"$f":"BA487","v":0}]
[null,null,null,null,null,null,null,null,null,null,null,null,null,null,null,null,null,null,null,null,null,null,null,null,null,{"$f":"'Company Setup'!D$27","v":"Newspaper Ads"},{"$f":"AU487","v":0},null,null,null,null,null,null,{"$f":"'Company Setup'!D$34","v":0},null,null,{"$f":"BB487","v":0}]
[null,null,null,{"$f":"MONTH(StartMonth)","v":{"$error":"#VALUE!"}},"©",{"$f":"+F56","v":"Bedrock Markets, Inc. 2000 - 2100"},null,null,null,null,null,null,null,null,null,null,null,null,null,null,null,null,null,null,null,{"$f":"'Company Setup'!D$28","v":"Newsletter"},{"$f":"AV487","v":0},null,null,null,null,null,null,{"$f":"'Company Setup'!D$35","v":0},null,null,{"$f":"BC487","v":0}]
[]
[null,null,null,null,{"$f":"IF(E443=12,1,E443+1)","v":10},{"$f":"VLOOKUP(E498,Monthlookup2,2)&\" \"&YEAR(Calendar!S283)","v":"October 2018"},null,null,null,null,null,null,null,null,null,{"$f":"P$3","v":"   ABC Heating and Air"},null,null,null,null,null,null,null,null,null,null,null,null,null,null,null,null,null,null,null,null,null,null,null,null,"Importante!  Add 2 spaces after code - es muy neccesita"]
[]
[null,null,null,null,"Sunday",null,null,null,null,"Monday",null,null,null,null,"Tuesday",null,null,null,null,"Wednesday",null,null,null,null,null,"Thursday",null,null,null,null,null,"Friday",null,null,null,null,"Saturday"]
[null,null,null,null,null,{"$f":"IF(VLOOKUP(DATE(RIGHT($F498,4),$A547,1),Calendar,3)=1,DATE(RIGHT($F498,4),$A547,1),0)","v":"00:00:00"},null,null,null,null,{"$f":"IF(E502>0,F501+1,IF(VLOOKUP(DATE(RIGHT($F498,4),$A547,1),Calendar,3)=2,DATE(RIGHT($F498,4),$A547,1),0))","v":"2018-10-01"},null,null,null,null,{"$f":"IF(J502>0,K501+1,IF(VLOOKUP(DATE(RIGHT($F498,4),$A547,1),Calendar,3)=3,DATE(RIGHT($F498,4),$A547,1),0))","v":"2018-10-02"},null,null,null,null,null,{"$f":"IF(O502>0,P501+1,IF(VLOOKUP(DATE(RIGHT($F498,4),$A547,1),Calendar,3)=4,DATE(RIGHT($F498,4),$A547,1),0))","v":"2018-10-03"},null,null,null,null,{"$f":"IF(T502>0,V501+1,IF(VLOOKUP(DATE(RIGHT($F498,4),$A547,1),Calendar,3)=5,DATE(RIGHT($F498,4),$A547,1),0))","v":"2018-10-04"},null,null,null,null,null,{"$f":"IF(Z502>0,AA501+1,IF(VLOOKUP(DATE(RIGHT($F498,4),$A547,1),Calendar,3)=6,DATE(RIGHT($F498,4),$A547,1),0))","v":"2018-10-05"},null,null,null,null,{"$f":"IF(AF502>0,AG501+1,IF(VLOOKUP(DATE(RIGHT($F498,4),$A547,1),Calendar,3)=7,DATE(RIGHT($F498,4),$A547,1),0))","v":"2018-10-06"}]
[null,null,null,null,{"$f":"DAY(F501)","v":0},{"$f":"IF(F501>0,VLOOKUP(F501,Holidays,2),0)","v":0},null,null,null,{"$f":"DAY(K501)","v":1},{"$f":"IF(K501>0,VLOOKUP(K501,Holidays,2),0)","v":0},null,null,null,{"$f":"DAY(P501)","v":2},{"$f":"IF(P501>0,VLOOKUP(P501,Holidays,2),0)","v":0},null,null,null,{"$f":"DAY(V501)","v":3},{"$f":"IF(V501>0,VLOOKUP(V501,Holidays,2),0)","v":0},null,null,null,null,{"$f":"DAY(AA501)","v":4},{"$f":"IF(AA501>0,VLOOKUP(AA501,Holidays,2),0)","v":0},null,null,null,null,{"$f":"DAY(AG501)","v":5},{"$f":"IF(AG501>0,VLOOKUP(AG501,Holidays,2),0)","v":0},null,null,null,{"$f":"DAY(AL501)","v":6},{"$f":"IF(AL501>0,VLOOKUP(AL501,Holidays,2),0)","v":0}]
[{"$f":"IF(F501>1,UPPER(VLOOKUP(F501,Inputs,4,FALSE))&\"  \",0)","v":0},null,null,null,{"$f":"IF(F501>0,IF(LEN(A503)>2,A503&VLOOKUP(F501,Inputs,5,FALSE),VLOOKUP(F501,Inputs,5,FALSE)),\"\")","v":""},null,{"$f":"IF(F501>0,VLOOKUP(F501,Inputs,6,FALSE),\"\")","v":""},{"$f":"IF(K501>1,UPPER(VLOOKUP(K501,Inputs,4,FALSE))&\"  \",0)","v":"  "},null,{"$f":"IF(K501>0,IF(LEN(H503)>2,H503&VLOOKUP(K501,Inputs,5,FALSE),VLOOKUP(K501,Inputs,5,FALSE)),\"\")","v":0},null,{"$f":"IF(K501>0,VLOOKUP(K501,Inputs,6,FALSE),\"\")","v":0},{"$f":"IF(P501>1,UPPER(VLOOKUP(P501,Inputs,4,FALSE))&\"  \",0)","v":"  "},null,{"$f":"IF(P501>0,IF(LEN(M503)>2,M503&VLOOKUP(P501,Inputs,5,FALSE),VLOOKUP(P501,Inputs,5,FALSE)),\"\")","v":0},null,{"$f":"IF(P501>0,VLOOKUP(P501,Inputs,6,FALSE),\"\")","v":0},{"$f":"IF(V501>1,UPPER(VLOOKUP(V501,Inputs,4,FALSE))&\"  \",0)","v":"  "},null,{"$f":"IF(V501>0,IF(LEN(R503)>2,R503&VLOOKUP(V501,Inputs,5,FALSE),VLOOKUP(V501,Inputs,5,FALSE)),\"\")","v":0},null,null,{"$f":"IF(V501>0,VLOOKUP(V501,Inputs,6,FALSE),\"\")","v":0},{"$f":"IF(AA501>1,UPPER(VLOOKUP(AA501,Inputs,4,FALSE))&\"  \",0)","v":"  "},null,{"$f":"IF(AA501>0,IF(LEN(X503)>2,X503&VLOOKUP(AA501,Inputs,5,FALSE),VLOOKUP(AA501,Inputs,5,FALSE)),\"\")","v":0},null,null,{"$f":"IF(AA501>0,VLOOKUP(AA501,Inputs,6,FALSE),\"\")","v":0},{"$f":"IF(AG501>1,UPPER(VLOOKUP(AG501,Inputs,4,FALSE))&\"  \",0)","v":"  "},null,{"$f":"IF(AG501>0,IF(LEN(AD503)>2,AD503&VLOOKUP(AG501,Inputs,5,FALSE),VLOOKUP(AG501,Inputs,5,FALSE)),\"\")","v":0},null,{"$f":"IF(AG501>0,VLOOKUP(AG501,Inputs,6,FALSE),\"\")","v":0},{"$f":"UPPER(VLOOKUP(AL501,Inputs,4,FALSE))&\"  \"","v":"  "},null,{"$f":"IF(LEN(AI503)>2,AI503&VLOOKUP(AL501,Inputs,5,FALSE),VLOOKUP(AL501,Inputs,5,FALSE))","v":0},null,{"$f":"VLOOKUP(AL501,Inputs,6,FALSE)","v":0},null,null,{"$f":"IF($A503=AP$5,$G503,0)+IF($H503=AP$5,$L503,0)+IF($M503=AP$5,$Q503,0)+IF($R503=AP$5,$W503,0)+IF($X503=AP$5,AC503,0)+IF($AD503=AP$5,AH503,0)+IF(AI503=AP$5,AM503,0)","v":0},{"$f":"IF($A503=AQ$5,$G503,0)+IF($H503=AQ$5,$L503,0)+IF($M503=AQ$5,$Q503,0)+IF($R503=AQ$5,$W503,0)+IF($X503=AQ$5,$AC503,0)+IF($AD503=AQ$5,$AH503,0)+IF($AI503=AQ$5,$AM503,0)","v":0},0,0,0,0,0,0,0,0,0,0,0,0]
[{"$f":"IF(F501>1,UPPER(VLOOKUP(F501,Inputs,7,FALSE))&\"  \",0)","v":0},null,null,null,{"$f":"IF(F501>0,IF(LEN(A504)>2,A504&VLOOKUP(F501,Inputs,8,FALSE),VLOOKUP(F501,Inputs,8,FALSE)),\"\")","v":""},null,{"$f":"IF(F501>0,VLOOKUP(F501,Inputs,9,FALSE),\"\")","v":""},{"$f":"IF(K501>1,UPPER(VLOOKUP(K501,Inputs,7,FALSE))&\"  \",0)","v":"  "},null,{"$f":"IF(K501>0,IF(LEN(H504)>2,H504&VLOOKUP(K501,Inputs,8,FALSE),VLOOKUP(K501,Inputs,8,FALSE)),\"\")","v":0},null,{"$f":"IF(K501>0,VLOOKUP(K501,Inputs,9,FALSE),\"\")","v":0},{"$f":"IF(P501>1,UPPER(VLOOKUP(P501,Inputs,7,FALSE))&\"  \",0)","v":"  "},null,{"$f":"IF(P501>0,IF(LEN(M504)>2,M504&VLOOKUP(P501,Inputs,8,FALSE),VLOOKUP(P501,Inputs,8,FALSE)),\"\")","v":0},null,{"$f":"IF(P501>0,VLOOKUP(P501,Inputs,9,FALSE),\"\")","v":0},{"$f":"IF(V501>1,UPPER(VLOOKUP(V501,Inputs,7,FALSE))&\"  \",0)","v":"  "},null,{"$f":"IF(V501>0,IF(LEN(R504)>2,R504&VLOOKUP(V501,Inputs,8,FALSE),VLOOKUP(V501,Inputs,8,FALSE)),\"\")","v":0},null,null,{"$f":"IF(V501>0,VLOOKUP(V501,Inputs,9,FALSE),\"\")","v":0},{"$f":"IF(AA501>1,UPPER(VLOOKUP(AA501,Inputs,7,FALSE))&\"  \",0)","v":"  "},null,{"$f":"IF(AA501>0,IF(LEN(X504)>2,X504&VLOOKUP(AA501,Inputs,8,FALSE),VLOOKUP(AA501,Inputs,8,FALSE)),\"\")","v":0},null,null,{"$f":"IF(AA501>0,VLOOKUP(AA501,Inputs,9,FALSE),\"\")","v":0},{"$f":"IF(AG501>1,UPPER(VLOOKUP(AG501,Inputs,7,FALSE))&\"  \",0)","v":"  "},null,{"$f":"IF(AG501>0,IF(LEN(AD504)>2,AD504&VLOOKUP(AG501,Inputs,8,FALSE),VLOOKUP(AG501,Inputs,8,FALSE)),\"\")","v":0},null,{"$f":"IF(AG501>0,VLOOKUP(AG501,Inputs,9,FALSE),\"\")","v":0},{"$f":"UPPER(VLOOKUP(AL501,Inputs,7,FALSE))&\"  \"","v":"  "},null,{"$f":"IF(LEN(AI504)>2,AI504&VLOOKUP(AL501,Inputs,8,FALSE),VLOOKUP(AL501,Inputs,8,FALSE))","v":0},null,{"$f":"VLOOKUP(AL501,Inputs,9,FALSE)","v":0},null,null,{"$f":"IF($A504=AP$5,$G504,0)+IF($H504=AP$5,$L504,0)+IF($M504=AP$5,$Q504,0)+IF($R504=AP$5,$W504,0)+IF($X504=AP$5,AC504,0)+IF($AD504=AP$5,AH504,0)+IF(AI504=AP$5,AM504,0)","v":0},0,0,0,0,0,0,0,0,0,0,0,0,0,null,"530-345-3280"]
[{"$f":"IF(F501>1,UPPER(VLOOKUP(F501,Inputs,10,FALSE))&\"  \",0)","v":0},null,null,null,{"$f":"IF(F501>0,IF(LEN(A505)>2,A505&VLOOKUP(F501,Inputs,11,FALSE),VLOOKUP(F501,Inputs,11,FALSE)),\"\")","v":""},null,{"$f":"IF(F501>0,VLOOKUP(F501,Inputs,12,FALSE),\"\")","v":""},{"$f":"IF(K501>1,UPPER(VLOOKUP(K501,Inputs,10,FALSE))&\"  \",0)","v":"  "},null,{"$f":"IF(K501>0,IF(LEN(H505)>0,H505&VLOOKUP(K501,Inputs,11,FALSE),VLOOKUP(K501,Inputs,11,FALSE)),\"\")","v":"  "},null,{"$f":"IF(K501>0,VLOOKUP(K501,Inputs,12,FALSE),\"\")","v":0},{"$f":"IF(P501>1,UPPER(VLOOKUP(P501,Inputs,10,FALSE))&\"  \",0)","v":"  "},null,{"$f":"IF(P501>0,IF(LEN(M505)>0,M505&VLOOKUP(P501,Inputs,11,FALSE),VLOOKUP(P501,Inputs,11,FALSE)),\"\")","v":"  "},null,{"$f":"IF(P501>0,VLOOKUP(P501,Inputs,12,FALSE),\"\")","v":0},{"$f":"IF(V501>1,UPPER(VLOOKUP(V501,Inputs,10,FALSE))&\"  \",0)","v":"  "},null,{"$f":"IF(V501>0,IF(LEN(R505)>0,R505&VLOOKUP(V501,Inputs,11,FALSE),VLOOKUP(V501,Inputs,11,FALSE)),\"\")","v":"  "},null,null,{"$f":"IF(V501>0,VLOOKUP(V501,Inputs,12,FALSE),\"\")","v":0},{"$f":"IF(AA501>1,UPPER(VLOOKUP(AA501,Inputs,10,FALSE))&\"  \",0)","v":"  "},null,{"$f":"IF(AA501>0,IF(LEN(X505)>0,X505&VLOOKUP(AA501,Inputs,11,FALSE),VLOOKUP(AA501,Inputs,11,FALSE)),\"\")","v":"  "},null,null,{"$f":"IF(AA501>0,VLOOKUP(AA501,Inputs,12,FALSE),\"\")","v":0},{"$f":"IF(AG501>1,UPPER(VLOOKUP(AG501,Inputs,10,FALSE))&\"  \",0)","v":"  "},null,{"$f":"IF(AG501>0,IF(LEN(AD505)>0,AD505&VLOOKUP(AG501,Inputs,11,FALSE),VLOOKUP(AG501,Inputs,11,FALSE)),\"\")","v":"  "},null,{"$f":"IF(AG501>0,VLOOKUP(AG501,Inputs,12,FALSE),\"\")","v":0},{"$f":"UPPER(VLOOKUP(AL501,Inputs,10,FALSE))&\"  \"","v":"  "},null,{"$f":"IF(LEN(AI505)>2,AI505&VLOOKUP(AL501,Inputs,11,FALSE),VLOOKUP(AL501,Inputs,11,FALSE))","v":0},null,{"$f":"VLOOKUP(AL501,Inputs,12,FALSE)","v":0},null,null,{"$f":"IF($A505=AP$5,$G505,0)+IF($H505=AP$5,$L505,0)+IF($M505=AP$5,$Q505,0)+IF($R505=AP$5,$W505,0)+IF($X505=AP$5,AC505,0)+IF($AD505=AP$5,AH505,0)+IF(AI505=AP$5,AM505,0)","v":0},0,0,0,0,0,0,0,0,0,0,0,0,0,null,"2540 Zanella Way, Suite 20"]
[{"$f":"IF(F501>1,UPPER(VLOOKUP(F501,Inputs,13,FALSE))&\"  \",0)","v":0},null,null,null,{"$f":"IF(F501>0,IF(LEN(A506)>2,A506&VLOOKUP(F501,Inputs,14,FALSE),VLOOKUP(F501,Inputs,14,FALSE)),\"\")","v":""},null,{"$f":"IF(F501>0,VLOOKUP(F501,Inputs,15,FALSE),\"\")","v":""},{"$f":"IF(K501>1,UPPER(VLOOKUP(K501,Inputs,13,FALSE))&\"  \",0)","v":"  "},null,{"$f":"IF(K501>0,IF(LEN(H506)>2,H506&VLOOKUP(K501,Inputs,14,FALSE),VLOOKUP(K501,Inputs,14,FALSE)),\"\")","v":0},null,{"$f":"IF(K501>0,VLOOKUP(K501,Inputs,15,FALSE),\"\")","v":0},{"$f":"IF(P501>1,UPPER(VLOOKUP(P501,Inputs,13,FALSE))&\"  \",0)","v":"  "},null,{"$f":"IF(P501>0,IF(LEN(M506)>2,M506&VLOOKUP(P501,Inputs,14,FALSE),VLOOKUP(P501,Inputs,14,FALSE)),\"\")","v":0},null,{"$f":"IF(P501>0,VLOOKUP(P501,Inputs,15,FALSE),\"\")","v":0},{"$f":"IF(V501>1,UPPER(VLOOKUP(V501,Inputs,13,FALSE))&\"  \",0)","v":"  "},null,{"$f":"IF(V501>0,IF(LEN(R506)>2,R506&VLOOKUP(V501,Inputs,14,FALSE),VLOOKUP(V501,Inputs,14,FALSE)),\"\")","v":0},null,null,{"$f":"IF(V501>0,VLOOKUP(V501,Inputs,15,FALSE),\"\")","v":0},{"$f":"IF(AA501>1,UPPER(VLOOKUP(AA501,Inputs,13,FALSE))&\"  \",0)","v":"  "},null,{"$f":"IF(AA501>0,IF(LEN(X506)>2,X506&VLOOKUP(AA501,Inputs,14,FALSE),VLOOKUP(AA501,Inputs,14,FALSE)),\"\")","v":0},null,null,{"$f":"IF(AA501>0,VLOOKUP(AA501,Inputs,15,FALSE),\"\")","v":0},{"$f":"IF(AG501>1,UPPER(VLOOKUP(AG501,Inputs,13,FALSE))&\"  \",0)","v":"  "},null,{"$f":"IF(AG501>0,IF(LEN(AD506)>2,AD506&VLOOKUP(AG501,Inputs,14,FALSE),VLOOKUP(AG501,Inputs,14,FALSE)),\"\")","v":0},null,{"$f":"IF(AG501>0,VLOOKUP(AG501,Inputs,15,FALSE),\"\")","v":0},{"$f":"UPPER(VLOOKUP(AL501,Inputs,13,FALSE))&\"  \"","v":"  "},null,{"$f":"IF(LEN(AI506)>2,AI506&VLOOKUP(AL501,Inputs,14,FALSE),VLOOKUP(AL501,Inputs,14,FALSE))","v":0},null,{"$f":"VLOOKUP(AL501,Inputs,15,FALSE)","v":0},null,null,{"$f":"IF($A506=AP$5,$G506,0)+IF($H506=AP$5,$L506,0)+IF($M506=AP$5,$Q506,0)+IF($R506=AP$5,$W506,0)+IF($X506=AP$5,AC506,0)+IF($AD506=AP$5,AH506,0)+IF(AI506=AP$5,AM506,0)","v":0},0,0,0,0,0,0,0,0,0,0,0,0,0,null,"    Chico, CA 95928"]
[null,null,null,null,null,{"$f":"IF(F501>0,IF(VLOOKUP(F501,Inputs,3,FALSE)=\"T\",\"Telemarketing\",0),\"\")","v":""},null,null,null,null,{"$f":"IF(F501>0,IF(VLOOKUP(F501,Inputs,3,FALSE)=\"T\",0,IF(VLOOKUP(K501,Inputs,3,FALSE)=\"T\",\"Telemarketing\",0)),IF(VLOOKUP(K501,Inputs,3,FALSE)=\"T\",\"Telemarketing\",0))","v":0},null,null,null,null,{"$f":"IF(K501>0,IF(VLOOKUP(K501,Inputs,3,FALSE)=\"T\",0,IF(VLOOKUP(P501,Inputs,3,FALSE)=\"T\",\"Telemarketing\",0)),IF(VLOOKUP(P501,Inputs,3,FALSE)=\"T\",\"Telemarketing\",0))","v":0},null,null,null,null,null,{"$f":"IF(P501>0,IF(VLOOKUP(P501,Inputs,3,FALSE)=\"T\",0,IF(VLOOKUP(V501,Inputs,3,FALSE)=\"T\",\"Telemarketing\",0)),IF(VLOOKUP(V501,Inputs,3,FALSE)=\"T\",\"Telemarketing\",0))","v":0},null,null,null,null,{"$f":"IF(V501>0,IF(VLOOKUP(V501,Inputs,3,FALSE)=\"T\",0,IF(VLOOKUP(AA501,Inputs,3,FALSE)=\"T\",\"Telemarketing\",0)),IF(VLOOKUP(AA501,Inputs,3,FALSE)=\"T\",\"Telemarketing\",0))","v":0},null,null,null,null,null,{"$f":"IF(AA501>0,IF(VLOOKUP(AA501,Inputs,3,FALSE)=\"T\",0,IF(VLOOKUP(AG501,Inputs,3,FALSE)=\"T\",\"Telemarketing\",0)),IF(VLOOKUP(AG501,Inputs,3,FALSE)=\"T\",\"Telemarketing\",0))","v":0},null,null,null,null,{"$f":"IF(AG501>0,IF(VLOOKUP(AG501,Inputs,3,FALSE)=\"T\",0,IF(VLOOKUP(AL501,Inputs,3,FALSE)=\"T\",\"Telemarketing\",0)),IF(VLOOKUP(AL501,Inputs,3,FALSE)=\"T\",\"Telemarketing\",0))","v":0}]
[null,null,null,null,null,{"$f":"1+AL501","v":"2018-10-07"},null,null,null,null,{"$f":"1+F508","v":"2018-10-08"},null,null,null,null,{"$f":"1+K508","v":"2018-10-09"},null,null,null,null,null,{"$f":"1+P508","v":"2018-10-10"},null,null,null,null,{"$f":"1+V508","v":"2018-10-11"},null,null,null,null,null,{"$f":"1+AA508","v":"2018-10-12"},null,null,null,null,{"$f":"1+AG508","v":"2018-10-13"}]
[null,null,null,null,{"$f":"DAY(F508)","v":7},{"$f":"IF(F508>0,VLOOKUP(F508,Holidays,2),0)","v":0},null,null,null,{"$f":"DAY(K508)","v":8},{"$f":"IF(K508>0,VLOOKUP(K508,Holidays,2),0)","v":0},null,null,null,{"$f":"DAY(P508)","v":9},{"$f":"IF(P508>0,VLOOKUP(P508,Holidays,2),0)","v":0},null,null,null,{"$f":"DAY(V508)","v":10},{"$f":"IF(V508>0,VLOOKUP(V508,Holidays,2),0)","v":0},null,null,null,null,{"$f":"DAY(AA508)","v":11},{"$f":"IF(AA508>0,VLOOKUP(AA508,Holidays,2),0)","v":0},null,null,null,null,{"$f":"DAY(AG508)","v":12},{"$f":"IF(AG508>0,VLOOKUP(AG508,Holidays,2),0)","v":0},null,null,null,{"$f":"DAY(AL508)","v":13},{"$f":"IF(AL508>0,VLOOKUP(AL508,Holidays,2),0)","v":0}]
[{"$f":"UPPER(VLOOKUP(F508,Inputs,4,FALSE))&\"  \"","v":"  "},null,null,null,{"$f":"IF(LEN(A510)>2,A510&VLOOKUP(F508,Inputs,5,FALSE),VLOOKUP(F508,Inputs,5,FALSE))","v":0},null,{"$f":"IF(F508>0,VLOOKUP(F508,Inputs,6,FALSE),\"\")","v":0},{"$f":"UPPER(VLOOKUP(K508,Inputs,4,FALSE))&\"  \"","v":"  "},null,{"$f":"IF(LEN(H510)>2,H510&VLOOKUP(K508,Inputs,5,FALSE),VLOOKUP(K508,Inputs,5,FALSE))","v":0},null,{"$f":"IF(K508>0,VLOOKUP(K508,Inputs,6,FALSE),\"\")","v":0},{"$f":"UPPER(VLOOKUP(P508,Inputs,4,FALSE))&\"  \"","v":"  "},null,{"$f":"IF(LEN(M510)>2,M510&VLOOKUP(P508,Inputs,5,FALSE),VLOOKUP(P508,Inputs,5,FALSE))","v":0},null,{"$f":"IF(P508>0,VLOOKUP(P508,Inputs,6,FALSE),\"\")","v":0},{"$f":"UPPER(VLOOKUP(V508,Inputs,4,FALSE))&\"  \"","v":"  "},null,{"$f":"IF(LEN(R510)>2,R510&VLOOKUP(V508,Inputs,5,FALSE),VLOOKUP(V508,Inputs,5,FALSE))","v":0},null,null,{"$f":"IF(V508>0,VLOOKUP(V508,Inputs,6,FALSE),\"\")","v":0},{"$f":"UPPER(VLOOKUP(AA508,Inputs,4,FALSE))&\"  \"","v":"  "},null,{"$f":"IF(LEN(X510)>2,X510&VLOOKUP(AA508,Inputs,5,FALSE),VLOOKUP(AA508,Inputs,5,FALSE))","v":0},null,null,{"$f":"IF(AA508>0,VLOOKUP(AA508,Inputs,6,FALSE),\"\")","v":0},{"$f":"UPPER(VLOOKUP(AG508,Inputs,4,FALSE))&\"  \"","v":"  "},null,{"$f":"IF(LEN(AD510)>2,AD510&VLOOKUP(AG508,Inputs,5,FALSE),VLOOKUP(AG508,Inputs,5,FALSE))","v":0},null,{"$f":"IF(AG508>0,VLOOKUP(AG508,Inputs,6,FALSE),\"\")","v":0},{"$f":"UPPER(VLOOKUP(AL508,Inputs,4,FALSE))&\"  \"","v":"  "},null,{"$f":"IF(LEN(AI510)>2,AI510&VLOOKUP(AL508,Inputs,5,FALSE),VLOOKUP(AL508,Inputs,5,FALSE))","v":0},null,{"$f":"IF(AL508>0,VLOOKUP(AL508,Inputs,6,FALSE),\"\")","v":0},null,null,{"$f":"IF($A510=AP$5,$G510,0)+IF($H510=AP$5,$L510,0)+IF($M510=AP$5,$Q510,0)+IF($R510=AP$5,$W510,0)+IF($X510=AP$5,AC510,0)+IF($AD510=AP$5,AH510,0)+IF(AI510=AP$5,AM510,0)","v":0},{"$f":"IF($A510=AQ$5,$G510,0)+IF($H510=AQ$5,$L510,0)+IF($M510=AQ$5,$Q510,0)+IF($R510=AQ$5,$W510,0)+IF($X510=AQ$5,$AC510,0)+IF($AD510=AQ$5,$AH510,0)+IF($AI510=AQ$5,$AM510,0)","v":0},0,0,0,0,0,0,0,0,0,0,0,0,null,"      TheBedrock.com"]
[{"$f":"UPPER(VLOOKUP(F508,Inputs,7,FALSE))&\"  \"","v":"  "},null,null,null,{"$f":"IF(LEN(A511)>2,A511&VLOOKUP(F508,Inputs,8,FALSE),VLOOKUP(F508,Inputs,8,FALSE))","v":0},null,{"$f":"IF(F508>0,VLOOKUP(F508,Inputs,9,FALSE),\"\")","v":0},{"$f":"UPPER(VLOOKUP(K508,Inputs,7,FALSE))&\"  \"","v":"  "},null,{"$f":"IF(LEN(H511)>2,H511&VLOOKUP(K508,Inputs,8,FALSE),VLOOKUP(K508,Inputs,8,FALSE))","v":0},null,{"$f":"IF(K508>0,VLOOKUP(K508,Inputs,9,FALSE),\"\")","v":0},{"$f":"UPPER(VLOOKUP(P508,Inputs,7,FALSE))&\"  \"","v":"  "},null,{"$f":"IF(LEN(M511)>2,M511&VLOOKUP(P508,Inputs,8,FALSE),VLOOKUP(P508,Inputs,8,FALSE))","v":0},null,{"$f":"IF(P508>0,VLOOKUP(P508,Inputs,9,FALSE),\"\")","v":0},{"$f":"UPPER(VLOOKUP(V508,Inputs,7,FALSE))&\"  \"","v":"  "},null,{"$f":"IF(LEN(R511)>2,R511&VLOOKUP(V508,Inputs,8,FALSE),VLOOKUP(V508,Inputs,8,FALSE))","v":0},null,null,{"$f":"IF(V508>0,VLOOKUP(V508,Inputs,9,FALSE),\"\")","v":0},{"$f":"UPPER(VLOOKUP(AA508,Inputs,7,FALSE))&\"  \"","v":"  "},null,{"$f":"IF(LEN(X511)>2,X511&VLOOKUP(AA508,Inputs,8,FALSE),VLOOKUP(AA508,Inputs,8,FALSE))","v":0},null,null,{"$f":"IF(AA508>0,VLOOKUP(AA508,Inputs,9,FALSE),\"\")","v":0},{"$f":"UPPER(VLOOKUP(AG508,Inputs,7,FALSE))&\"  \"","v":"  "},null,{"$f":"IF(LEN(AD511)>2,AD511&VLOOKUP(AG508,Inputs,8,FALSE),VLOOKUP(AG508,Inputs,8,FALSE))","v":0},null,{"$f":"IF(AG508>0,VLOOKUP(AG508,Inputs,9,FALSE),\"\")","v":0},{"$f":"UPPER(VLOOKUP(AL508,Inputs,7,FALSE))&\"  \"","v":"  "},null,{"$f":"IF(LEN(AI511)>2,AI511&VLOOKUP(AL508,Inputs,8,FALSE),VLOOKUP(AL508,Inputs,8,FALSE))","v":0},null,{"$f":"IF(AL508>0,VLOOKUP(AL508,Inputs,9,FALSE),\"\")","v":0},null,null,{"$f":"IF($A511=AP$5,$G511,0)+IF($H511=AP$5,$L511,0)+IF($M511=AP$5,$Q511,0)+IF($R511=AP$5,$W511,0)+IF($X511=AP$5,AC511,0)+IF($AD511=AP$5,AH511,0)+IF(AI511=AP$5,AM511,0)","v":0},0,0,0,0,0,0,0,0,0,0,0,0,0]
[{"$f":"UPPER(VLOOKUP(F508,Inputs,10,FALSE))&\"  \"","v":"  "},null,null,null,{"$f":"IF(LEN(A512)>2,A512&VLOOKUP(F508,Inputs,11,FALSE),VLOOKUP(F508,Inputs,11,FALSE))","v":0},null,{"$f":"IF(F508>0,VLOOKUP(F508,Inputs,12,FALSE),\"\")","v":0},{"$f":"UPPER(VLOOKUP(K508,Inputs,10,FALSE))&\"  \"","v":"  "},null,{"$f":"IF(LEN(H512)>2,H512&VLOOKUP(K508,Inputs,11,FALSE),VLOOKUP(K508,Inputs,11,FALSE))","v":0},null,{"$f":"IF(K508>0,VLOOKUP(K508,Inputs,12,FALSE),\"\")","v":0},{"$f":"UPPER(VLOOKUP(P508,Inputs,10,FALSE))&\"  \"","v":"  "},null,{"$f":"IF(LEN(M512)>2,M512&VLOOKUP(P508,Inputs,11,FALSE),VLOOKUP(P508,Inputs,11,FALSE))","v":0},null,{"$f":"IF(P508>0,VLOOKUP(P508,Inputs,12,FALSE),\"\")","v":0},{"$f":"UPPER(VLOOKUP(V508,Inputs,10,FALSE))&\"  \"","v":"  "},null,{"$f":"IF(LEN(R512)>2,R512&VLOOKUP(V508,Inputs,11,FALSE),VLOOKUP(V508,Inputs,11,FALSE))","v":0},null,null,{"$f":"IF(V508>0,VLOOKUP(V508,Inputs,12,FALSE),\"\")","v":0},{"$f":"UPPER(VLOOKUP(AA508,Inputs,10,FALSE))&\"  \"","v":"  "},null,{"$f":"IF(LEN(X512)>2,X512&VLOOKUP(AA508,Inputs,11,FALSE),VLOOKUP(AA508,Inputs,11,FALSE))","v":0},null,null,{"$f":"IF(AA508>0,VLOOKUP(AA508,Inputs,12,FALSE),\"\")","v":0},{"$f":"UPPER(VLOOKUP(AG508,Inputs,10,FALSE))&\"  \"","v":"  "},null,{"$f":"IF(LEN(AD512)>2,AD512&VLOOKUP(AG508,Inputs,11,FALSE),VLOOKUP(AG508,Inputs,11,FALSE))","v":0},null,{"$f":"IF(AG508>0,VLOOKUP(AG508,Inputs,12,FALSE),\"\")","v":0},{"$f":"UPPER(VLOOKUP(AL508,Inputs,10,FALSE))&\"  \"","v":"  "},null,{"$f":"IF(LEN(AI512)>2,AI512&VLOOKUP(AL508,Inputs,11,FALSE),VLOOKUP(AL508,Inputs,11,FALSE))","v":0},null,{"$f":"IF(AL508>0,VLOOKUP(AL508,Inputs,12,FALSE),\"\")","v":0},null,null,{"$f":"IF($A512=AP$5,$G512,0)+IF($H512=AP$5,$L512,0)+IF($M512=AP$5,$Q512,0)+IF($R512=AP$5,$W512,0)+IF($X512=AP$5,AC512,0)+IF($AD512=AP$5,AH512,0)+IF(AI512=AP$5,AM512,0)","v":0},0,0,0,0,0,0,0,0,0,0,0,0,0]
[{"$f":"UPPER(VLOOKUP(F508,Inputs,13,FALSE))&\"  \"","v":"  "},null,null,null,{"$f":"IF(LEN(A513)>2,A513&VLOOKUP(F508,Inputs,14,FALSE),VLOOKUP(F508,Inputs,14,FALSE))","v":0},null,{"$f":"IF(F508>0,VLOOKUP(F508,Inputs,15,FALSE),\"\")","v":0},{"$f":"UPPER(VLOOKUP(K508,Inputs,13,FALSE))&\"  \"","v":"  "},null,{"$f":"IF(LEN(H513)>2,H513&VLOOKUP(K508,Inputs,14,FALSE),VLOOKUP(K508,Inputs,14,FALSE))","v":0},null,{"$f":"IF(K508>0,VLOOKUP(K508,Inputs,15,FALSE),\"\")","v":0},{"$f":"UPPER(VLOOKUP(P508,Inputs,13,FALSE))&\"  \"","v":"  "},null,{"$f":"IF(LEN(M513)>2,M513&VLOOKUP(P508,Inputs,14,FALSE),VLOOKUP(P508,Inputs,14,FALSE))","v":0},null,{"$f":"IF(P508>0,VLOOKUP(P508,Inputs,15,FALSE),\"\")","v":0},{"$f":"UPPER(VLOOKUP(V508,Inputs,13,FALSE))&\"  \"","v":"  "},null,{"$f":"IF(LEN(R513)>2,R513&VLOOKUP(V508,Inputs,14,FALSE),VLOOKUP(V508,Inputs,14,FALSE))","v":0},null,null,{"$f":"IF(V508>0,VLOOKUP(V508,Inputs,15,FALSE),\"\")","v":0},{"$f":"UPPER(VLOOKUP(AA508,Inputs,13,FALSE))&\"  \"","v":"  "},null,{"$f":"IF(LEN(X513)>2,X513&VLOOKUP(AA508,Inputs,14,FALSE),VLOOKUP(AA508,Inputs,14,FALSE))","v":0},null,null,{"$f":"IF(AA508>0,VLOOKUP(AA508,Inputs,15,FALSE),\"\")","v":0},{"$f":"UPPER(VLOOKUP(AG508,Inputs,13,FALSE))&\"  \"","v":"  "},null,{"$f":"IF(LEN(AD513)>2,AD513&VLOOKUP(AG508,Inputs,14,FALSE),VLOOKUP(AG508,Inputs,14,FALSE))","v":0},null,{"$f":"IF(AG508>0,VLOOKUP(AG508,Inputs,15,FALSE),\"\")","v":0},{"$f":"UPPER(VLOOKUP(AL508,Inputs,13,FALSE))&\"  \"","v":"  "},null,{"$f":"IF(LEN(AI513)>2,AI513&VLOOKUP(AL508,Inputs,14,FALSE),VLOOKUP(AL508,Inputs,14,FALSE))","v":0},null,{"$f":"IF(AL508>0,VLOOKUP(AL508,Inputs,15,FALSE),\"\")","v":0},null,null,{"$f":"IF($A513=AP$5,$G513,0)+IF($H513=AP$5,$L513,0)+IF($M513=AP$5,$Q513,0)+IF($R513=AP$5,$W513,0)+IF($X513=AP$5,AC513,0)+IF($AD513=AP$5,AH513,0)+IF(AI513=AP$5,AM513,0)","v":0},0,0,0,0,0,0,0,0,0,0,0,0,0]
[null,null,null,null,null,{"$f":"IF(F508>0,IF(VLOOKUP(F508,Inputs,3,FALSE)=\"T\",\"Telemarketing\",0),\"\")","v":0},null,null,null,null,{"$f":"IF(VLOOKUP(K508-1,Inputs,3,FALSE)=\"T\",0,IF(VLOOKUP(K508,Inputs,3,FALSE)=\"T\",\"Telemarketing\",0))","v":0},null,null,null,null,{"$f":"IF(VLOOKUP(P508-1,Inputs,3,FALSE)=\"T\",0,IF(VLOOKUP(P508,Inputs,3,FALSE)=\"T\",\"Telemarketing\",0))","v":0},null,null,null,null,null,{"$f":"IF(VLOOKUP(V508-1,Inputs,3,FALSE)=\"T\",0,IF(VLOOKUP(V508,Inputs,3,FALSE)=\"T\",\"Telemarketing\",0))","v":0},null,null,null,null,{"$f":"IF(VLOOKUP(AA508-1,Inputs,3,FALSE)=\"T\",0,IF(VLOOKUP(AA508,Inputs,3,FALSE)=\"T\",\"Telemarketing\",0))","v":0},null,null,null,null,null,{"$f":"IF(VLOOKUP(AG508-1,Inputs,3,FALSE)=\"T\",0,IF(VLOOKUP(AG508,Inputs,3,FALSE)=\"T\",\"Telemarketing\",0))","v":0},null,null,null,null,{"$f":"IF(VLOOKUP(AL508-1,Inputs,3,FALSE)=\"T\",0,IF(VLOOKUP(AL508,Inputs,3,FALSE)=\"T\",\"Telemarketing\",0))","v":0}]
[null,null,null,null,null,{"$f":"1+AL508","v":"2018-10-14"},null,null,null,null,{"$f":"1+F515","v":"2018-10-15"},null,null,null,null,{"$f":"1+K515","v":"2018-10-16"},null,null,null,null,null,{"$f":"1+P515","v":"2018-10-17"},null,null,null,null,{"$f":"1+V515","v":"2018-10-18"},null,null,null,null,null,{"$f":"1+AA515","v":"2018-10-19"},null,null,null,null,{"$f":"1+AG515","v":"2018-10-20"}]
[null,null,null,null,{"$f":"DAY(F515)","v":14},{"$f":"IF(F515>0,VLOOKUP(F515,Holidays,2),0)","v":0},null,null,null,{"$f":"DAY(K515)","v":15},{"$f":"IF(K515>0,VLOOKUP(K515,Holidays,2),0)","v":0},null,null,null,{"$f":"DAY(P515)","v":16},{"$f":"IF(P515>0,VLOOKUP(P515,Holidays,2),0)","v":0},null,null,null,{"$f":"DAY(V515)","v":17},{"$f":"IF(V515>0,VLOOKUP(V515,Holidays,2),0)","v":0},null,null,null,null,{"$f":"DAY(AA515)","v":18},{"$f":"IF(AA515>0,VLOOKUP(AA515,Holidays,2),0)","v":0},null,null,null,null,{"$f":"DAY(AG515)","v":19},{"$f":"IF(AG515>0,VLOOKUP(AG515,Holidays,2),0)","v":0},null,null,null,{"$f":"DAY(AL515)","v":20},{"$f":"IF(AL515>0,VLOOKUP(AL515,Holidays,2),0)","v":0}]
[{"$f":"UPPER(VLOOKUP(F515,Inputs,4,FALSE))&\"  \"","v":"  "},null,null,null,{"$f":"IF(LEN(A517)>2,A517&VLOOKUP(F515,Inputs,5,FALSE),VLOOKUP(F515,Inputs,5,FALSE))","v":0},null,{"$f":"IF(F515>0,VLOOKUP(F515,Inputs,6,FALSE),\"\")","v":0},{"$f":"UPPER(VLOOKUP(K515,Inputs,4,FALSE))&\"  \"","v":"  "},null,{"$f":"IF(LEN(H517)>2,H517&VLOOKUP(K515,Inputs,5,FALSE),VLOOKUP(K515,Inputs,5,FALSE))","v":0},null,{"$f":"IF(K515>0,VLOOKUP(K515,Inputs,6,FALSE),\"\")","v":0},{"$f":"UPPER(VLOOKUP(P515,Inputs,4,FALSE))&\"  \"","v":"  "},null,{"$f":"IF(LEN(M517)>2,M517&VLOOKUP(P515,Inputs,5,FALSE),VLOOKUP(P515,Inputs,5,FALSE))","v":0},null,{"$f":"IF(P515>0,VLOOKUP(P515,Inputs,6,FALSE),\"\")","v":0},{"$f":"UPPER(VLOOKUP(V515,Inputs,4,FALSE))&\"  \"","v":"  "},null,{"$f":"IF(LEN(R517)>2,R517&VLOOKUP(V515,Inputs,5,FALSE),VLOOKUP(V515,Inputs,5,FALSE))","v":0},null,null,{"$f":"IF(V515>0,VLOOKUP(V515,Inputs,6,FALSE),\"\")","v":0},{"$f":"UPPER(VLOOKUP(AA515,Inputs,4,FALSE))&\"  \"","v":"  "},null,{"$f":"IF(LEN(X517)>2,X517&VLOOKUP(AA515,Inputs,5,FALSE),VLOOKUP(AA515,Inputs,5,FALSE))","v":0},null,null,{"$f":"IF(AA515>0,VLOOKUP(AA515,Inputs,6,FALSE),\"\")","v":0},{"$f":"UPPER(VLOOKUP(AG515,Inputs,4,FALSE))&\"  \"","v":"  "},null,{"$f":"IF(LEN(AD517)>2,AD517&VLOOKUP(AG515,Inputs,5,FALSE),VLOOKUP(AG515,Inputs,5,FALSE))","v":0},null,{"$f":"IF(AG515>0,VLOOKUP(AG515,Inputs,6,FALSE),\"\")","v":0},{"$f":"UPPER(VLOOKUP(AL515,Inputs,4,FALSE))&\"  \"","v":"  "},null,{"$f":"IF(LEN(AI517)>2,AI517&VLOOKUP(AL515,Inputs,5,FALSE),VLOOKUP(AL515,Inputs,5,FALSE))","v":0},null,{"$f":"IF(AL515>0,VLOOKUP(AL515,Inputs,6,FALSE),\"\")","v":0},null,null,{"$f":"IF($A517=AP$5,$G517,0)+IF($H517=AP$5,$L517,0)+IF($M517=AP$5,$Q517,0)+IF($R517=AP$5,$W517,0)+IF($X517=AP$5,AC517,0)+IF($AD517=AP$5,AH517,0)+IF(AI517=AP$5,AM517,0)","v":0},{"$f":"IF($A517=AQ$5,$G517,0)+IF($H517=AQ$5,$L517,0)+IF($M517=AQ$5,$Q517,0)+IF($R517=AQ$5,$W517,0)+IF($X517=AQ$5,$AC517,0)+IF($AD517=AQ$5,$AH517,0)+IF($AI517=AQ$5,$AM517,0)","v":0},0,0,0,0,0,0,0,0,0,0,0,0]
[{"$f":"UPPER(VLOOKUP(F515,Inputs,7,FALSE))&\"  \"","v":"  "},null,null,null,{"$f":"IF(LEN(A518)>2,A518&VLOOKUP(F515,Inputs,8,FALSE),VLOOKUP(F515,Inputs,8,FALSE))","v":0},null,{"$f":"IF(F515>0,VLOOKUP(F515,Inputs,9,FALSE),\"\")","v":0},{"$f":"UPPER(VLOOKUP(K515,Inputs,7,FALSE))&\"  \"","v":"  "},null,{"$f":"IF(LEN(H518)>2,H518&VLOOKUP(K515,Inputs,8,FALSE),VLOOKUP(K515,Inputs,8,FALSE))","v":0},null,{"$f":"IF(K515>0,VLOOKUP(K515,Inputs,9,FALSE),\"\")","v":0},{"$f":"UPPER(VLOOKUP(P515,Inputs,7,FALSE))&\"  \"","v":"  "},null,{"$f":"IF(LEN(M518)>2,M518&VLOOKUP(P515,Inputs,8,FALSE),VLOOKUP(P515,Inputs,8,FALSE))","v":0},null,{"$f":"IF(P515>0,VLOOKUP(P515,Inputs,9,FALSE),\"\")","v":0},{"$f":"UPPER(VLOOKUP(V515,Inputs,7,FALSE))&\"  \"","v":"  "},null,{"$f":"IF(LEN(R518)>2,R518&VLOOKUP(V515,Inputs,8,FALSE),VLOOKUP(V515,Inputs,8,FALSE))","v":0},null,null,{"$f":"IF(V515>0,VLOOKUP(V515,Inputs,9,FALSE),\"\")","v":0},{"$f":"UPPER(VLOOKUP(AA515,Inputs,7,FALSE))&\"  \"","v":"  "},null,{"$f":"IF(LEN(X518)>2,X518&VLOOKUP(AA515,Inputs,8,FALSE),VLOOKUP(AA515,Inputs,8,FALSE))","v":0},null,null,{"$f":"IF(AA515>0,VLOOKUP(AA515,Inputs,9,FALSE),\"\")","v":0},{"$f":"UPPER(VLOOKUP(AG515,Inputs,7,FALSE))&\"  \"","v":"  "},null,{"$f":"IF(LEN(AD518)>2,AD518&VLOOKUP(AG515,Inputs,8,FALSE),VLOOKUP(AG515,Inputs,8,FALSE))","v":0},null,{"$f":"IF(AG515>0,VLOOKUP(AG515,Inputs,9,FALSE),\"\")","v":0},{"$f":"UPPER(VLOOKUP(AL515,Inputs,7,FALSE))&\"  \"","v":"  "},null,{"$f":"IF(LEN(AI518)>2,AI518&VLOOKUP(AL515,Inputs,8,FALSE),VLOOKUP(AL515,Inputs,8,FALSE))","v":0},null,{"$f":"IF(AL515>0,VLOOKUP(AL515,Inputs,9,FALSE),\"\")","v":0},null,null,{"$f":"IF($A518=AP$5,$G518,0)+IF($H518=AP$5,$L518,0)+IF($M518=AP$5,$Q518,0)+IF($R518=AP$5,$W518,0)+IF($X518=AP$5,AC518,0)+IF($AD518=AP$5,AH518,0)+IF(AI518=AP$5,AM518,0)","v":0},0,0,0,0,0,0,0,0,0,0,0,0,0]
[{"$f":"UPPER(VLOOKUP(F515,Inputs,10,FALSE))&\"  \"","v":"  "},null,null,null,{"$f":"IF(LEN(A519)>2,A519&VLOOKUP(F515,Inputs,11,FALSE),VLOOKUP(F515,Inputs,11,FALSE))","v":0},null,{"$f":"IF(F515>0,VLOOKUP(F515,Inputs,12,FALSE),\"\")","v":0},{"$f":"UPPER(VLOOKUP(K515,Inputs,10,FALSE))&\"  \"","v":"  "},null,{"$f":"IF(LEN(H519)>2,H519&VLOOKUP(K515,Inputs,11,FALSE),VLOOKUP(K515,Inputs,11,FALSE))","v":0},null,{"$f":"IF(K515>0,VLOOKUP(K515,Inputs,12,FALSE),\"\")","v":0},{"$f":"UPPER(VLOOKUP(P515,Inputs,10,FALSE))&\"  \"","v":"  "},null,{"$f":"IF(LEN(M519)>2,M519&VLOOKUP(P515,Inputs,11,FALSE),VLOOKUP(P515,Inputs,11,FALSE))","v":0},null,{"$f":"IF(P515>0,VLOOKUP(P515,Inputs,12,FALSE),\"\")","v":0},{"$f":"UPPER(VLOOKUP(V515,Inputs,10,FALSE))&\"  \"","v":"  "},null,{"$f":"IF(LEN(R519)>2,R519&VLOOKUP(V515,Inputs,11,FALSE),VLOOKUP(V515,Inputs,11,FALSE))","v":0},null,null,{"$f":"IF(V515>0,VLOOKUP(V515,Inputs,12,FALSE),\"\")","v":0},{"$f":"UPPER(VLOOKUP(AA515,Inputs,10,FALSE))&\"  \"","v":"  "},null,{"$f":"IF(LEN(X519)>2,X519&VLOOKUP(AA515,Inputs,11,FALSE),VLOOKUP(AA515,Inputs,11,FALSE))","v":0},null,null,{"$f":"IF(AA515>0,VLOOKUP(AA515,Inputs,12,FALSE),\"\")","v":0},{"$f":"UPPER(VLOOKUP(AG515,Inputs,10,FALSE))&\"  \"","v":"  "},null,{"$f":"IF(LEN(AD519)>2,AD519&VLOOKUP(AG515,Inputs,11,FALSE),VLOOKUP(AG515,Inputs,11,FALSE))","v":0},null,{"$f":"IF(AG515>0,VLOOKUP(AG515,Inputs,12,FALSE),\"\")","v":0},{"$f":"UPPER(VLOOKUP(AL515,Inputs,10,FALSE))&\"  \"","v":"  "},null,{"$f":"IF(LEN(AI519)>2,AI519&VLOOKUP(AL515,Inputs,11,FALSE),VLOOKUP(AL515,Inputs,11,FALSE))","v":0},null,{"$f":"IF(AL515>0,VLOOKUP(AL515,Inputs,12,FALSE),\"\")","v":0},null,null,{"$f":"IF($A519=AP$5,$G519,0)+IF($H519=AP$5,$L519,0)+IF($M519=AP$5,$Q519,0)+IF($R519=AP$5,$W519,0)+IF($X519=AP$5,AC519,0)+IF($AD519=AP$5,AH519,0)+IF(AI519=AP$5,AM519,0)","v":0},0,0,0,0,0,0,0,0,0,0,0,0,0]
[{"$f":"UPPER(VLOOKUP(F515,Inputs,13,FALSE))&\"  \"","v":"  "},null,null,null,{"$f":"IF(LEN(A520)>2,A520&VLOOKUP(F515,Inputs,14,FALSE),VLOOKUP(F515,Inputs,14,FALSE))","v":0},null,{"$f":"IF(F515>0,VLOOKUP(F515,Inputs,15,FALSE),\"\")","v":0},{"$f":"UPPER(VLOOKUP(K515,Inputs,13,FALSE))&\"  \"","v":"  "},null,{"$f":"IF(LEN(H520)>2,H520&VLOOKUP(K515,Inputs,14,FALSE),VLOOKUP(K515,Inputs,14,FALSE))","v":0},null,{"$f":"IF(K515>0,VLOOKUP(K515,Inputs,15,FALSE),\"\")","v":0},{"$f":"UPPER(VLOOKUP(P515,Inputs,13,FALSE))&\"  \"","v":"  "},null,{"$f":"IF(LEN(M520)>2,M520&VLOOKUP(P515,Inputs,14,FALSE),VLOOKUP(P515,Inputs,14,FALSE))","v":0},null,{"$f":"IF(P515>0,VLOOKUP(P515,Inputs,15,FALSE),\"\")","v":0},{"$f":"UPPER(VLOOKUP(V515,Inputs,13,FALSE))&\"  \"","v":"  "},null,{"$f":"IF(LEN(R520)>2,R520&VLOOKUP(V515,Inputs,14,FALSE),VLOOKUP(V515,Inputs,14,FALSE))","v":0},null,null,{"$f":"IF(V515>0,VLOOKUP(V515,Inputs,15,FALSE),\"\")","v":0},{"$f":"UPPER(VLOOKUP(AA515,Inputs,13,FALSE))&\"  \"","v":"  "},null,{"$f":"IF(LEN(X520)>2,X520&VLOOKUP(AA515,Inputs,14,FALSE),VLOOKUP(AA515,Inputs,14,FALSE))","v":0},null,null,{"$f":"IF(AA515>0,VLOOKUP(AA515,Inputs,15,FALSE),\"\")","v":0},{"$f":"UPPER(VLOOKUP(AG515,Inputs,13,FALSE))&\"  \"","v":"  "},null,{"$f":"IF(LEN(AD520)>2,AD520&VLOOKUP(AG515,Inputs,14,FALSE),VLOOKUP(AG515,Inputs,14,FALSE))","v":0},null,{"$f":"IF(AG515>0,VLOOKUP(AG515,Inputs,15,FALSE),\"\")","v":0},{"$f":"UPPER(VLOOKUP(AL515,Inputs,13,FALSE))&\"  \"","v":"  "},null,{"$f":"IF(LEN(AI520)>2,AI520&VLOOKUP(AL515,Inputs,14,FALSE),VLOOKUP(AL515,Inputs,14,FALSE))","v":0},null,{"$f":"IF(AL515>0,VLOOKUP(AL515,Inputs,15,FALSE),\"\")","v":0},null,null,{"$f":"IF($A520=AP$5,$G520,0)+IF($H520=AP$5,$L520,0)+IF($M520=AP$5,$Q520,0)+IF($R520=AP$5,$W520,0)+IF($X520=AP$5,AC520,0)+IF($AD520=AP$5,AH520,0)+IF(AI520=AP$5,AM520,0)","v":0},0,0,0,0,0,0,0,0,0,0,0,0,0]
[null,null,null,null,null,{"$f":"IF(F515>0,IF(VLOOKUP(F515,Inputs,3,FALSE)=\"T\",\"Telemarketing\",0),\"\")","v":0},null,null,null,null,{"$f":"IF(VLOOKUP(K515-1,Inputs,3,FALSE)=\"T\",0,IF(VLOOKUP(K515,Inputs,3,FALSE)=\"T\",\"Telemarketing\",0))","v":0},null,null,null,null,{"$f":"IF(VLOOKUP(P515-1,Inputs,3,FALSE)=\"T\",0,IF(VLOOKUP(P515,Inputs,3,FALSE)=\"T\",\"Telemarketing\",0))","v":0},null,null,null,null,null,{"$f":"IF(VLOOKUP(V515-1,Inputs,3,FALSE)=\"T\",0,IF(VLOOKUP(V515,Inputs,3,FALSE)=\"T\",\"Telemarketing\",0))","v":0},null,null,null,null,{"$f":"IF(VLOOKUP(AA515-1,Inputs,3,FALSE)=\"T\",0,IF(VLOOKUP(AA515,Inputs,3,FALSE)=\"T\",\"Telemarketing\",0))","v":0},null,null,null,null,null,{"$f":"IF(VLOOKUP(AG515-1,Inputs,3,FALSE)=\"T\",0,IF(VLOOKUP(AG515,Inputs,3,FALSE)=\"T\",\"Telemarketing\",0))","v":0},null,null,null,null,{"$f":"IF(VLOOKUP(AL515-1,Inputs,3,FALSE)=\"T\",0,IF(VLOOKUP(AL515,Inputs,3,FALSE)=\"T\",\"Telemarketing\",0))","v":0}]
[null,null,null,null,null,{"$f":"1+AL515","v":"2018-10-21"},null,null,null,null,{"$f":"1+F522","v":"2018-10-22"},null,null,null,null,{"$f":"1+K522","v":"2018-10-23"},null,null,null,null,null,{"$f":"1+P522","v":"2018-10-24"},null,null,null,null,{"$f":"1+V522","v":"2018-10-25"},null,null,null,null,null,{"$f":"1+AA522","v":"2018-10-26"},null,null,null,null,{"$f":"1+AG522","v":"2018-10-27"}]
[null,null,null,null,{"$f":"DAY(F522)","v":21},{"$f":"IF(F522>0,VLOOKUP(F522,Holidays,2),0)","v":0},null,null,null,{"$f":"DAY(K522)","v":22},{"$f":"IF(K522>0,VLOOKUP(K522,Holidays,2),0)","v":0},null,null,null,{"$f":"DAY(P522)","v":23},{"$f":"IF(P522>0,VLOOKUP(P522,Holidays,2),0)","v":0},null,null,null,{"$f":"DAY(V522)","v":24},{"$f":"IF(V522>0,VLOOKUP(V522,Holidays,2),0)","v":0},null,null,null,null,{"$f":"DAY(AA522)","v":25},{"$f":"IF(AA522>0,VLOOKUP(AA522,Holidays,2),0)","v":0},null,null,null,null,{"$f":"DAY(AG522)","v":26},{"$f":"IF(AG522>0,VLOOKUP(AG522,Holidays,2),0)","v":0},null,null,null,{"$f":"DAY(AL522)","v":27},{"$f":"IF(AL522>0,VLOOKUP(AL522,Holidays,2),0)","v":0}]
[{"$f":"UPPER(VLOOKUP(F522,Inputs,4,FALSE))&\"  \"","v":"  "},null,null,null,{"$f":"IF(LEN(A524)>2,A524&VLOOKUP(F522,Inputs,5,FALSE),VLOOKUP(F522,Inputs,5,FALSE))","v":0},null,{"$f":"IF(F522>0,VLOOKUP(F522,Inputs,6,FALSE),\"\")","v":0},{"$f":"UPPER(VLOOKUP(K522,Inputs,4,FALSE))&\"  \"","v":"  "},null,{"$f":"IF(LEN(H524)>2,H524&VLOOKUP(K522,Inputs,5,FALSE),VLOOKUP(K522,Inputs,5,FALSE))","v":0},null,{"$f":"IF(K522>0,VLOOKUP(K522,Inputs,6,FALSE),\"\")","v":0},{"$f":"UPPER(VLOOKUP(P522,Inputs,4,FALSE))&\"  \"","v":"  "},null,{"$f":"IF(LEN(M524)>2,M524&VLOOKUP(P522,Inputs,5,FALSE),VLOOKUP(P522,Inputs,5,FALSE))","v":0},null,{"$f":"IF(P522>0,VLOOKUP(P522,Inputs,6,FALSE),\"\")","v":0},{"$f":"UPPER(VLOOKUP(V522,Inputs,4,FALSE))&\"  \"","v":"  "},null,{"$f":"IF(LEN(R524)>2,R524&VLOOKUP(V522,Inputs,5,FALSE),VLOOKUP(V522,Inputs,5,FALSE))","v":0},null,null,{"$f":"IF(V522>0,VLOOKUP(V522,Inputs,6,FALSE),\"\")","v":0},{"$f":"UPPER(VLOOKUP(AA522,Inputs,4,FALSE))&\"  \"","v":"  "},null,{"$f":"IF(LEN(X524)>2,X524&VLOOKUP(AA522,Inputs,5,FALSE),VLOOKUP(AA522,Inputs,5,FALSE))","v":0},null,null,{"$f":"IF(AA522>0,VLOOKUP(AA522,Inputs,6,FALSE),\"\")","v":0},{"$f":"UPPER(VLOOKUP(AG522,Inputs,4,FALSE))&\"  \"","v":"  "},null,{"$f":"IF(LEN(AD524)>2,AD524&VLOOKUP(AG522,Inputs,5,FALSE),VLOOKUP(AG522,Inputs,5,FALSE))","v":0},null,{"$f":"IF(AG522>0,VLOOKUP(AG522,Inputs,6,FALSE),\"\")","v":0},{"$f":"UPPER(VLOOKUP(AL522,Inputs,4,FALSE))&\"  \"","v":"  "},null,{"$f":"IF(LEN(AI524)>2,AI524&VLOOKUP(AL522,Inputs,5,FALSE),VLOOKUP(AL522,Inputs,5,FALSE))","v":0},null,{"$f":"IF(AL522>0,VLOOKUP(AL522,Inputs,6,FALSE),\"\")","v":0},null,null,{"$f":"IF($A524=AP$5,$G524,0)+IF($H524=AP$5,$L524,0)+IF($M524=AP$5,$Q524,0)+IF($R524=AP$5,$W524,0)+IF($X524=AP$5,AC524,0)+IF($AD524=AP$5,AH524,0)+IF(AI524=AP$5,AM524,0)","v":0},{"$f":"IF($A524=AQ$5,$G524,0)+IF($H524=AQ$5,$L524,0)+IF($M524=AQ$5,$Q524,0)+IF($R524=AQ$5,$W524,0)+IF($X524=AQ$5,$AC524,0)+IF($AD524=AQ$5,$AH524,0)+IF($AI524=AQ$5,$AM524,0)","v":0},0,0,0,0,0,0,0,0,0,0,0,0]
[{"$f":"UPPER(VLOOKUP(F522,Inputs,7,FALSE))&\"  \"","v":"  "},null,null,null,{"$f":"IF(LEN(A525)>2,A525&VLOOKUP(F522,Inputs,8,FALSE),VLOOKUP(F522,Inputs,8,FALSE))","v":0},null,{"$f":"IF(F522>0,VLOOKUP(F522,Inputs,9,FALSE),\"\")","v":0},{"$f":"UPPER(VLOOKUP(K522,Inputs,7,FALSE))&\"  \"","v":"  "},null,{"$f":"IF(LEN(H525)>2,H525&VLOOKUP(K522,Inputs,8,FALSE),VLOOKUP(K522,Inputs,8,FALSE))","v":0},null,{"$f":"IF(K522>0,VLOOKUP(K522,Inputs,9,FALSE),\"\")","v":0},{"$f":"UPPER(VLOOKUP(P522,Inputs,7,FALSE))&\"  \"","v":"  "},null,{"$f":"IF(LEN(M525)>2,M525&VLOOKUP(P522,Inputs,8,FALSE),VLOOKUP(P522,Inputs,8,FALSE))","v":0},null,{"$f":"IF(P522>0,VLOOKUP(P522,Inputs,9,FALSE),\"\")","v":0},{"$f":"UPPER(VLOOKUP(V522,Inputs,7,FALSE))&\"  \"","v":"  "},null,{"$f":"IF(LEN(R525)>2,R525&VLOOKUP(V522,Inputs,8,FALSE),VLOOKUP(V522,Inputs,8,FALSE))","v":0},null,null,{"$f":"IF(V522>0,VLOOKUP(V522,Inputs,9,FALSE),\"\")","v":0},{"$f":"UPPER(VLOOKUP(AA522,Inputs,7,FALSE))&\"  \"","v":"  "},null,{"$f":"IF(LEN(X525)>2,X525&VLOOKUP(AA522,Inputs,8,FALSE),VLOOKUP(AA522,Inputs,8,FALSE))","v":0},null,null,{"$f":"IF(AA522>0,VLOOKUP(AA522,Inputs,9,FALSE),\"\")","v":0},{"$f":"UPPER(VLOOKUP(AG522,Inputs,7,FALSE))&\"  \"","v":"  "},null,{"$f":"IF(LEN(AD525)>2,AD525&VLOOKUP(AG522,Inputs,8,FALSE),VLOOKUP(AG522,Inputs,8,FALSE))","v":0},null,{"$f":"IF(AG522>0,VLOOKUP(AG522,Inputs,9,FALSE),\"\")","v":0},{"$f":"UPPER(VLOOKUP(AL522,Inputs,7,FALSE))&\"  \"","v":"  "},null,{"$f":"IF(LEN(AI525)>2,AI525&VLOOKUP(AL522,Inputs,8,FALSE),VLOOKUP(AL522,Inputs,8,FALSE))","v":0},null,{"$f":"IF(AL522>0,VLOOKUP(AL522,Inputs,9,FALSE),\"\")","v":0},null,null,{"$f":"IF($A525=AP$5,$G525,0)+IF($H525=AP$5,$L525,0)+IF($M525=AP$5,$Q525,0)+IF($R525=AP$5,$W525,0)+IF($X525=AP$5,AC525,0)+IF($AD525=AP$5,AH525,0)+IF(AI525=AP$5,AM525,0)","v":0},0,0,0,0,0,0,0,0,0,0,0,0,0]
[{"$f":"UPPER(VLOOKUP(F522,Inputs,10,FALSE))&\"  \"","v":"  "},null,null,null,{"$f":"IF(LEN(A526)>2,A526&VLOOKUP(F522,Inputs,11,FALSE),VLOOKUP(F522,Inputs,11,FALSE))","v":0},null,{"$f":"IF(F522>0,VLOOKUP(F522,Inputs,12,FALSE),\"\")","v":0},{"$f":"UPPER(VLOOKUP(K522,Inputs,10,FALSE))&\"  \"","v":"  "},null,{"$f":"IF(LEN(H526)>2,H526&VLOOKUP(K522,Inputs,11,FALSE),VLOOKUP(K522,Inputs,11,FALSE))","v":0},null,{"$f":"IF(K522>0,VLOOKUP(K522,Inputs,12,FALSE),\"\")","v":0},{"$f":"UPPER(VLOOKUP(P522,Inputs,10,FALSE))&\"  \"","v":"  "},null,{"$f":"IF(LEN(M526)>2,M526&VLOOKUP(P522,Inputs,11,FALSE),VLOOKUP(P522,Inputs,11,FALSE))","v":0},null,{"$f":"IF(P522>0,VLOOKUP(P522,Inputs,12,FALSE),\"\")","v":0},{"$f":"UPPER(VLOOKUP(V522,Inputs,10,FALSE))&\"  \"","v":"  "},null,{"$f":"IF(LEN(R526)>2,R526&VLOOKUP(V522,Inputs,11,FALSE),VLOOKUP(V522,Inputs,11,FALSE))","v":0},null,null,{"$f":"IF(V522>0,VLOOKUP(V522,Inputs,12,FALSE),\"\")","v":0},{"$f":"UPPER(VLOOKUP(AA522,Inputs,10,FALSE))&\"  \"","v":"  "},null,{"$f":"IF(LEN(X526)>2,X526&VLOOKUP(AA522,Inputs,11,FALSE),VLOOKUP(AA522,Inputs,11,FALSE))","v":0},null,null,{"$f":"IF(AA522>0,VLOOKUP(AA522,Inputs,12,FALSE),\"\")","v":0},{"$f":"UPPER(VLOOKUP(AG522,Inputs,10,FALSE))&\"  \"","v":"  "},null,{"$f":"IF(LEN(AD526)>2,AD526&VLOOKUP(AG522,Inputs,11,FALSE),VLOOKUP(AG522,Inputs,11,FALSE))","v":0},null,{"$f":"IF(AG522>0,VLOOKUP(AG522,Inputs,12,FALSE),\"\")","v":0},{"$f":"UPPER(VLOOKUP(AL522,Inputs,10,FALSE))&\"  \"","v":"  "},null,{"$f":"IF(LEN(AI526)>2,AI526&VLOOKUP(AL522,Inputs,11,FALSE),VLOOKUP(AL522,Inputs,11,FALSE))","v":0},null,{"$f":"IF(AL522>0,VLOOKUP(AL522,Inputs,12,FALSE),\"\")","v":0},null,null,{"$f":"IF($A526=AP$5,$G526,0)+IF($H526=AP$5,$L526,0)+IF($M526=AP$5,$Q526,0)+IF($R526=AP$5,$W526,0)+IF($X526=AP$5,AC526,0)+IF($AD526=AP$5,AH526,0)+IF(AI526=AP$5,AM526,0)","v":0},0,0,0,0,0,0,0,0,0,0,0,0,0]
[{"$f":"UPPER(VLOOKUP(F522,Inputs,13,FALSE))&\"  \"","v":"  "},null,null,null,{"$f":"IF(LEN(A527)>2,A527&VLOOKUP(F522,Inputs,14,FALSE),VLOOKUP(F522,Inputs,14,FALSE))","v":0},null,{"$f":"IF(F522>0,VLOOKUP(F522,Inputs,15,FALSE),\"\")","v":0},{"$f":"UPPER(VLOOKUP(K522,Inputs,13,FALSE))&\"  \"","v":"  "},null,{"$f":"IF(LEN(H527)>2,H527&VLOOKUP(K522,Inputs,14,FALSE),VLOOKUP(K522,Inputs,14,FALSE))","v":0},null,{"$f":"IF(K522>0,VLOOKUP(K522,Inputs,15,FALSE),\"\")","v":0},{"$f":"UPPER(VLOOKUP(P522,Inputs,13,FALSE))&\"  \"","v":"  "},null,{"$f":"IF(LEN(M527)>2,M527&VLOOKUP(P522,Inputs,14,FALSE),VLOOKUP(P522,Inputs,14,FALSE))","v":0},null,{"$f":"IF(P522>0,VLOOKUP(P522,Inputs,15,FALSE),\"\")","v":0},{"$f":"UPPER(VLOOKUP(V522,Inputs,13,FALSE))&\"  \"","v":"  "},null,{"$f":"IF(LEN(R527)>2,R527&VLOOKUP(V522,Inputs,14,FALSE),VLOOKUP(V522,Inputs,14,FALSE))","v":0},null,null,{"$f":"IF(V522>0,VLOOKUP(V522,Inputs,15,FALSE),\"\")","v":0},{"$f":"UPPER(VLOOKUP(AA522,Inputs,13,FALSE))&\"  \"","v":"  "},null,{"$f":"IF(LEN(X527)>2,X527&VLOOKUP(AA522,Inputs,14,FALSE),VLOOKUP(AA522,Inputs,14,FALSE))","v":0},null,null,{"$f":"IF(AA522>0,VLOOKUP(AA522,Inputs,15,FALSE),\"\")","v":0},{"$f":"UPPER(VLOOKUP(AG522,Inputs,13,FALSE))&\"  \"","v":"  "},null,{"$f":"IF(LEN(AD527)>2,AD527&VLOOKUP(AG522,Inputs,14,FALSE),VLOOKUP(AG522,Inputs,14,FALSE))","v":0},null,{"$f":"IF(AG522>0,VLOOKUP(AG522,Inputs,15,FALSE),\"\")","v":0},{"$f":"UPPER(VLOOKUP(AL522,Inputs,13,FALSE))&\"  \"","v":"  "},null,{"$f":"IF(LEN(AI527)>2,AI527&VLOOKUP(AL522,Inputs,14,FALSE),VLOOKUP(AL522,Inputs,14,FALSE))","v":0},null,{"$f":"IF(AL522>0,VLOOKUP(AL522,Inputs,15,FALSE),\"\")","v":0},null,null,{"$f":"IF($A527=AP$5,$G527,0)+IF($H527=AP$5,$L527,0)+IF($M527=AP$5,$Q527,0)+IF($R527=AP$5,$W527,0)+IF($X527=AP$5,AC527,0)+IF($AD527=AP$5,AH527,0)+IF(AI527=AP$5,AM527,0)","v":0},0,0,0,0,0,0,0,0,0,0,0,0,0]
[null,null,null,null,null,{"$f":"IF(F522>0,IF(VLOOKUP(F522,Inputs,3,FALSE)=\"T\",\"Telemarketing\",0),\"\")","v":0},null,null,null,null,{"$f":"IF(VLOOKUP(K522-1,Inputs,3,FALSE)=\"T\",0,IF(VLOOKUP(K522,Inputs,3,FALSE)=\"T\",\"Telemarketing\",0))","v":0},null,null,null,null,{"$f":"IF(VLOOKUP(P522-1,Inputs,3,FALSE)=\"T\",0,IF(VLOOKUP(P522,Inputs,3,FALSE)=\"T\",\"Telemarketing\",0))","v":0},null,null,null,null,null,{"$f":"IF(VLOOKUP(V522-1,Inputs,3,FALSE)=\"T\",0,IF(VLOOKUP(V522,Inputs,3,FALSE)=\"T\",\"Telemarketing\",0))","v":0},null,null,null,null,{"$f":"IF(VLOOKUP(AA522-1,Inputs,3,FALSE)=\"T\",0,IF(VLOOKUP(AA522,Inputs,3,FALSE)=\"T\",\"Telemarketing\",0))","v":0},null,null,null,null,null,{"$f":"IF(VLOOKUP(AG522-1,Inputs,3,FALSE)=\"T\",0,IF(VLOOKUP(AG522,Inputs,3,FALSE)=\"T\",\"Telemarketing\",0))","v":0},null,null,null,null,{"$f":"IF(VLOOKUP(AL522-1,Inputs,3,FALSE)=\"T\",0,IF(VLOOKUP(AL522,Inputs,3,FALSE)=\"T\",\"Telemarketing\",0))","v":0}]
[null,null,null,null,null,{"$f":"IF(AL522>0,IF(MONTH(1+AL522)=$A547,1+AL522,0),0)","v":"2018-10-28"},null,null,null,null,{"$f":"IF(F529>0,IF(MONTH(1+F529)=$A547,1+F529,0),0)","v":"2018-10-29"},null,null,null,null,{"$f":"IF(K529>0,IF(MONTH(1+K529)=$A547,1+K529,0),0)","v":"2018-10-30"},null,null,null,null,null,{"$f":"IF(P529>0,IF(MONTH(1+P529)=$A547,1+P529,0),0)","v":"2018-10-31"},null,null,null,null,{"$f":"IF(V529>0,IF(MONTH(1+V529)=$A547,1+V529,0),0)","v":"00:00:00"},null,null,null,null,null,{"$f":"IF(AA529>0,IF(MONTH(1+AA529)=$A547,1+AA529,0),0)","v":"00:00:00"},null,null,null,null,{"$f":"IF(AG529>0,IF(MONTH(1+AG529)=$A547,1+AG529,0),0)","v":"00:00:00"}]
[null,null,null,null,{"$f":"DAY(F529)","v":28},{"$f":"VLOOKUP(F529,Holidays,2)","v":0},null,null,null,{"$f":"DAY(K529)","v":29},{"$f":"VLOOKUP(K529,Holidays,2)","v":0},null,null,null,{"$f":"DAY(P529)","v":30},{"$f":"VLOOKUP(P529,Holidays,2)","v":0},null,null,null,{"$f":"DAY(V529)","v":31},{"$f":"VLOOKUP(V529,Holidays,2)","v":0},null,null,null,null,{"$f":"DAY(AA529)","v":0},{"$f":"VLOOKUP(AA529,Holidays,2)","v":0},null,null,null,null,{"$f":"DAY(AG529)","v":0},{"$f":"VLOOKUP(AG529,Holidays,2)","v":0},null,null,null,{"$f":"DAY(AL529)","v":0},{"$f":"VLOOKUP(AL529,Holidays,2)","v":0}]
[{"$f":"UPPER(VLOOKUP(F529,Inputs,4,FALSE))&\"  \"","v":"  "},null,null,null,{"$f":"IF(LEN(A531)>2,A531&VLOOKUP(F529,Inputs,5,FALSE),VLOOKUP(F529,Inputs,5,FALSE))","v":0},null,{"$f":"IF(F529>0,VLOOKUP(F529,Inputs,6,FALSE),\"\")","v":0},{"$f":"UPPER(VLOOKUP(K529,Inputs,4,FALSE))&\"  \"","v":"  "},null,{"$f":"IF(LEN(H531)>2,H531&VLOOKUP(K529,Inputs,5,FALSE),VLOOKUP(K529,Inputs,5,FALSE))","v":0},null,{"$f":"IF(K529>0,VLOOKUP(K529,Inputs,6,FALSE),\"\")","v":0},{"$f":"UPPER(VLOOKUP(P529,Inputs,4,FALSE))&\"  \"","v":"  "},null,{"$f":"IF(LEN(M531)>2,M531&VLOOKUP(P529,Inputs,5,FALSE),VLOOKUP(P529,Inputs,5,FALSE))","v":0},null,{"$f":"IF(P529>0,VLOOKUP(P529,Inputs,6,FALSE),\"\")","v":0},{"$f":"IF(MONTH(V529)=A547,UPPER(VLOOKUP(V529,Inputs,4,FALSE))&\"  \",\"\")","v":"  "},null,{"$f":"IF(MONTH(V529)=A547,IF(LEN(R531)>0,R531&VLOOKUP(V529,Inputs,5,FALSE),VLOOKUP(V529,Inputs,5,FALSE)),\"\")","v":"  "},null,null,{"$f":"IF(MONTH(V529)=A547,IF(V529>0,VLOOKUP(V529,Inputs,6,FALSE),\"\"),0)","v":0},{"$f":"IF(MONTH(AA529)=A547,UPPER(VLOOKUP(AA529,Inputs,4,FALSE))&\"  \",\"\")","v":""},null,{"$f":"IF(MONTH(AA529)=A547,IF(LEN(X531)>0,X531&VLOOKUP(AA529,Inputs,5,FALSE),VLOOKUP(AA529,Inputs,5,FALSE)),\"\")","v":""},null,null,{"$f":"IF(MONTH(AA529)=A547,IF(AA529>0,VLOOKUP(AA529,Inputs,6,FALSE),\"\"),0)","v":0},{"$f":"IF(MONTH(AG529)=A547,UPPER(VLOOKUP(AG529,Inputs,4,FALSE))&\"  \",\"\")","v":""},null,{"$f":"IF(MONTH(AG529)=A547,IF(LEN(AD531)>0,AD531&VLOOKUP(AG529,Inputs,5,FALSE),VLOOKUP(AG529,Inputs,5,FALSE)),\"\")","v":""},null,{"$f":"IF(MONTH(AG529)=A547,IF(AG529>0,VLOOKUP(AG529,Inputs,6,FALSE),\"\"),0)","v":0},{"$f":"IF(MONTH(AL529)=A547,UPPER(VLOOKUP(AL529,Inputs,4,FALSE))&\"  \",\"\")","v":""},null,{"$f":"IF(MONTH(AL529)=A547,IF(LEN(AI531)>0,AI531&VLOOKUP(AL529,Inputs,5,FALSE),VLOOKUP(AL529,Inputs,5,FALSE)),\"\")","v":""},null,{"$f":"IF(MONTH(AL529)=A547,IF(AL529>0,VLOOKUP(AL529,Inputs,6,FALSE),\"\"),0)","v":0},null,null,{"$f":"IF($A531=AP$5,$G531,0)+IF($H531=AP$5,$L531,0)+IF($M531=AP$5,$Q531,0)+IF($R531=AP$5,$W531,0)+IF($X531=AP$5,AC531,0)+IF($AD531=AP$5,AH531,0)+IF(AI531=AP$5,AM531,0)","v":0},{"$f":"IF($A531=AQ$5,$G531,0)+IF($H531=AQ$5,$L531,0)+IF($M531=AQ$5,$Q531,0)+IF($R531=AQ$5,$W531,0)+IF($X531=AQ$5,$AC531,0)+IF($AD531=AQ$5,$AH531,0)+IF($AI531=AQ$5,$AM531,0)","v":0},0,0,0,0,0,0,0,0,0,0,0,0]
[{"$f":"UPPER(VLOOKUP(F529,Inputs,7,FALSE))&\"  \"","v":"  "},null,null,null,{"$f":"IF(LEN(A532)>2,A532&VLOOKUP(F529,Inputs,8,FALSE),VLOOKUP(F529,Inputs,8,FALSE))","v":0},null,{"$f":"IF(F529>0,VLOOKUP(F529,Inputs,9,FALSE),\"\")","v":0},{"$f":"UPPER(VLOOKUP(K529,Inputs,7,FALSE))&\"  \"","v":"  "},null,{"$f":"IF(LEN(H532)>2,H532&VLOOKUP(K529,Inputs,8,FALSE),VLOOKUP(K529,Inputs,8,FALSE))","v":0},null,{"$f":"IF(K529>0,VLOOKUP(K529,Inputs,9,FALSE),\"\")","v":0},{"$f":"UPPER(VLOOKUP(P529,Inputs,7,FALSE))&\"  \"","v":"  "},null,{"$f":"IF(LEN(M532)>2,M532&VLOOKUP(P529,Inputs,8,FALSE),VLOOKUP(P529,Inputs,8,FALSE))","v":0},null,{"$f":"IF(P529>0,VLOOKUP(P529,Inputs,9,FALSE),\"\")","v":0},{"$f":"IF(MONTH(V529)=A547,UPPER(VLOOKUP(V529,Inputs,7,FALSE))&\"  \",\"\")","v":"  "},null,{"$f":"IF(MONTH(V529)=A547,IF(LEN(R532)>0,R532&VLOOKUP(V529,Inputs,8,FALSE),VLOOKUP(V529,Inputs,8,FALSE)),\"\")","v":"  "},null,null,{"$f":"IF(MONTH(V529)=A547,IF(V529>0,VLOOKUP(V529,Inputs,9,FALSE),\"\"),0)","v":0},{"$f":"IF(MONTH(AA529)=A547,UPPER(VLOOKUP(AA529,Inputs,7,FALSE))&\"  \",\"\")","v":""},null,{"$f":"IF(MONTH(AA529)=A547,IF(LEN(X532)>0,X532&VLOOKUP(AA529,Inputs,8,FALSE),VLOOKUP(AA529,Inputs,8,FALSE)),\"\")","v":""},null,null,{"$f":"IF(MONTH(AA529)=A547,IF(AA529>0,VLOOKUP(AA529,Inputs,9,FALSE),\"\"),0)","v":0},{"$f":"IF(MONTH(AG529)=A547,UPPER(VLOOKUP(AG529,Inputs,7,FALSE))&\"  \",\"\")","v":""},null,{"$f":"IF(MONTH(AG529)=A547,IF(LEN(AD532)>0,AD532&VLOOKUP(AG529,Inputs,8,FALSE),VLOOKUP(AG529,Inputs,8,FALSE)),\"\")","v":""},null,{"$f":"IF(MONTH(AG529)=A547,IF(AG529>0,VLOOKUP(AG529,Inputs,9,FALSE),\"\"),0)","v":0},{"$f":"IF(MONTH(AL529)=A547,UPPER(VLOOKUP(AL529,Inputs,7,FALSE))&\"  \",\"\")","v":""},null,{"$f":"IF(MONTH(AL529)=A547,IF(LEN(AI532)>0,AI532&VLOOKUP(AL529,Inputs,8,FALSE),VLOOKUP(AL529,Inputs,8,FALSE)),\"\")","v":""},null,{"$f":"IF(MONTH(AL529)=A547,IF(AL529>0,VLOOKUP(AL529,Inputs,9,FALSE),\"\"),0)","v":0},null,null,{"$f":"IF($A532=AP$5,$G532,0)+IF($H532=AP$5,$L532,0)+IF($M532=AP$5,$Q532,0)+IF($R532=AP$5,$W532,0)+IF($X532=AP$5,AC532,0)+IF($AD532=AP$5,AH532,0)+IF(AI532=AP$5,AM532,0)","v":0},0,0,0,0,0,0,0,0,0,0,0,0,0]
[{"$f":"UPPER(VLOOKUP(F529,Inputs,10,FALSE))&\"  \"","v":"  "},null,null,null,{"$f":"IF(LEN(A533)>2,A533&VLOOKUP(F529,Inputs,11,FALSE),VLOOKUP(F529,Inputs,11,FALSE))","v":0},null,{"$f":"IF(F529>0,VLOOKUP(F529,Inputs,12,FALSE),\"\")","v":0},{"$f":"UPPER(VLOOKUP(K529,Inputs,10,FALSE))&\"  \"","v":"  "},null,{"$f":"IF(LEN(H533)>2,H533&VLOOKUP(K529,Inputs,11,FALSE),VLOOKUP(K529,Inputs,11,FALSE))","v":0},null,{"$f":"IF(K529>0,VLOOKUP(K529,Inputs,12,FALSE),\"\")","v":0},{"$f":"UPPER(VLOOKUP(P529,Inputs,10,FALSE))&\"  \"","v":"  "},null,{"$f":"IF(LEN(M533)>2,M533&VLOOKUP(P529,Inputs,11,FALSE),VLOOKUP(P529,Inputs,11,FALSE))","v":0},null,{"$f":"IF(P529>0,VLOOKUP(P529,Inputs,12,FALSE),\"\")","v":0},{"$f":"IF(MONTH(V529)=A547,UPPER(VLOOKUP(V529,Inputs,10,FALSE))&\"  \",\"\")","v":"  "},null,{"$f":"IF(MONTH(V529)=A547,IF(LEN(R533)>0,R533&VLOOKUP(V529,Inputs,11,FALSE),VLOOKUP(V529,Inputs,11,FALSE)),\"\")","v":"  "},null,null,{"$f":"IF(MONTH(V529)=A547,IF(V529>0,VLOOKUP(V529,Inputs,12,FALSE),\"\"),0)","v":0},{"$f":"IF(MONTH(AA529)=A547,UPPER(VLOOKUP(AA529,Inputs,10,FALSE))&\"  \",\"\")","v":""},null,{"$f":"IF(MONTH(AA529)=A547,IF(LEN(X533)>0,X533&VLOOKUP(AA529,Inputs,11,FALSE),VLOOKUP(AA529,Inputs,11,FALSE)),\"\")","v":""},null,null,{"$f":"IF(MONTH(AA529)=A547,IF(AA529>0,VLOOKUP(AA529,Inputs,12,FALSE),\"\"),0)","v":0},{"$f":"IF(MONTH(AG529)=A547,UPPER(VLOOKUP(AG529,Inputs,10,FALSE))&\"  \",\"\")","v":""},null,{"$f":"IF(MONTH(AG529)=A547,IF(LEN(AD533)>0,AD533&VLOOKUP(AG529,Inputs,11,FALSE),VLOOKUP(AG529,Inputs,11,FALSE)),\"\")","v":""},null,{"$f":"IF(MONTH(AG529)=A547,IF(AG529>0,VLOOKUP(AG529,Inputs,12,FALSE),\"\"),0)","v":0},{"$f":"IF(MONTH(AL529)=A547,UPPER(VLOOKUP(AL529,Inputs,10,FALSE))&\"  \",\"\")","v":""},null,{"$f":"IF(MONTH(AL529)=A547,IF(LEN(AI533)>0,AI533&VLOOKUP(AL529,Inputs,11,FALSE),VLOOKUP(AL529,Inputs,11,FALSE)),\"\")","v":""},null,{"$f":"IF(MONTH(AL529)=A547,IF(AL529>0,VLOOKUP(AL529,Inputs,12,FALSE),\"\"),0)","v":0},null,null,{"$f":"IF($A533=AP$5,$G533,0)+IF($H533=AP$5,$L533,0)+IF($M533=AP$5,$Q533,0)+IF($R533=AP$5,$W533,0)+IF($X533=AP$5,AC533,0)+IF($AD533=AP$5,AH533,0)+IF(AI533=AP$5,AM533,0)","v":0},0,0,0,0,0,0,0,0,0,0,0,0,0]
[{"$f":"UPPER(VLOOKUP(F529,Inputs,13,FALSE))&\"  \"","v":"  "},null,null,null,{"$f":"IF(LEN(A534)>2,A534&VLOOKUP(F529,Inputs,14,FALSE),VLOOKUP(F529,Inputs,14,FALSE))","v":0},null,{"$f":"IF(F529>0,VLOOKUP(F529,Inputs,15,FALSE),\"\")","v":0},{"$f":"UPPER(VLOOKUP(K529,Inputs,13,FALSE))&\"  \"","v":"  "},null,{"$f":"IF(LEN(H534)>2,H534&VLOOKUP(K529,Inputs,14,FALSE),VLOOKUP(K529,Inputs,14,FALSE))","v":0},null,{"$f":"IF(K529>0,VLOOKUP(K529,Inputs,15,FALSE),\"\")","v":0},{"$f":"UPPER(VLOOKUP(P529,Inputs,13,FALSE))&\"  \"","v":"  "},null,{"$f":"IF(LEN(M534)>2,M534&VLOOKUP(P529,Inputs,14,FALSE),VLOOKUP(P529,Inputs,14,FALSE))","v":0},null,{"$f":"IF(P529>0,VLOOKUP(P529,Inputs,15,FALSE),\"\")","v":0},{"$f":"IF(MONTH(V529)=A547,UPPER(VLOOKUP(V529,Inputs,13,FALSE))&\"  \",\"\")","v":"  "},null,{"$f":"IF(MONTH(V529)=A547,IF(LEN(R534)>0,R534&VLOOKUP(V529,Inputs,14,FALSE),VLOOKUP(V529,Inputs,14,FALSE)),\"\")","v":"  "},null,null,{"$f":"IF(MONTH(V529)=A547,IF(V529>0,VLOOKUP(V529,Inputs,15,FALSE),\"\"),0)","v":0},{"$f":"IF(MONTH(AA529)=A547,UPPER(VLOOKUP(AA529,Inputs,13,FALSE))&\"  \",\"\")","v":""},null,{"$f":"IF(MONTH(AA529)=A547,IF(LEN(X534)>0,X534&VLOOKUP(AA529,Inputs,14,FALSE),VLOOKUP(AA529,Inputs,14,FALSE)),\"\")","v":""},null,null,{"$f":"IF(MONTH(AA529)=A547,IF(AA529>0,VLOOKUP(AA529,Inputs,15,FALSE),\"\"),0)","v":0},{"$f":"IF(MONTH(AG529)=A547,UPPER(VLOOKUP(AG529,Inputs,13,FALSE))&\"  \",\"\")","v":""},null,{"$f":"IF(MONTH(AG529)=A547,IF(LEN(AD534)>0,AD534&VLOOKUP(AG529,Inputs,14,FALSE),VLOOKUP(AG529,Inputs,14,FALSE)),\"\")","v":""},null,{"$f":"IF(MONTH(AG529)=A547,IF(AG529>0,VLOOKUP(AG529,Inputs,15,FALSE),\"\"),0)","v":0},{"$f":"IF(MONTH(AL529)=A547,UPPER(VLOOKUP(AL529,Inputs,13,FALSE))&\"  \",\"\")","v":""},null,{"$f":"IF(MONTH(AL529)=A547,IF(LEN(AI534)>0,AI534&VLOOKUP(AL529,Inputs,14,FALSE),VLOOKUP(AL529,Inputs,14,FALSE)),\"\")","v":""},null,{"$f":"IF(MONTH(AL529)=A547,IF(AL529>0,VLOOKUP(AL529,Inputs,15,FALSE),\"\"),0)","v":0},null,null,{"$f":"IF($A534=AP$5,$G534,0)+IF($H534=AP$5,$L534,0)+IF($M534=AP$5,$Q534,0)+IF($R534=AP$5,$W534,0)+IF($X534=AP$5,AC534,0)+IF($AD534=AP$5,AH534,0)+IF(AI534=AP$5,AM534,0)","v":0},0,0,0,0,0,0,0,0,0,0,0,0,0]
[null,null,null,null,null,{"$f":"IF(F529>0,IF(VLOOKUP(F529,Inputs,3,FALSE)=\"T\",\"Telemarketing\",0),\"\")","v":0},null,null,null,null,{"$f":"IF(VLOOKUP(K529-1,Inputs,3,FALSE)=\"T\",0,IF(VLOOKUP(K529,Inputs,3,FALSE)=\"T\",\"Telemarketing\",0))","v":0},null,null,null,null,{"$f":"IF(VLOOKUP(P529-1,Inputs,3,FALSE)=\"T\",0,IF(VLOOKUP(P529,Inputs,3,FALSE)=\"T\",\"Telemarketing\",0))","v":0},null,null,null,null,null,{"$f":"IF(VLOOKUP(V529-1,Inputs,3,FALSE)=\"T\",0,IF(VLOOKUP(V529,Inputs,3,FALSE)=\"T\",\"Telemarketing\",0))","v":0},null,null,null,null,{"$f":"IF(VLOOKUP(AA529-1,Inputs,3,FALSE)=\"T\",0,IF(VLOOKUP(AA529,Inputs,3,FALSE)=\"T\",\"Telemarketing\",0))","v":{"$error":"#N/A"}},null,null,null,null,null,{"$f":"IF(VLOOKUP(AG529-1,Inputs,3,FALSE)=\"T\",0,IF(VLOOKUP(AG529,Inputs,3,FALSE)=\"T\",\"Telemarketing\",0))","v":{"$error":"#N/A"}},null,null,null,null,{"$f":"IF(VLOOKUP(AL529-1,Inputs,3,FALSE)=\"T\",0,IF(VLOOKUP(AL529,Inputs,3,FALSE)=\"T\",\"Telemarketing\",0))","v":{"$error":"#N/A"}}]
[null,null,null,null,null,{"$f":"IF(AL529>0,IF(MONTH(1+AL529)=$A547,1+AL529,0),0)","v":"00:00:00"},null,null,null,null,{"$f":"IF(F536>0,IF(MONTH(1+F536)=$A547,1+F536,0),0)","v":"00:00:00"},null,null,null,null,null,null,null,null,null,null,null,null,null,null,null,null,null,null,null,null,null,null,null,null,null,null,{"$f":"IF(AG536>0,IF(MONTH(1+AG536)=$A547,1+AG536,0),0)","v":"00:00:00"}]
[null,null,null,null,{"$f":"DAY(F536)","v":0},{"$f":"VLOOKUP(F536,Holidays,2)","v":0},null,null,null,{"$f":"DAY(K536)","v":0},{"$f":"VLOOKUP(K536,Holidays,2)","v":0},null,null,null,{"$f":"DAY(P536)","v":0},{"$f":"VLOOKUP(P536,Holidays,2)","v":0},null,null,null,{"$f":"DAY(V536)","v":0},{"$f":"VLOOKUP(V536,Holidays,2)","v":0},null,null,null,null,{"$f":"DAY(AA536)","v":0},{"$f":"VLOOKUP(AA536,Holidays,2)","v":0},null,null,null,null,{"$f":"DAY(AG536)","v":0},{"$f":"VLOOKUP(AG536,Holidays,2)","v":0},null,null,null,{"$f":"DAY(AL536)","v":0},{"$f":"VLOOKUP(AL536,Holidays,2)","v":0}]
[{"$f":"IF(MONTH(F$536)=A$547,UPPER(VLOOKUP(F$536,Inputs,4,FALSE))&\"  \",\"\")","v":""},null,null,null,{"$f":"IF(MONTH(F536)=A547,IF(LEN(A538)>0,A538&VLOOKUP(F536,Inputs,5,FALSE),VLOOKUP(F536,Inputs,5,FALSE)),\"\")","v":""},null,{"$f":"IF(MONTH(F536)=A547,IF(F536>0,VLOOKUP(F536,Inputs,6,FALSE),\"\"),0)","v":0},{"$f":"IF(MONTH(K536)=A547,UPPER(VLOOKUP(K536,Inputs,4,FALSE))&\"  \",\"\")","v":""},null,{"$f":"IF(MONTH(K536)=A547,IF(LEN(H538)>2,H538&VLOOKUP(K536,Inputs,5,FALSE),VLOOKUP(K536,Inputs,5,FALSE)),\"\")","v":""},null,{"$f":"IF(MONTH(K536)=A547,IF(K536>0,VLOOKUP(K536,Inputs,6,FALSE),\"\"),0)","v":0},{"$f":"IF(MONTH(P536)=A547,UPPER(VLOOKUP(P536,Inputs,4,FALSE))&\"  \",\"\")","v":""},null,null,null,{"$f":"IF(MONTH(P536)=A547,IF(P536>0,VLOOKUP(P536,Inputs,6,FALSE),\"\"),0)","v":0},null,null,null,null,null,null,null,null,null,null,null,null,null,null,null,null,null,null,null,null,null,null,null,null,{"$f":"IF($A538=AP$5,$G538,0)+IF($H538=AP$5,$L538,0)+IF($M538=AP$5,$Q538,0)+IF($R538=AP$5,$W538,0)+IF($X538=AP$5,AC538,0)+IF($AD538=AP$5,AH538,0)+IF(AI538=AP$5,AM538,0)","v":0},{"$f":"IF($A538=AQ$5,$G538,0)+IF($H538=AQ$5,$L538,0)+IF($M538=AQ$5,$Q538,0)+IF($R538=AQ$5,$W538,0)+IF($X538=AQ$5,$AC538,0)+IF($AD538=AQ$5,$AH538,0)+IF($AI538=AQ$5,$AM538,0)","v":0},0,0,0,0,0,0,0,0,0,0,0,0]
[{"$f":"IF(MONTH(F$536)=A$547,UPPER(VLOOKUP(F$536,Inputs,4,FALSE))&\"  \",\"\")","v":""},null,null,null,{"$f":"IF(MONTH(F536)=A547,IF(LEN(A539)>0,A539&VLOOKUP(F536,Inputs,8,FALSE),VLOOKUP(F536,Inputs,8,FALSE)),\"\")","v":""},null,{"$f":"IF(MONTH(F536)=A547,IF(F536>0,VLOOKUP(F536,Inputs,9,FALSE),\"\"),0)","v":0},{"$f":"IF(MONTH(K536)=A547,UPPER(VLOOKUP(K536,Inputs,7,FALSE))&\"  \",\"\")","v":""},null,{"$f":"IF(MONTH(K536)=A547,IF(LEN(H539)>2,H539&VLOOKUP(K536,Inputs,8,FALSE),VLOOKUP(K536,Inputs,8,FALSE)),\"\")","v":""},null,{"$f":"IF(MONTH(K536)=A547,IF(K536>0,VLOOKUP(K536,Inputs,9,FALSE),\"\"),0)","v":0},{"$f":"IF(MONTH(P536)=A547,UPPER(VLOOKUP(P536,Inputs,7,FALSE))&\"  \",\"\")","v":""},null,null,null,{"$f":"IF(MONTH(P536)=A547,IF(P536>0,VLOOKUP(P536,Inputs,9,FALSE),\"\"),0)","v":0},null,null,null,null,null,null,null,null,null,null,null,null,null,null,null,null,null,null,null,null,null,null,null,null,{"$f":"IF($A539=AP$5,$G539,0)+IF($H539=AP$5,$L539,0)+IF($M539=AP$5,$Q539,0)+IF($R539=AP$5,$W539,0)+IF($X539=AP$5,AC539,0)+IF($AD539=AP$5,AH539,0)+IF(AI539=AP$5,AM539,0)","v":0},0,0,0,0,0,0,0,0,0,0,0,0,0]
[{"$f":"IF(MONTH(F$536)=A$547,UPPER(VLOOKUP(F$536,Inputs,4,FALSE))&\"  \",\"\")","v":""},null,null,null,{"$f":"IF(MONTH(F536)=A547,IF(LEN(A540)>0,A540&VLOOKUP(F536,Inputs,11,FALSE),VLOOKUP(F536,Inputs,11,FALSE)),\"\")","v":""},null,{"$f":"IF(MONTH(F536)=A547,IF(F536>0,VLOOKUP(F536,Inputs,12,FALSE),\"\"),0)","v":0},{"$f":"IF(MONTH(K536)=A547,UPPER(VLOOKUP(K536,Inputs,10,FALSE))&\"  \",\"\")","v":""},null,{"$f":"IF(MONTH(K536)=A547,IF(LEN(H540)>2,H540&VLOOKUP(K536,Inputs,11,FALSE),VLOOKUP(K536,Inputs,11,FALSE)),\"\")","v":""},null,{"$f":"IF(MONTH(K536)=A547,IF(K536>0,VLOOKUP(K536,Inputs,12,FALSE),\"\"),0)","v":0},{"$f":"IF(MONTH(P536)=A547,UPPER(VLOOKUP(P536,Inputs,10,FALSE))&\"  \",\"\")","v":""},null,null,null,{"$f":"IF(MONTH(P536)=A547,IF(P536>0,VLOOKUP(P536,Inputs,12,FALSE),\"\"),0)","v":0},null,null,null,null,null,null,null,null,null,null,null,null,null,null,null,null,null,null,null,null,null,null,null,null,{"$f":"IF($A540=AP$5,$G540,0)+IF($H540=AP$5,$L540,0)+IF($M540=AP$5,$Q540,0)+IF($R540=AP$5,$W540,0)+IF($X540=AP$5,AC540,0)+IF($AD540=AP$5,AH540,0)+IF(AI540=AP$5,AM540,0)","v":0},0,0,0,0,0,0,0,0,0,0,0,0,0]
[{"$f":"IF(MONTH(F$536)=A$547,UPPER(VLOOKUP(F$536,Inputs,4,FALSE))&\"  \",\"\")","v":""},null,null,null,{"$f":"IF(MONTH(F536)=A547,IF(LEN(A541)>0,A541&VLOOKUP(F536,Inputs,14,FALSE),VLOOKUP(F536,Inputs,14,FALSE)),\"\")","v":""},null,{"$f":"IF(MONTH(F536)=A547,IF(F536>0,VLOOKUP(F536,Inputs,15,FALSE),\"\"),0)","v":0},{"$f":"IF(MONTH(K536)=A547,UPPER(VLOOKUP(K536,Inputs,13,FALSE))&\"  \",\"\")","v":""},null,{"$f":"IF(MONTH(K536)=A547,IF(LEN(H541)>2,H541&VLOOKUP(K536,Inputs,14,FALSE),VLOOKUP(K536,Inputs,14,FALSE)),\"\")","v":""},null,{"$f":"IF(MONTH(K536)=A547,IF(K536>0,VLOOKUP(K536,Inputs,15,FALSE),\"\"),0)","v":0},{"$f":"IF(MONTH(P536)=A547,UPPER(VLOOKUP(P536,Inputs,13,FALSE))&\"  \",\"\")","v":""},null,null,null,{"$f":"IF(MONTH(P536)=A547,IF(P536>0,VLOOKUP(P536,Inputs,15,FALSE),\"\"),0)","v":0},null,null,null,null,null,null,null,null,null,null,null,null,null,null,null,null,null,null,null,null,null,null,null,null,{"$f":"IF($A541=AP$5,$G541,0)+IF($H541=AP$5,$L541,0)+IF($M541=AP$5,$Q541,0)+IF($R541=AP$5,$W541,0)+IF($X541=AP$5,AC541,0)+IF($AD541=AP$5,AH541,0)+IF(AI541=AP$5,AM541,0)","v":0},0,0,0,0,0,0,0,0,0,0,0,0,0]
[null,null,null,null,null,{"$f":"IF(F536>0,IF(VLOOKUP(F536,Inputs,3,FALSE)=\"T\",\"Telemarketing\",0),\"\")","v":""},null,null,null,null,{"$f":"IF(VLOOKUP(K536-1,Inputs,3,FALSE)=\"T\",0,IF(VLOOKUP(K536,Inputs,3,FALSE)=\"T\",\"Telemarketing\",0))","v":{"$error":"#N/A"}},null,null,null,null,null,null,null,null,null,null,null,null,null,null,null,null,null,null,null,null,null,null,null,null,null,null,null,null,null,null,{"$f":"SUM(AP502:AP541)","v":0},0,0,0,0,0,0,0,{"$f":"SUM(AX502:AX541)","v":0},0,0,0,0,0]
[]
[null,null,null,null,{"$f":"\"CODE KEY:  \"&'Company Setup'!L$22&'Company Setup'!L$23&'Company Setup'!L$24&'Company Setup'!L$25&'Company Setup'!L$26&'Company Setup'!L$27&'Company Setup'!L$28&'Company Setup'!L$29&'Company Setup'!L$30&'Company Setup'!L$31&'Company Setup'!L$32&'Company Setup'!L$33&'Company Setup'!L$33&'Company Setup'!L$34&'Company Setup'!L$35","v":"CODE KEY:  B=Broadcast, L=Letter, P=Postcard, F=Flyer, H=Hanger, I=Newspaper Ads, N=Newsletter, E=E-Mail, A=Banner Ads, Y=Yellow Pages, "}]
[null,null,null,null,null,null,null,null,null,null,null,null,null,null,null,null,null,null,null,null,null,null,null,null,null,{"$f":"'Company Setup'!D$30","v":"Broadcast"},{"$f":"AP542","v":0},null,null,null,null,null,null,{"$f":"'Company Setup'!D$29","v":"E-Mail"},null,null,{"$f":"AW542","v":0}]
[null,null,null,null,null,null,"Revenue Budget",null,null,{"$f":"VLOOKUP(A547,ClientTable,2,FALSE)","v":86677},null,null,null,null,null,{"$f":"'Company Setup'!$E$5","v":"Reviews"},{"$f":"VLOOKUP(A547,ClientTable,3)","v":0},null,null,null,null,null,null,null,null,{"$f":"'Company Setup'!D$23","v":"Letter"},{"$f":"AQ542","v":0},null,null,null,null,null,null,{"$f":"'Company Setup'!D30","v":"Broadcast"},null,null,{"$f":"AX542","v":0}]
[{"$f":"IF(A492=12,1,A492+1)","v":10},null,null,null,null,null,"Monthly Marketing Budget",null,null,{"$f":"VLOOKUP(A547,ClientTable,7,FALSE)*VLOOKUP(A547,ClientTable,2,FALSE)","v":4333.8500000000004},null,null,null,null,null,{"$f":"'Company Setup'!$F$5","v":"SEO"},{"$f":"VLOOKUP(A547,ClientTable,4)","v":0},null,null,null,null,null,null,null,null,{"$f":"'Company Setup'!D$24","v":"Postcard"},{"$f":"AR542","v":0},null,null,null,null,null,null,{"$f":"'Company Setup'!D$31","v":"Banner Ads"},null,null,{"$f":"AY542","v":0}]
[{"$f":"VLOOKUP(A547,ClientTable,9)","v":10},null,null,null,null,null,"Month's End Marketing Cost",null,null,{"$f":"SUM(AK545:AK550)+SUM(AA545:AA551)+SUM(Q545:Q551)","v":0},null,null,null,null,null,{"$f":"'Company Setup'!$H$5","v":"Community Events"},{"$f":"VLOOKUP(A547,ClientTable,5)","v":0},null,null,null,null,null,null,null,null,{"$f":"'Company Setup'!D$25","v":"Flyer"},{"$f":"AS542","v":0},null,null,null,null,null,null,{"$f":"'Company Setup'!D$32","v":"Yellow Pages"},null,null,{"$f":"AZ542","v":0}]
[null,null,null,null,null,null,"Variance",null,null,{"$f":"J548-J547","v":-4333.8500000000004},null,null,null,null,null,{"$f":"'Company Setup'!G5","v":"Shows & Contests"},{"$f":"VLOOKUP(A547,ClientTable,6)","v":0},null,null,null,null,null,null,null,null,{"$f":"'Company Setup'!D$26","v":"Hanger"},{"$f":"AT542","v":0},null,null,null,null,null,null,{"$f":"'Company Setup'!D$33","v":0},null,null,{"$f":"BA542","v":0}]
[null,null,null,null,null,null,null,null,null,null,null,null,null,null,null,null,null,null,null,null,null,null,null,null,null,{"$f":"'Company Setup'!D$27","v":"Newspaper Ads"},{"$f":"AU542","v":0},null,null,null,null,null,null,{"$f":"'Company Setup'!D$34","v":0},null,null,{"$f":"BB542","v":0}]
[null,null,null,{"$f":"MONTH(StartMonth)","v":{"$error":"#VALUE!"}},"©",{"$f":"+F56","v":"Bedrock Markets, Inc. 2000 - 2100"},null,null,null,null,null,null,null,null,null,null,null,null,null,null,null,null,null,null,null,{"$f":"'Company Setup'!D$28","v":"Newsletter"},{"$f":"AV542","v":0},null,null,null,null,null,null,{"$f":"'Company Setup'!D$35","v":0},null,null,{"$f":"BC542","v":0}]
[]
[null,null,null,null,{"$f":"IF(E498=12,1,E498+1)","v":11},{"$f":"VLOOKUP(E553,Monthlookup2,2)&\" \"&YEAR(Calendar!S313)","v":"November 2018"},null,null,null,null,null,null,null,null,null,{"$f":"P$3","v":"   ABC Heating and Air"},null,null,null,null,null,null,null,null,null,null,null,null,null,null,null,null,null,null,null,null,null,null,null,null,"Importante!  Add 2 spaces after code - es muy neccesita"]
[]
[null,null,null,null,"Sunday",null,null,null,null,"Monday",null,null,null,null,"Tuesday",null,null,null,null,"Wednesday",null,null,null,null,null,"Thursday",null,null,null,null,null,"Friday",null,null,null,null,"Saturday"]
[null,null,null,null,null,{"$f":"IF(VLOOKUP(DATE(RIGHT($F553,4),$A602,1),Calendar,3)=1,DATE(RIGHT($F553,4),$A602,1),0)","v":"00:00:00"},null,null,null,null,{"$f":"IF(E557>0,F556+1,IF(VLOOKUP(DATE(RIGHT($F553,4),$A602,1),Calendar,3)=2,DATE(RIGHT($F553,4),$A602,1),0))","v":"00:00:00"},null,null,null,null,{"$f":"IF(J557>0,K556+1,IF(VLOOKUP(DATE(RIGHT($F553,4),$A602,1),Calendar,3)=3,DATE(RIGHT($F553,4),$A602,1),0))","v":"00:00:00"},null,null,null,null,null,{"$f":"IF(O557>0,P556+1,IF(VLOOKUP(DATE(RIGHT($F553,4),$A602,1),Calendar,3)=4,DATE(RIGHT($F553,4),$A602,1),0))","v":"00:00:00"},null,null,null,null,{"$f":"IF(T557>0,V556+1,IF(VLOOKUP(DATE(RIGHT($F553,4),$A602,1),Calendar,3)=5,DATE(RIGHT($F553,4),$A602,1),0))","v":"2018-11-01"},null,null,null,null,null,{"$f":"IF(Z557>0,AA556+1,IF(VLOOKUP(DATE(RIGHT($F553,4),$A602,1),Calendar,3)=6,DATE(RIGHT($F553,4),$A602,1),0))","v":"2018-11-02"},null,null,null,null,{"$f":"IF(AF557>0,AG556+1,IF(VLOOKUP(DATE(RIGHT($F553,4),$A602,1),Calendar,3)=7,DATE(RIGHT($F553,4),$A602,1),0))","v":"2018-11-03"}]
[null,null,null,null,{"$f":"DAY(F556)","v":0},{"$f":"IF(F556>0,VLOOKUP(F556,Holidays,2),0)","v":0},null,null,null,{"$f":"DAY(K556)","v":0},{"$f":"IF(K556>0,VLOOKUP(K556,Holidays,2),0)","v":0},null,null,null,{"$f":"DAY(P556)","v":0},{"$f":"IF(P556>0,VLOOKUP(P556,Holidays,2),0)","v":0},null,null,null,{"$f":"DAY(V556)","v":0},{"$f":"IF(V556>0,VLOOKUP(V556,Holidays,2),0)","v":0},null,null,null,null,{"$f":"DAY(AA556)","v":1},{"$f":"IF(AA556>0,VLOOKUP(AA556,Holidays,2),0)","v":0},null,null,null,null,{"$f":"DAY(AG556)","v":2},{"$f":"IF(AG556>0,VLOOKUP(AG556,Holidays,2),0)","v":0},null,null,null,{"$f":"DAY(AL556)","v":3},{"$f":"IF(AL556>0,VLOOKUP(AL556,Holidays,2),0)","v":0}]
[{"$f":"IF(F556>1,UPPER(VLOOKUP(F556,Inputs,4,FALSE))&\"  \",0)","v":0},null,null,null,{"$f":"IF(F556>0,IF(LEN(A558)>2,A558&VLOOKUP(F556,Inputs,5,FALSE),VLOOKUP(F556,Inputs,5,FALSE)),\"\")","v":""},null,{"$f":"IF(F556>0,VLOOKUP(F556,Inputs,6,FALSE),\"\")","v":""},{"$f":"IF(K556>1,UPPER(VLOOKUP(K556,Inputs,4,FALSE))&\"  \",0)","v":0},null,{"$f":"IF(K556>0,IF(LEN(H558)>2,H558&VLOOKUP(K556,Inputs,5,FALSE),VLOOKUP(K556,Inputs,5,FALSE)),\"\")","v":""},null,{"$f":"IF(K556>0,VLOOKUP(K556,Inputs,6,FALSE),\"\")","v":""},{"$f":"IF(P556>1,UPPER(VLOOKUP(P556,Inputs,4,FALSE))&\"  \",0)","v":0},null,{"$f":"IF(P556>0,IF(LEN(M558)>2,M558&VLOOKUP(P556,Inputs,5,FALSE),VLOOKUP(P556,Inputs,5,FALSE)),\"\")","v":""},null,{"$f":"IF(P556>0,VLOOKUP(P556,Inputs,6,FALSE),\"\")","v":""},{"$f":"IF(V556>1,UPPER(VLOOKUP(V556,Inputs,4,FALSE))&\"  \",0)","v":0},null,{"$f":"IF(V556>0,IF(LEN(R558)>2,R558&VLOOKUP(V556,Inputs,5,FALSE),VLOOKUP(V556,Inputs,5,FALSE)),\"\")","v":""},null,null,{"$f":"IF(V556>0,VLOOKUP(V556,Inputs,6,FALSE),\"\")","v":""},{"$f":"IF(AA556>1,UPPER(VLOOKUP(AA556,Inputs,4,FALSE))&\"  \",0)","v":"  "},null,{"$f":"IF(AA556>0,IF(LEN(X558)>2,X558&VLOOKUP(AA556,Inputs,5,FALSE),VLOOKUP(AA556,Inputs,5,FALSE)),\"\")","v":0},null,null,{"$f":"IF(AA556>0,VLOOKUP(AA556,Inputs,6,FALSE),\"\")","v":0},{"$f":"IF(AG556>1,UPPER(VLOOKUP(AG556,Inputs,4,FALSE))&\"  \",0)","v":"  "},null,{"$f":"IF(AG556>0,IF(LEN(AD558)>2,AD558&VLOOKUP(AG556,Inputs,5,FALSE),VLOOKUP(AG556,Inputs,5,FALSE)),\"\")","v":0},null,{"$f":"IF(AG556>0,VLOOKUP(AG556,Inputs,6,FALSE),\"\")","v":0},{"$f":"UPPER(VLOOKUP(AL556,Inputs,4,FALSE))&\"  \"","v":"  "},null,{"$f":"IF(LEN(AI558)>2,AI558&VLOOKUP(AL556,Inputs,5,FALSE),VLOOKUP(AL556,Inputs,5,FALSE))","v":0},null,{"$f":"VLOOKUP(AL556,Inputs,6,FALSE)","v":0},null,null,{"$f":"IF($A558=AP$5,$G558,0)+IF($H558=AP$5,$L558,0)+IF($M558=AP$5,$Q558,0)+IF($R558=AP$5,$W558,0)+IF($X558=AP$5,AC558,0)+IF($AD558=AP$5,AH558,0)+IF(AI558=AP$5,AM558,0)","v":0},{"$f":"IF($A558=AQ$5,$G558,0)+IF($H558=AQ$5,$L558,0)+IF($M558=AQ$5,$Q558,0)+IF($R558=AQ$5,$W558,0)+IF($X558=AQ$5,$AC558,0)+IF($AD558=AQ$5,$AH558,0)+IF($AI558=AQ$5,$AM558,0)","v":0},0,0,0,0,0,0,0,0,0,0,0,0]
[{"$f":"IF(F556>1,UPPER(VLOOKUP(F556,Inputs,7,FALSE))&\"  \",0)","v":0},null,null,null,{"$f":"IF(F556>0,IF(LEN(A559)>2,A559&VLOOKUP(F556,Inputs,8,FALSE),VLOOKUP(F556,Inputs,8,FALSE)),\"\")","v":""},null,{"$f":"IF(F556>0,VLOOKUP(F556,Inputs,9,FALSE),\"\")","v":""},{"$f":"IF(K556>1,UPPER(VLOOKUP(K556,Inputs,7,FALSE))&\"  \",0)","v":0},null,{"$f":"IF(K556>0,IF(LEN(H559)>2,H559&VLOOKUP(K556,Inputs,8,FALSE),VLOOKUP(K556,Inputs,8,FALSE)),\"\")","v":""},null,{"$f":"IF(K556>0,VLOOKUP(K556,Inputs,9,FALSE),\"\")","v":""},{"$f":"IF(P556>1,UPPER(VLOOKUP(P556,Inputs,7,FALSE))&\"  \",0)","v":0},null,{"$f":"IF(P556>0,IF(LEN(M559)>2,M559&VLOOKUP(P556,Inputs,8,FALSE),VLOOKUP(P556,Inputs,8,FALSE)),\"\")","v":""},null,{"$f":"IF(P556>0,VLOOKUP(P556,Inputs,9,FALSE),\"\")","v":""},{"$f":"IF(V556>1,UPPER(VLOOKUP(V556,Inputs,7,FALSE))&\"  \",0)","v":0},null,{"$f":"IF(V556>0,IF(LEN(R559)>2,R559&VLOOKUP(V556,Inputs,8,FALSE),VLOOKUP(V556,Inputs,8,FALSE)),\"\")","v":""},null,null,{"$f":"IF(V556>0,VLOOKUP(V556,Inputs,9,FALSE),\"\")","v":""},{"$f":"IF(AA556>1,UPPER(VLOOKUP(AA556,Inputs,7,FALSE))&\"  \",0)","v":"  "},null,{"$f":"IF(AA556>0,IF(LEN(X559)>2,X559&VLOOKUP(AA556,Inputs,8,FALSE),VLOOKUP(AA556,Inputs,8,FALSE)),\"\")","v":0},null,null,{"$f":"IF(AA556>0,VLOOKUP(AA556,Inputs,9,FALSE),\"\")","v":0},{"$f":"IF(AG556>1,UPPER(VLOOKUP(AG556,Inputs,7,FALSE))&\"  \",0)","v":"  "},null,{"$f":"IF(AG556>0,IF(LEN(AD559)>2,AD559&VLOOKUP(AG556,Inputs,8,FALSE),VLOOKUP(AG556,Inputs,8,FALSE)),\"\")","v":0},null,{"$f":"IF(AG556>0,VLOOKUP(AG556,Inputs,9,FALSE),\"\")","v":0},{"$f":"UPPER(VLOOKUP(AL556,Inputs,7,FALSE))&\"  \"","v":"  "},null,{"$f":"IF(LEN(AI559)>2,AI559&VLOOKUP(AL556,Inputs,8,FALSE),VLOOKUP(AL556,Inputs,8,FALSE))","v":0},null,{"$f":"VLOOKUP(AL556,Inputs,9,FALSE)","v":0},null,null,{"$f":"IF($A559=AP$5,$G559,0)+IF($H559=AP$5,$L559,0)+IF($M559=AP$5,$Q559,0)+IF($R559=AP$5,$W559,0)+IF($X559=AP$5,AC559,0)+IF($AD559=AP$5,AH559,0)+IF(AI559=AP$5,AM559,0)","v":0},0,0,0,0,0,0,0,0,0,0,0,0,0,null,"530-345-3280"]
[{"$f":"IF(F556>1,UPPER(VLOOKUP(F556,Inputs,10,FALSE))&\"  \",0)","v":0},null,null,null,{"$f":"IF(F556>0,IF(LEN(A560)>2,A560&VLOOKUP(F556,Inputs,11,FALSE),VLOOKUP(F556,Inputs,11,FALSE)),\"\")","v":""},null,{"$f":"IF(F556>0,VLOOKUP(F556,Inputs,12,FALSE),\"\")","v":""},{"$f":"IF(K556>1,UPPER(VLOOKUP(K556,Inputs,10,FALSE))&\"  \",0)","v":0},null,{"$f":"IF(K556>0,IF(LEN(H560)>0,H560&VLOOKUP(K556,Inputs,11,FALSE),VLOOKUP(K556,Inputs,11,FALSE)),\"\")","v":""},null,{"$f":"IF(K556>0,VLOOKUP(K556,Inputs,12,FALSE),\"\")","v":""},{"$f":"IF(P556>1,UPPER(VLOOKUP(P556,Inputs,10,FALSE))&\"  \",0)","v":0},null,{"$f":"IF(P556>0,IF(LEN(M560)>0,M560&VLOOKUP(P556,Inputs,11,FALSE),VLOOKUP(P556,Inputs,11,FALSE)),\"\")","v":""},null,{"$f":"IF(P556>0,VLOOKUP(P556,Inputs,12,FALSE),\"\")","v":""},{"$f":"IF(V556>1,UPPER(VLOOKUP(V556,Inputs,10,FALSE))&\"  \",0)","v":0},null,{"$f":"IF(V556>0,IF(LEN(R560)>0,R560&VLOOKUP(V556,Inputs,11,FALSE),VLOOKUP(V556,Inputs,11,FALSE)),\"\")","v":""},null,null,{"$f":"IF(V556>0,VLOOKUP(V556,Inputs,12,FALSE),\"\")","v":""},{"$f":"IF(AA556>1,UPPER(VLOOKUP(AA556,Inputs,10,FALSE))&\"  \",0)","v":"  "},null,{"$f":"IF(AA556>0,IF(LEN(X560)>0,X560&VLOOKUP(AA556,Inputs,11,FALSE),VLOOKUP(AA556,Inputs,11,FALSE)),\"\")","v":"  "},null,null,{"$f":"IF(AA556>0,VLOOKUP(AA556,Inputs,12,FALSE),\"\")","v":0},{"$f":"IF(AG556>1,UPPER(VLOOKUP(AG556,Inputs,10,FALSE))&\"  \",0)","v":"  "},null,{"$f":"IF(AG556>0,IF(LEN(AD560)>0,AD560&VLOOKUP(AG556,Inputs,11,FALSE),VLOOKUP(AG556,Inputs,11,FALSE)),\"\")","v":"  "},null,{"$f":"IF(AG556>0,VLOOKUP(AG556,Inputs,12,FALSE),\"\")","v":0},{"$f":"UPPER(VLOOKUP(AL556,Inputs,10,FALSE))&\"  \"","v":"  "},null,{"$f":"IF(LEN(AI560)>2,AI560&VLOOKUP(AL556,Inputs,11,FALSE),VLOOKUP(AL556,Inputs,11,FALSE))","v":0},null,{"$f":"VLOOKUP(AL556,Inputs,12,FALSE)","v":0},null,null,{"$f":"IF($A560=AP$5,$G560,0)+IF($H560=AP$5,$L560,0)+IF($M560=AP$5,$Q560,0)+IF($R560=AP$5,$W560,0)+IF($X560=AP$5,AC560,0)+IF($AD560=AP$5,AH560,0)+IF(AI560=AP$5,AM560,0)","v":0},0,0,0,0,0,0,0,0,0,0,0,0,0,null,"2540 Zanella Way, Suite 20"]
[{"$f":"IF(F556>1,UPPER(VLOOKUP(F556,Inputs,13,FALSE))&\"  \",0)","v":0},null,null,null,{"$f":"IF(F556>0,IF(LEN(A561)>2,A561&VLOOKUP(F556,Inputs,14,FALSE),VLOOKUP(F556,Inputs,14,FALSE)),\"\")","v":""},null,{"$f":"IF(F556>0,VLOOKUP(F556,Inputs,15,FALSE),\"\")","v":""},{"$f":"IF(K556>1,UPPER(VLOOKUP(K556,Inputs,13,FALSE))&\"  \",0)","v":0},null,{"$f":"IF(K556>0,IF(LEN(H561)>2,H561&VLOOKUP(K556,Inputs,14,FALSE),VLOOKUP(K556,Inputs,14,FALSE)),\"\")","v":""},null,{"$f":"IF(K556>0,VLOOKUP(K556,Inputs,15,FALSE),\"\")","v":""},{"$f":"IF(P556>1,UPPER(VLOOKUP(P556,Inputs,13,FALSE))&\"  \",0)","v":0},null,{"$f":"IF(P556>0,IF(LEN(M561)>2,M561&VLOOKUP(P556,Inputs,14,FALSE),VLOOKUP(P556,Inputs,14,FALSE)),\"\")","v":""},null,{"$f":"IF(P556>0,VLOOKUP(P556,Inputs,15,FALSE),\"\")","v":""},{"$f":"IF(V556>1,UPPER(VLOOKUP(V556,Inputs,13,FALSE))&\"  \",0)","v":0},null,{"$f":"IF(V556>0,IF(LEN(R561)>2,R561&VLOOKUP(V556,Inputs,14,FALSE),VLOOKUP(V556,Inputs,14,FALSE)),\"\")","v":""},null,null,{"$f":"IF(V556>0,VLOOKUP(V556,Inputs,15,FALSE),\"\")","v":""},{"$f":"IF(AA556>1,UPPER(VLOOKUP(AA556,Inputs,13,FALSE))&\"  \",0)","v":"  "},null,{"$f":"IF(AA556>0,IF(LEN(X561)>2,X561&VLOOKUP(AA556,Inputs,14,FALSE),VLOOKUP(AA556,Inputs,14,FALSE)),\"\")","v":0},null,null,{"$f":"IF(AA556>0,VLOOKUP(AA556,Inputs,15,FALSE),\"\")","v":0},{"$f":"IF(AG556>1,UPPER(VLOOKUP(AG556,Inputs,13,FALSE))&\"  \",0)","v":"  "},null,{"$f":"IF(AG556>0,IF(LEN(AD561)>2,AD561&VLOOKUP(AG556,Inputs,14,FALSE),VLOOKUP(AG556,Inputs,14,FALSE)),\"\")","v":0},null,{"$f":"IF(AG556>0,VLOOKUP(AG556,Inputs,15,FALSE),\"\")","v":0},{"$f":"UPPER(VLOOKUP(AL556,Inputs,13,FALSE))&\"  \"","v":"  "},null,{"$f":"IF(LEN(AI561)>2,AI561&VLOOKUP(AL556,Inputs,14,FALSE),VLOOKUP(AL556,Inputs,14,FALSE))","v":0},null,{"$f":"VLOOKUP(AL556,Inputs,15,FALSE)","v":0},null,null,{"$f":"IF($A561=AP$5,$G561,0)+IF($H561=AP$5,$L561,0)+IF($M561=AP$5,$Q561,0)+IF($R561=AP$5,$W561,0)+IF($X561=AP$5,AC561,0)+IF($AD561=AP$5,AH561,0)+IF(AI561=AP$5,AM561,0)","v":0},0,0,0,0,0,0,0,0,0,0,0,0,0,null,"    Chico, CA 95928"]
[null,null,null,null,null,{"$f":"IF(F556>0,IF(VLOOKUP(F556,Inputs,3,FALSE)=\"T\",\"Telemarketing\",0),\"\")","v":""},null,null,null,null,{"$f":"IF(F556>0,IF(VLOOKUP(F556,Inputs,3,FALSE)=\"T\",0,IF(VLOOKUP(K556,Inputs,3,FALSE)=\"T\",\"Telemarketing\",0)),IF(VLOOKUP(K556,Inputs,3,FALSE)=\"T\",\"Telemarketing\",0))","v":0},null,null,null,null,{"$f":"IF(K556>0,IF(VLOOKUP(K556,Inputs,3,FALSE)=\"T\",0,IF(VLOOKUP(P556,Inputs,3,FALSE)=\"T\",\"Telemarketing\",0)),IF(VLOOKUP(P556,Inputs,3,FALSE)=\"T\",\"Telemarketing\",0))","v":0},null,null,null,null,null,{"$f":"IF(P556>0,IF(VLOOKUP(P556,Inputs,3,FALSE)=\"T\",0,IF(VLOOKUP(V556,Inputs,3,FALSE)=\"T\",\"Telemarketing\",0)),IF(VLOOKUP(V556,Inputs,3,FALSE)=\"T\",\"Telemarketing\",0))","v":0},null,null,null,null,{"$f":"IF(V556>0,IF(VLOOKUP(V556,Inputs,3,FALSE)=\"T\",0,IF(VLOOKUP(AA556,Inputs,3,FALSE)=\"T\",\"Telemarketing\",0)),IF(VLOOKUP(AA556,Inputs,3,FALSE)=\"T\",\"Telemarketing\",0))","v":0},null,null,null,null,null,{"$f":"IF(AA556>0,IF(VLOOKUP(AA556,Inputs,3,FALSE)=\"T\",0,IF(VLOOKUP(AG556,Inputs,3,FALSE)=\"T\",\"Telemarketing\",0)),IF(VLOOKUP(AG556,Inputs,3,FALSE)=\"T\",\"Telemarketing\",0))","v":0},null,null,null,null,{"$f":"IF(AG556>0,IF(VLOOKUP(AG556,Inputs,3,FALSE)=\"T\",0,IF(VLOOKUP(AL556,Inputs,3,FALSE)=\"T\",\"Telemarketing\",0)),IF(VLOOKUP(AL556,Inputs,3,FALSE)=\"T\",\"Telemarketing\",0))","v":0}]
[null,null,null,null,null,{"$f":"1+AL556","v":"2018-11-04"},null,null,null,null,{"$f":"1+F563","v":"2018-11-05"},null,null,null,null,{"$f":"1+K563","v":"2018-11-06"},null,null,null,null,null,{"$f":"1+P563","v":"2018-11-07"},null,null,null,null,{"$f":"1+V563","v":"2018-11-08"},null,null,null,null,null,{"$f":"1+AA563","v":"2018-11-09"},null,null,null,null,{"$f":"1+AG563","v":"2018-11-10"}]
[null,null,null,null,{"$f":"DAY(F563)","v":4},{"$f":"IF(F563>0,VLOOKUP(F563,Holidays,2),0)","v":0},null,null,null,{"$f":"DAY(K563)","v":5},{"$f":"IF(K563>0,VLOOKUP(K563,Holidays,2),0)","v":0},null,null,null,{"$f":"DAY(P563)","v":6},{"$f":"IF(P563>0,VLOOKUP(P563,Holidays,2),0)","v":0},null,null,null,{"$f":"DAY(V563)","v":7},{"$f":"IF(V563>0,VLOOKUP(V563,Holidays,2),0)","v":0},null,null,null,null,{"$f":"DAY(AA563)","v":8},{"$f":"IF(AA563>0,VLOOKUP(AA563,Holidays,2),0)","v":0},null,null,null,null,{"$f":"DAY(AG563)","v":9},{"$f":"IF(AG563>0,VLOOKUP(AG563,Holidays,2),0)","v":0},null,null,null,{"$f":"DAY(AL563)","v":10},{"$f":"IF(AL563>0,VLOOKUP(AL563,Holidays,2),0)","v":0}]
[{"$f":"UPPER(VLOOKUP(F563,Inputs,4,FALSE))&\"  \"","v":"  "},null,null,null,{"$f":"IF(LEN(A565)>2,A565&VLOOKUP(F563,Inputs,5,FALSE),VLOOKUP(F563,Inputs,5,FALSE))","v":0},null,{"$f":"IF(F563>0,VLOOKUP(F563,Inputs,6,FALSE),\"\")","v":0},{"$f":"UPPER(VLOOKUP(K563,Inputs,4,FALSE))&\"  \"","v":"  "},null,{"$f":"IF(LEN(H565)>2,H565&VLOOKUP(K563,Inputs,5,FALSE),VLOOKUP(K563,Inputs,5,FALSE))","v":0},null,{"$f":"IF(K563>0,VLOOKUP(K563,Inputs,6,FALSE),\"\")","v":0},{"$f":"UPPER(VLOOKUP(P563,Inputs,4,FALSE))&\"  \"","v":"  "},null,{"$f":"IF(LEN(M565)>2,M565&VLOOKUP(P563,Inputs,5,FALSE),VLOOKUP(P563,Inputs,5,FALSE))","v":0},null,{"$f":"IF(P563>0,VLOOKUP(P563,Inputs,6,FALSE),\"\")","v":0},{"$f":"UPPER(VLOOKUP(V563,Inputs,4,FALSE))&\"  \"","v":"  "},null,{"$f":"IF(LEN(R565)>2,R565&VLOOKUP(V563,Inputs,5,FALSE),VLOOKUP(V563,Inputs,5,FALSE))","v":0},null,null,{"$f":"IF(V563>0,VLOOKUP(V563,Inputs,6,FALSE),\"\")","v":0},{"$f":"UPPER(VLOOKUP(AA563,Inputs,4,FALSE))&\"  \"","v":"  "},null,{"$f":"IF(LEN(X565)>2,X565&VLOOKUP(AA563,Inputs,5,FALSE),VLOOKUP(AA563,Inputs,5,FALSE))","v":0},null,null,{"$f":"IF(AA563>0,VLOOKUP(AA563,Inputs,6,FALSE),\"\")","v":0},{"$f":"UPPER(VLOOKUP(AG563,Inputs,4,FALSE))&\"  \"","v":"  "},null,{"$f":"IF(LEN(AD565)>2,AD565&VLOOKUP(AG563,Inputs,5,FALSE),VLOOKUP(AG563,Inputs,5,FALSE))","v":0},null,{"$f":"IF(AG563>0,VLOOKUP(AG563,Inputs,6,FALSE),\"\")","v":0},{"$f":"UPPER(VLOOKUP(AL563,Inputs,4,FALSE))&\"  \"","v":"  "},null,{"$f":"IF(LEN(AI565)>2,AI565&VLOOKUP(AL563,Inputs,5,FALSE),VLOOKUP(AL563,Inputs,5,FALSE))","v":0},null,{"$f":"IF(AL563>0,VLOOKUP(AL563,Inputs,6,FALSE),\"\")","v":0},null,null,{"$f":"IF($A565=AP$5,$G565,0)+IF($H565=AP$5,$L565,0)+IF($M565=AP$5,$Q565,0)+IF($R565=AP$5,$W565,0)+IF($X565=AP$5,AC565,0)+IF($AD565=AP$5,AH565,0)+IF(AI565=AP$5,AM565,0)","v":0},{"$f":"IF($A565=AQ$5,$G565,0)+IF($H565=AQ$5,$L565,0)+IF($M565=AQ$5,$Q565,0)+IF($R565=AQ$5,$W565,0)+IF($X565=AQ$5,$AC565,0)+IF($AD565=AQ$5,$AH565,0)+IF($AI565=AQ$5,$AM565,0)","v":0},0,0,0,0,0,0,0,0,0,0,0,0,null,"      TheBedrock.com"]
[{"$f":"UPPER(VLOOKUP(F563,Inputs,7,FALSE))&\"  \"","v":"  "},null,null,null,{"$f":"IF(LEN(A566)>2,A566&VLOOKUP(F563,Inputs,8,FALSE),VLOOKUP(F563,Inputs,8,FALSE))","v":0},null,{"$f":"IF(F563>0,VLOOKUP(F563,Inputs,9,FALSE),\"\")","v":0},{"$f":"UPPER(VLOOKUP(K563,Inputs,7,FALSE))&\"  \"","v":"  "},null,{"$f":"IF(LEN(H566)>2,H566&VLOOKUP(K563,Inputs,8,FALSE),VLOOKUP(K563,Inputs,8,FALSE))","v":0},null,{"$f":"IF(K563>0,VLOOKUP(K563,Inputs,9,FALSE),\"\")","v":0},{"$f":"UPPER(VLOOKUP(P563,Inputs,7,FALSE))&\"  \"","v":"  "},null,{"$f":"IF(LEN(M566)>2,M566&VLOOKUP(P563,Inputs,8,FALSE),VLOOKUP(P563,Inputs,8,FALSE))","v":0},null,{"$f":"IF(P563>0,VLOOKUP(P563,Inputs,9,FALSE),\"\")","v":0},{"$f":"UPPER(VLOOKUP(V563,Inputs,7,FALSE))&\"  \"","v":"  "},null,{"$f":"IF(LEN(R566)>2,R566&VLOOKUP(V563,Inputs,8,FALSE),VLOOKUP(V563,Inputs,8,FALSE))","v":0},null,null,{"$f":"IF(V563>0,VLOOKUP(V563,Inputs,9,FALSE),\"\")","v":0},{"$f":"UPPER(VLOOKUP(AA563,Inputs,7,FALSE))&\"  \"","v":"  "},null,{"$f":"IF(LEN(X566)>2,X566&VLOOKUP(AA563,Inputs,8,FALSE),VLOOKUP(AA563,Inputs,8,FALSE))","v":0},null,null,{"$f":"IF(AA563>0,VLOOKUP(AA563,Inputs,9,FALSE),\"\")","v":0},{"$f":"UPPER(VLOOKUP(AG563,Inputs,7,FALSE))&\"  \"","v":"  "},null,{"$f":"IF(LEN(AD566)>2,AD566&VLOOKUP(AG563,Inputs,8,FALSE),VLOOKUP(AG563,Inputs,8,FALSE))","v":0},null,{"$f":"IF(AG563>0,VLOOKUP(AG563,Inputs,9,FALSE),\"\")","v":0},{"$f":"UPPER(VLOOKUP(AL563,Inputs,7,FALSE))&\"  \"","v":"  "},null,{"$f":"IF(LEN(AI566)>2,AI566&VLOOKUP(AL563,Inputs,8,FALSE),VLOOKUP(AL563,Inputs,8,FALSE))","v":0},null,{"$f":"IF(AL563>0,VLOOKUP(AL563,Inputs,9,FALSE),\"\")","v":0},null,null,{"$f":"IF($A566=AP$5,$G566,0)+IF($H566=AP$5,$L566,0)+IF($M566=AP$5,$Q566,0)+IF($R566=AP$5,$W566,0)+IF($X566=AP$5,$CH566,0)+IF($CI566=AP$5,$CM566,0)+IF($CN566=AP$5,$CR566,0)","v":0},{"$f":"IF($A566=AQ$5,$G566,0)+IF($H566=AQ$5,$L566,0)+IF($M566=AQ$5,$Q566,0)+IF($R566=AQ$5,$W566,0)+IF($X566=AQ$5,$AC566,0)+IF($AD566=AQ$5,$AH566,0)+IF($AI566=AQ$5,$AM566,0)","v":0},0,0,0,0,0,0,{"$f":"IF($A566=AX$5,$G566,0)+IF($H566=AX$5,$L566,0)+IF($M566=AX$5,$Q566,0)+IF($R566=AX$5,$W566,0)+IF($X566=AX$5,$AC566,0)+IF($AD566=AX$5,$AH566,0)+IF($AI566=AX$5,$AM566,0)","v":0},0,0,0,0,0]
[{"$f":"UPPER(VLOOKUP(F563,Inputs,10,FALSE))&\"  \"","v":"  "},null,null,null,{"$f":"IF(LEN(A567)>2,A567&VLOOKUP(F563,Inputs,11,FALSE),VLOOKUP(F563,Inputs,11,FALSE))","v":0},null,{"$f":"IF(F563>0,VLOOKUP(F563,Inputs,12,FALSE),\"\")","v":0},{"$f":"UPPER(VLOOKUP(K563,Inputs,10,FALSE))&\"  \"","v":"  "},null,{"$f":"IF(LEN(H567)>2,H567&VLOOKUP(K563,Inputs,11,FALSE),VLOOKUP(K563,Inputs,11,FALSE))","v":0},null,{"$f":"IF(K563>0,VLOOKUP(K563,Inputs,12,FALSE),\"\")","v":0},{"$f":"UPPER(VLOOKUP(P563,Inputs,10,FALSE))&\"  \"","v":"  "},null,{"$f":"IF(LEN(M567)>2,M567&VLOOKUP(P563,Inputs,11,FALSE),VLOOKUP(P563,Inputs,11,FALSE))","v":0},null,{"$f":"IF(P563>0,VLOOKUP(P563,Inputs,12,FALSE),\"\")","v":0},{"$f":"UPPER(VLOOKUP(V563,Inputs,10,FALSE))&\"  \"","v":"  "},null,{"$f":"IF(LEN(R567)>2,R567&VLOOKUP(V563,Inputs,11,FALSE),VLOOKUP(V563,Inputs,11,FALSE))","v":0},null,null,{"$f":"IF(V563>0,VLOOKUP(V563,Inputs,12,FALSE),\"\")","v":0},{"$f":"UPPER(VLOOKUP(AA563,Inputs,10,FALSE))&\"  \"","v":"  "},null,{"$f":"IF(LEN(X567)>2,X567&VLOOKUP(AA563,Inputs,11,FALSE),VLOOKUP(AA563,Inputs,11,FALSE))","v":0},null,null,{"$f":"IF(AA563>0,VLOOKUP(AA563,Inputs,12,FALSE),\"\")","v":0},{"$f":"UPPER(VLOOKUP(AG563,Inputs,10,FALSE))&\"  \"","v":"  "},null,{"$f":"IF(LEN(AD567)>2,AD567&VLOOKUP(AG563,Inputs,11,FALSE),VLOOKUP(AG563,Inputs,11,FALSE))","v":0},null,{"$f":"IF(AG563>0,VLOOKUP(AG563,Inputs,12,FALSE),\"\")","v":0},{"$f":"UPPER(VLOOKUP(AL563,Inputs,10,FALSE))&\"  \"","v":"  "},null,{"$f":"IF(LEN(AI567)>2,AI567&VLOOKUP(AL563,Inputs,11,FALSE),VLOOKUP(AL563,Inputs,11,FALSE))","v":0},null,{"$f":"IF(AL563>0,VLOOKUP(AL563,Inputs,12,FALSE),\"\")","v":0},null,null,{"$f":"IF($A567=AP$5,$G567,0)+IF($H567=AP$5,$L567,0)+IF($M567=AP$5,$Q567,0)+IF($R567=AP$5,$W567,0)+IF($X567=AP$5,$CH567,0)+IF($CI567=AP$5,$CM567,0)+IF($CN567=AP$5,$CR567,0)","v":0},0,0,0,0,0,0,0,0,0,0,0,0,0]
[{"$f":"UPPER(VLOOKUP(F563,Inputs,13,FALSE))&\"  \"","v":"  "},null,null,null,{"$f":"IF(LEN(A568)>2,A568&VLOOKUP(F563,Inputs,14,FALSE),VLOOKUP(F563,Inputs,14,FALSE))","v":0},null,{"$f":"IF(F563>0,VLOOKUP(F563,Inputs,15,FALSE),\"\")","v":0},{"$f":"UPPER(VLOOKUP(K563,Inputs,13,FALSE))&\"  \"","v":"  "},null,{"$f":"IF(LEN(H568)>2,H568&VLOOKUP(K563,Inputs,14,FALSE),VLOOKUP(K563,Inputs,14,FALSE))","v":0},null,{"$f":"IF(K563>0,VLOOKUP(K563,Inputs,15,FALSE),\"\")","v":0},{"$f":"UPPER(VLOOKUP(P563,Inputs,13,FALSE))&\"  \"","v":"  "},null,{"$f":"IF(LEN(M568)>2,M568&VLOOKUP(P563,Inputs,14,FALSE),VLOOKUP(P563,Inputs,14,FALSE))","v":0},null,{"$f":"IF(P563>0,VLOOKUP(P563,Inputs,15,FALSE),\"\")","v":0},{"$f":"UPPER(VLOOKUP(V563,Inputs,13,FALSE))&\"  \"","v":"  "},null,{"$f":"IF(LEN(R568)>2,R568&VLOOKUP(V563,Inputs,14,FALSE),VLOOKUP(V563,Inputs,14,FALSE))","v":0},null,null,{"$f":"IF(V563>0,VLOOKUP(V563,Inputs,15,FALSE),\"\")","v":0},{"$f":"UPPER(VLOOKUP(AA563,Inputs,13,FALSE))&\"  \"","v":"  "},null,{"$f":"IF(LEN(X568)>2,X568&VLOOKUP(AA563,Inputs,14,FALSE),VLOOKUP(AA563,Inputs,14,FALSE))","v":0},null,null,{"$f":"IF(AA563>0,VLOOKUP(AA563,Inputs,15,FALSE),\"\")","v":0},{"$f":"UPPER(VLOOKUP(AG563,Inputs,13,FALSE))&\"  \"","v":"  "},null,{"$f":"IF(LEN(AD568)>2,AD568&VLOOKUP(AG563,Inputs,14,FALSE),VLOOKUP(AG563,Inputs,14,FALSE))","v":0},null,{"$f":"IF(AG563>0,VLOOKUP(AG563,Inputs,15,FALSE),\"\")","v":0},{"$f":"UPPER(VLOOKUP(AL563,Inputs,13,FALSE))&\"  \"","v":"  "},null,{"$f":"IF(LEN(AI568)>2,AI568&VLOOKUP(AL563,Inputs,14,FALSE),VLOOKUP(AL563,Inputs,14,FALSE))","v":0},null,{"$f":"IF(AL563>0,VLOOKUP(AL563,Inputs,15,FALSE),\"\")","v":0},null,null,{"$f":"IF($A568=AP$5,$G568,0)+IF($H568=AP$5,$L568,0)+IF($M568=AP$5,$Q568,0)+IF($R568=AP$5,$W568,0)+IF($X568=AP$5,$CH568,0)+IF($CI568=AP$5,$CM568,0)+IF($CN568=AP$5,$CR568,0)","v":0},0,0,0,0,0,0,0,0,0,0,0,0,0]
[null,null,null,null,null,{"$f":"IF(F563>0,IF(VLOOKUP(F563,Inputs,3,FALSE)=\"T\",\"Telemarketing\",0),\"\")","v":0},null,null,null,null,{"$f":"IF(VLOOKUP(K563-1,Inputs,3,FALSE)=\"T\",0,IF(VLOOKUP(K563,Inputs,3,FALSE)=\"T\",\"Telemarketing\",0))","v":0},null,null,null,null,{"$f":"IF(VLOOKUP(P563-1,Inputs,3,FALSE)=\"T\",0,IF(VLOOKUP(P563,Inputs,3,FALSE)=\"T\",\"Telemarketing\",0))","v":0},null,null,null,null,null,{"$f":"IF(VLOOKUP(V563-1,Inputs,3,FALSE)=\"T\",0,IF(VLOOKUP(V563,Inputs,3,FALSE)=\"T\",\"Telemarketing\",0))","v":0},null,null,null,null,{"$f":"IF(VLOOKUP(AA563-1,Inputs,3,FALSE)=\"T\",0,IF(VLOOKUP(AA563,Inputs,3,FALSE)=\"T\",\"Telemarketing\",0))","v":0},null,null,null,null,null,{"$f":"IF(VLOOKUP(AG563-1,Inputs,3,FALSE)=\"T\",0,IF(VLOOKUP(AG563,Inputs,3,FALSE)=\"T\",\"Telemarketing\",0))","v":0},null,null,null,null,{"$f":"IF(VLOOKUP(AL563-1,Inputs,3,FALSE)=\"T\",0,IF(VLOOKUP(AL563,Inputs,3,FALSE)=\"T\",\"Telemarketing\",0))","v":0}]
[null,null,null,null,null,{"$f":"1+AL563","v":"2018-11-11"},null,null,null,null,{"$f":"1+F570","v":"2018-11-12"},null,null,null,null,{"$f":"1+K570","v":"2018-11-13"},null,null,null,null,null,{"$f":"1+P570","v":"2018-11-14"},null,null,null,null,{"$f":"1+V570","v":"2018-11-15"},null,null,null,null,null,{"$f":"1+AA570","v":"2018-11-16"},null,null,null,null,{"$f":"1+AG570","v":"2018-11-17"}]
[null,null,null,null,{"$f":"DAY(F570)","v":11},{"$f":"IF(F570>0,VLOOKUP(F570,Holidays,2),0)","v":0},null,null,null,{"$f":"DAY(K570)","v":12},{"$f":"IF(K570>0,VLOOKUP(K570,Holidays,2),0)","v":0},null,null,null,{"$f":"DAY(P570)","v":13},{"$f":"IF(P570>0,VLOOKUP(P570,Holidays,2),0)","v":0},null,null,null,{"$f":"DAY(V570)","v":14},{"$f":"IF(V570>0,VLOOKUP(V570,Holidays,2),0)","v":0},null,null,null,null,{"$f":"DAY(AA570)","v":15},{"$f":"IF(AA570>0,VLOOKUP(AA570,Holidays,2),0)","v":0},null,null,null,null,{"$f":"DAY(AG570)","v":16},{"$f":"IF(AG570>0,VLOOKUP(AG570,Holidays,2),0)","v":0},null,null,null,{"$f":"DAY(AL570)","v":17},{"$f":"IF(AL570>0,VLOOKUP(AL570,Holidays,2),0)","v":0}]
[{"$f":"UPPER(VLOOKUP(F570,Inputs,4,FALSE))&\"  \"","v":"  "},null,null,null,{"$f":"IF(LEN(A572)>2,A572&VLOOKUP(F570,Inputs,5,FALSE),VLOOKUP(F570,Inputs,5,FALSE))","v":0},null,{"$f":"IF(F570>0,VLOOKUP(F570,Inputs,6,FALSE),\"\")","v":0},{"$f":"UPPER(VLOOKUP(K570,Inputs,4,FALSE))&\"  \"","v":"  "},null,{"$f":"IF(LEN(H572)>2,H572&VLOOKUP(K570,Inputs,5,FALSE),VLOOKUP(K570,Inputs,5,FALSE))","v":0},null,{"$f":"IF(K570>0,VLOOKUP(K570,Inputs,6,FALSE),\"\")","v":0},{"$f":"UPPER(VLOOKUP(P570,Inputs,4,FALSE))&\"  \"","v":"  "},null,{"$f":"IF(LEN(M572)>2,M572&VLOOKUP(P570,Inputs,5,FALSE),VLOOKUP(P570,Inputs,5,FALSE))","v":0},null,{"$f":"IF(P570>0,VLOOKUP(P570,Inputs,6,FALSE),\"\")","v":0},{"$f":"UPPER(VLOOKUP(V570,Inputs,4,FALSE))&\"  \"","v":"  "},null,{"$f":"IF(LEN(R572)>2,R572&VLOOKUP(V570,Inputs,5,FALSE),VLOOKUP(V570,Inputs,5,FALSE))","v":0},null,null,{"$f":"IF(V570>0,VLOOKUP(V570,Inputs,6,FALSE),\"\")","v":0},{"$f":"UPPER(VLOOKUP(AA570,Inputs,4,FALSE))&\"  \"","v":"  "},null,{"$f":"IF(LEN(X572)>2,X572&VLOOKUP(AA570,Inputs,5,FALSE),VLOOKUP(AA570,Inputs,5,FALSE))","v":0},null,null,{"$f":"IF(AA570>0,VLOOKUP(AA570,Inputs,6,FALSE),\"\")","v":0},{"$f":"UPPER(VLOOKUP(AG570,Inputs,4,FALSE))&\"  \"","v":"  "},null,{"$f":"IF(LEN(AD572)>2,AD572&VLOOKUP(AG570,Inputs,5,FALSE),VLOOKUP(AG570,Inputs,5,FALSE))","v":0},null,{"$f":"IF(AG570>0,VLOOKUP(AG570,Inputs,6,FALSE),\"\")","v":0},{"$f":"UPPER(VLOOKUP(AL570,Inputs,4,FALSE))&\"  \"","v":"  "},null,{"$f":"IF(LEN(AI572)>2,AI572&VLOOKUP(AL570,Inputs,5,FALSE),VLOOKUP(AL570,Inputs,5,FALSE))","v":0},null,{"$f":"IF(AL570>0,VLOOKUP(AL570,Inputs,6,FALSE),\"\")","v":0},null,null,{"$f":"IF($A572=AP$5,$G572,0)+IF($H572=AP$5,$L572,0)+IF($M572=AP$5,$Q572,0)+IF($R572=AP$5,$W572,0)+IF($X572=AP$5,AC572,0)+IF($AD572=AP$5,AH572,0)+IF(AI572=AP$5,AM572,0)","v":0},{"$f":"IF($A572=AQ$5,$G572,0)+IF($H572=AQ$5,$L572,0)+IF($M572=AQ$5,$Q572,0)+IF($R572=AQ$5,$W572,0)+IF($X572=AQ$5,$AC572,0)+IF($AD572=AQ$5,$AH572,0)+IF($AI572=AQ$5,$AM572,0)","v":0},0,0,0,0,0,0,0,0,0,0,0,0]
[{"$f":"UPPER(VLOOKUP(F570,Inputs,7,FALSE))&\"  \"","v":"  "},null,null,null,{"$f":"IF(LEN(A573)>2,A573&VLOOKUP(F570,Inputs,8,FALSE),VLOOKUP(F570,Inputs,8,FALSE))","v":0},null,{"$f":"IF(F570>0,VLOOKUP(F570,Inputs,9,FALSE),\"\")","v":0},{"$f":"UPPER(VLOOKUP(K570,Inputs,7,FALSE))&\"  \"","v":"  "},null,{"$f":"IF(LEN(H573)>2,H573&VLOOKUP(K570,Inputs,8,FALSE),VLOOKUP(K570,Inputs,8,FALSE))","v":0},null,{"$f":"IF(K570>0,VLOOKUP(K570,Inputs,9,FALSE),\"\")","v":0},{"$f":"UPPER(VLOOKUP(P570,Inputs,7,FALSE))&\"  \"","v":"  "},null,{"$f":"IF(LEN(M573)>2,M573&VLOOKUP(P570,Inputs,8,FALSE),VLOOKUP(P570,Inputs,8,FALSE))","v":0},null,{"$f":"IF(P570>0,VLOOKUP(P570,Inputs,9,FALSE),\"\")","v":0},{"$f":"UPPER(VLOOKUP(V570,Inputs,7,FALSE))&\"  \"","v":"  "},null,{"$f":"IF(LEN(R573)>2,R573&VLOOKUP(V570,Inputs,8,FALSE),VLOOKUP(V570,Inputs,8,FALSE))","v":0},null,null,{"$f":"IF(V570>0,VLOOKUP(V570,Inputs,9,FALSE),\"\")","v":0},{"$f":"UPPER(VLOOKUP(AA570,Inputs,7,FALSE))&\"  \"","v":"  "},null,{"$f":"IF(LEN(X573)>2,X573&VLOOKUP(AA570,Inputs,8,FALSE),VLOOKUP(AA570,Inputs,8,FALSE))","v":0},null,null,{"$f":"IF(AA570>0,VLOOKUP(AA570,Inputs,9,FALSE),\"\")","v":0},{"$f":"UPPER(VLOOKUP(AG570,Inputs,7,FALSE))&\"  \"","v":"  "},null,{"$f":"IF(LEN(AD573)>2,AD573&VLOOKUP(AG570,Inputs,8,FALSE),VLOOKUP(AG570,Inputs,8,FALSE))","v":0},null,{"$f":"IF(AG570>0,VLOOKUP(AG570,Inputs,9,FALSE),\"\")","v":0},{"$f":"UPPER(VLOOKUP(AL570,Inputs,7,FALSE))&\"  \"","v":"  "},null,{"$f":"IF(LEN(AI573)>2,AI573&VLOOKUP(AL570,Inputs,8,FALSE),VLOOKUP(AL570,Inputs,8,FALSE))","v":0},null,{"$f":"IF(AL570>0,VLOOKUP(AL570,Inputs,9,FALSE),\"\")","v":0},null,null,{"$f":"IF($A573=AP$5,$G573,0)+IF($H573=AP$5,$L573,0)+IF($M573=AP$5,$Q573,0)+IF($R573=AP$5,$W573,0)+IF($X573=AP$5,AC573,0)+IF($AD573=AP$5,AH573,0)+IF(AI573=AP$5,AM573,0)","v":0},0,0,0,0,0,0,0,0,0,0,0,0,0]
[{"$f":"UPPER(VLOOKUP(F570,Inputs,10,FALSE))&\"  \"","v":"  "},null,null,null,{"$f":"IF(LEN(A574)>2,A574&VLOOKUP(F570,Inputs,11,FALSE),VLOOKUP(F570,Inputs,11,FALSE))","v":0},null,{"$f":"IF(F570>0,VLOOKUP(F570,Inputs,12,FALSE),\"\")","v":0},{"$f":"UPPER(VLOOKUP(K570,Inputs,10,FALSE))&\"  \"","v":"  "},null,{"$f":"IF(LEN(H574)>2,H574&VLOOKUP(K570,Inputs,11,FALSE),VLOOKUP(K570,Inputs,11,FALSE))","v":0},null,{"$f":"IF(K570>0,VLOOKUP(K570,Inputs,12,FALSE),\"\")","v":0},{"$f":"UPPER(VLOOKUP(P570,Inputs,10,FALSE))&\"  \"","v":"  "},null,{"$f":"IF(LEN(M574)>2,M574&VLOOKUP(P570,Inputs,11,FALSE),VLOOKUP(P570,Inputs,11,FALSE))","v":0},null,{"$f":"IF(P570>0,VLOOKUP(P570,Inputs,12,FALSE),\"\")","v":0},{"$f":"UPPER(VLOOKUP(V570,Inputs,10,FALSE))&\"  \"","v":"  "},null,{"$f":"IF(LEN(R574)>2,R574&VLOOKUP(V570,Inputs,11,FALSE),VLOOKUP(V570,Inputs,11,FALSE))","v":0},null,null,{"$f":"IF(V570>0,VLOOKUP(V570,Inputs,12,FALSE),\"\")","v":0},{"$f":"UPPER(VLOOKUP(AA570,Inputs,10,FALSE))&\"  \"","v":"  "},null,{"$f":"IF(LEN(X574)>2,X574&VLOOKUP(AA570,Inputs,11,FALSE),VLOOKUP(AA570,Inputs,11,FALSE))","v":0},null,null,{"$f":"IF(AA570>0,VLOOKUP(AA570,Inputs,12,FALSE),\"\")","v":0},{"$f":"UPPER(VLOOKUP(AG570,Inputs,10,FALSE))&\"  \"","v":"  "},null,{"$f":"IF(LEN(AD574)>2,AD574&VLOOKUP(AG570,Inputs,11,FALSE),VLOOKUP(AG570,Inputs,11,FALSE))","v":0},null,{"$f":"IF(AG570>0,VLOOKUP(AG570,Inputs,12,FALSE),\"\")","v":0},{"$f":"UPPER(VLOOKUP(AL570,Inputs,10,FALSE))&\"  \"","v":"  "},null,{"$f":"IF(LEN(AI574)>2,AI574&VLOOKUP(AL570,Inputs,11,FALSE),VLOOKUP(AL570,Inputs,11,FALSE))","v":0},null,{"$f":"IF(AL570>0,VLOOKUP(AL570,Inputs,12,FALSE),\"\")","v":0},null,null,{"$f":"IF($A574=AP$5,$G574,0)+IF($H574=AP$5,$L574,0)+IF($M574=AP$5,$Q574,0)+IF($R574=AP$5,$W574,0)+IF($X574=AP$5,AC574,0)+IF($AD574=AP$5,AH574,0)+IF(AI574=AP$5,AM574,0)","v":0},0,0,0,0,0,0,0,0,0,0,0,0,0]
[{"$f":"UPPER(VLOOKUP(F570,Inputs,13,FALSE))&\"  \"","v":"  "},null,null,null,{"$f":"IF(LEN(A575)>2,A575&VLOOKUP(F570,Inputs,14,FALSE),VLOOKUP(F570,Inputs,14,FALSE))","v":0},null,{"$f":"IF(F570>0,VLOOKUP(F570,Inputs,15,FALSE),\"\")","v":0},{"$f":"UPPER(VLOOKUP(K570,Inputs,13,FALSE))&\"  \"","v":"  "},null,{"$f":"IF(LEN(H575)>2,H575&VLOOKUP(K570,Inputs,14,FALSE),VLOOKUP(K570,Inputs,14,FALSE))","v":0},null,{"$f":"IF(K570>0,VLOOKUP(K570,Inputs,15,FALSE),\"\")","v":0},{"$f":"UPPER(VLOOKUP(P570,Inputs,13,FALSE))&\"  \"","v":"  "},null,{"$f":"IF(LEN(M575)>2,M575&VLOOKUP(P570,Inputs,14,FALSE),VLOOKUP(P570,Inputs,14,FALSE))","v":0},null,{"$f":"IF(P570>0,VLOOKUP(P570,Inputs,15,FALSE),\"\")","v":0},{"$f":"UPPER(VLOOKUP(V570,Inputs,13,FALSE))&\"  \"","v":"  "},null,{"$f":"IF(LEN(R575)>2,R575&VLOOKUP(V570,Inputs,14,FALSE),VLOOKUP(V570,Inputs,14,FALSE))","v":0},null,null,{"$f":"IF(V570>0,VLOOKUP(V570,Inputs,15,FALSE),\"\")","v":0},{"$f":"UPPER(VLOOKUP(AA570,Inputs,13,FALSE))&\"  \"","v":"  "},null,{"$f":"IF(LEN(X575)>2,X575&VLOOKUP(AA570,Inputs,14,FALSE),VLOOKUP(AA570,Inputs,14,FALSE))","v":0},null,null,{"$f":"IF(AA570>0,VLOOKUP(AA570,Inputs,15,FALSE),\"\")","v":0},{"$f":"UPPER(VLOOKUP(AG570,Inputs,13,FALSE))&\"  \"","v":"  "},null,{"$f":"IF(LEN(AD575)>2,AD575&VLOOKUP(AG570,Inputs,14,FALSE),VLOOKUP(AG570,Inputs,14,FALSE))","v":0},null,{"$f":"IF(AG570>0,VLOOKUP(AG570,Inputs,15,FALSE),\"\")","v":0},{"$f":"UPPER(VLOOKUP(AL570,Inputs,13,FALSE))&\"  \"","v":"  "},null,{"$f":"IF(LEN(AI575)>2,AI575&VLOOKUP(AL570,Inputs,14,FALSE),VLOOKUP(AL570,Inputs,14,FALSE))","v":0},null,{"$f":"IF(AL570>0,VLOOKUP(AL570,Inputs,15,FALSE),\"\")","v":0},null,null,{"$f":"IF($A575=AP$5,$G575,0)+IF($H575=AP$5,$L575,0)+IF($M575=AP$5,$Q575,0)+IF($R575=AP$5,$W575,0)+IF($X575=AP$5,AC575,0)+IF($AD575=AP$5,AH575,0)+IF(AI575=AP$5,AM575,0)","v":0},0,0,0,0,0,0,0,0,0,0,0,0,0]
[null,null,null,null,null,{"$f":"IF(F570>0,IF(VLOOKUP(F570,Inputs,3,FALSE)=\"T\",\"Telemarketing\",0),\"\")","v":0},null,null,null,null,{"$f":"IF(VLOOKUP(K570-1,Inputs,3,FALSE)=\"T\",0,IF(VLOOKUP(K570,Inputs,3,FALSE)=\"T\",\"Telemarketing\",0))","v":0},null,null,null,null,{"$f":"IF(VLOOKUP(P570-1,Inputs,3,FALSE)=\"T\",0,IF(VLOOKUP(P570,Inputs,3,FALSE)=\"T\",\"Telemarketing\",0))","v":0},null,null,null,null,null,{"$f":"IF(VLOOKUP(V570-1,Inputs,3,FALSE)=\"T\",0,IF(VLOOKUP(V570,Inputs,3,FALSE)=\"T\",\"Telemarketing\",0))","v":0},null,null,null,null,{"$f":"IF(VLOOKUP(AA570-1,Inputs,3,FALSE)=\"T\",0,IF(VLOOKUP(AA570,Inputs,3,FALSE)=\"T\",\"Telemarketing\",0))","v":0},null,null,null,null,null,{"$f":"IF(VLOOKUP(AG570-1,Inputs,3,FALSE)=\"T\",0,IF(VLOOKUP(AG570,Inputs,3,FALSE)=\"T\",\"Telemarketing\",0))","v":0},null,null,null,null,{"$f":"IF(VLOOKUP(AL570-1,Inputs,3,FALSE)=\"T\",0,IF(VLOOKUP(AL570,Inputs,3,FALSE)=\"T\",\"Telemarketing\",0))","v":0}]
[null,null,null,null,null,{"$f":"1+AL570","v":"2018-11-18"},null,null,null,null,{"$f":"1+F577","v":"2018-11-19"},null,null,null,null,{"$f":"1+K577","v":"2018-11-20"},null,null,null,null,null,{"$f":"1+P577","v":"2018-11-21"},null,null,null,null,{"$f":"1+V577","v":"2018-11-22"},null,null,null,null,null,{"$f":"1+AA577","v":"2018-11-23"},null,null,null,null,{"$f":"1+AG577","v":"2018-11-24"}]
[null,null,null,null,{"$f":"DAY(F577)","v":18},{"$f":"IF(F577>0,VLOOKUP(F577,Holidays,2),0)","v":0},null,null,null,{"$f":"DAY(K577)","v":19},{"$f":"IF(K577>0,VLOOKUP(K577,Holidays,2),0)","v":0},null,null,null,{"$f":"DAY(P577)","v":20},{"$f":"IF(P577>0,VLOOKUP(P577,Holidays,2),0)","v":0},null,null,null,{"$f":"DAY(V577)","v":21},{"$f":"IF(V577>0,VLOOKUP(V577,Holidays,2),0)","v":0},null,null,null,null,{"$f":"DAY(AA577)","v":22},{"$f":"IF(AA577>0,VLOOKUP(AA577,Holidays,2),0)","v":"Thanksgiving"},null,null,null,null,{"$f":"DAY(AG577)","v":23},{"$f":"IF(AG577>0,VLOOKUP(AG577,Holidays,2),0)","v":""},null,null,null,{"$f":"DAY(AL577)","v":24},{"$f":"IF(AL577>0,VLOOKUP(AL577,Holidays,2),0)","v":""}]
[{"$f":"UPPER(VLOOKUP(F577,Inputs,4,FALSE))&\"  \"","v":"  "},null,null,null,{"$f":"IF(LEN(A579)>2,A579&VLOOKUP(F577,Inputs,5,FALSE),VLOOKUP(F577,Inputs,5,FALSE))","v":0},null,{"$f":"IF(F577>0,VLOOKUP(F577,Inputs,6,FALSE),\"\")","v":0},{"$f":"UPPER(VLOOKUP(K577,Inputs,4,FALSE))&\"  \"","v":"  "},null,{"$f":"IF(LEN(H579)>2,H579&VLOOKUP(K577,Inputs,5,FALSE),VLOOKUP(K577,Inputs,5,FALSE))","v":0},null,{"$f":"IF(K577>0,VLOOKUP(K577,Inputs,6,FALSE),\"\")","v":0},{"$f":"UPPER(VLOOKUP(P577,Inputs,4,FALSE))&\"  \"","v":"  "},null,{"$f":"IF(LEN(M579)>2,M579&VLOOKUP(P577,Inputs,5,FALSE),VLOOKUP(P577,Inputs,5,FALSE))","v":0},null,{"$f":"IF(P577>0,VLOOKUP(P577,Inputs,6,FALSE),\"\")","v":0},{"$f":"UPPER(VLOOKUP(V577,Inputs,4,FALSE))&\"  \"","v":"  "},null,{"$f":"IF(LEN(R579)>2,R579&VLOOKUP(V577,Inputs,5,FALSE),VLOOKUP(V577,Inputs,5,FALSE))","v":0},null,null,{"$f":"IF(V577>0,VLOOKUP(V577,Inputs,6,FALSE),\"\")","v":0},{"$f":"UPPER(VLOOKUP(AA577,Inputs,4,FALSE))&\"  \"","v":"  "},null,{"$f":"IF(LEN(X579)>2,X579&VLOOKUP(AA577,Inputs,5,FALSE),VLOOKUP(AA577,Inputs,5,FALSE))","v":0},null,null,{"$f":"IF(AA577>0,VLOOKUP(AA577,Inputs,6,FALSE),\"\")","v":0},{"$f":"UPPER(VLOOKUP(AG577,Inputs,4,FALSE))&\"  \"","v":"  "},null,{"$f":"IF(LEN(AD579)>2,AD579&VLOOKUP(AG577,Inputs,5,FALSE),VLOOKUP(AG577,Inputs,5,FALSE))","v":0},null,{"$f":"IF(AG577>0,VLOOKUP(AG577,Inputs,6,FALSE),\"\")","v":0},{"$f":"UPPER(VLOOKUP(AL577,Inputs,4,FALSE))&\"  \"","v":"  "},null,{"$f":"IF(LEN(AI579)>2,AI579&VLOOKUP(AL577,Inputs,5,FALSE),VLOOKUP(AL577,Inputs,5,FALSE))","v":0},null,{"$f":"IF(AL577>0,VLOOKUP(AL577,Inputs,6,FALSE),\"\")","v":0},null,null,{"$f":"IF($A579=AP$5,$G579,0)+IF($H579=AP$5,$L579,0)+IF($M579=AP$5,$Q579,0)+IF($R579=AP$5,$W579,0)+IF($X579=AP$5,AC579,0)+IF($AD579=AP$5,AH579,0)+IF(AI579=AP$5,AM579,0)","v":0},{"$f":"IF($A579=AQ$5,$G579,0)+IF($H579=AQ$5,$L579,0)+IF($M579=AQ$5,$Q579,0)+IF($R579=AQ$5,$W579,0)+IF($X579=AQ$5,$AC579,0)+IF($AD579=AQ$5,$AH579,0)+IF($AI579=AQ$5,$AM579,0)","v":0},0,0,0,0,0,0,0,0,0,0,0,0]
[{"$f":"UPPER(VLOOKUP(F577,Inputs,7,FALSE))&\"  \"","v":"  "},null,null,null,{"$f":"IF(LEN(A580)>2,A580&VLOOKUP(F577,Inputs,8,FALSE),VLOOKUP(F577,Inputs,8,FALSE))","v":0},null,{"$f":"IF(F577>0,VLOOKUP(F577,Inputs,9,FALSE),\"\")","v":0},{"$f":"UPPER(VLOOKUP(K577,Inputs,7,FALSE))&\"  \"","v":"  "},null,{"$f":"IF(LEN(H580)>2,H580&VLOOKUP(K577,Inputs,8,FALSE),VLOOKUP(K577,Inputs,8,FALSE))","v":0},null,{"$f":"IF(K577>0,VLOOKUP(K577,Inputs,9,FALSE),\"\")","v":0},{"$f":"UPPER(VLOOKUP(P577,Inputs,7,FALSE))&\"  \"","v":"  "},null,{"$f":"IF(LEN(M580)>2,M580&VLOOKUP(P577,Inputs,8,FALSE),VLOOKUP(P577,Inputs,8,FALSE))","v":0},null,{"$f":"IF(P577>0,VLOOKUP(P577,Inputs,9,FALSE),\"\")","v":0},{"$f":"UPPER(VLOOKUP(V577,Inputs,7,FALSE))&\"  \"","v":"  "},null,{"$f":"IF(LEN(R580)>2,R580&VLOOKUP(V577,Inputs,8,FALSE),VLOOKUP(V577,Inputs,8,FALSE))","v":0},null,null,{"$f":"IF(V577>0,VLOOKUP(V577,Inputs,9,FALSE),\"\")","v":0},{"$f":"UPPER(VLOOKUP(AA577,Inputs,7,FALSE))&\"  \"","v":"  "},null,{"$f":"IF(LEN(X580)>2,X580&VLOOKUP(AA577,Inputs,8,FALSE),VLOOKUP(AA577,Inputs,8,FALSE))","v":0},null,null,{"$f":"IF(AA577>0,VLOOKUP(AA577,Inputs,9,FALSE),\"\")","v":0},{"$f":"UPPER(VLOOKUP(AG577,Inputs,7,FALSE))&\"  \"","v":"  "},null,{"$f":"IF(LEN(AD580)>2,AD580&VLOOKUP(AG577,Inputs,8,FALSE),VLOOKUP(AG577,Inputs,8,FALSE))","v":0},null,{"$f":"IF(AG577>0,VLOOKUP(AG577,Inputs,9,FALSE),\"\")","v":0},{"$f":"UPPER(VLOOKUP(AL577,Inputs,7,FALSE))&\"  \"","v":"  "},null,{"$f":"IF(LEN(AI580)>2,AI580&VLOOKUP(AL577,Inputs,8,FALSE),VLOOKUP(AL577,Inputs,8,FALSE))","v":0},null,{"$f":"IF(AL577>0,VLOOKUP(AL577,Inputs,9,FALSE),\"\")","v":0},null,null,{"$f":"IF($A580=AP$5,$G580,0)+IF($H580=AP$5,$L580,0)+IF($M580=AP$5,$Q580,0)+IF($R580=AP$5,$W580,0)+IF($X580=AP$5,$CH580,0)+IF($CI580=AP$5,$CM580,0)+IF($CN580=AP$5,$CR580,0)","v":0},{"$f":"IF($A580=AQ$5,$G580,0)+IF($H580=AQ$5,$L580,0)+IF($M580=AQ$5,$Q580,0)+IF($R580=AQ$5,$W580,0)+IF($X580=AQ$5,$AC580,0)+IF($AD580=AQ$5,$AH580,0)+IF($AI580=AQ$5,$AM580,0)","v":0},0,0,0,0,0,0,{"$f":"IF($A580=AX$5,$G580,0)+IF($H580=AX$5,$L580,0)+IF($M580=AX$5,$Q580,0)+IF($R580=AX$5,$W580,0)+IF($X580=AX$5,$AC580,0)+IF($AD580=AX$5,$AH580,0)+IF($AI580=AX$5,$AM580,0)","v":0},0,0,0,0,0]
[{"$f":"UPPER(VLOOKUP(F577,Inputs,10,FALSE))&\"  \"","v":"  "},null,null,null,{"$f":"IF(LEN(A581)>2,A581&VLOOKUP(F577,Inputs,11,FALSE),VLOOKUP(F577,Inputs,11,FALSE))","v":0},null,{"$f":"IF(F577>0,VLOOKUP(F577,Inputs,12,FALSE),\"\")","v":0},{"$f":"UPPER(VLOOKUP(K577,Inputs,10,FALSE))&\"  \"","v":"  "},null,{"$f":"IF(LEN(H581)>2,H581&VLOOKUP(K577,Inputs,11,FALSE),VLOOKUP(K577,Inputs,11,FALSE))","v":0},null,{"$f":"IF(K577>0,VLOOKUP(K577,Inputs,12,FALSE),\"\")","v":0},{"$f":"UPPER(VLOOKUP(P577,Inputs,10,FALSE))&\"  \"","v":"  "},null,{"$f":"IF(LEN(M581)>2,M581&VLOOKUP(P577,Inputs,11,FALSE),VLOOKUP(P577,Inputs,11,FALSE))","v":0},null,{"$f":"IF(P577>0,VLOOKUP(P577,Inputs,12,FALSE),\"\")","v":0},{"$f":"UPPER(VLOOKUP(V577,Inputs,10,FALSE))&\"  \"","v":"  "},null,{"$f":"IF(LEN(R581)>2,R581&VLOOKUP(V577,Inputs,11,FALSE),VLOOKUP(V577,Inputs,11,FALSE))","v":0},null,null,{"$f":"IF(V577>0,VLOOKUP(V577,Inputs,12,FALSE),\"\")","v":0},{"$f":"UPPER(VLOOKUP(AA577,Inputs,10,FALSE))&\"  \"","v":"  "},null,{"$f":"IF(LEN(X581)>2,X581&VLOOKUP(AA577,Inputs,11,FALSE),VLOOKUP(AA577,Inputs,11,FALSE))","v":0},null,null,{"$f":"IF(AA577>0,VLOOKUP(AA577,Inputs,12,FALSE),\"\")","v":0},{"$f":"UPPER(VLOOKUP(AG577,Inputs,10,FALSE))&\"  \"","v":"  "},null,{"$f":"IF(LEN(AD581)>2,AD581&VLOOKUP(AG577,Inputs,11,FALSE),VLOOKUP(AG577,Inputs,11,FALSE))","v":0},null,{"$f":"IF(AG577>0,VLOOKUP(AG577,Inputs,12,FALSE),\"\")","v":0},{"$f":"UPPER(VLOOKUP(AL577,Inputs,10,FALSE))&\"  \"","v":"  "},null,{"$f":"IF(LEN(AI581)>2,AI581&VLOOKUP(AL577,Inputs,11,FALSE),VLOOKUP(AL577,Inputs,11,FALSE))","v":0},null,{"$f":"IF(AL577>0,VLOOKUP(AL577,Inputs,12,FALSE),\"\")","v":0},null,null,{"$f":"IF($A581=AP$5,$G581,0)+IF($H581=AP$5,$L581,0)+IF($M581=AP$5,$Q581,0)+IF($R581=AP$5,$W581,0)+IF($X581=AP$5,$CH581,0)+IF($CI581=AP$5,$CM581,0)+IF($CN581=AP$5,$CR581,0)","v":0},0,0,0,0,0,0,0,0,0,0,0,0,0]
[{"$f":"UPPER(VLOOKUP(F577,Inputs,13,FALSE))&\"  \"","v":"  "},null,null,null,{"$f":"IF(LEN(A582)>2,A582&VLOOKUP(F577,Inputs,14,FALSE),VLOOKUP(F577,Inputs,14,FALSE))","v":0},null,{"$f":"IF(F577>0,VLOOKUP(F577,Inputs,15,FALSE),\"\")","v":0},{"$f":"UPPER(VLOOKUP(K577,Inputs,13,FALSE))&\"  \"","v":"  "},null,{"$f":"IF(LEN(H582)>2,H582&VLOOKUP(K577,Inputs,14,FALSE),VLOOKUP(K577,Inputs,14,FALSE))","v":0},null,{"$f":"IF(K577>0,VLOOKUP(K577,Inputs,15,FALSE),\"\")","v":0},{"$f":"UPPER(VLOOKUP(P577,Inputs,13,FALSE))&\"  \"","v":"  "},null,{"$f":"IF(LEN(M582)>2,M582&VLOOKUP(P577,Inputs,14,FALSE),VLOOKUP(P577,Inputs,14,FALSE))","v":0},null,{"$f":"IF(P577>0,VLOOKUP(P577,Inputs,15,FALSE),\"\")","v":0},{"$f":"UPPER(VLOOKUP(V577,Inputs,13,FALSE))&\"  \"","v":"  "},null,{"$f":"IF(LEN(R582)>2,R582&VLOOKUP(V577,Inputs,14,FALSE),VLOOKUP(V577,Inputs,14,FALSE))","v":0},null,null,{"$f":"IF(V577>0,VLOOKUP(V577,Inputs,15,FALSE),\"\")","v":0},{"$f":"UPPER(VLOOKUP(AA577,Inputs,13,FALSE))&\"  \"","v":"  "},null,{"$f":"IF(LEN(X582)>2,X582&VLOOKUP(AA577,Inputs,14,FALSE),VLOOKUP(AA577,Inputs,14,FALSE))","v":0},null,null,{"$f":"IF(AA577>0,VLOOKUP(AA577,Inputs,15,FALSE),\"\")","v":0},{"$f":"UPPER(VLOOKUP(AG577,Inputs,13,FALSE))&\"  \"","v":"  "},null,{"$f":"IF(LEN(AD582)>2,AD582&VLOOKUP(AG577,Inputs,14,FALSE),VLOOKUP(AG577,Inputs,14,FALSE))","v":0},null,{"$f":"IF(AG577>0,VLOOKUP(AG577,Inputs,15,FALSE),\"\")","v":0},{"$f":"UPPER(VLOOKUP(AL577,Inputs,13,FALSE))&\"  \"","v":"  "},null,{"$f":"IF(LEN(AI582)>2,AI582&VLOOKUP(AL577,Inputs,14,FALSE),VLOOKUP(AL577,Inputs,14,FALSE))","v":0},null,{"$f":"IF(AL577>0,VLOOKUP(AL577,Inputs,15,FALSE),\"\")","v":0},null,null,{"$f":"IF($A582=AP$5,$G582,0)+IF($H582=AP$5,$L582,0)+IF($M582=AP$5,$Q582,0)+IF($R582=AP$5,$W582,0)+IF($X582=AP$5,$CH582,0)+IF($CI582=AP$5,$CM582,0)+IF($CN582=AP$5,$CR582,0)","v":0},0,0,0,0,0,0,0,0,0,0,0,0,0]
[null,null,null,null,null,{"$f":"IF(F577>0,IF(VLOOKUP(F577,Inputs,3,FALSE)=\"T\",\"Telemarketing\",0),\"\")","v":0},null,null,null,null,{"$f":"IF(VLOOKUP(K577-1,Inputs,3,FALSE)=\"T\",0,IF(VLOOKUP(K577,Inputs,3,FALSE)=\"T\",\"Telemarketing\",0))","v":0},null,null,null,null,{"$f":"IF(VLOOKUP(P577-1,Inputs,3,FALSE)=\"T\",0,IF(VLOOKUP(P577,Inputs,3,FALSE)=\"T\",\"Telemarketing\",0))","v":0},null,null,null,null,null,{"$f":"IF(VLOOKUP(V577-1,Inputs,3,FALSE)=\"T\",0,IF(VLOOKUP(V577,Inputs,3,FALSE)=\"T\",\"Telemarketing\",0))","v":0},null,null,null,null,{"$f":"IF(VLOOKUP(AA577-1,Inputs,3,FALSE)=\"T\",0,IF(VLOOKUP(AA577,Inputs,3,FALSE)=\"T\",\"Telemarketing\",0))","v":0},null,null,null,null,null,{"$f":"IF(VLOOKUP(AG577-1,Inputs,3,FALSE)=\"T\",0,IF(VLOOKUP(AG577,Inputs,3,FALSE)=\"T\",\"Telemarketing\",0))","v":0},null,null,null,null,{"$f":"IF(VLOOKUP(AL577-1,Inputs,3,FALSE)=\"T\",0,IF(VLOOKUP(AL577,Inputs,3,FALSE)=\"T\",\"Telemarketing\",0))","v":0}]
[null,null,null,null,null,{"$f":"IF(AL577>0,IF(MONTH(1+AL577)=$A602,1+AL577,0),0)","v":"2018-11-25"},null,null,null,null,{"$f":"IF(F584>0,IF(MONTH(1+F584)=$A602,1+F584,0),0)","v":"2018-11-26"},null,null,null,null,{"$f":"IF(K584>0,IF(MONTH(1+K584)=$A602,1+K584,0),0)","v":"2018-11-27"},null,null,null,null,null,{"$f":"IF(P584>0,IF(MONTH(1+P584)=$A602,1+P584,0),0)","v":"2018-11-28"},null,null,null,null,{"$f":"IF(V584>0,IF(MONTH(1+V584)=$A602,1+V584,0),0)","v":"2018-11-29"},null,null,null,null,null,{"$f":"IF(AA584>0,IF(MONTH(1+AA584)=$A602,1+AA584,0),0)","v":"2018-11-30"},null,null,null,null,{"$f":"IF(AG584>0,IF(MONTH(1+AG584)=$A602,1+AG584,0),0)","v":"00:00:00"}]
[null,null,null,null,{"$f":"DAY(F584)","v":25},{"$f":"VLOOKUP(F584,Holidays,2)","v":""},null,null,null,{"$f":"DAY(K584)","v":26},{"$f":"VLOOKUP(K584,Holidays,2)","v":""},null,null,null,{"$f":"DAY(P584)","v":27},{"$f":"VLOOKUP(P584,Holidays,2)","v":""},null,null,null,{"$f":"DAY(V584)","v":28},{"$f":"VLOOKUP(V584,Holidays,2)","v":""},null,null,null,null,{"$f":"DAY(AA584)","v":29},{"$f":"VLOOKUP(AA584,Holidays,2)","v":""},null,null,null,null,{"$f":"DAY(AG584)","v":30},{"$f":"VLOOKUP(AG584,Holidays,2)","v":0},null,null,null,{"$f":"DAY(AL584)","v":0},{"$f":"VLOOKUP(AL584,Holidays,2)","v":0}]
[{"$f":"UPPER(VLOOKUP(F584,Inputs,4,FALSE))&\"  \"","v":"  "},null,null,null,{"$f":"IF(LEN(A586)>2,A586&VLOOKUP(F584,Inputs,5,FALSE),VLOOKUP(F584,Inputs,5,FALSE))","v":0},null,{"$f":"IF(F584>0,VLOOKUP(F584,Inputs,6,FALSE),\"\")","v":0},{"$f":"UPPER(VLOOKUP(K584,Inputs,4,FALSE))&\"  \"","v":"  "},null,{"$f":"IF(LEN(H586)>2,H586&VLOOKUP(K584,Inputs,5,FALSE),VLOOKUP(K584,Inputs,5,FALSE))","v":0},null,{"$f":"IF(K584>0,VLOOKUP(K584,Inputs,6,FALSE),\"\")","v":0},{"$f":"UPPER(VLOOKUP(P584,Inputs,4,FALSE))&\"  \"","v":"  "},null,{"$f":"IF(LEN(M586)>2,M586&VLOOKUP(P584,Inputs,5,FALSE),VLOOKUP(P584,Inputs,5,FALSE))","v":0},null,{"$f":"IF(P584>0,VLOOKUP(P584,Inputs,6,FALSE),\"\")","v":0},{"$f":"IF(MONTH(V584)=A602,UPPER(VLOOKUP(V584,Inputs,4,FALSE))&\"  \",\"\")","v":"  "},null,{"$f":"IF(MONTH(V584)=A602,IF(LEN(R586)>0,R586&VLOOKUP(V584,Inputs,5,FALSE),VLOOKUP(V584,Inputs,5,FALSE)),\"\")","v":"  "},null,null,{"$f":"IF(MONTH(V584)=A602,IF(V584>0,VLOOKUP(V584,Inputs,6,FALSE),\"\"),0)","v":0},{"$f":"IF(MONTH(AA584)=A602,UPPER(VLOOKUP(AA584,Inputs,4,FALSE))&\"  \",\"\")","v":"  "},null,{"$f":"IF(MONTH(AA584)=A602,IF(LEN(X586)>0,X586&VLOOKUP(AA584,Inputs,5,FALSE),VLOOKUP(AA584,Inputs,5,FALSE)),\"\")","v":"  "},null,null,{"$f":"IF(MONTH(AA584)=A602,IF(AA584>0,VLOOKUP(AA584,Inputs,6,FALSE),\"\"),0)","v":0},{"$f":"IF(MONTH(AG584)=A602,UPPER(VLOOKUP(AG584,Inputs,4,FALSE))&\"  \",\"\")","v":"  "},null,{"$f":"IF(MONTH(AG584)=A602,IF(LEN(AD586)>0,AD586&VLOOKUP(AG584,Inputs,5,FALSE),VLOOKUP(AG584,Inputs,5,FALSE)),\"\")","v":"  "},null,{"$f":"IF(MONTH(AG584)=A602,IF(AG584>0,VLOOKUP(AG584,Inputs,6,FALSE),\"\"),0)","v":0},{"$f":"IF(MONTH(AL584)=A602,UPPER(VLOOKUP(AL584,Inputs,4,FALSE))&\"  \",\"\")","v":""},null,{"$f":"IF(MONTH(AL584)=A602,IF(LEN(AI586)>0,AI586&VLOOKUP(AL584,Inputs,5,FALSE),VLOOKUP(AL584,Inputs,5,FALSE)),\"\")","v":""},null,{"$f":"IF(MONTH(AL584)=A602,IF(AL584>0,VLOOKUP(AL584,Inputs,6,FALSE),\"\"),0)","v":0},null,null,{"$f":"IF($A586=AP$5,$G586,0)+IF($H586=AP$5,$L586,0)+IF($M586=AP$5,$Q586,0)+IF($R586=AP$5,$W586,0)+IF($X586=AP$5,AC586,0)+IF($AD586=AP$5,AH586,0)+IF(AI586=AP$5,AM586,0)","v":0},{"$f":"IF($A586=AQ$5,$G586,0)+IF($H586=AQ$5,$L586,0)+IF($M586=AQ$5,$Q586,0)+IF($R586=AQ$5,$W586,0)+IF($X586=AQ$5,$AC586,0)+IF($AD586=AQ$5,$AH586,0)+IF($AI586=AQ$5,$AM586,0)","v":0},0,0,0,0,0,0,0,0,0,0,0,0]
[{"$f":"UPPER(VLOOKUP(F584,Inputs,7,FALSE))&\"  \"","v":"  "},null,null,null,{"$f":"IF(LEN(A587)>2,A587&VLOOKUP(F584,Inputs,8,FALSE),VLOOKUP(F584,Inputs,8,FALSE))","v":0},null,{"$f":"IF(F584>0,VLOOKUP(F584,Inputs,9,FALSE),\"\")","v":0},{"$f":"UPPER(VLOOKUP(K584,Inputs,7,FALSE))&\"  \"","v":"  "},null,{"$f":"IF(LEN(H587)>2,H587&VLOOKUP(K584,Inputs,8,FALSE),VLOOKUP(K584,Inputs,8,FALSE))","v":0},null,{"$f":"IF(K584>0,VLOOKUP(K584,Inputs,9,FALSE),\"\")","v":0},{"$f":"UPPER(VLOOKUP(P584,Inputs,7,FALSE))&\"  \"","v":"  "},null,{"$f":"IF(LEN(M587)>2,M587&VLOOKUP(P584,Inputs,8,FALSE),VLOOKUP(P584,Inputs,8,FALSE))","v":0},null,{"$f":"IF(P584>0,VLOOKUP(P584,Inputs,9,FALSE),\"\")","v":0},{"$f":"IF(MONTH(V584)=A602,UPPER(VLOOKUP(V584,Inputs,7,FALSE))&\"  \",\"\")","v":"  "},null,{"$f":"IF(MONTH(V584)=A602,IF(LEN(R587)>0,R587&VLOOKUP(V584,Inputs,8,FALSE),VLOOKUP(V584,Inputs,8,FALSE)),\"\")","v":"  "},null,null,{"$f":"IF(MONTH(V584)=A602,IF(V584>0,VLOOKUP(V584,Inputs,9,FALSE),\"\"),0)","v":0},{"$f":"IF(MONTH(AA584)=A602,UPPER(VLOOKUP(AA584,Inputs,7,FALSE))&\"  \",\"\")","v":"  "},null,{"$f":"IF(MONTH(AA584)=A602,IF(LEN(X587)>0,X587&VLOOKUP(AA584,Inputs,8,FALSE),VLOOKUP(AA584,Inputs,8,FALSE)),\"\")","v":"  "},null,null,{"$f":"IF(MONTH(AA584)=A602,IF(AA584>0,VLOOKUP(AA584,Inputs,9,FALSE),\"\"),0)","v":0},{"$f":"IF(MONTH(AG584)=A602,UPPER(VLOOKUP(AG584,Inputs,7,FALSE))&\"  \",\"\")","v":"  "},null,{"$f":"IF(MONTH(AG584)=A602,IF(LEN(AD587)>0,AD587&VLOOKUP(AG584,Inputs,8,FALSE),VLOOKUP(AG584,Inputs,8,FALSE)),\"\")","v":"  "},null,{"$f":"IF(MONTH(AG584)=A602,IF(AG584>0,VLOOKUP(AG584,Inputs,9,FALSE),\"\"),0)","v":0},{"$f":"IF(MONTH(AL584)=A602,UPPER(VLOOKUP(AL584,Inputs,7,FALSE))&\"  \",\"\")","v":""},null,{"$f":"IF(MONTH(AL584)=A602,IF(LEN(AI587)>0,AI587&VLOOKUP(AL584,Inputs,8,FALSE),VLOOKUP(AL584,Inputs,8,FALSE)),\"\")","v":""},null,{"$f":"IF(MONTH(AL584)=A602,IF(AL584>0,VLOOKUP(AL584,Inputs,9,FALSE),\"\"),0)","v":0},null,null,{"$f":"IF($A587=AP$5,$G587,0)+IF($H587=AP$5,$L587,0)+IF($M587=AP$5,$Q587,0)+IF($R587=AP$5,$W587,0)+IF($X587=AP$5,AC587,0)+IF($AD587=AP$5,AH587,0)+IF(AI587=AP$5,AM587,0)","v":0},0,0,0,0,0,0,0,0,0,0,0,0,0]
[{"$f":"UPPER(VLOOKUP(F584,Inputs,10,FALSE))&\"  \"","v":"  "},null,null,null,{"$f":"IF(LEN(A588)>2,A588&VLOOKUP(F584,Inputs,11,FALSE),VLOOKUP(F584,Inputs,11,FALSE))","v":0},null,{"$f":"IF(F584>0,VLOOKUP(F584,Inputs,12,FALSE),\"\")","v":0},{"$f":"UPPER(VLOOKUP(K584,Inputs,10,FALSE))&\"  \"","v":"  "},null,{"$f":"IF(LEN(H588)>2,H588&VLOOKUP(K584,Inputs,11,FALSE),VLOOKUP(K584,Inputs,11,FALSE))","v":0},null,{"$f":"IF(K584>0,VLOOKUP(K584,Inputs,12,FALSE),\"\")","v":0},{"$f":"UPPER(VLOOKUP(P584,Inputs,10,FALSE))&\"  \"","v":"  "},null,{"$f":"IF(LEN(M588)>2,M588&VLOOKUP(P584,Inputs,11,FALSE),VLOOKUP(P584,Inputs,11,FALSE))","v":0},null,{"$f":"IF(P584>0,VLOOKUP(P584,Inputs,12,FALSE),\"\")","v":0},{"$f":"IF(MONTH(V584)=A602,UPPER(VLOOKUP(V584,Inputs,10,FALSE))&\"  \",\"\")","v":"  "},null,{"$f":"IF(MONTH(V584)=A602,IF(LEN(R588)>0,R588&VLOOKUP(V584,Inputs,11,FALSE),VLOOKUP(V584,Inputs,11,FALSE)),\"\")","v":"  "},null,null,{"$f":"IF(MONTH(V584)=A602,IF(V584>0,VLOOKUP(V584,Inputs,12,FALSE),\"\"),0)","v":0},{"$f":"IF(MONTH(AA584)=A602,UPPER(VLOOKUP(AA584,Inputs,10,FALSE))&\"  \",\"\")","v":"  "},null,{"$f":"IF(MONTH(AA584)=A602,IF(LEN(X588)>0,X588&VLOOKUP(AA584,Inputs,11,FALSE),VLOOKUP(AA584,Inputs,11,FALSE)),\"\")","v":"  "},null,null,{"$f":"IF(MONTH(AA584)=A602,IF(AA584>0,VLOOKUP(AA584,Inputs,12,FALSE),\"\"),0)","v":0},{"$f":"IF(MONTH(AG584)=A602,UPPER(VLOOKUP(AG584,Inputs,10,FALSE))&\"  \",\"\")","v":"  "},null,{"$f":"IF(MONTH(AG584)=A602,IF(LEN(AD588)>0,AD588&VLOOKUP(AG584,Inputs,11,FALSE),VLOOKUP(AG584,Inputs,11,FALSE)),\"\")","v":"  "},null,{"$f":"IF(MONTH(AG584)=A602,IF(AG584>0,VLOOKUP(AG584,Inputs,12,FALSE),\"\"),0)","v":0},{"$f":"IF(MONTH(AL584)=A602,UPPER(VLOOKUP(AL584,Inputs,10,FALSE))&\"  \",\"\")","v":""},null,{"$f":"IF(MONTH(AL584)=A602,IF(LEN(AI588)>0,AI588&VLOOKUP(AL584,Inputs,11,FALSE),VLOOKUP(AL584,Inputs,11,FALSE)),\"\")","v":""},null,{"$f":"IF(MONTH(AL584)=A602,IF(AL584>0,VLOOKUP(AL584,Inputs,12,FALSE),\"\"),0)","v":0},null,null,{"$f":"IF($A588=AP$5,$G588,0)+IF($H588=AP$5,$L588,0)+IF($M588=AP$5,$Q588,0)+IF($R588=AP$5,$W588,0)+IF($X588=AP$5,AC588,0)+IF($AD588=AP$5,AH588,0)+IF(AI588=AP$5,AM588,0)","v":0},0,0,0,0,0,0,0,0,0,0,0,0,0]
[{"$f":"UPPER(VLOOKUP(F584,Inputs,13,FALSE))&\"  \"","v":"  "},null,null,null,{"$f":"IF(LEN(A589)>2,A589&VLOOKUP(F584,Inputs,14,FALSE),VLOOKUP(F584,Inputs,14,FALSE))","v":0},null,{"$f":"IF(F584>0,VLOOKUP(F584,Inputs,15,FALSE),\"\")","v":0},{"$f":"UPPER(VLOOKUP(K584,Inputs,13,FALSE))&\"  \"","v":"  "},null,{"$f":"IF(LEN(H589)>2,H589&VLOOKUP(K584,Inputs,14,FALSE),VLOOKUP(K584,Inputs,14,FALSE))","v":0},null,{"$f":"IF(K584>0,VLOOKUP(K584,Inputs,15,FALSE),\"\")","v":0},{"$f":"UPPER(VLOOKUP(P584,Inputs,13,FALSE))&\"  \"","v":"  "},null,{"$f":"IF(LEN(M589)>2,M589&VLOOKUP(P584,Inputs,14,FALSE),VLOOKUP(P584,Inputs,14,FALSE))","v":0},null,{"$f":"IF(P584>0,VLOOKUP(P584,Inputs,15,FALSE),\"\")","v":0},{"$f":"IF(MONTH(V584)=A602,UPPER(VLOOKUP(V584,Inputs,13,FALSE))&\"  \",\"\")","v":"  "},null,{"$f":"IF(MONTH(V584)=A602,IF(LEN(R589)>0,R589&VLOOKUP(V584,Inputs,14,FALSE),VLOOKUP(V584,Inputs,14,FALSE)),\"\")","v":"  "},null,null,{"$f":"IF(MONTH(V584)=A602,IF(V584>0,VLOOKUP(V584,Inputs,15,FALSE),\"\"),0)","v":0},{"$f":"IF(MONTH(AA584)=A602,UPPER(VLOOKUP(AA584,Inputs,13,FALSE))&\"  \",\"\")","v":"  "},null,{"$f":"IF(MONTH(AA584)=A602,IF(LEN(X589)>0,X589&VLOOKUP(AA584,Inputs,14,FALSE),VLOOKUP(AA584,Inputs,14,FALSE)),\"\")","v":"  "},null,null,{"$f":"IF(MONTH(AA584)=A602,IF(AA584>0,VLOOKUP(AA584,Inputs,15,FALSE),\"\"),0)","v":0},{"$f":"IF(MONTH(AG584)=A602,UPPER(VLOOKUP(AG584,Inputs,13,FALSE))&\"  \",\"\")","v":"  "},null,{"$f":"IF(MONTH(AG584)=A602,IF(LEN(AD589)>0,AD589&VLOOKUP(AG584,Inputs,14,FALSE),VLOOKUP(AG584,Inputs,14,FALSE)),\"\")","v":"  "},null,{"$f":"IF(MONTH(AG584)=A602,IF(AG584>0,VLOOKUP(AG584,Inputs,15,FALSE),\"\"),0)","v":0},{"$f":"IF(MONTH(AL584)=A602,UPPER(VLOOKUP(AL584,Inputs,13,FALSE))&\"  \",\"\")","v":""},null,{"$f":"IF(MONTH(AL584)=A602,IF(LEN(AI589)>0,AI589&VLOOKUP(AL584,Inputs,14,FALSE),VLOOKUP(AL584,Inputs,14,FALSE)),\"\")","v":""},null,{"$f":"IF(MONTH(AL584)=A602,IF(AL584>0,VLOOKUP(AL584,Inputs,15,FALSE),\"\"),0)","v":0},null,null,{"$f":"IF($A589=AP$5,$G589,0)+IF($H589=AP$5,$L589,0)+IF($M589=AP$5,$Q589,0)+IF($R589=AP$5,$W589,0)+IF($X589=AP$5,AC589,0)+IF($AD589=AP$5,AH589,0)+IF(AI589=AP$5,AM589,0)","v":0},0,0,0,0,0,0,0,0,0,0,0,0,0]
[null,null,null,null,null,{"$f":"IF(F584>0,IF(VLOOKUP(F584,Inputs,3,FALSE)=\"T\",\"Telemarketing\",0),\"\")","v":0},null,null,null,null,{"$f":"IF(VLOOKUP(K584-1,Inputs,3,FALSE)=\"T\",0,IF(VLOOKUP(K584,Inputs,3,FALSE)=\"T\",\"Telemarketing\",0))","v":0},null,null,null,null,{"$f":"IF(VLOOKUP(P584-1,Inputs,3,FALSE)=\"T\",0,IF(VLOOKUP(P584,Inputs,3,FALSE)=\"T\",\"Telemarketing\",0))","v":0},null,null,null,null,null,{"$f":"IF(VLOOKUP(V584-1,Inputs,3,FALSE)=\"T\",0,IF(VLOOKUP(V584,Inputs,3,FALSE)=\"T\",\"Telemarketing\",0))","v":0},null,null,null,null,{"$f":"IF(VLOOKUP(AA584-1,Inputs,3,FALSE)=\"T\",0,IF(VLOOKUP(AA584,Inputs,3,FALSE)=\"T\",\"Telemarketing\",0))","v":0},null,null,null,null,null,{"$f":"IF(VLOOKUP(AG584-1,Inputs,3,FALSE)=\"T\",0,IF(VLOOKUP(AG584,Inputs,3,FALSE)=\"T\",\"Telemarketing\",0))","v":0},null,null,null,null,{"$f":"IF(VLOOKUP(AL584-1,Inputs,3,FALSE)=\"T\",0,IF(VLOOKUP(AL584,Inputs,3,FALSE)=\"T\",\"Telemarketing\",0))","v":{"$error":"#N/A"}}]
[null,null,null,null,null,{"$f":"IF(AL584>0,IF(MONTH(1+AL584)=$A602,1+AL584,0),0)","v":"00:00:00"},null,null,null,null,{"$f":"IF(F591>0,IF(MONTH(1+F591)=$A602,1+F591,0),0)","v":"00:00:00"},null,null,null,null,null,null,null,null,null,null,null,null,null,null,null,null,null,null,null,null,null,null,null,null,null,null,{"$f":"IF(AG591>0,IF(MONTH(1+AG591)=$A602,1+AG591,0),0)","v":"00:00:00"}]
[null,null,null,null,{"$f":"DAY(F591)","v":0},{"$f":"VLOOKUP(F591,Holidays,2)","v":0},null,null,null,{"$f":"DAY(K591)","v":0},{"$f":"VLOOKUP(K591,Holidays,2)","v":0},null,null,null,{"$f":"DAY(P591)","v":0},{"$f":"VLOOKUP(P591,Holidays,2)","v":0},null,null,null,{"$f":"DAY(V591)","v":0},{"$f":"VLOOKUP(V591,Holidays,2)","v":0},null,null,null,null,{"$f":"DAY(AA591)","v":0},{"$f":"VLOOKUP(AA591,Holidays,2)","v":0},null,null,null,null,{"$f":"DAY(AG591)","v":0},{"$f":"VLOOKUP(AG591,Holidays,2)","v":0},null,null,null,{"$f":"DAY(AL591)","v":0},{"$f":"VLOOKUP(AL591,Holidays,2)","v":0}]
[{"$f":"IF(MONTH(F$591)=A$602,UPPER(VLOOKUP(F$591,Inputs,4,FALSE))&\"  \",\"\")","v":""},null,null,null,{"$f":"IF(MONTH(F591)=A602,IF(LEN(A593)>0,A593&VLOOKUP(F591,Inputs,5,FALSE),VLOOKUP(F591,Inputs,5,FALSE)),\"\")","v":""},null,{"$f":"IF(MONTH(F591)=A602,IF(F591>0,VLOOKUP(F591,Inputs,6,FALSE),\"\"),0)","v":0},{"$f":"IF(MONTH(K591)=A602,UPPER(VLOOKUP(K591,Inputs,4,FALSE))&\"  \",\"\")","v":""},null,{"$f":"IF(MONTH(K591)=A602,IF(LEN(H593)>2,H593&VLOOKUP(K591,Inputs,5,FALSE),VLOOKUP(K591,Inputs,5,FALSE)),\"\")","v":""},null,{"$f":"IF(MONTH(K591)=A602,IF(K591>0,VLOOKUP(K591,Inputs,6,FALSE),\"\"),0)","v":0},{"$f":"IF(MONTH(P591)=A602,UPPER(VLOOKUP(P591,Inputs,4,FALSE))&\"  \",\"\")","v":""},null,null,null,{"$f":"IF(MONTH(P591)=A602,IF(P591>0,VLOOKUP(P591,Inputs,6,FALSE),\"\"),0)","v":0},null,null,null,null,null,null,null,null,null,null,null,null,null,null,null,null,null,null,null,null,null,null,null,null,{"$f":"IF($A593=AP$5,$G593,0)+IF($H593=AP$5,$L593,0)+IF($M593=AP$5,$Q593,0)+IF($R593=AP$5,$W593,0)+IF($X593=AP$5,AC593,0)+IF($AD593=AP$5,AH593,0)+IF(AI593=AP$5,AM593,0)","v":0},{"$f":"IF($A593=AQ$5,$G593,0)+IF($H593=AQ$5,$L593,0)+IF($M593=AQ$5,$Q593,0)+IF($R593=AQ$5,$W593,0)+IF($X593=AQ$5,$AC593,0)+IF($AD593=AQ$5,$AH593,0)+IF($AI593=AQ$5,$AM593,0)","v":0},0,0,0,0,0,0,0,0,0,0,0,0]
[{"$f":"IF(MONTH(F$591)=A$602,UPPER(VLOOKUP(F$591,Inputs,4,FALSE))&\"  \",\"\")","v":""},null,null,null,{"$f":"IF(MONTH(F591)=A602,IF(LEN(A594)>0,A594&VLOOKUP(F591,Inputs,8,FALSE),VLOOKUP(F591,Inputs,8,FALSE)),\"\")","v":""},null,{"$f":"IF(MONTH(F591)=A602,IF(F591>0,VLOOKUP(F591,Inputs,9,FALSE),\"\"),0)","v":0},{"$f":"IF(MONTH(K591)=A602,UPPER(VLOOKUP(K591,Inputs,7,FALSE))&\"  \",\"\")","v":""},null,{"$f":"IF(MONTH(K591)=A602,IF(LEN(H594)>2,H594&VLOOKUP(K591,Inputs,8,FALSE),VLOOKUP(K591,Inputs,8,FALSE)),\"\")","v":""},null,{"$f":"IF(MONTH(K591)=A602,IF(K591>0,VLOOKUP(K591,Inputs,9,FALSE),\"\"),0)","v":0},{"$f":"IF(MONTH(P591)=A602,UPPER(VLOOKUP(P591,Inputs,7,FALSE))&\"  \",\"\")","v":""},null,null,null,{"$f":"IF(MONTH(P591)=A602,IF(P591>0,VLOOKUP(P591,Inputs,9,FALSE),\"\"),0)","v":0},null,null,null,null,null,null,null,null,null,null,null,null,null,null,null,null,null,null,null,null,null,null,null,null,{"$f":"IF($A594=AP$5,$G594,0)+IF($H594=AP$5,$L594,0)+IF($M594=AP$5,$Q594,0)+IF($R594=AP$5,$W594,0)+IF($X594=AP$5,AC594,0)+IF($AD594=AP$5,AH594,0)+IF(AI594=AP$5,AM594,0)","v":0},0,0,0,0,0,0,0,0,0,0,0,0,0]
[{"$f":"IF(MONTH(F$591)=A$602,UPPER(VLOOKUP(F$591,Inputs,4,FALSE))&\"  \",\"\")","v":""},null,null,null,{"$f":"IF(MONTH(F591)=A602,IF(LEN(A595)>0,A595&VLOOKUP(F591,Inputs,11,FALSE),VLOOKUP(F591,Inputs,11,FALSE)),\"\")","v":""},null,{"$f":"IF(MONTH(F591)=A602,IF(F591>0,VLOOKUP(F591,Inputs,12,FALSE),\"\"),0)","v":0},{"$f":"IF(MONTH(K591)=A602,UPPER(VLOOKUP(K591,Inputs,10,FALSE))&\"  \",\"\")","v":""},null,{"$f":"IF(MONTH(K591)=A602,IF(LEN(H595)>2,H595&VLOOKUP(K591,Inputs,11,FALSE),VLOOKUP(K591,Inputs,11,FALSE)),\"\")","v":""},null,{"$f":"IF(MONTH(K591)=A602,IF(K591>0,VLOOKUP(K591,Inputs,12,FALSE),\"\"),0)","v":0},{"$f":"IF(MONTH(P591)=A602,UPPER(VLOOKUP(P591,Inputs,10,FALSE))&\"  \",\"\")","v":""},null,null,null,{"$f":"IF(MONTH(P591)=A602,IF(P591>0,VLOOKUP(P591,Inputs,12,FALSE),\"\"),0)","v":0},null,null,null,null,null,null,null,null,null,null,null,null,null,null,null,null,null,null,null,null,null,null,null,null,{"$f":"IF($A595=AP$5,$G595,0)+IF($H595=AP$5,$L595,0)+IF($M595=AP$5,$Q595,0)+IF($R595=AP$5,$W595,0)+IF($X595=AP$5,AC595,0)+IF($AD595=AP$5,AH595,0)+IF(AI595=AP$5,AM595,0)","v":0},0,0,0,0,0,0,0,0,0,0,0,0,0]
[{"$f":"IF(MONTH(F$591)=A$602,UPPER(VLOOKUP(F$591,Inputs,4,FALSE))&\"  \",\"\")","v":""},null,null,null,{"$f":"IF(MONTH(F591)=A602,IF(LEN(A596)>0,A596&VLOOKUP(F591,Inputs,14,FALSE),VLOOKUP(F591,Inputs,14,FALSE)),\"\")","v":""},null,{"$f":"IF(MONTH(F591)=A602,IF(F591>0,VLOOKUP(F591,Inputs,15,FALSE),\"\"),0)","v":0},{"$f":"IF(MONTH(K591)=A602,UPPER(VLOOKUP(K591,Inputs,13,FALSE))&\"  \",\"\")","v":""},null,{"$f":"IF(MONTH(K591)=A602,IF(LEN(H596)>2,H596&VLOOKUP(K591,Inputs,14,FALSE),VLOOKUP(K591,Inputs,14,FALSE)),\"\")","v":""},null,{"$f":"IF(MONTH(K591)=A602,IF(K591>0,VLOOKUP(K591,Inputs,15,FALSE),\"\"),0)","v":0},{"$f":"IF(MONTH(P591)=A602,UPPER(VLOOKUP(P591,Inputs,13,FALSE))&\"  \",\"\")","v":""},null,null,null,{"$f":"IF(MONTH(P591)=A602,IF(P591>0,VLOOKUP(P591,Inputs,15,FALSE),\"\"),0)","v":0},null,null,null,null,null,null,null,null,null,null,null,null,null,null,null,null,null,null,null,null,null,null,null,null,{"$f":"IF($A596=AP$5,$G596,0)+IF($H596=AP$5,$L596,0)+IF($M596=AP$5,$Q596,0)+IF($R596=AP$5,$W596,0)+IF($X596=AP$5,AC596,0)+IF($AD596=AP$5,AH596,0)+IF(AI596=AP$5,AM596,0)","v":0},0,0,0,0,0,0,0,0,0,0,0,0,0]
[null,null,null,null,null,{"$f":"IF(F591>0,IF(VLOOKUP(F591,Inputs,3,FALSE)=\"T\",\"Telemarketing\",0),\"\")","v":""},null,null,null,null,{"$f":"IF(VLOOKUP(K591-1,Inputs,3,FALSE)=\"T\",0,IF(VLOOKUP(K591,Inputs,3,FALSE)=\"T\",\"Telemarketing\",0))","v":{"$error":"#N/A"}},null,null,null,null,null,null,null,null,null,null,null,null,null,null,null,null,null,null,null,null,null,null,null,null,null,null,null,null,null,null,{"$f":"SUM(AP557:AP596)","v":0},0,0,0,0,0,0,0,{"$f":"SUM(AX557:AX596)","v":0},0,0,0,0,0]
[]
[null,null,null,null,{"$f":"\"CODE KEY:  \"&'Company Setup'!L$22&'Company Setup'!L$23&'Company Setup'!L$24&'Company Setup'!L$25&'Company Setup'!L$26&'Company Setup'!L$27&'Company Setup'!L$28&'Company Setup'!L$29&'Company Setup'!L$30&'Company Setup'!L$31&'Company Setup'!L$32&'Company Setup'!L$33&'Company Setup'!L$33&'Company Setup'!L$34&'Company Setup'!L$35","v":"CODE KEY:  B=Broadcast, L=Letter, P=Postcard, F=Flyer, H=Hanger, I=Newspaper Ads, N=Newsletter, E=E-Mail, A=Banner Ads, Y=Yellow Pages, "}]
[null,null,null,null,null,null,null,null,null,null,null,null,null,null,null,null,null,null,null,null,null,null,null,null,null,{"$f":"'Company Setup'!D$30","v":"Broadcast"},{"$f":"AP597","v":0},null,null,null,null,null,null,{"$f":"'Company Setup'!D$29","v":"E-Mail"},null,null,{"$f":"AW597","v":0}]
[null,null,null,null,null,null,"Revenue Budget",null,null,{"$f":"VLOOKUP(A602,ClientTable,2,FALSE)","v":86677},null,null,null,null,null,{"$f":"'Company Setup'!$E$5","v":"Reviews"},{"$f":"VLOOKUP(A602,ClientTable,3)","v":0},null,null,null,null,null,null,null,null,{"$f":"'Company Setup'!D$23","v":"Letter"},{"$f":"AQ597","v":0},null,null,null,null,null,null,{"$f":"'Company Setup'!D30","v":"Broadcast"},null,null,{"$f":"AX597","v":0}]
[{"$f":"IF(A547=12,1,A547+1)","v":11},null,null,null,null,null,"Monthly Marketing Budget",null,null,{"$f":"VLOOKUP(A602,ClientTable,7,FALSE)*VLOOKUP(A602,ClientTable,2,FALSE)","v":4333.8500000000004},null,null,null,null,null,{"$f":"'Company Setup'!$F$5","v":"SEO"},{"$f":"VLOOKUP(A602,ClientTable,4)","v":0},null,null,null,null,null,null,null,null,{"$f":"'Company Setup'!D$24","v":"Postcard"},{"$f":"AR597","v":0},null,null,null,null,null,null,{"$f":"'Company Setup'!D$31","v":"Banner Ads"},null,null,{"$f":"AY597","v":0}]
[{"$f":"VLOOKUP(A602,ClientTable,9)","v":11},null,null,null,null,null,"Month's End Marketing Cost",null,null,{"$f":"SUM(AK600:AK605)+SUM(AA600:AA606)+SUM(Q600:Q606)","v":0},null,null,null,null,null,{"$f":"'Company Setup'!$H$5","v":"Community Events"},{"$f":"VLOOKUP(A602,ClientTable,5)","v":0},null,null,null,null,null,null,null,null,{"$f":"'Company Setup'!D$25","v":"Flyer"},{"$f":"AS597","v":0},null,null,null,null,null,null,{"$f":"'Company Setup'!D$32","v":"Yellow Pages"},null,null,{"$f":"AZ597","v":0}]
[null,null,null,null,null,null,"Variance",null,null,{"$f":"J603-J602","v":-4333.8500000000004},null,null,null,null,null,{"$f":"'Company Setup'!G5","v":"Shows & Contests"},{"$f":"VLOOKUP(A602,ClientTable,6)","v":0},null,null,null,null,null,null,null,null,{"$f":"'Company Setup'!D$26","v":"Hanger"},{"$f":"AT597","v":0},null,null,null,null,null,null,{"$f":"'Company Setup'!D$33","v":0},null,null,{"$f":"BA597","v":0}]
[null,null,null,null,null,null,null,null,null,null,null,null,null,null,null,null,null,null,null,null,null,null,null,null,null,{"$f":"'Company Setup'!D$27","v":"Newspaper Ads"},{"$f":"AU597","v":0},null,null,null,null,null,null,{"$f":"'Company Setup'!D$34","v":0},null,null,{"$f":"BB597","v":0}]
[null,null,null,{"$f":"MONTH(StartMonth)","v":{"$error":"#VALUE!"}},"©",{"$f":"+F56","v":"Bedrock Markets, Inc. 2000 - 2100"},null,null,null,null,null,null,null,null,null,null,null,null,null,null,null,null,null,null,null,{"$f":"'Company Setup'!D$28","v":"Newsletter"},{"$f":"AV597","v":0},null,null,null,null,null,null,{"$f":"'Company Setup'!D$35","v":0},null,null,{"$f":"BC597","v":0}]
[]
[null,null,null,null,{"$f":"IF(E553=12,1,E553+1)","v":12},{"$f":"VLOOKUP(E608,Monthlookup2,2)&\" \"&YEAR(Calendar!S345)","v":"December 2018"},null,null,null,null,null,null,null,null,null,{"$f":"P$3","v":"   ABC Heating and Air"},null,null,null,null,null,null,null,null,null,null,null,null,null,null,null,null,null,null,null,null,null,null,null,null,"Importante!  Add 2 spaces after code - es muy neccesita"]
[]
[null,null,null,null,"Sunday",null,null,null,null,"Monday",null,null,null,null,"Tuesday",null,null,null,null,"Wednesday",null,null,null,null,null,"Thursday",null,null,null,null,null,"Friday",null,null,null,null,"Saturday"]
[null,null,null,null,null,{"$f":"IF(VLOOKUP(DATE(RIGHT($F608,4),$A657,1),Calendar,3)=1,DATE(RIGHT($F608,4),$A657,1),0)","v":"00:00:00"},null,null,null,null,{"$f":"IF(E612>0,F611+1,IF(VLOOKUP(DATE(RIGHT($F608,4),$A657,1),Calendar,3)=2,DATE(RIGHT($F608,4),$A657,1),0))","v":"00:00:00"},null,null,null,null,{"$f":"IF(J612>0,K611+1,IF(VLOOKUP(DATE(RIGHT($F608,4),$A657,1),Calendar,3)=3,DATE(RIGHT($F608,4),$A657,1),0))","v":"00:00:00"},null,null,null,null,null,{"$f":"IF(O612>0,P611+1,IF(VLOOKUP(DATE(RIGHT($F608,4),$A657,1),Calendar,3)=4,DATE(RIGHT($F608,4),$A657,1),0))","v":"00:00:00"},null,null,null,null,{"$f":"IF(T612>0,V611+1,IF(VLOOKUP(DATE(RIGHT($F608,4),$A657,1),Calendar,3)=5,DATE(RIGHT($F608,4),$A657,1),0))","v":"00:00:00"},null,null,null,null,null,{"$f":"IF(Z612>0,AA611+1,IF(VLOOKUP(DATE(RIGHT($F608,4),$A657,1),Calendar,3)=6,DATE(RIGHT($F608,4),$A657,1),0))","v":"00:00:00"},null,null,null,null,{"$f":"IF(AF612>0,AG611+1,IF(VLOOKUP(DATE(RIGHT($F608,4),$A657,1),Calendar,3)=7,DATE(RIGHT($F608,4),$A657,1),0))","v":"2018-12-01"}]
[null,null,null,null,{"$f":"DAY(F611)","v":0},{"$f":"IF(F611>0,VLOOKUP(F611,Holidays,2),0)","v":0},null,null,null,{"$f":"DAY(K611)","v":0},{"$f":"IF(K611>0,VLOOKUP(K611,Holidays,2),0)","v":0},null,null,null,{"$f":"DAY(P611)","v":0},{"$f":"IF(P611>0,VLOOKUP(P611,Holidays,2),0)","v":0},null,null,null,{"$f":"DAY(V611)","v":0},{"$f":"IF(V611>0,VLOOKUP(V611,Holidays,2),0)","v":0},null,null,null,null,{"$f":"DAY(AA611)","v":0},{"$f":"IF(AA611>0,VLOOKUP(AA611,Holidays,2),0)","v":0},null,null,null,null,{"$f":"DAY(AG611)","v":0},{"$f":"IF(AG611>0,VLOOKUP(AG611,Holidays,2),0)","v":0},null,null,null,{"$f":"DAY(AL611)","v":1},{"$f":"IF(AL611>0,VLOOKUP(AL611,Holidays,2),0)","v":0}]
[{"$f":"IF(F611>1,UPPER(VLOOKUP(F611,Inputs,4,FALSE))&\"  \",0)","v":0},null,null,null,{"$f":"IF(F611>0,IF(LEN(A613)>2,A613&VLOOKUP(F611,Inputs,5,FALSE),VLOOKUP(F611,Inputs,5,FALSE)),\"\")","v":""},null,{"$f":"IF(F611>0,VLOOKUP(F611,Inputs,6,FALSE),\"\")","v":""},{"$f":"IF(K611>1,UPPER(VLOOKUP(K611,Inputs,4,FALSE))&\"  \",0)","v":0},null,{"$f":"IF(K611>0,IF(LEN(H613)>2,H613&VLOOKUP(K611,Inputs,5,FALSE),VLOOKUP(K611,Inputs,5,FALSE)),\"\")","v":""},null,{"$f":"IF(K611>0,VLOOKUP(K611,Inputs,6,FALSE),\"\")","v":""},{"$f":"IF(P611>1,UPPER(VLOOKUP(P611,Inputs,4,FALSE))&\"  \",0)","v":0},null,{"$f":"IF(P611>0,IF(LEN(M613)>2,M613&VLOOKUP(P611,Inputs,5,FALSE),VLOOKUP(P611,Inputs,5,FALSE)),\"\")","v":""},null,{"$f":"IF(P611>0,VLOOKUP(P611,Inputs,6,FALSE),\"\")","v":""},{"$f":"IF(V611>1,UPPER(VLOOKUP(V611,Inputs,4,FALSE))&\"  \",0)","v":0},null,{"$f":"IF(V611>0,IF(LEN(R613)>2,R613&VLOOKUP(V611,Inputs,5,FALSE),VLOOKUP(V611,Inputs,5,FALSE)),\"\")","v":""},null,null,{"$f":"IF(V611>0,VLOOKUP(V611,Inputs,6,FALSE),\"\")","v":""},{"$f":"IF(AA611>1,UPPER(VLOOKUP(AA611,Inputs,4,FALSE))&\"  \",0)","v":0},null,{"$f":"IF(AA611>0,IF(LEN(X613)>2,X613&VLOOKUP(AA611,Inputs,5,FALSE),VLOOKUP(AA611,Inputs,5,FALSE)),\"\")","v":""},null,null,{"$f":"IF(AA611>0,VLOOKUP(AA611,Inputs,6,FALSE),\"\")","v":""},{"$f":"IF(AG611>1,UPPER(VLOOKUP(AG611,Inputs,4,FALSE))&\"  \",0)","v":0},null,{"$f":"IF(AG611>0,IF(LEN(AD613)>2,AD613&VLOOKUP(AG611,Inputs,5,FALSE),VLOOKUP(AG611,Inputs,5,FALSE)),\"\")","v":""},null,{"$f":"IF(AG611>0,VLOOKUP(AG611,Inputs,6,FALSE),\"\")","v":""},{"$f":"UPPER(VLOOKUP(AL611,Inputs,4,FALSE))&\"  \"","v":"  "},null,{"$f":"IF(LEN(AI613)>2,AI613&VLOOKUP(AL611,Inputs,5,FALSE),VLOOKUP(AL611,Inputs,5,FALSE))","v":0},null,{"$f":"VLOOKUP(AL611,Inputs,6,FALSE)","v":0},null,null,{"$f":"IF($A613=AP$5,$G613,0)+IF($H613=AP$5,$L613,0)+IF($M613=AP$5,$Q613,0)+IF($R613=AP$5,$W613,0)+IF($X613=AP$5,AC613,0)+IF($AD613=AP$5,AH613,0)+IF(AI613=AP$5,AM613,0)","v":0},{"$f":"IF($A613=AQ$5,$G613,0)+IF($H613=AQ$5,$L613,0)+IF($M613=AQ$5,$Q613,0)+IF($R613=AQ$5,$W613,0)+IF($X613=AQ$5,$AC613,0)+IF($AD613=AQ$5,$AH613,0)+IF($AI613=AQ$5,$AM613,0)","v":0},0,0,0,0,0,0,0,0,0,0,0,0]
[{"$f":"IF(F611>1,UPPER(VLOOKUP(F611,Inputs,7,FALSE))&\"  \",0)","v":0},null,null,null,{"$f":"IF(F611>0,IF(LEN(A614)>2,A614&VLOOKUP(F611,Inputs,8,FALSE),VLOOKUP(F611,Inputs,8,FALSE)),\"\")","v":""},null,{"$f":"IF(F611>0,VLOOKUP(F611,Inputs,9,FALSE),\"\")","v":""},{"$f":"IF(K611>1,UPPER(VLOOKUP(K611,Inputs,7,FALSE))&\"  \",0)","v":0},null,{"$f":"IF(K611>0,IF(LEN(H614)>2,H614&VLOOKUP(K611,Inputs,8,FALSE),VLOOKUP(K611,Inputs,8,FALSE)),\"\")","v":""},null,{"$f":"IF(K611>0,VLOOKUP(K611,Inputs,9,FALSE),\"\")","v":""},{"$f":"IF(P611>1,UPPER(VLOOKUP(P611,Inputs,7,FALSE))&\"  \",0)","v":0},null,{"$f":"IF(P611>0,IF(LEN(M614)>2,M614&VLOOKUP(P611,Inputs,8,FALSE),VLOOKUP(P611,Inputs,8,FALSE)),\"\")","v":""},null,{"$f":"IF(P611>0,VLOOKUP(P611,Inputs,9,FALSE),\"\")","v":""},{"$f":"IF(V611>1,UPPER(VLOOKUP(V611,Inputs,7,FALSE))&\"  \",0)","v":0},null,{"$f":"IF(V611>0,IF(LEN(R614)>2,R614&VLOOKUP(V611,Inputs,8,FALSE),VLOOKUP(V611,Inputs,8,FALSE)),\"\")","v":""},null,null,{"$f":"IF(V611>0,VLOOKUP(V611,Inputs,9,FALSE),\"\")","v":""},{"$f":"IF(AA611>1,UPPER(VLOOKUP(AA611,Inputs,7,FALSE))&\"  \",0)","v":0},null,{"$f":"IF(AA611>0,IF(LEN(X614)>2,X614&VLOOKUP(AA611,Inputs,8,FALSE),VLOOKUP(AA611,Inputs,8,FALSE)),\"\")","v":""},null,null,{"$f":"IF(AA611>0,VLOOKUP(AA611,Inputs,9,FALSE),\"\")","v":""},{"$f":"IF(AG611>1,UPPER(VLOOKUP(AG611,Inputs,7,FALSE))&\"  \",0)","v":0},null,{"$f":"IF(AG611>0,IF(LEN(AD614)>2,AD614&VLOOKUP(AG611,Inputs,8,FALSE),VLOOKUP(AG611,Inputs,8,FALSE)),\"\")","v":""},null,{"$f":"IF(AG611>0,VLOOKUP(AG611,Inputs,9,FALSE),\"\")","v":""},{"$f":"UPPER(VLOOKUP(AL611,Inputs,7,FALSE))&\"  \"","v":"  "},null,{"$f":"IF(LEN(AI614)>2,AI614&VLOOKUP(AL611,Inputs,8,FALSE),VLOOKUP(AL611,Inputs,8,FALSE))","v":0},null,{"$f":"VLOOKUP(AL611,Inputs,9,FALSE)","v":0},null,null,{"$f":"IF($A614=AP$5,$G614,0)+IF($H614=AP$5,$L614,0)+IF($M614=AP$5,$Q614,0)+IF($R614=AP$5,$W614,0)+IF($X614=AP$5,AC614,0)+IF($AD614=AP$5,AH614,0)+IF(AI614=AP$5,AM614,0)","v":0},0,0,0,0,0,0,0,0,0,0,0,0,0,null,"530-345-3280"]
[{"$f":"IF(F611>1,UPPER(VLOOKUP(F611,Inputs,10,FALSE))&\"  \",0)","v":0},null,null,null,{"$f":"IF(F611>0,IF(LEN(A615)>2,A615&VLOOKUP(F611,Inputs,11,FALSE),VLOOKUP(F611,Inputs,11,FALSE)),\"\")","v":""},null,{"$f":"IF(F611>0,VLOOKUP(F611,Inputs,12,FALSE),\"\")","v":""},{"$f":"IF(K611>1,UPPER(VLOOKUP(K611,Inputs,10,FALSE))&\"  \",0)","v":0},null,{"$f":"IF(K611>0,IF(LEN(H615)>0,H615&VLOOKUP(K611,Inputs,11,FALSE),VLOOKUP(K611,Inputs,11,FALSE)),\"\")","v":""},null,{"$f":"IF(K611>0,VLOOKUP(K611,Inputs,12,FALSE),\"\")","v":""},{"$f":"IF(P611>1,UPPER(VLOOKUP(P611,Inputs,10,FALSE))&\"  \",0)","v":0},null,{"$f":"IF(P611>0,IF(LEN(M615)>0,M615&VLOOKUP(P611,Inputs,11,FALSE),VLOOKUP(P611,Inputs,11,FALSE)),\"\")","v":""},null,{"$f":"IF(P611>0,VLOOKUP(P611,Inputs,12,FALSE),\"\")","v":""},{"$f":"IF(V611>1,UPPER(VLOOKUP(V611,Inputs,10,FALSE))&\"  \",0)","v":0},null,{"$f":"IF(V611>0,IF(LEN(R615)>0,R615&VLOOKUP(V611,Inputs,11,FALSE),VLOOKUP(V611,Inputs,11,FALSE)),\"\")","v":""},null,null,{"$f":"IF(V611>0,VLOOKUP(V611,Inputs,12,FALSE),\"\")","v":""},{"$f":"IF(AA611>1,UPPER(VLOOKUP(AA611,Inputs,10,FALSE))&\"  \",0)","v":0},null,{"$f":"IF(AA611>0,IF(LEN(X615)>0,X615&VLOOKUP(AA611,Inputs,11,FALSE),VLOOKUP(AA611,Inputs,11,FALSE)),\"\")","v":""},null,null,{"$f":"IF(AA611>0,VLOOKUP(AA611,Inputs,12,FALSE),\"\")","v":""},{"$f":"IF(AG611>1,UPPER(VLOOKUP(AG611,Inputs,10,FALSE))&\"  \",0)","v":0},null,{"$f":"IF(AG611>0,IF(LEN(AD615)>0,AD615&VLOOKUP(AG611,Inputs,11,FALSE),VLOOKUP(AG611,Inputs,11,FALSE)),\"\")","v":""},null,{"$f":"IF(AG611>0,VLOOKUP(AG611,Inputs,12,FALSE),\"\")","v":""},{"$f":"UPPER(VLOOKUP(AL611,Inputs,10,FALSE))&\"  \"","v":"  "},null,{"$f":"IF(LEN(AI615)>2,AI615&VLOOKUP(AL611,Inputs,11,FALSE),VLOOKUP(AL611,Inputs,11,FALSE))","v":0},null,{"$f":"VLOOKUP(AL611,Inputs,12,FALSE)","v":0},null,null,{"$f":"IF($A615=AP$5,$G615,0)+IF($H615=AP$5,$L615,0)+IF($M615=AP$5,$Q615,0)+IF($R615=AP$5,$W615,0)+IF($X615=AP$5,AC615,0)+IF($AD615=AP$5,AH615,0)+IF(AI615=AP$5,AM615,0)","v":0},0,0,0,0,0,0,0,0,0,0,0,0,0,null,"2540 Zanella Way, Suite 20"]
[{"$f":"IF(F611>1,UPPER(VLOOKUP(F611,Inputs,13,FALSE))&\"  \",0)","v":0},null,null,null,{"$f":"IF(F611>0,IF(LEN(A616)>2,A616&VLOOKUP(F611,Inputs,14,FALSE),VLOOKUP(F611,Inputs,14,FALSE)),\"\")","v":""},null,{"$f":"IF(F611>0,VLOOKUP(F611,Inputs,15,FALSE),\"\")","v":""},{"$f":"IF(K611>1,UPPER(VLOOKUP(K611,Inputs,13,FALSE))&\"  \",0)","v":0},null,{"$f":"IF(K611>0,IF(LEN(H616)>2,H616&VLOOKUP(K611,Inputs,14,FALSE),VLOOKUP(K611,Inputs,14,FALSE)),\"\")","v":""},null,{"$f":"IF(K611>0,VLOOKUP(K611,Inputs,15,FALSE),\"\")","v":""},{"$f":"IF(P611>1,UPPER(VLOOKUP(P611,Inputs,13,FALSE))&\"  \",0)","v":0},null,{"$f":"IF(P611>0,IF(LEN(M616)>2,M616&VLOOKUP(P611,Inputs,14,FALSE),VLOOKUP(P611,Inputs,14,FALSE)),\"\")","v":""},null,{"$f":"IF(P611>0,VLOOKUP(P611,Inputs,15,FALSE),\"\")","v":""},{"$f":"IF(V611>1,UPPER(VLOOKUP(V611,Inputs,13,FALSE))&\"  \",0)","v":0},null,{"$f":"IF(V611>0,IF(LEN(R616)>2,R616&VLOOKUP(V611,Inputs,14,FALSE),VLOOKUP(V611,Inputs,14,FALSE)),\"\")","v":""},null,null,{"$f":"IF(V611>0,VLOOKUP(V611,Inputs,15,FALSE),\"\")","v":""},{"$f":"IF(AA611>1,UPPER(VLOOKUP(AA611,Inputs,13,FALSE))&\"  \",0)","v":0},null,{"$f":"IF(AA611>0,IF(LEN(X616)>2,X616&VLOOKUP(AA611,Inputs,14,FALSE),VLOOKUP(AA611,Inputs,14,FALSE)),\"\")","v":""},null,null,{"$f":"IF(AA611>0,VLOOKUP(AA611,Inputs,15,FALSE),\"\")","v":""},{"$f":"IF(AG611>1,UPPER(VLOOKUP(AG611,Inputs,13,FALSE))&\"  \",0)","v":0},null,{"$f":"IF(AG611>0,IF(LEN(AD616)>2,AD616&VLOOKUP(AG611,Inputs,14,FALSE),VLOOKUP(AG611,Inputs,14,FALSE)),\"\")","v":""},null,{"$f":"IF(AG611>0,VLOOKUP(AG611,Inputs,15,FALSE),\"\")","v":""},{"$f":"UPPER(VLOOKUP(AL611,Inputs,13,FALSE))&\"  \"","v":"  "},null,{"$f":"IF(LEN(AI616)>2,AI616&VLOOKUP(AL611,Inputs,14,FALSE),VLOOKUP(AL611,Inputs,14,FALSE))","v":0},null,{"$f":"VLOOKUP(AL611,Inputs,15,FALSE)","v":0},null,null,{"$f":"IF($A616=AP$5,$G616,0)+IF($H616=AP$5,$L616,0)+IF($M616=AP$5,$Q616,0)+IF($R616=AP$5,$W616,0)+IF($X616=AP$5,AC616,0)+IF($AD616=AP$5,AH616,0)+IF(AI616=AP$5,AM616,0)","v":0},0,0,0,0,0,0,0,0,0,0,0,0,0,null,"    Chico, CA 95928"]
[null,null,null,null,null,{"$f":"IF(F611>0,IF(VLOOKUP(F611,Inputs,3,FALSE)=\"T\",\"Telemarketing\",0),\"\")","v":""},null,null,null,null,{"$f":"IF(F611>0,IF(VLOOKUP(F611,Inputs,3,FALSE)=\"T\",0,IF(VLOOKUP(K611,Inputs,3,FALSE)=\"T\",\"Telemarketing\",0)),IF(VLOOKUP(K611,Inputs,3,FALSE)=\"T\",\"Telemarketing\",0))","v":0},null,null,null,null,{"$f":"IF(K611>0,IF(VLOOKUP(K611,Inputs,3,FALSE)=\"T\",0,IF(VLOOKUP(P611,Inputs,3,FALSE)=\"T\",\"Telemarketing\",0)),IF(VLOOKUP(P611,Inputs,3,FALSE)=\"T\",\"Telemarketing\",0))","v":0},null,null,null,null,null,{"$f":"IF(P611>0,IF(VLOOKUP(P611,Inputs,3,FALSE)=\"T\",0,IF(VLOOKUP(V611,Inputs,3,FALSE)=\"T\",\"Telemarketing\",0)),IF(VLOOKUP(V611,Inputs,3,FALSE)=\"T\",\"Telemarketing\",0))","v":0},null,null,null,null,{"$f":"IF(V611>0,IF(VLOOKUP(V611,Inputs,3,FALSE)=\"T\",0,IF(VLOOKUP(AA611,Inputs,3,FALSE)=\"T\",\"Telemarketing\",0)),IF(VLOOKUP(AA611,Inputs,3,FALSE)=\"T\",\"Telemarketing\",0))","v":0},null,null,null,null,null,{"$f":"IF(AA611>0,IF(VLOOKUP(AA611,Inputs,3,FALSE)=\"T\",0,IF(VLOOKUP(AG611,Inputs,3,FALSE)=\"T\",\"Telemarketing\",0)),IF(VLOOKUP(AG611,Inputs,3,FALSE)=\"T\",\"Telemarketing\",0))","v":0},null,null,null,null,{"$f":"IF(AG611>0,IF(VLOOKUP(AG611,Inputs,3,FALSE)=\"T\",0,IF(VLOOKUP(AL611,Inputs,3,FALSE)=\"T\",\"Telemarketing\",0)),IF(VLOOKUP(AL611,Inputs,3,FALSE)=\"T\",\"Telemarketing\",0))","v":0}]
[null,null,null,null,null,{"$f":"1+AL611","v":"2018-12-02"},null,null,null,null,{"$f":"1+F618","v":"2018-12-03"},null,null,null,null,{"$f":"1+K618","v":"2018-12-04"},null,null,null,null,null,{"$f":"1+P618","v":"2018-12-05"},null,null,null,null,{"$f":"1+V618","v":"2018-12-06"},null,null,null,null,null,{"$f":"1+AA618","v":"2018-12-07"},null,null,null,null,{"$f":"1+AG618","v":"2018-12-08"}]
[null,null,null,null,{"$f":"DAY(F618)","v":2},{"$f":"IF(F618>0,VLOOKUP(F618,Holidays,2),0)","v":0},null,null,null,{"$f":"DAY(K618)","v":3},{"$f":"IF(K618>0,VLOOKUP(K618,Holidays,2),0)","v":0},null,null,null,{"$f":"DAY(P618)","v":4},{"$f":"IF(P618>0,VLOOKUP(P618,Holidays,2),0)","v":0},null,null,null,{"$f":"DAY(V618)","v":5},{"$f":"IF(V618>0,VLOOKUP(V618,Holidays,2),0)","v":0},null,null,null,null,{"$f":"DAY(AA618)","v":6},{"$f":"IF(AA618>0,VLOOKUP(AA618,Holidays,2),0)","v":0},null,null,null,null,{"$f":"DAY(AG618)","v":7},{"$f":"IF(AG618>0,VLOOKUP(AG618,Holidays,2),0)","v":0},null,null,null,{"$f":"DAY(AL618)","v":8},{"$f":"IF(AL618>0,VLOOKUP(AL618,Holidays,2),0)","v":0}]
[{"$f":"UPPER(VLOOKUP(F618,Inputs,4,FALSE))&\"  \"","v":"  "},null,null,null,{"$f":"IF(LEN(A620)>2,A620&VLOOKUP(F618,Inputs,5,FALSE),VLOOKUP(F618,Inputs,5,FALSE))","v":0},null,{"$f":"IF(F618>0,VLOOKUP(F618,Inputs,6,FALSE),\"\")","v":0},{"$f":"UPPER(VLOOKUP(K618,Inputs,4,FALSE))&\"  \"","v":"  "},null,{"$f":"IF(LEN(H620)>2,H620&VLOOKUP(K618,Inputs,5,FALSE),VLOOKUP(K618,Inputs,5,FALSE))","v":0},null,{"$f":"IF(K618>0,VLOOKUP(K618,Inputs,6,FALSE),\"\")","v":0},{"$f":"UPPER(VLOOKUP(P618,Inputs,4,FALSE))&\"  \"","v":"  "},null,{"$f":"IF(LEN(M620)>2,M620&VLOOKUP(P618,Inputs,5,FALSE),VLOOKUP(P618,Inputs,5,FALSE))","v":0},null,{"$f":"IF(P618>0,VLOOKUP(P618,Inputs,6,FALSE),\"\")","v":0},{"$f":"UPPER(VLOOKUP(V618,Inputs,4,FALSE))&\"  \"","v":"  "},null,{"$f":"IF(LEN(R620)>2,R620&VLOOKUP(V618,Inputs,5,FALSE),VLOOKUP(V618,Inputs,5,FALSE))","v":0},null,null,{"$f":"IF(V618>0,VLOOKUP(V618,Inputs,6,FALSE),\"\")","v":0},{"$f":"UPPER(VLOOKUP(AA618,Inputs,4,FALSE))&\"  \"","v":"  "},null,{"$f":"IF(LEN(X620)>2,X620&VLOOKUP(AA618,Inputs,5,FALSE),VLOOKUP(AA618,Inputs,5,FALSE))","v":0},null,null,{"$f":"IF(AA618>0,VLOOKUP(AA618,Inputs,6,FALSE),\"\")","v":0},{"$f":"UPPER(VLOOKUP(AG618,Inputs,4,FALSE))&\"  \"","v":"  "},null,{"$f":"IF(LEN(AD620)>2,AD620&VLOOKUP(AG618,Inputs,5,FALSE),VLOOKUP(AG618,Inputs,5,FALSE))","v":0},null,{"$f":"IF(AG618>0,VLOOKUP(AG618,Inputs,6,FALSE),\"\")","v":0},{"$f":"UPPER(VLOOKUP(AL618,Inputs,4,FALSE))&\"  \"","v":"  "},null,{"$f":"IF(LEN(AI620)>2,AI620&VLOOKUP(AL618,Inputs,5,FALSE),VLOOKUP(AL618,Inputs,5,FALSE))","v":0},null,{"$f":"IF(AL618>0,VLOOKUP(AL618,Inputs,6,FALSE),\"\")","v":0},null,null,{"$f":"IF($A620=AP$5,$G620,0)+IF($H620=AP$5,$L620,0)+IF($M620=AP$5,$Q620,0)+IF($R620=AP$5,$W620,0)+IF($X620=AP$5,AC620,0)+IF($AD620=AP$5,AH620,0)+IF(AI620=AP$5,AM620,0)","v":0},{"$f":"IF($A620=AQ$5,$G620,0)+IF($H620=AQ$5,$L620,0)+IF($M620=AQ$5,$Q620,0)+IF($R620=AQ$5,$W620,0)+IF($X620=AQ$5,$AC620,0)+IF($AD620=AQ$5,$AH620,0)+IF($AI620=AQ$5,$AM620,0)","v":0},0,0,0,0,0,0,0,0,0,0,0,0,null,"      TheBedrock.com"]
[{"$f":"UPPER(VLOOKUP(F618,Inputs,7,FALSE))&\"  \"","v":"  "},null,null,null,{"$f":"IF(LEN(A621)>2,A621&VLOOKUP(F618,Inputs,8,FALSE),VLOOKUP(F618,Inputs,8,FALSE))","v":0},null,{"$f":"IF(F618>0,VLOOKUP(F618,Inputs,9,FALSE),\"\")","v":0},{"$f":"UPPER(VLOOKUP(K618,Inputs,7,FALSE))&\"  \"","v":"  "},null,{"$f":"IF(LEN(H621)>2,H621&VLOOKUP(K618,Inputs,8,FALSE),VLOOKUP(K618,Inputs,8,FALSE))","v":0},null,{"$f":"IF(K618>0,VLOOKUP(K618,Inputs,9,FALSE),\"\")","v":0},{"$f":"UPPER(VLOOKUP(P618,Inputs,7,FALSE))&\"  \"","v":"  "},null,{"$f":"IF(LEN(M621)>2,M621&VLOOKUP(P618,Inputs,8,FALSE),VLOOKUP(P618,Inputs,8,FALSE))","v":0},null,{"$f":"IF(P618>0,VLOOKUP(P618,Inputs,9,FALSE),\"\")","v":0},{"$f":"UPPER(VLOOKUP(V618,Inputs,7,FALSE))&\"  \"","v":"  "},null,{"$f":"IF(LEN(R621)>2,R621&VLOOKUP(V618,Inputs,8,FALSE),VLOOKUP(V618,Inputs,8,FALSE))","v":0},null,null,{"$f":"IF(V618>0,VLOOKUP(V618,Inputs,9,FALSE),\"\")","v":0},{"$f":"UPPER(VLOOKUP(AA618,Inputs,7,FALSE))&\"  \"","v":"  "},null,{"$f":"IF(LEN(X621)>2,X621&VLOOKUP(AA618,Inputs,8,FALSE),VLOOKUP(AA618,Inputs,8,FALSE))","v":0},null,null,{"$f":"IF(AA618>0,VLOOKUP(AA618,Inputs,9,FALSE),\"\")","v":0},{"$f":"UPPER(VLOOKUP(AG618,Inputs,7,FALSE))&\"  \"","v":"  "},null,{"$f":"IF(LEN(AD621)>2,AD621&VLOOKUP(AG618,Inputs,8,FALSE),VLOOKUP(AG618,Inputs,8,FALSE))","v":0},null,{"$f":"IF(AG618>0,VLOOKUP(AG618,Inputs,9,FALSE),\"\")","v":0},{"$f":"UPPER(VLOOKUP(AL618,Inputs,7,FALSE))&\"  \"","v":"  "},null,{"$f":"IF(LEN(AI621)>2,AI621&VLOOKUP(AL618,Inputs,8,FALSE),VLOOKUP(AL618,Inputs,8,FALSE))","v":0},null,{"$f":"IF(AL618>0,VLOOKUP(AL618,Inputs,9,FALSE),\"\")","v":0},null,null,{"$f":"IF($A621=AP$5,$G621,0)+IF($H621=AP$5,$L621,0)+IF($M621=AP$5,$Q621,0)+IF($R621=AP$5,$W621,0)+IF($X621=AP$5,AC621,0)+IF($AD621=AP$5,AH621,0)+IF(AI621=AP$5,AM621,0)","v":0},0,0,0,0,0,0,0,0,0,0,0,0,0]
[{"$f":"UPPER(VLOOKUP(F618,Inputs,10,FALSE))&\"  \"","v":"  "},null,null,null,{"$f":"IF(LEN(A622)>2,A622&VLOOKUP(F618,Inputs,11,FALSE),VLOOKUP(F618,Inputs,11,FALSE))","v":0},null,{"$f":"IF(F618>0,VLOOKUP(F618,Inputs,12,FALSE),\"\")","v":0},{"$f":"UPPER(VLOOKUP(K618,Inputs,10,FALSE))&\"  \"","v":"  "},null,{"$f":"IF(LEN(H622)>2,H622&VLOOKUP(K618,Inputs,11,FALSE),VLOOKUP(K618,Inputs,11,FALSE))","v":0},null,{"$f":"IF(K618>0,VLOOKUP(K618,Inputs,12,FALSE),\"\")","v":0},{"$f":"UPPER(VLOOKUP(P618,Inputs,10,FALSE))&\"  \"","v":"  "},null,{"$f":"IF(LEN(M622)>2,M622&VLOOKUP(P618,Inputs,11,FALSE),VLOOKUP(P618,Inputs,11,FALSE))","v":0},null,{"$f":"IF(P618>0,VLOOKUP(P618,Inputs,12,FALSE),\"\")","v":0},{"$f":"UPPER(VLOOKUP(V618,Inputs,10,FALSE))&\"  \"","v":"  "},null,{"$f":"IF(LEN(R622)>2,R622&VLOOKUP(V618,Inputs,11,FALSE),VLOOKUP(V618,Inputs,11,FALSE))","v":0},null,null,{"$f":"IF(V618>0,VLOOKUP(V618,Inputs,12,FALSE),\"\")","v":0},{"$f":"UPPER(VLOOKUP(AA618,Inputs,10,FALSE))&\"  \"","v":"  "},null,{"$f":"IF(LEN(X622)>2,X622&VLOOKUP(AA618,Inputs,11,FALSE),VLOOKUP(AA618,Inputs,11,FALSE))","v":0},null,null,{"$f":"IF(AA618>0,VLOOKUP(AA618,Inputs,12,FALSE),\"\")","v":0},{"$f":"UPPER(VLOOKUP(AG618,Inputs,10,FALSE))&\"  \"","v":"  "},null,{"$f":"IF(LEN(AD622)>2,AD622&VLOOKUP(AG618,Inputs,11,FALSE),VLOOKUP(AG618,Inputs,11,FALSE))","v":0},null,{"$f":"IF(AG618>0,VLOOKUP(AG618,Inputs,12,FALSE),\"\")","v":0},{"$f":"UPPER(VLOOKUP(AL618,Inputs,10,FALSE))&\"  \"","v":"  "},null,{"$f":"IF(LEN(AI622)>2,AI622&VLOOKUP(AL618,Inputs,11,FALSE),VLOOKUP(AL618,Inputs,11,FALSE))","v":0},null,{"$f":"IF(AL618>0,VLOOKUP(AL618,Inputs,12,FALSE),\"\")","v":0},null,null,{"$f":"IF($A622=AP$5,$G622,0)+IF($H622=AP$5,$L622,0)+IF($M622=AP$5,$Q622,0)+IF($R622=AP$5,$W622,0)+IF($X622=AP$5,AC622,0)+IF($AD622=AP$5,AH622,0)+IF(AI622=AP$5,AM622,0)","v":0},0,0,0,0,0,0,0,0,0,0,0,0,0]
[{"$f":"UPPER(VLOOKUP(F618,Inputs,13,FALSE))&\"  \"","v":"  "},null,null,null,{"$f":"IF(LEN(A623)>2,A623&VLOOKUP(F618,Inputs,14,FALSE),VLOOKUP(F618,Inputs,14,FALSE))","v":0},null,{"$f":"IF(F618>0,VLOOKUP(F618,Inputs,15,FALSE),\"\")","v":0},{"$f":"UPPER(VLOOKUP(K618,Inputs,13,FALSE))&\"  \"","v":"  "},null,{"$f":"IF(LEN(H623)>2,H623&VLOOKUP(K618,Inputs,14,FALSE),VLOOKUP(K618,Inputs,14,FALSE))","v":0},null,{"$f":"IF(K618>0,VLOOKUP(K618,Inputs,15,FALSE),\"\")","v":0},{"$f":"UPPER(VLOOKUP(P618,Inputs,13,FALSE))&\"  \"","v":"  "},null,{"$f":"IF(LEN(M623)>2,M623&VLOOKUP(P618,Inputs,14,FALSE),VLOOKUP(P618,Inputs,14,FALSE))","v":0},null,{"$f":"IF(P618>0,VLOOKUP(P618,Inputs,15,FALSE),\"\")","v":0},{"$f":"UPPER(VLOOKUP(V618,Inputs,13,FALSE))&\"  \"","v":"  "},null,{"$f":"IF(LEN(R623)>2,R623&VLOOKUP(V618,Inputs,14,FALSE),VLOOKUP(V618,Inputs,14,FALSE))","v":0},null,null,{"$f":"IF(V618>0,VLOOKUP(V618,Inputs,15,FALSE),\"\")","v":0},{"$f":"UPPER(VLOOKUP(AA618,Inputs,13,FALSE))&\"  \"","v":"  "},null,{"$f":"IF(LEN(X623)>2,X623&VLOOKUP(AA618,Inputs,14,FALSE),VLOOKUP(AA618,Inputs,14,FALSE))","v":0},null,null,{"$f":"IF(AA618>0,VLOOKUP(AA618,Inputs,15,FALSE),\"\")","v":0},{"$f":"UPPER(VLOOKUP(AG618,Inputs,13,FALSE))&\"  \"","v":"  "},null,{"$f":"IF(LEN(AD623)>2,AD623&VLOOKUP(AG618,Inputs,14,FALSE),VLOOKUP(AG618,Inputs,14,FALSE))","v":0},null,{"$f":"IF(AG618>0,VLOOKUP(AG618,Inputs,15,FALSE),\"\")","v":0},{"$f":"UPPER(VLOOKUP(AL618,Inputs,13,FALSE))&\"  \"","v":"  "},null,{"$f":"IF(LEN(AI623)>2,AI623&VLOOKUP(AL618,Inputs,14,FALSE),VLOOKUP(AL618,Inputs,14,FALSE))","v":0},null,{"$f":"IF(AL618>0,VLOOKUP(AL618,Inputs,15,FALSE),\"\")","v":0},null,null,{"$f":"IF($A623=AP$5,$G623,0)+IF($H623=AP$5,$L623,0)+IF($M623=AP$5,$Q623,0)+IF($R623=AP$5,$W623,0)+IF($X623=AP$5,AC623,0)+IF($AD623=AP$5,AH623,0)+IF(AI623=AP$5,AM623,0)","v":0},0,0,0,0,0,0,0,0,0,0,0,0,0]
[null,null,null,null,null,{"$f":"IF(F618>0,IF(VLOOKUP(F618,Inputs,3,FALSE)=\"T\",\"Telemarketing\",0),\"\")","v":0},null,null,null,null,{"$f":"IF(VLOOKUP(K618-1,Inputs,3,FALSE)=\"T\",0,IF(VLOOKUP(K618,Inputs,3,FALSE)=\"T\",\"Telemarketing\",0))","v":0},null,null,null,null,{"$f":"IF(VLOOKUP(P618-1,Inputs,3,FALSE)=\"T\",0,IF(VLOOKUP(P618,Inputs,3,FALSE)=\"T\",\"Telemarketing\",0))","v":0},null,null,null,null,null,{"$f":"IF(VLOOKUP(V618-1,Inputs,3,FALSE)=\"T\",0,IF(VLOOKUP(V618,Inputs,3,FALSE)=\"T\",\"Telemarketing\",0))","v":0},null,null,null,null,{"$f":"IF(VLOOKUP(AA618-1,Inputs,3,FALSE)=\"T\",0,IF(VLOOKUP(AA618,Inputs,3,FALSE)=\"T\",\"Telemarketing\",0))","v":0},null,null,null,null,null,{"$f":"IF(VLOOKUP(AG618-1,Inputs,3,FALSE)=\"T\",0,IF(VLOOKUP(AG618,Inputs,3,FALSE)=\"T\",\"Telemarketing\",0))","v":0},null,null,null,null,{"$f":"IF(VLOOKUP(AL618-1,Inputs,3,FALSE)=\"T\",0,IF(VLOOKUP(AL618,Inputs,3,FALSE)=\"T\",\"Telemarketing\",0))","v":0}]
[null,null,null,null,null,{"$f":"1+AL618","v":"2018-12-09"},null,null,null,null,{"$f":"1+F625","v":"2018-12-10"},null,null,null,null,{"$f":"1+K625","v":"2018-12-11"},null,null,null,null,null,{"$f":"1+P625","v":"2018-12-12"},null,null,null,null,{"$f":"1+V625","v":"2018-12-13"},null,null,null,null,null,{"$f":"1+AA625","v":"2018-12-14"},null,null,null,null,{"$f":"1+AG625","v":"2018-12-15"}]
[null,null,null,null,{"$f":"DAY(F625)","v":9},{"$f":"IF(F625>0,VLOOKUP(F625,Holidays,2),0)","v":0},null,null,null,{"$f":"DAY(K625)","v":10},{"$f":"IF(K625>0,VLOOKUP(K625,Holidays,2),0)","v":0},null,null,null,{"$f":"DAY(P625)","v":11},{"$f":"IF(P625>0,VLOOKUP(P625,Holidays,2),0)","v":0},null,null,null,{"$f":"DAY(V625)","v":12},{"$f":"IF(V625>0,VLOOKUP(V625,Holidays,2),0)","v":0},null,null,null,null,{"$f":"DAY(AA625)","v":13},{"$f":"IF(AA625>0,VLOOKUP(AA625,Holidays,2),0)","v":0},null,null,null,null,{"$f":"DAY(AG625)","v":14},{"$f":"IF(AG625>0,VLOOKUP(AG625,Holidays,2),0)","v":0},null,null,null,{"$f":"DAY(AL625)","v":15},{"$f":"IF(AL625>0,VLOOKUP(AL625,Holidays,2),0)","v":0}]
[{"$f":"UPPER(VLOOKUP(F625,Inputs,4,FALSE))&\"  \"","v":"  "},null,null,null,{"$f":"IF(LEN(A627)>2,A627&VLOOKUP(F625,Inputs,5,FALSE),VLOOKUP(F625,Inputs,5,FALSE))","v":0},null,{"$f":"IF(F625>0,VLOOKUP(F625,Inputs,6,FALSE),\"\")","v":0},{"$f":"UPPER(VLOOKUP(K625,Inputs,4,FALSE))&\"  \"","v":"  "},null,{"$f":"IF(LEN(H627)>2,H627&VLOOKUP(K625,Inputs,5,FALSE),VLOOKUP(K625,Inputs,5,FALSE))","v":0},null,{"$f":"IF(K625>0,VLOOKUP(K625,Inputs,6,FALSE),\"\")","v":0},{"$f":"UPPER(VLOOKUP(P625,Inputs,4,FALSE))&\"  \"","v":"  "},null,{"$f":"IF(LEN(M627)>2,M627&VLOOKUP(P625,Inputs,5,FALSE),VLOOKUP(P625,Inputs,5,FALSE))","v":0},null,{"$f":"IF(P625>0,VLOOKUP(P625,Inputs,6,FALSE),\"\")","v":0},{"$f":"UPPER(VLOOKUP(V625,Inputs,4,FALSE))&\"  \"","v":"  "},null,{"$f":"IF(LEN(R627)>2,R627&VLOOKUP(V625,Inputs,5,FALSE),VLOOKUP(V625,Inputs,5,FALSE))","v":0},null,null,{"$f":"IF(V625>0,VLOOKUP(V625,Inputs,6,FALSE),\"\")","v":0},{"$f":"UPPER(VLOOKUP(AA625,Inputs,4,FALSE))&\"  \"","v":"  "},null,{"$f":"IF(LEN(X627)>2,X627&VLOOKUP(AA625,Inputs,5,FALSE),VLOOKUP(AA625,Inputs,5,FALSE))","v":0},null,null,{"$f":"IF(AA625>0,VLOOKUP(AA625,Inputs,6,FALSE),\"\")","v":0},{"$f":"UPPER(VLOOKUP(AG625,Inputs,4,FALSE))&\"  \"","v":"  "},null,{"$f":"IF(LEN(AD627)>2,AD627&VLOOKUP(AG625,Inputs,5,FALSE),VLOOKUP(AG625,Inputs,5,FALSE))","v":0},null,{"$f":"IF(AG625>0,VLOOKUP(AG625,Inputs,6,FALSE),\"\")","v":0},{"$f":"UPPER(VLOOKUP(AL625,Inputs,4,FALSE))&\"  \"","v":"  "},null,{"$f":"IF(LEN(AI627)>2,AI627&VLOOKUP(AL625,Inputs,5,FALSE),VLOOKUP(AL625,Inputs,5,FALSE))","v":0},null,{"$f":"IF(AL625>0,VLOOKUP(AL625,Inputs,6,FALSE),\"\")","v":0},null,null,{"$f":"IF($A627=AP$5,$G627,0)+IF($H627=AP$5,$L627,0)+IF($M627=AP$5,$Q627,0)+IF($R627=AP$5,$W627,0)+IF($X627=AP$5,AC627,0)+IF($AD627=AP$5,AH627,0)+IF(AI627=AP$5,AM627,0)","v":0},{"$f":"IF($A627=AQ$5,$G627,0)+IF($H627=AQ$5,$L627,0)+IF($M627=AQ$5,$Q627,0)+IF($R627=AQ$5,$W627,0)+IF($X627=AQ$5,$AC627,0)+IF($AD627=AQ$5,$AH627,0)+IF($AI627=AQ$5,$AM627,0)","v":0},0,0,0,0,0,0,0,0,0,0,0,0]
[{"$f":"UPPER(VLOOKUP(F625,Inputs,7,FALSE))&\"  \"","v":"  "},null,null,null,{"$f":"IF(LEN(A628)>2,A628&VLOOKUP(F625,Inputs,8,FALSE),VLOOKUP(F625,Inputs,8,FALSE))","v":0},null,{"$f":"IF(F625>0,VLOOKUP(F625,Inputs,9,FALSE),\"\")","v":0},{"$f":"UPPER(VLOOKUP(K625,Inputs,7,FALSE))&\"  \"","v":"  "},null,{"$f":"IF(LEN(H628)>2,H628&VLOOKUP(K625,Inputs,8,FALSE),VLOOKUP(K625,Inputs,8,FALSE))","v":0},null,{"$f":"IF(K625>0,VLOOKUP(K625,Inputs,9,FALSE),\"\")","v":0},{"$f":"UPPER(VLOOKUP(P625,Inputs,7,FALSE))&\"  \"","v":"  "},null,{"$f":"IF(LEN(M628)>2,M628&VLOOKUP(P625,Inputs,8,FALSE),VLOOKUP(P625,Inputs,8,FALSE))","v":0},null,{"$f":"IF(P625>0,VLOOKUP(P625,Inputs,9,FALSE),\"\")","v":0},{"$f":"UPPER(VLOOKUP(V625,Inputs,7,FALSE))&\"  \"","v":"  "},null,{"$f":"IF(LEN(R628)>2,R628&VLOOKUP(V625,Inputs,8,FALSE),VLOOKUP(V625,Inputs,8,FALSE))","v":0},null,null,{"$f":"IF(V625>0,VLOOKUP(V625,Inputs,9,FALSE),\"\")","v":0},{"$f":"UPPER(VLOOKUP(AA625,Inputs,7,FALSE))&\"  \"","v":"  "},null,{"$f":"IF(LEN(X628)>2,X628&VLOOKUP(AA625,Inputs,8,FALSE),VLOOKUP(AA625,Inputs,8,FALSE))","v":0},null,null,{"$f":"IF(AA625>0,VLOOKUP(AA625,Inputs,9,FALSE),\"\")","v":0},{"$f":"UPPER(VLOOKUP(AG625,Inputs,7,FALSE))&\"  \"","v":"  "},null,{"$f":"IF(LEN(AD628)>2,AD628&VLOOKUP(AG625,Inputs,8,FALSE),VLOOKUP(AG625,Inputs,8,FALSE))","v":0},null,{"$f":"IF(AG625>0,VLOOKUP(AG625,Inputs,9,FALSE),\"\")","v":0},{"$f":"UPPER(VLOOKUP(AL625,Inputs,7,FALSE))&\"  \"","v":"  "},null,{"$f":"IF(LEN(AI628)>2,AI628&VLOOKUP(AL625,Inputs,8,FALSE),VLOOKUP(AL625,Inputs,8,FALSE))","v":0},null,{"$f":"IF(AL625>0,VLOOKUP(AL625,Inputs,9,FALSE),\"\")","v":0},null,null,{"$f":"IF($A628=AP$5,$G628,0)+IF($H628=AP$5,$L628,0)+IF($M628=AP$5,$Q628,0)+IF($R628=AP$5,$W628,0)+IF($X628=AP$5,AC628,0)+IF($AD628=AP$5,AH628,0)+IF(AI628=AP$5,AM628,0)","v":0},0,0,0,0,0,0,0,0,0,0,0,0,0]
[{"$f":"UPPER(VLOOKUP(F625,Inputs,10,FALSE))&\"  \"","v":"  "},null,null,null,{"$f":"IF(LEN(A629)>2,A629&VLOOKUP(F625,Inputs,11,FALSE),VLOOKUP(F625,Inputs,11,FALSE))","v":0},null,{"$f":"IF(F625>0,VLOOKUP(F625,Inputs,12,FALSE),\"\")","v":0},{"$f":"UPPER(VLOOKUP(K625,Inputs,10,FALSE))&\"  \"","v":"  "},null,{"$f":"IF(LEN(H629)>2,H629&VLOOKUP(K625,Inputs,11,FALSE),VLOOKUP(K625,Inputs,11,FALSE))","v":0},null,{"$f":"IF(K625>0,VLOOKUP(K625,Inputs,12,FALSE),\"\")","v":0},{"$f":"UPPER(VLOOKUP(P625,Inputs,10,FALSE))&\"  \"","v":"  "},null,{"$f":"IF(LEN(M629)>2,M629&VLOOKUP(P625,Inputs,11,FALSE),VLOOKUP(P625,Inputs,11,FALSE))","v":0},null,{"$f":"IF(P625>0,VLOOKUP(P625,Inputs,12,FALSE),\"\")","v":0},{"$f":"UPPER(VLOOKUP(V625,Inputs,10,FALSE))&\"  \"","v":"  "},null,{"$f":"IF(LEN(R629)>2,R629&VLOOKUP(V625,Inputs,11,FALSE),VLOOKUP(V625,Inputs,11,FALSE))","v":0},null,null,{"$f":"IF(V625>0,VLOOKUP(V625,Inputs,12,FALSE),\"\")","v":0},{"$f":"UPPER(VLOOKUP(AA625,Inputs,10,FALSE))&\"  \"","v":"  "},null,{"$f":"IF(LEN(X629)>2,X629&VLOOKUP(AA625,Inputs,11,FALSE),VLOOKUP(AA625,Inputs,11,FALSE))","v":0},null,null,{"$f":"IF(AA625>0,VLOOKUP(AA625,Inputs,12,FALSE),\"\")","v":0},{"$f":"UPPER(VLOOKUP(AG625,Inputs,10,FALSE))&\"  \"","v":"  "},null,{"$f":"IF(LEN(AD629)>2,AD629&VLOOKUP(AG625,Inputs,11,FALSE),VLOOKUP(AG625,Inputs,11,FALSE))","v":0},null,{"$f":"IF(AG625>0,VLOOKUP(AG625,Inputs,12,FALSE),\"\")","v":0},{"$f":"UPPER(VLOOKUP(AL625,Inputs,10,FALSE))&\"  \"","v":"  "},null,{"$f":"IF(LEN(AI629)>2,AI629&VLOOKUP(AL625,Inputs,11,FALSE),VLOOKUP(AL625,Inputs,11,FALSE))","v":0},null,{"$f":"IF(AL625>0,VLOOKUP(AL625,Inputs,12,FALSE),\"\")","v":0},null,null,{"$f":"IF($A629=AP$5,$G629,0)+IF($H629=AP$5,$L629,0)+IF($M629=AP$5,$Q629,0)+IF($R629=AP$5,$W629,0)+IF($X629=AP$5,AC629,0)+IF($AD629=AP$5,AH629,0)+IF(AI629=AP$5,AM629,0)","v":0},0,0,0,0,0,0,0,0,0,0,0,0,0]
[{"$f":"UPPER(VLOOKUP(F625,Inputs,13,FALSE))&\"  \"","v":"  "},null,null,null,{"$f":"IF(LEN(A630)>2,A630&VLOOKUP(F625,Inputs,14,FALSE),VLOOKUP(F625,Inputs,14,FALSE))","v":0},null,{"$f":"IF(F625>0,VLOOKUP(F625,Inputs,15,FALSE),\"\")","v":0},{"$f":"UPPER(VLOOKUP(K625,Inputs,13,FALSE))&\"  \"","v":"  "},null,{"$f":"IF(LEN(H630)>2,H630&VLOOKUP(K625,Inputs,14,FALSE),VLOOKUP(K625,Inputs,14,FALSE))","v":0},null,{"$f":"IF(K625>0,VLOOKUP(K625,Inputs,15,FALSE),\"\")","v":0},{"$f":"UPPER(VLOOKUP(P625,Inputs,13,FALSE))&\"  \"","v":"  "},null,{"$f":"IF(LEN(M630)>2,M630&VLOOKUP(P625,Inputs,14,FALSE),VLOOKUP(P625,Inputs,14,FALSE))","v":0},null,{"$f":"IF(P625>0,VLOOKUP(P625,Inputs,15,FALSE),\"\")","v":0},{"$f":"UPPER(VLOOKUP(V625,Inputs,13,FALSE))&\"  \"","v":"  "},null,{"$f":"IF(LEN(R630)>2,R630&VLOOKUP(V625,Inputs,14,FALSE),VLOOKUP(V625,Inputs,14,FALSE))","v":0},null,null,{"$f":"IF(V625>0,VLOOKUP(V625,Inputs,15,FALSE),\"\")","v":0},{"$f":"UPPER(VLOOKUP(AA625,Inputs,13,FALSE))&\"  \"","v":"  "},null,{"$f":"IF(LEN(X630)>2,X630&VLOOKUP(AA625,Inputs,14,FALSE),VLOOKUP(AA625,Inputs,14,FALSE))","v":0},null,null,{"$f":"IF(AA625>0,VLOOKUP(AA625,Inputs,15,FALSE),\"\")","v":0},{"$f":"UPPER(VLOOKUP(AG625,Inputs,13,FALSE))&\"  \"","v":"  "},null,{"$f":"IF(LEN(AD630)>2,AD630&VLOOKUP(AG625,Inputs,14,FALSE),VLOOKUP(AG625,Inputs,14,FALSE))","v":0},null,{"$f":"IF(AG625>0,VLOOKUP(AG625,Inputs,15,FALSE),\"\")","v":0},{"$f":"UPPER(VLOOKUP(AL625,Inputs,13,FALSE))&\"  \"","v":"  "},null,{"$f":"IF(LEN(AI630)>2,AI630&VLOOKUP(AL625,Inputs,14,FALSE),VLOOKUP(AL625,Inputs,14,FALSE))","v":0},null,{"$f":"IF(AL625>0,VLOOKUP(AL625,Inputs,15,FALSE),\"\")","v":0},null,null,{"$f":"IF($A630=AP$5,$G630,0)+IF($H630=AP$5,$L630,0)+IF($M630=AP$5,$Q630,0)+IF($R630=AP$5,$W630,0)+IF($X630=AP$5,AC630,0)+IF($AD630=AP$5,AH630,0)+IF(AI630=AP$5,AM630,0)","v":0},0,0,0,0,0,0,0,0,0,0,0,0,0]
[null,null,null,null,null,{"$f":"IF(F625>0,IF(VLOOKUP(F625,Inputs,3,FALSE)=\"T\",\"Telemarketing\",0),\"\")","v":0},null,null,null,null,{"$f":"IF(VLOOKUP(K625-1,Inputs,3,FALSE)=\"T\",0,IF(VLOOKUP(K625,Inputs,3,FALSE)=\"T\",\"Telemarketing\",0))","v":0},null,null,null,null,{"$f":"IF(VLOOKUP(P625-1,Inputs,3,FALSE)=\"T\",0,IF(VLOOKUP(P625,Inputs,3,FALSE)=\"T\",\"Telemarketing\",0))","v":0},null,null,null,null,null,{"$f":"IF(VLOOKUP(V625-1,Inputs,3,FALSE)=\"T\",0,IF(VLOOKUP(V625,Inputs,3,FALSE)=\"T\",\"Telemarketing\",0))","v":0},null,null,null,null,{"$f":"IF(VLOOKUP(AA625-1,Inputs,3,FALSE)=\"T\",0,IF(VLOOKUP(AA625,Inputs,3,FALSE)=\"T\",\"Telemarketing\",0))","v":0},null,null,null,null,null,{"$f":"IF(VLOOKUP(AG625-1,Inputs,3,FALSE)=\"T\",0,IF(VLOOKUP(AG625,Inputs,3,FALSE)=\"T\",\"Telemarketing\",0))","v":0},null,null,null,null,{"$f":"IF(VLOOKUP(AL625-1,Inputs,3,FALSE)=\"T\",0,IF(VLOOKUP(AL625,Inputs,3,FALSE)=\"T\",\"Telemarketing\",0))","v":0}]
[null,null,null,null,null,{"$f":"1+AL625","v":"2018-12-16"},null,null,null,null,{"$f":"1+F632","v":"2018-12-17"},null,null,null,null,{"$f":"1+K632","v":"2018-12-18"},null,null,null,null,null,{"$f":"1+P632","v":"2018-12-19"},null,null,null,null,{"$f":"1+V632","v":"2018-12-20"},null,null,null,null,null,{"$f":"1+AA632","v":"2018-12-21"},null,null,null,null,{"$f":"1+AG632","v":"2018-12-22"}]
[null,null,null,null,{"$f":"DAY(F632)","v":16},{"$f":"IF(F632>0,VLOOKUP(F632,Holidays,2),0)","v":0},null,null,null,{"$f":"DAY(K632)","v":17},{"$f":"IF(K632>0,VLOOKUP(K632,Holidays,2),0)","v":0},null,null,null,{"$f":"DAY(P632)","v":18},{"$f":"IF(P632>0,VLOOKUP(P632,Holidays,2),0)","v":0},null,null,null,{"$f":"DAY(V632)","v":19},{"$f":"IF(V632>0,VLOOKUP(V632,Holidays,2),0)","v":0},null,null,null,null,{"$f":"DAY(AA632)","v":20},{"$f":"IF(AA632>0,VLOOKUP(AA632,Holidays,2),0)","v":0},null,null,null,null,{"$f":"DAY(AG632)","v":21},{"$f":"IF(AG632>0,VLOOKUP(AG632,Holidays,2),0)","v":0},null,null,null,{"$f":"DAY(AL632)","v":22},{"$f":"IF(AL632>0,VLOOKUP(AL632,Holidays,2),0)","v":""}]
[{"$f":"UPPER(VLOOKUP(F632,Inputs,4,FALSE))&\"  \"","v":"  "},null,null,null,{"$f":"IF(LEN(A634)>2,A634&VLOOKUP(F632,Inputs,5,FALSE),VLOOKUP(F632,Inputs,5,FALSE))","v":0},null,{"$f":"IF(F632>0,VLOOKUP(F632,Inputs,6,FALSE),\"\")","v":0},{"$f":"UPPER(VLOOKUP(K632,Inputs,4,FALSE))&\"  \"","v":"  "},null,{"$f":"IF(LEN(H634)>2,H634&VLOOKUP(K632,Inputs,5,FALSE),VLOOKUP(K632,Inputs,5,FALSE))","v":0},null,{"$f":"IF(K632>0,VLOOKUP(K632,Inputs,6,FALSE),\"\")","v":0},{"$f":"UPPER(VLOOKUP(P632,Inputs,4,FALSE))&\"  \"","v":"  "},null,{"$f":"IF(LEN(M634)>2,M634&VLOOKUP(P632,Inputs,5,FALSE),VLOOKUP(P632,Inputs,5,FALSE))","v":0},null,{"$f":"IF(P632>0,VLOOKUP(P632,Inputs,6,FALSE),\"\")","v":0},{"$f":"UPPER(VLOOKUP(V632,Inputs,4,FALSE))&\"  \"","v":"  "},null,{"$f":"IF(LEN(R634)>2,R634&VLOOKUP(V632,Inputs,5,FALSE),VLOOKUP(V632,Inputs,5,FALSE))","v":0},null,null,{"$f":"IF(V632>0,VLOOKUP(V632,Inputs,6,FALSE),\"\")","v":0},{"$f":"UPPER(VLOOKUP(AA632,Inputs,4,FALSE))&\"  \"","v":"  "},null,{"$f":"IF(LEN(X634)>2,X634&VLOOKUP(AA632,Inputs,5,FALSE),VLOOKUP(AA632,Inputs,5,FALSE))","v":0},null,null,{"$f":"IF(AA632>0,VLOOKUP(AA632,Inputs,6,FALSE),\"\")","v":0},{"$f":"UPPER(VLOOKUP(AG632,Inputs,4,FALSE))&\"  \"","v":"  "},null,{"$f":"IF(LEN(AD634)>2,AD634&VLOOKUP(AG632,Inputs,5,FALSE),VLOOKUP(AG632,Inputs,5,FALSE))","v":0},null,{"$f":"IF(AG632>0,VLOOKUP(AG632,Inputs,6,FALSE),\"\")","v":0},{"$f":"UPPER(VLOOKUP(AL632,Inputs,4,FALSE))&\"  \"","v":"  "},null,{"$f":"IF(LEN(AI634)>2,AI634&VLOOKUP(AL632,Inputs,5,FALSE),VLOOKUP(AL632,Inputs,5,FALSE))","v":0},null,{"$f":"IF(AL632>0,VLOOKUP(AL632,Inputs,6,FALSE),\"\")","v":0},null,null,{"$f":"IF($A634=AP$5,$G634,0)+IF($H634=AP$5,$L634,0)+IF($M634=AP$5,$Q634,0)+IF($R634=AP$5,$W634,0)+IF($X634=AP$5,AC634,0)+IF($AD634=AP$5,AH634,0)+IF(AI634=AP$5,AM634,0)","v":0},{"$f":"IF($A634=AQ$5,$G634,0)+IF($H634=AQ$5,$L634,0)+IF($M634=AQ$5,$Q634,0)+IF($R634=AQ$5,$W634,0)+IF($X634=AQ$5,$AC634,0)+IF($AD634=AQ$5,$AH634,0)+IF($AI634=AQ$5,$AM634,0)","v":0},0,0,0,0,0,0,0,0,0,0,0,0]
[{"$f":"UPPER(VLOOKUP(F632,Inputs,7,FALSE))&\"  \"","v":"  "},null,null,null,{"$f":"IF(LEN(A635)>2,A635&VLOOKUP(F632,Inputs,8,FALSE),VLOOKUP(F632,Inputs,8,FALSE))","v":0},null,{"$f":"IF(F632>0,VLOOKUP(F632,Inputs,9,FALSE),\"\")","v":0},{"$f":"UPPER(VLOOKUP(K632,Inputs,7,FALSE))&\"  \"","v":"  "},null,{"$f":"IF(LEN(H635)>2,H635&VLOOKUP(K632,Inputs,8,FALSE),VLOOKUP(K632,Inputs,8,FALSE))","v":0},null,{"$f":"IF(K632>0,VLOOKUP(K632,Inputs,9,FALSE),\"\")","v":0},{"$f":"UPPER(VLOOKUP(P632,Inputs,7,FALSE))&\"  \"","v":"  "},null,{"$f":"IF(LEN(M635)>2,M635&VLOOKUP(P632,Inputs,8,FALSE),VLOOKUP(P632,Inputs,8,FALSE))","v":0},null,{"$f":"IF(P632>0,VLOOKUP(P632,Inputs,9,FALSE),\"\")","v":0},{"$f":"UPPER(VLOOKUP(V632,Inputs,7,FALSE))&\"  \"","v":"  "},null,{"$f":"IF(LEN(R635)>2,R635&VLOOKUP(V632,Inputs,8,FALSE),VLOOKUP(V632,Inputs,8,FALSE))","v":0},null,null,{"$f":"IF(V632>0,VLOOKUP(V632,Inputs,9,FALSE),\"\")","v":0},{"$f":"UPPER(VLOOKUP(AA632,Inputs,7,FALSE))&\"  \"","v":"  "},null,{"$f":"IF(LEN(X635)>2,X635&VLOOKUP(AA632,Inputs,8,FALSE),VLOOKUP(AA632,Inputs,8,FALSE))","v":0},null,null,{"$f":"IF(AA632>0,VLOOKUP(AA632,Inputs,9,FALSE),\"\")","v":0},{"$f":"UPPER(VLOOKUP(AG632,Inputs,7,FALSE))&\"  \"","v":"  "},null,{"$f":"IF(LEN(AD635)>2,AD635&VLOOKUP(AG632,Inputs,8,FALSE),VLOOKUP(AG632,Inputs,8,FALSE))","v":0},null,{"$f":"IF(AG632>0,VLOOKUP(AG632,Inputs,9,FALSE),\"\")","v":0},{"$f":"UPPER(VLOOKUP(AL632,Inputs,7,FALSE))&\"  \"","v":"  "},null,{"$f":"IF(LEN(AI635)>2,AI635&VLOOKUP(AL632,Inputs,8,FALSE),VLOOKUP(AL632,Inputs,8,FALSE))","v":0},null,{"$f":"IF(AL632>0,VLOOKUP(AL632,Inputs,9,FALSE),\"\")","v":0},null,null,{"$f":"IF($A635=AP$5,$G635,0)+IF($H635=AP$5,$L635,0)+IF($M635=AP$5,$Q635,0)+IF($R635=AP$5,$W635,0)+IF($X635=AP$5,AC635,0)+IF($AD635=AP$5,AH635,0)+IF(AI635=AP$5,AM635,0)","v":0},0,0,0,0,0,0,0,0,0,0,0,0,0]
[{"$f":"UPPER(VLOOKUP(F632,Inputs,10,FALSE))&\"  \"","v":"  "},null,null,null,{"$f":"IF(LEN(A636)>2,A636&VLOOKUP(F632,Inputs,11,FALSE),VLOOKUP(F632,Inputs,11,FALSE))","v":0},null,{"$f":"IF(F632>0,VLOOKUP(F632,Inputs,12,FALSE),\"\")","v":0},{"$f":"UPPER(VLOOKUP(K632,Inputs,10,FALSE))&\"  \"","v":"  "},null,{"$f":"IF(LEN(H636)>2,H636&VLOOKUP(K632,Inputs,11,FALSE),VLOOKUP(K632,Inputs,11,FALSE))","v":0},null,{"$f":"IF(K632>0,VLOOKUP(K632,Inputs,12,FALSE),\"\")","v":0},{"$f":"UPPER(VLOOKUP(P632,Inputs,10,FALSE))&\"  \"","v":"  "},null,{"$f":"IF(LEN(M636)>2,M636&VLOOKUP(P632,Inputs,11,FALSE),VLOOKUP(P632,Inputs,11,FALSE))","v":0},null,{"$f":"IF(P632>0,VLOOKUP(P632,Inputs,12,FALSE),\"\")","v":0},{"$f":"UPPER(VLOOKUP(V632,Inputs,10,FALSE))&\"  \"","v":"  "},null,{"$f":"IF(LEN(R636)>2,R636&VLOOKUP(V632,Inputs,11,FALSE),VLOOKUP(V632,Inputs,11,FALSE))","v":0},null,null,{"$f":"IF(V632>0,VLOOKUP(V632,Inputs,12,FALSE),\"\")","v":0},{"$f":"UPPER(VLOOKUP(AA632,Inputs,10,FALSE))&\"  \"","v":"  "},null,{"$f":"IF(LEN(X636)>2,X636&VLOOKUP(AA632,Inputs,11,FALSE),VLOOKUP(AA632,Inputs,11,FALSE))","v":0},null,null,{"$f":"IF(AA632>0,VLOOKUP(AA632,Inputs,12,FALSE),\"\")","v":0},{"$f":"UPPER(VLOOKUP(AG632,Inputs,10,FALSE))&\"  \"","v":"  "},null,{"$f":"IF(LEN(AD636)>2,AD636&VLOOKUP(AG632,Inputs,11,FALSE),VLOOKUP(AG632,Inputs,11,FALSE))","v":0},null,{"$f":"IF(AG632>0,VLOOKUP(AG632,Inputs,12,FALSE),\"\")","v":0},{"$f":"UPPER(VLOOKUP(AL632,Inputs,10,FALSE))&\"  \"","v":"  "},null,{"$f":"IF(LEN(AI636)>2,AI636&VLOOKUP(AL632,Inputs,11,FALSE),VLOOKUP(AL632,Inputs,11,FALSE))","v":0},null,{"$f":"IF(AL632>0,VLOOKUP(AL632,Inputs,12,FALSE),\"\")","v":0},null,null,{"$f":"IF($A636=AP$5,$G636,0)+IF($H636=AP$5,$L636,0)+IF($M636=AP$5,$Q636,0)+IF($R636=AP$5,$W636,0)+IF($X636=AP$5,AC636,0)+IF($AD636=AP$5,AH636,0)+IF(AI636=AP$5,AM636,0)","v":0},0,0,0,0,0,0,0,0,0,0,0,0,0]
[{"$f":"UPPER(VLOOKUP(F632,Inputs,13,FALSE))&\"  \"","v":"  "},null,null,null,{"$f":"IF(LEN(A637)>2,A637&VLOOKUP(F632,Inputs,14,FALSE),VLOOKUP(F632,Inputs,14,FALSE))","v":0},null,{"$f":"IF(F632>0,VLOOKUP(F632,Inputs,15,FALSE),\"\")","v":0},{"$f":"UPPER(VLOOKUP(K632,Inputs,13,FALSE))&\"  \"","v":"  "},null,{"$f":"IF(LEN(H637)>2,H637&VLOOKUP(K632,Inputs,14,FALSE),VLOOKUP(K632,Inputs,14,FALSE))","v":0},null,{"$f":"IF(K632>0,VLOOKUP(K632,Inputs,15,FALSE),\"\")","v":0},{"$f":"UPPER(VLOOKUP(P632,Inputs,13,FALSE))&\"  \"","v":"  "},null,{"$f":"IF(LEN(M637)>2,M637&VLOOKUP(P632,Inputs,14,FALSE),VLOOKUP(P632,Inputs,14,FALSE))","v":0},null,{"$f":"IF(P632>0,VLOOKUP(P632,Inputs,15,FALSE),\"\")","v":0},{"$f":"UPPER(VLOOKUP(V632,Inputs,13,FALSE))&\"  \"","v":"  "},null,{"$f":"IF(LEN(R637)>2,R637&VLOOKUP(V632,Inputs,14,FALSE),VLOOKUP(V632,Inputs,14,FALSE))","v":0},null,null,{"$f":"IF(V632>0,VLOOKUP(V632,Inputs,15,FALSE),\"\")","v":0},{"$f":"UPPER(VLOOKUP(AA632,Inputs,13,FALSE))&\"  \"","v":"  "},null,{"$f":"IF(LEN(X637)>2,X637&VLOOKUP(AA632,Inputs,14,FALSE),VLOOKUP(AA632,Inputs,14,FALSE))","v":0},null,null,{"$f":"IF(AA632>0,VLOOKUP(AA632,Inputs,15,FALSE),\"\")","v":0},{"$f":"UPPER(VLOOKUP(AG632,Inputs,13,FALSE))&\"  \"","v":"  "},null,{"$f":"IF(LEN(AD637)>2,AD637&VLOOKUP(AG632,Inputs,14,FALSE),VLOOKUP(AG632,Inputs,14,FALSE))","v":0},null,{"$f":"IF(AG632>0,VLOOKUP(AG632,Inputs,15,FALSE),\"\")","v":0},{"$f":"UPPER(VLOOKUP(AL632,Inputs,13,FALSE))&\"  \"","v":"  "},null,{"$f":"IF(LEN(AI637)>2,AI637&VLOOKUP(AL632,Inputs,14,FALSE),VLOOKUP(AL632,Inputs,14,FALSE))","v":0},null,{"$f":"IF(AL632>0,VLOOKUP(AL632,Inputs,15,FALSE),\"\")","v":0},null,null,{"$f":"IF($A637=AP$5,$G637,0)+IF($H637=AP$5,$L637,0)+IF($M637=AP$5,$Q637,0)+IF($R637=AP$5,$W637,0)+IF($X637=AP$5,AC637,0)+IF($AD637=AP$5,AH637,0)+IF(AI637=AP$5,AM637,0)","v":0},0,0,0,0,0,0,0,0,0,0,0,0,0]
[null,null,null,null,null,{"$f":"IF(F632>0,IF(VLOOKUP(F632,Inputs,3,FALSE)=\"T\",\"Telemarketing\",0),\"\")","v":0},null,null,null,null,{"$f":"IF(VLOOKUP(K632-1,Inputs,3,FALSE)=\"T\",0,IF(VLOOKUP(K632,Inputs,3,FALSE)=\"T\",\"Telemarketing\",0))","v":0},null,null,null,null,{"$f":"IF(VLOOKUP(P632-1,Inputs,3,FALSE)=\"T\",0,IF(VLOOKUP(P632,Inputs,3,FALSE)=\"T\",\"Telemarketing\",0))","v":0},null,null,null,null,null,{"$f":"IF(VLOOKUP(V632-1,Inputs,3,FALSE)=\"T\",0,IF(VLOOKUP(V632,Inputs,3,FALSE)=\"T\",\"Telemarketing\",0))","v":0},null,null,null,null,{"$f":"IF(VLOOKUP(AA632-1,Inputs,3,FALSE)=\"T\",0,IF(VLOOKUP(AA632,Inputs,3,FALSE)=\"T\",\"Telemarketing\",0))","v":0},null,null,null,null,null,{"$f":"IF(VLOOKUP(AG632-1,Inputs,3,FALSE)=\"T\",0,IF(VLOOKUP(AG632,Inputs,3,FALSE)=\"T\",\"Telemarketing\",0))","v":0},null,null,null,null,{"$f":"IF(VLOOKUP(AL632-1,Inputs,3,FALSE)=\"T\",0,IF(VLOOKUP(AL632,Inputs,3,FALSE)=\"T\",\"Telemarketing\",0))","v":0}]
[null,null,null,null,null,{"$f":"IF(AL632>0,IF(MONTH(1+AL632)=$A657,1+AL632,0),0)","v":"2018-12-23"},null,null,null,null,{"$f":"IF(F639>0,IF(MONTH(1+F639)=$A657,1+F639,0),0)","v":"2018-12-24"},null,null,null,null,{"$f":"IF(K639>0,IF(MONTH(1+K639)=$A657,1+K639,0),0)","v":"2018-12-25"},null,null,null,null,null,{"$f":"IF(P639>0,IF(MONTH(1+P639)=$A657,1+P639,0),0)","v":"2018-12-26"},null,null,null,null,{"$f":"IF(V639>0,IF(MONTH(1+V639)=$A657,1+V639,0),0)","v":"2018-12-27"},null,null,null,null,null,{"$f":"IF(AA639>0,IF(MONTH(1+AA639)=$A657,1+AA639,0),0)","v":"2018-12-28"},null,null,null,null,{"$f":"IF(AG639>0,IF(MONTH(1+AG639)=$A657,1+AG639,0),0)","v":"2018-12-29"}]
[null,null,null,null,{"$f":"DAY(F639)","v":23},{"$f":"VLOOKUP(F639,Holidays,2)","v":""},null,null,null,{"$f":"DAY(K639)","v":24},{"$f":"VLOOKUP(K639,Holidays,2)","v":""},null,null,null,{"$f":"DAY(P639)","v":25},{"$f":"VLOOKUP(P639,Holidays,2)","v":"Christmas"},null,null,null,{"$f":"DAY(V639)","v":26},{"$f":"VLOOKUP(V639,Holidays,2)","v":""},null,null,null,null,{"$f":"DAY(AA639)","v":27},{"$f":"VLOOKUP(AA639,Holidays,2)","v":0},null,null,null,null,{"$f":"DAY(AG639)","v":28},{"$f":"VLOOKUP(AG639,Holidays,2)","v":0},null,null,null,{"$f":"DAY(AL639)","v":29},{"$f":"VLOOKUP(AL639,Holidays,2)","v":0}]
[{"$f":"UPPER(VLOOKUP(F639,Inputs,4,FALSE))&\"  \"","v":"  "},null,null,null,{"$f":"IF(LEN(A641)>2,A641&VLOOKUP(F639,Inputs,5,FALSE),VLOOKUP(F639,Inputs,5,FALSE))","v":0},null,{"$f":"IF(F639>0,VLOOKUP(F639,Inputs,6,FALSE),\"\")","v":0},{"$f":"UPPER(VLOOKUP(K639,Inputs,4,FALSE))&\"  \"","v":"  "},null,{"$f":"IF(LEN(H641)>2,H641&VLOOKUP(K639,Inputs,5,FALSE),VLOOKUP(K639,Inputs,5,FALSE))","v":0},null,{"$f":"IF(K639>0,VLOOKUP(K639,Inputs,6,FALSE),\"\")","v":0},{"$f":"UPPER(VLOOKUP(P639,Inputs,4,FALSE))&\"  \"","v":"  "},null,{"$f":"IF(LEN(M641)>2,M641&VLOOKUP(P639,Inputs,5,FALSE),VLOOKUP(P639,Inputs,5,FALSE))","v":0},null,{"$f":"IF(P639>0,VLOOKUP(P639,Inputs,6,FALSE),\"\")","v":0},{"$f":"IF(MONTH(V639)=A657,UPPER(VLOOKUP(V639,Inputs,4,FALSE))&\"  \",\"\")","v":"  "},null,{"$f":"IF(MONTH(V639)=A657,IF(LEN(R641)>0,R641&VLOOKUP(V639,Inputs,5,FALSE),VLOOKUP(V639,Inputs,5,FALSE)),\"\")","v":"  "},null,null,{"$f":"IF(MONTH(V639)=A657,IF(V639>0,VLOOKUP(V639,Inputs,6,FALSE),\"\"),0)","v":0},{"$f":"IF(MONTH(AA639)=A657,UPPER(VLOOKUP(AA639,Inputs,4,FALSE))&\"  \",\"\")","v":"  "},null,{"$f":"IF(MONTH(AA639)=A657,IF(LEN(X641)>0,X641&VLOOKUP(AA639,Inputs,5,FALSE),VLOOKUP(AA639,Inputs,5,FALSE)),\"\")","v":"  "},null,null,{"$f":"IF(MONTH(AA639)=A657,IF(AA639>0,VLOOKUP(AA639,Inputs,6,FALSE),\"\"),0)","v":0},{"$f":"IF(MONTH(AG639)=A657,UPPER(VLOOKUP(AG639,Inputs,4,FALSE))&\"  \",\"\")","v":"  "},null,{"$f":"IF(MONTH(AG639)=A657,IF(LEN(AD641)>0,AD641&VLOOKUP(AG639,Inputs,5,FALSE),VLOOKUP(AG639,Inputs,5,FALSE)),\"\")","v":"  "},null,{"$f":"IF(MONTH(AG639)=A657,IF(AG639>0,VLOOKUP(AG639,Inputs,6,FALSE),\"\"),0)","v":0},{"$f":"IF(MONTH(AL639)=A657,UPPER(VLOOKUP(AL639,Inputs,4,FALSE))&\"  \",\"\")","v":"  "},null,{"$f":"IF(MONTH(AL639)=A657,IF(LEN(AI641)>0,AI641&VLOOKUP(AL639,Inputs,5,FALSE),VLOOKUP(AL639,Inputs,5,FALSE)),\"\")","v":"  "},null,{"$f":"IF(MONTH(AL639)=A657,IF(AL639>0,VLOOKUP(AL639,Inputs,6,FALSE),\"\"),0)","v":0},null,null,{"$f":"IF($A641=AP$5,$G641,0)+IF($H641=AP$5,$L641,0)+IF($M641=AP$5,$Q641,0)+IF($R641=AP$5,$W641,0)+IF($X641=AP$5,AC641,0)+IF($AD641=AP$5,AH641,0)+IF(AI641=AP$5,AM641,0)","v":0},{"$f":"IF($A641=AQ$5,$G641,0)+IF($H641=AQ$5,$L641,0)+IF($M641=AQ$5,$Q641,0)+IF($R641=AQ$5,$W641,0)+IF($X641=AQ$5,$AC641,0)+IF($AD641=AQ$5,$AH641,0)+IF($AI641=AQ$5,$AM641,0)","v":0},0,0,0,0,0,0,0,0,0,0,0,0]
[{"$f":"UPPER(VLOOKUP(F639,Inputs,7,FALSE))&\"  \"","v":"  "},null,null,null,{"$f":"IF(LEN(A642)>2,A642&VLOOKUP(F639,Inputs,8,FALSE),VLOOKUP(F639,Inputs,8,FALSE))","v":0},null,{"$f":"IF(F639>0,VLOOKUP(F639,Inputs,9,FALSE),\"\")","v":0},{"$f":"UPPER(VLOOKUP(K639,Inputs,7,FALSE))&\"  \"","v":"  "},null,{"$f":"IF(LEN(H642)>2,H642&VLOOKUP(K639,Inputs,8,FALSE),VLOOKUP(K639,Inputs,8,FALSE))","v":0},null,{"$f":"IF(K639>0,VLOOKUP(K639,Inputs,9,FALSE),\"\")","v":0},{"$f":"UPPER(VLOOKUP(P639,Inputs,7,FALSE))&\"  \"","v":"  "},null,{"$f":"IF(LEN(M642)>2,M642&VLOOKUP(P639,Inputs,8,FALSE),VLOOKUP(P639,Inputs,8,FALSE))","v":0},null,{"$f":"IF(P639>0,VLOOKUP(P639,Inputs,9,FALSE),\"\")","v":0},{"$f":"IF(MONTH(V639)=A657,UPPER(VLOOKUP(V639,Inputs,7,FALSE))&\"  \",\"\")","v":"  "},null,{"$f":"IF(MONTH(V639)=A657,IF(LEN(R642)>0,R642&VLOOKUP(V639,Inputs,8,FALSE),VLOOKUP(V639,Inputs,8,FALSE)),\"\")","v":"  "},null,null,{"$f":"IF(MONTH(V639)=A657,IF(V639>0,VLOOKUP(V639,Inputs,9,FALSE),\"\"),0)","v":0},{"$f":"IF(MONTH(AA639)=A657,UPPER(VLOOKUP(AA639,Inputs,7,FALSE))&\"  \",\"\")","v":"  "},null,{"$f":"IF(MONTH(AA639)=A657,IF(LEN(X642)>0,X642&VLOOKUP(AA639,Inputs,8,FALSE),VLOOKUP(AA639,Inputs,8,FALSE)),\"\")","v":"  "},null,null,{"$f":"IF(MONTH(AA639)=A657,IF(AA639>0,VLOOKUP(AA639,Inputs,9,FALSE),\"\"),0)","v":0},{"$f":"IF(MONTH(AG639)=A657,UPPER(VLOOKUP(AG639,Inputs,7,FALSE))&\"  \",\"\")","v":"  "},null,{"$f":"IF(MONTH(AG639)=A657,IF(LEN(AD642)>0,AD642&VLOOKUP(AG639,Inputs,8,FALSE),VLOOKUP(AG639,Inputs,8,FALSE)),\"\")","v":"  "},null,{"$f":"IF(MONTH(AG639)=A657,IF(AG639>0,VLOOKUP(AG639,Inputs,9,FALSE),\"\"),0)","v":0},{"$f":"IF(MONTH(AL639)=A657,UPPER(VLOOKUP(AL639,Inputs,7,FALSE))&\"  \",\"\")","v":"  "},null,{"$f":"IF(MONTH(AL639)=A657,IF(LEN(AI642)>0,AI642&VLOOKUP(AL639,Inputs,8,FALSE),VLOOKUP(AL639,Inputs,8,FALSE)),\"\")","v":"  "},null,{"$f":"IF(MONTH(AL639)=A657,IF(AL639>0,VLOOKUP(AL639,Inputs,9,FALSE),\"\"),0)","v":0},null,null,{"$f":"IF($A642=AP$5,$G642,0)+IF($H642=AP$5,$L642,0)+IF($M642=AP$5,$Q642,0)+IF($R642=AP$5,$W642,0)+IF($X642=AP$5,AC642,0)+IF($AD642=AP$5,AH642,0)+IF(AI642=AP$5,AM642,0)","v":0},0,0,0,0,0,0,0,0,0,0,0,0,0]
[{"$f":"UPPER(VLOOKUP(F639,Inputs,10,FALSE))&\"  \"","v":"  "},null,null,null,{"$f":"IF(LEN(A643)>2,A643&VLOOKUP(F639,Inputs,11,FALSE),VLOOKUP(F639,Inputs,11,FALSE))","v":0},null,{"$f":"IF(F639>0,VLOOKUP(F639,Inputs,12,FALSE),\"\")","v":0},{"$f":"UPPER(VLOOKUP(K639,Inputs,10,FALSE))&\"  \"","v":"  "},null,{"$f":"IF(LEN(H643)>2,H643&VLOOKUP(K639,Inputs,11,FALSE),VLOOKUP(K639,Inputs,11,FALSE))","v":0},null,{"$f":"IF(K639>0,VLOOKUP(K639,Inputs,12,FALSE),\"\")","v":0},{"$f":"UPPER(VLOOKUP(P639,Inputs,10,FALSE))&\"  \"","v":"  "},null,{"$f":"IF(LEN(M643)>2,M643&VLOOKUP(P639,Inputs,11,FALSE),VLOOKUP(P639,Inputs,11,FALSE))","v":0},null,{"$f":"IF(P639>0,VLOOKUP(P639,Inputs,12,FALSE),\"\")","v":0},{"$f":"IF(MONTH(V639)=A657,UPPER(VLOOKUP(V639,Inputs,10,FALSE))&\"  \",\"\")","v":"  "},null,{"$f":"IF(MONTH(V639)=A657,IF(LEN(R643)>0,R643&VLOOKUP(V639,Inputs,11,FALSE),VLOOKUP(V639,Inputs,11,FALSE)),\"\")","v":"  "},null,null,{"$f":"IF(MONTH(V639)=A657,IF(V639>0,VLOOKUP(V639,Inputs,12,FALSE),\"\"),0)","v":0},{"$f":"IF(MONTH(AA639)=A657,UPPER(VLOOKUP(AA639,Inputs,10,FALSE))&\"  \",\"\")","v":"  "},null,{"$f":"IF(MONTH(AA639)=A657,IF(LEN(X643)>0,X643&VLOOKUP(AA639,Inputs,11,FALSE),VLOOKUP(AA639,Inputs,11,FALSE)),\"\")","v":"  "},null,null,{"$f":"IF(MONTH(AA639)=A657,IF(AA639>0,VLOOKUP(AA639,Inputs,12,FALSE),\"\"),0)","v":0},{"$f":"IF(MONTH(AG639)=A657,UPPER(VLOOKUP(AG639,Inputs,10,FALSE))&\"  \",\"\")","v":"  "},null,{"$f":"IF(MONTH(AG639)=A657,IF(LEN(AD643)>0,AD643&VLOOKUP(AG639,Inputs,11,FALSE),VLOOKUP(AG639,Inputs,11,FALSE)),\"\")","v":"  "},null,{"$f":"IF(MONTH(AG639)=A657,IF(AG639>0,VLOOKUP(AG639,Inputs,12,FALSE),\"\"),0)","v":0},{"$f":"IF(MONTH(AL639)=A657,UPPER(VLOOKUP(AL639,Inputs,10,FALSE))&\"  \",\"\")","v":"  "},null,{"$f":"IF(MONTH(AL639)=A657,IF(LEN(AI643)>0,AI643&VLOOKUP(AL639,Inputs,11,FALSE),VLOOKUP(AL639,Inputs,11,FALSE)),\"\")","v":"  "},null,{"$f":"IF(MONTH(AL639)=A657,IF(AL639>0,VLOOKUP(AL639,Inputs,12,FALSE),\"\"),0)","v":0},null,null,{"$f":"IF($A643=AP$5,$G643,0)+IF($H643=AP$5,$L643,0)+IF($M643=AP$5,$Q643,0)+IF($R643=AP$5,$W643,0)+IF($X643=AP$5,AC643,0)+IF($AD643=AP$5,AH643,0)+IF(AI643=AP$5,AM643,0)","v":0},0,0,0,0,0,0,0,0,0,0,0,0,0]
[{"$f":"UPPER(VLOOKUP(F639,Inputs,13,FALSE))&\"  \"","v":"  "},null,null,null,{"$f":"IF(LEN(A644)>2,A644&VLOOKUP(F639,Inputs,14,FALSE),VLOOKUP(F639,Inputs,14,FALSE))","v":0},null,{"$f":"IF(F639>0,VLOOKUP(F639,Inputs,15,FALSE),\"\")","v":0},{"$f":"UPPER(VLOOKUP(K639,Inputs,13,FALSE))&\"  \"","v":"  "},null,{"$f":"IF(LEN(H644)>2,H644&VLOOKUP(K639,Inputs,14,FALSE),VLOOKUP(K639,Inputs,14,FALSE))","v":0},null,{"$f":"IF(K639>0,VLOOKUP(K639,Inputs,15,FALSE),\"\")","v":0},{"$f":"UPPER(VLOOKUP(P639,Inputs,13,FALSE))&\"  \"","v":"  "},null,{"$f":"IF(LEN(M644)>2,M644&VLOOKUP(P639,Inputs,14,FALSE),VLOOKUP(P639,Inputs,14,FALSE))","v":0},null,{"$f":"IF(P639>0,VLOOKUP(P639,Inputs,15,FALSE),\"\")","v":0},{"$f":"IF(MONTH(V639)=A657,UPPER(VLOOKUP(V639,Inputs,13,FALSE))&\"  \",\"\")","v":"  "},null,{"$f":"IF(MONTH(V639)=A657,IF(LEN(R644)>0,R644&VLOOKUP(V639,Inputs,14,FALSE),VLOOKUP(V639,Inputs,14,FALSE)),\"\")","v":"  "},null,null,{"$f":"IF(MONTH(V639)=A657,IF(V639>0,VLOOKUP(V639,Inputs,15,FALSE),\"\"),0)","v":0},{"$f":"IF(MONTH(AA639)=A657,UPPER(VLOOKUP(AA639,Inputs,13,FALSE))&\"  \",\"\")","v":"  "},null,{"$f":"IF(MONTH(AA639)=A657,IF(LEN(X644)>0,X644&VLOOKUP(AA639,Inputs,14,FALSE),VLOOKUP(AA639,Inputs,14,FALSE)),\"\")","v":"  "},null,null,{"$f":"IF(MONTH(AA639)=A657,IF(AA639>0,VLOOKUP(AA639,Inputs,15,FALSE),\"\"),0)","v":0},{"$f":"IF(MONTH(AG639)=A657,UPPER(VLOOKUP(AG639,Inputs,13,FALSE))&\"  \",\"\")","v":"  "},null,{"$f":"IF(MONTH(AG639)=A657,IF(LEN(AD644)>0,AD644&VLOOKUP(AG639,Inputs,14,FALSE),VLOOKUP(AG639,Inputs,14,FALSE)),\"\")","v":"  "},null,{"$f":"IF(MONTH(AG639)=A657,IF(AG639>0,VLOOKUP(AG639,Inputs,15,FALSE),\"\"),0)","v":0},{"$f":"IF(MONTH(AL639)=A657,UPPER(VLOOKUP(AL639,Inputs,13,FALSE))&\"  \",\"\")","v":"  "},null,{"$f":"IF(MONTH(AL639)=A657,IF(LEN(AI644)>0,AI644&VLOOKUP(AL639,Inputs,14,FALSE),VLOOKUP(AL639,Inputs,14,FALSE)),\"\")","v":"  "},null,{"$f":"IF(MONTH(AL639)=A657,IF(AL639>0,VLOOKUP(AL639,Inputs,15,FALSE),\"\"),0)","v":0},null,null,{"$f":"IF($A644=AP$5,$G644,0)+IF($H644=AP$5,$L644,0)+IF($M644=AP$5,$Q644,0)+IF($R644=AP$5,$W644,0)+IF($X644=AP$5,AC644,0)+IF($AD644=AP$5,AH644,0)+IF(AI644=AP$5,AM644,0)","v":0},0,0,0,0,0,0,0,0,0,0,0,0,0]
[null,null,null,null,null,{"$f":"IF(F639>0,IF(VLOOKUP(F639,Inputs,3,FALSE)=\"T\",\"Telemarketing\",0),\"\")","v":0},null,null,null,null,{"$f":"IF(VLOOKUP(K639-1,Inputs,3,FALSE)=\"T\",0,IF(VLOOKUP(K639,Inputs,3,FALSE)=\"T\",\"Telemarketing\",0))","v":0},null,null,null,null,{"$f":"IF(VLOOKUP(P639-1,Inputs,3,FALSE)=\"T\",0,IF(VLOOKUP(P639,Inputs,3,FALSE)=\"T\",\"Telemarketing\",0))","v":0},null,null,null,null,null,{"$f":"IF(VLOOKUP(V639-1,Inputs,3,FALSE)=\"T\",0,IF(VLOOKUP(V639,Inputs,3,FALSE)=\"T\",\"Telemarketing\",0))","v":0},null,null,null,null,{"$f":"IF(VLOOKUP(AA639-1,Inputs,3,FALSE)=\"T\",0,IF(VLOOKUP(AA639,Inputs,3,FALSE)=\"T\",\"Telemarketing\",0))","v":0},null,null,null,null,null,{"$f":"IF(VLOOKUP(AG639-1,Inputs,3,FALSE)=\"T\",0,IF(VLOOKUP(AG639,Inputs,3,FALSE)=\"T\",\"Telemarketing\",0))","v":0},null,null,null,null,{"$f":"IF(VLOOKUP(AL639-1,Inputs,3,FALSE)=\"T\",0,IF(VLOOKUP(AL639,Inputs,3,FALSE)=\"T\",\"Telemarketing\",0))","v":0}]
[null,null,null,null,null,{"$f":"IF(AL639>0,IF(MONTH(1+AL639)=$A657,1+AL639,0),0)","v":"2018-12-30"},null,null,null,null,{"$f":"IF(F646>0,IF(MONTH(1+F646)=$A657,1+F646,0),0)","v":"2018-12-31"},null,null,null,null,null,null,null,null,null,null,null,null,null,null,null,null,null,null,null,null,null,null,null,null,null,null,{"$f":"IF(AG646>0,IF(MONTH(1+AG646)=$A657,1+AG646,0),0)","v":"00:00:00"}]
[null,null,null,null,{"$f":"DAY(F646)","v":30},{"$f":"VLOOKUP(F646,Holidays,2)","v":""},null,null,null,{"$f":"DAY(K646)","v":31},{"$f":"VLOOKUP(K646,Holidays,2)","v":""},null,null,null,{"$f":"DAY(P646)","v":0},{"$f":"VLOOKUP(P646,Holidays,2)","v":0},null,null,null,{"$f":"DAY(V646)","v":0},{"$f":"VLOOKUP(V646,Holidays,2)","v":0},null,null,null,null,{"$f":"DAY(AA646)","v":0},{"$f":"VLOOKUP(AA646,Holidays,2)","v":0},null,null,null,null,{"$f":"DAY(AG646)","v":0},{"$f":"VLOOKUP(AG646,Holidays,2)","v":0},null,null,null,{"$f":"DAY(AL646)","v":0},{"$f":"VLOOKUP(AL646,Holidays,2)","v":0}]
[{"$f":"IF(MONTH(F$646)=A$657,UPPER(VLOOKUP(F$646,Inputs,4,FALSE))&\"  \",\"\")","v":"  "},null,null,null,{"$f":"IF(MONTH(F646)=A657,IF(LEN(A648)>0,A648&VLOOKUP(F646,Inputs,5,FALSE),VLOOKUP(F646,Inputs,5,FALSE)),\"\")","v":"  "},null,{"$f":"IF(MONTH(F646)=A657,IF(F646>0,VLOOKUP(F646,Inputs,6,FALSE),\"\"),0)","v":0},{"$f":"IF(MONTH(K646)=A657,UPPER(VLOOKUP(K646,Inputs,4,FALSE))&\"  \",\"\")","v":"  "},null,{"$f":"IF(MONTH(K646)=A657,IF(LEN(H648)>2,H648&VLOOKUP(K646,Inputs,5,FALSE),VLOOKUP(K646,Inputs,5,FALSE)),\"\")","v":0},null,{"$f":"IF(MONTH(K646)=A657,IF(K646>0,VLOOKUP(K646,Inputs,6,FALSE),\"\"),0)","v":0},{"$f":"IF(MONTH(P646)=A657,UPPER(VLOOKUP(P646,Inputs,4,FALSE))&\"  \",\"\")","v":""},null,null,null,{"$f":"IF(MONTH(P646)=A657,IF(P646>0,VLOOKUP(P646,Inputs,6,FALSE),\"\"),0)","v":0},null,null,null,null,null,null,null,null,null,null,null,null,null,null,null,null,null,null,null,null,null,null,null,null,{"$f":"IF($A648=AP$5,$G648,0)+IF($H648=AP$5,$L648,0)+IF($M648=AP$5,$Q648,0)+IF($R648=AP$5,$W648,0)+IF($X648=AP$5,AC648,0)+IF($AD648=AP$5,AH648,0)+IF(AI648=AP$5,AM648,0)","v":0},{"$f":"IF($A648=AQ$5,$G648,0)+IF($H648=AQ$5,$L648,0)+IF($M648=AQ$5,$Q648,0)+IF($R648=AQ$5,$W648,0)+IF($X648=AQ$5,$AC648,0)+IF($AD648=AQ$5,$AH648,0)+IF($AI648=AQ$5,$AM648,0)","v":0},0,0,0,0,0,0,0,0,0,0,0,0]
[{"$f":"IF(MONTH(F$646)=A$657,UPPER(VLOOKUP(F$646,Inputs,4,FALSE))&\"  \",\"\")","v":"  "},null,null,null,{"$f":"IF(MONTH(F646)=A657,IF(LEN(A649)>0,A649&VLOOKUP(F646,Inputs,8,FALSE),VLOOKUP(F646,Inputs,8,FALSE)),\"\")","v":"  "},null,{"$f":"IF(MONTH(F646)=A657,IF(F646>0,VLOOKUP(F646,Inputs,9,FALSE),\"\"),0)","v":0},{"$f":"IF(MONTH(K646)=A657,UPPER(VLOOKUP(K646,Inputs,7,FALSE))&\"  \",\"\")","v":"  "},null,{"$f":"IF(MONTH(K646)=A657,IF(LEN(H649)>2,H649&VLOOKUP(K646,Inputs,8,FALSE),VLOOKUP(K646,Inputs,8,FALSE)),\"\")","v":0},null,{"$f":"IF(MONTH(K646)=A657,IF(K646>0,VLOOKUP(K646,Inputs,9,FALSE),\"\"),0)","v":0},{"$f":"IF(MONTH(P646)=A657,UPPER(VLOOKUP(P646,Inputs,7,FALSE))&\"  \",\"\")","v":""},null,null,null,{"$f":"IF(MONTH(P646)=A657,IF(P646>0,VLOOKUP(P646,Inputs,9,FALSE),\"\"),0)","v":0},null,null,null,null,null,null,null,null,null,null,null,null,null,null,null,null,null,null,null,null,null,null,null,null,{"$f":"IF($A649=AP$5,$G649,0)+IF($H649=AP$5,$L649,0)+IF($M649=AP$5,$Q649,0)+IF($R649=AP$5,$W649,0)+IF($X649=AP$5,AC649,0)+IF($AD649=AP$5,AH649,0)+IF(AI649=AP$5,AM649,0)","v":0},0,0,0,0,0,0,0,0,0,0,0,0,0]
[{"$f":"IF(MONTH(F$646)=A$657,UPPER(VLOOKUP(F$646,Inputs,4,FALSE))&\"  \",\"\")","v":"  "},null,null,null,{"$f":"IF(MONTH(F646)=A657,IF(LEN(A650)>0,A650&VLOOKUP(F646,Inputs,11,FALSE),VLOOKUP(F646,Inputs,11,FALSE)),\"\")","v":"  "},null,{"$f":"IF(MONTH(F646)=A657,IF(F646>0,VLOOKUP(F646,Inputs,12,FALSE),\"\"),0)","v":0},{"$f":"IF(MONTH(K646)=A657,UPPER(VLOOKUP(K646,Inputs,10,FALSE))&\"  \",\"\")","v":"  "},null,{"$f":"IF(MONTH(K646)=A657,IF(LEN(H650)>2,H650&VLOOKUP(K646,Inputs,11,FALSE),VLOOKUP(K646,Inputs,11,FALSE)),\"\")","v":0},null,{"$f":"IF(MONTH(K646)=A657,IF(K646>0,VLOOKUP(K646,Inputs,12,FALSE),\"\"),0)","v":0},{"$f":"IF(MONTH(P646)=A657,UPPER(VLOOKUP(P646,Inputs,10,FALSE))&\"  \",\"\")","v":""},null,null,null,{"$f":"IF(MONTH(P646)=A657,IF(P646>0,VLOOKUP(P646,Inputs,12,FALSE),\"\"),0)","v":0},null,null,null,null,null,null,null,null,null,null,null,null,null,null,null,null,null,null,null,null,null,null,null,null,{"$f":"IF($A650=AP$5,$G650,0)+IF($H650=AP$5,$L650,0)+IF($M650=AP$5,$Q650,0)+IF($R650=AP$5,$W650,0)+IF($X650=AP$5,AC650,0)+IF($AD650=AP$5,AH650,0)+IF(AI650=AP$5,AM650,0)","v":0},0,0,0,0,0,0,0,0,0,0,0,0,0]
[{"$f":"IF(MONTH(F$646)=A$657,UPPER(VLOOKUP(F$646,Inputs,4,FALSE))&\"  \",\"\")","v":"  "},null,null,null,{"$f":"IF(MONTH(F646)=A657,IF(LEN(A651)>0,A651&VLOOKUP(F646,Inputs,14,FALSE),VLOOKUP(F646,Inputs,14,FALSE)),\"\")","v":"  "},null,{"$f":"IF(MONTH(F646)=A657,IF(F646>0,VLOOKUP(F646,Inputs,15,FALSE),\"\"),0)","v":0},{"$f":"IF(MONTH(K646)=A657,UPPER(VLOOKUP(K646,Inputs,13,FALSE))&\"  \",\"\")","v":"  "},null,{"$f":"IF(MONTH(K646)=A657,IF(LEN(H651)>2,H651&VLOOKUP(K646,Inputs,14,FALSE),VLOOKUP(K646,Inputs,14,FALSE)),\"\")","v":0},null,{"$f":"IF(MONTH(K646)=A657,IF(K646>0,VLOOKUP(K646,Inputs,15,FALSE),\"\"),0)","v":0},{"$f":"IF(MONTH(P646)=A657,UPPER(VLOOKUP(P646,Inputs,13,FALSE))&\"  \",\"\")","v":""},null,null,null,{"$f":"IF(MONTH(P646)=A657,IF(P646>0,VLOOKUP(P646,Inputs,15,FALSE),\"\"),0)","v":0},null,null,null,null,null,null,null,null,null,null,null,null,null,null,null,null,null,null,null,null,null,null,null,null,{"$f":"IF($A651=AP$5,$G651,0)+IF($H651=AP$5,$L651,0)+IF($M651=AP$5,$Q651,0)+IF($R651=AP$5,$W651,0)+IF($X651=AP$5,AC651,0)+IF($AD651=AP$5,AH651,0)+IF(AI651=AP$5,AM651,0)","v":0},0,0,0,0,0,0,0,0,0,0,0,0,0]
[null,null,null,null,null,{"$f":"IF(F646>0,IF(VLOOKUP(F646,Inputs,3,FALSE)=\"T\",\"Telemarketing\",0),\"\")","v":0},null,null,null,null,{"$f":"IF(VLOOKUP(K646-1,Inputs,3,FALSE)=\"T\",0,IF(VLOOKUP(K646,Inputs,3,FALSE)=\"T\",\"Telemarketing\",0))","v":0},null,null,null,null,null,null,null,null,null,null,null,null,null,null,null,null,null,null,null,null,null,null,null,null,null,null,null,null,null,null,{"$f":"SUM(AP612:AP651)","v":0},0,0,0,0,0,0,0,{"$f":"SUM(AX612:AX651)","v":0},0,0,0,0,0]
[]
[null,null,null,null,{"$f":"\"CODE KEY:  \"&'Company Setup'!L$22&'Company Setup'!L$23&'Company Setup'!L$24&'Company Setup'!L$25&'Company Setup'!L$26&'Company Setup'!L$27&'Company Setup'!L$28&'Company Setup'!L$29&'Company Setup'!L$30&'Company Setup'!L$31&'Company Setup'!L$32&'Company Setup'!L$33&'Company Setup'!L$33&'Company Setup'!L$34&'Company Setup'!L$35","v":"CODE KEY:  B=Broadcast, L=Letter, P=Postcard, F=Flyer, H=Hanger, I=Newspaper Ads, N=Newsletter, E=E-Mail, A=Banner Ads, Y=Yellow Pages, "}]
[null,null,null,null,null,null,null,null,null,null,null,null,null,null,null,null,null,null,null,null,null,null,null,null,null,{"$f":"'Company Setup'!D$30","v":"Broadcast"},{"$f":"AP652","v":0},null,null,null,null,null,null,{"$f":"'Company Setup'!D$29","v":"E-Mail"},null,null,{"$f":"AW652","v":0}]
[null,null,null,null,null,null,"Revenue Budget",null,null,{"$f":"VLOOKUP(A657,ClientTable,2,FALSE)","v":86677},null,null,null,null,null,{"$f":"'Company Setup'!$E$5","v":"Reviews"},{"$f":"VLOOKUP(A657,ClientTable,3)","v":0},null,null,null,null,null,null,null,null,{"$f":"'Company Setup'!D$23","v":"Letter"},{"$f":"AQ652","v":0},null,null,null,null,null,null,{"$f":"'Company Setup'!D30","v":"Broadcast"},null,null,{"$f":"AX652","v":0}]
[{"$f":"IF(A602=12,1,A602+1)","v":12},null,null,null,null,null,"Monthly Marketing Budget",null,null,{"$f":"VLOOKUP(A657,ClientTable,7,FALSE)*VLOOKUP(A657,ClientTable,2,FALSE)","v":4333.8500000000004},null,null,null,null,null,{"$f":"'Company Setup'!$F$5","v":"SEO"},{"$f":"VLOOKUP(A657,ClientTable,4)","v":0},null,null,null,null,null,null,null,null,{"$f":"'Company Setup'!D$24","v":"Postcard"},{"$f":"AR652","v":0},null,null,null,null,null,null,{"$f":"'Company Setup'!D$31","v":"Banner Ads"},null,null,{"$f":"AY652","v":0}]
[{"$f":"VLOOKUP(A657,ClientTable,9)","v":12},null,null,null,null,null,"Month's End Marketing Cost",null,null,{"$f":"SUM(AK655:AK660)+SUM(AA655:AA661)+SUM(Q655:Q661)","v":0},null,null,null,null,null,{"$f":"'Company Setup'!$H$5","v":"Community Events"},{"$f":"VLOOKUP(A657,ClientTable,5)","v":0},null,null,null,null,null,null,null,null,{"$f":"'Company Setup'!D$25","v":"Flyer"},{"$f":"AS652","v":0},null,null,null,null,null,null,{"$f":"'Company Setup'!D$32","v":"Yellow Pages"},null,null,{"$f":"AZ652","v":0}]
[null,null,null,null,null,null,"Variance",null,null,{"$f":"J658-J657","v":-4333.8500000000004},null,null,null,null,null,{"$f":"'Company Setup'!G5","v":"Shows & Contests"},{"$f":"VLOOKUP(A657,ClientTable,6)","v":0},null,null,null,null,null,null,null,null,{"$f":"'Company Setup'!D$26","v":"Hanger"},{"$f":"AT652","v":0},null,null,null,null,null,null,{"$f":"'Company Setup'!D$33","v":0},null,null,{"$f":"BA652","v":0}]
[null,null,null,null,null,null,null,null,null,null,null,null,null,null,null,null,null,null,null,null,null,null,null,null,null,{"$f":"'Company Setup'!D$27","v":"Newspaper Ads"},{"$f":"AU652","v":0},null,null,null,null,null,null,{"$f":"'Company Setup'!D$34","v":0},null,null,{"$f":"BB652","v":0}]
[null,null,null,{"$f":"MONTH(StartMonth)","v":{"$error":"#VALUE!"}},"©",{"$f":"+F56","v":"Bedrock Markets, Inc. 2000 - 2100"},null,null,null,null,null,null,null,null,null,null,null,null,null,null,null,null,null,null,null,{"$f":"'Company Setup'!D$28","v":"Newsletter"},{"$f":"AV652","v":0},null,null,null,null,null,null,{"$f":"'Company Setup'!D$35","v":0},null,null,{"$f":"BC652","v":0}]
[]
[null,null,null,null,{"$f":"P$3&\" \"&IF(StartMonth=\"January\",CurrYear,CurrYear&\"/\"&CurrYear+1)&\" Marketing Summary\"","v":"   ABC Heating and Air 2018 Marketing Summary"}]
[]
[]
[null,null,null,null,null,null,null,null,null,null,null,null,null,null,null,null,"Revenue Budget",null,null,null,{"$f":"J51+J106+J161+J216+J271+J326+J381+J436+J491+J546+J601+J656","v":1040124}]
[null,null,null,null,null,null,null,null,null,null,null,null,null,null,null,null,"Monthly Marketing Budget",null,null,null,{"$f":"J52+J107+J162+J217+J272+J327+J382+J437+J492+J547+J602+J657","v":52006.19999999999}]
[12,null,null,null,null,null,null,null,null,null,null,null,null,null,null,null,"Month's End Marketing Cost",null,null,null,{"$f":"J53+J108+J163+J218+J273+J328+J383+J438+J493+J548+J603+J658","v":0}]
[null,null,null,null,null,null,null,null,null,null,null,null,null,null,null,null,"Variance",null,null,null,{"$f":"U668-U667","v":-52006.19999999999},null,null,null,null,null,null,null,null,null,null,null,null,null,null,null,null,null,null,null,null,null,null,null,null,null,null,null,null,null,null,null,null,null,null,null,"530-345-3280"]
[null,null,null,null,null,null,null,null,null,null,null,null,null,null,null,null,null,null,null,null,null,null,null,null,null,null,null,null,null,null,null,null,null,null,null,null,null,null,null,null,null,null,null,null,null,null,null,null,null,null,null,null,null,null,null,null,"2540 Zanella Way, Suite 20"]
[null,null,null,null,null,null,null,null,null,null,null,null,null,null,null,null,null,null,null,null,null,null,null,null,null,null,null,null,null,null,null,null,null,null,null,null,null,null,null,null,null,null,null,null,null,null,null,null,null,null,null,null,null,null,null,null,"    Chico, CA 95928"]
[null,null,null,null,null,null,{"$f":"'Company Setup'!$E$5","v":"Reviews"},null,null,null,{"$f":"Q51+Q106+Q161+Q216+Q271+Q326+Q381+Q436+Q491+Q546+Q601+Q656","v":0},null,null,null,null,null,{"$f":"'Company Setup'!D30","v":"Broadcast"},null,null,null,{"$f":"AA50+AA105+AA160+AA215+AA270+AA325+AA380+AA435+AA490+AA545+AA600+AA655","v":0},null,null,null,null,null,null,null,{"$f":"'Company Setup'!D29","v":"E-Mail"},null,null,null,{"$f":"AK50+AK105+AK160+AK215+AK270+AK325+AK380+AK435+AK490+AK545+AK600+AK655","v":0}]
[null,null,null,null,null,null,{"$f":"'Company Setup'!$F$5","v":"SEO"},null,null,null,{"$f":"Q52+Q107+Q162+Q217+Q272+Q327+Q382+Q437+Q492+Q547+Q602+Q657","v":0},null,null,null,null,null,{"$f":"'Company Setup'!D23","v":"Letter"},null,null,null,{"$f":"AA51+AA106+AA161+AA216+AA271+AA326+AA381+AA436+AA491+AA546+AA601+AA656","v":0},null,null,null,null,null,null,null,{"$f":"'Company Setup'!D30","v":"Broadcast"},null,null,null,0,null,null,null,null,null,null,null,null,null,null,null,null,null,null,null,null,null,null,null,null,null,null,null,"      TheBedrock.com"]
[null,null,null,null,null,null,{"$f":"'Company Setup'!$H$5","v":"Community Events"},null,null,null,{"$f":"Q53+Q108+Q163+Q218+Q273+Q328+Q383+Q438+Q493+Q548+Q603+Q658","v":0},null,null,null,null,null,{"$f":"'Company Setup'!D24","v":"Postcard"},null,null,null,0,null,null,null,null,null,null,null,{"$f":"'Company Setup'!D31","v":"Banner Ads"},null,null,null,0]
[null,null,null,null,null,null,{"$f":"'Company Setup'!G5","v":"Shows & Contests"},null,null,null,{"$f":"Q54+Q109+Q164+Q219+Q274+Q329+Q384+Q439+Q494+Q549+Q604+Q659","v":0},null,null,null,null,null,{"$f":"'Company Setup'!D25","v":"Flyer"},null,null,null,0,null,null,null,null,null,null,null,{"$f":"'Company Setup'!D32","v":"Yellow Pages"},null,null,null,0]
[null,null,null,null,null,null,null,null,null,null,null,null,null,null,null,null,{"$f":"'Company Setup'!D26","v":"Hanger"},null,null,null,0,null,null,null,null,null,null,null,{"$f":"'Company Setup'!D33","v":0},null,null,null,0]
[null,null,null,null,null,null,null,null,null,null,null,null,null,null,null,null,{"$f":"'Company Setup'!D27","v":"Newspaper Ads"},null,null,null,0,null,null,null,null,null,null,null,{"$f":"'Company Setup'!D34","v":0},null,null,null,0]
[null,null,null,null,null,null,null,null,null,null,null,null,null,null,null,null,{"$f":"'Company Setup'!D28","v":"Newsletter"},null,null,null,0,null,null,null,null,null,null,null,{"$f":"'Company Setup'!D35","v":0},null,null,null,0]
[]
[]
[null,null,null,null,"©",{"$f":"+F56","v":"Bedrock Markets, Inc. 2000 - 2100"},null,null,null,null,null,null,null,null,null,null,null,null,null,null,null,null,null,null,null,null,null,null,null,null,null,null,null,null,null,null,null,null,null,null,null,{"$f":"'Company Setup'!#REF!","v":{"$error":"#REF!"}},null,null,null,{"$f":"R54+AK111+AK166+AK221+AK276+AK331+AK386+AK441+AK496+AK551+AK606+AK661","v":0}]

{"sheet":"Calendar","index":4,"n_rows":705,"n_cols":46,"rows_kept":705,"cut":false,"hidden":false,"merged":[]}
["    This calendar can be printed by clicking on the printer icon in the toolbar",null,null,null,null,null,null,null,null,null,null,null,null,null,null,null,null,null,{"$f":"VLOOKUP(StartMonth,MonthLookup3,2)","v":1}]
[{"$f":"VLOOKUP(StartMonth,MonthLookup,2)","v":1},null,null,null,null,null,null,null,null,null,null,null,null,null,null,null,null,null,"Calendar Table",null,null,null,null,null,null,null,null,null,null,null,null,null,null,null,null,null,null,null,"Holiday Table"]
[null,{"$f":"IF(StartMonth=\"January\",CurrYear&\" \",CurrYear&\"/\"&CurrYear+1&\" \")&'Company Setup'!E2&\" Accounting Calendar\"","v":"2018 ABC Heating and Air Accounting Calendar"},null,null,null,null,null,null,null,null,null,null,null,null,null,null,null,null,"date","day of week","weekday code","Display","Holiday Label",null,null,"DayTable",null,null,"LeapYrTable",null,null,"Months Table",null,null,null,null,"Easter Dates",null,"date","Holidays"]
["Week",{"$f":"UPPER(StartMonth)","v":"JANUARY"},null,null,null,null,null,null,{"$f":"IF(A44=12,1,A44+1)","v":7},{"$f":"UPPER(VLOOKUP(I4,Monthlookup2,2))","v":"JULY"},null,null,null,null,null,null,"Week",null,{"$f":"DATE(CurrYear,VLOOKUP(StartMonth,MonthLookup3,2),1)","v":"2018-01-01"},{"$f":"VLOOKUP(U4,DayTable,2,FALSE)","v":"M"},{"$f":"WEEKDAY(S4,1)","v":2},{"$f":"DAY(S4)","v":1},null,{"$f":"CurrYear","v":2018},{"$f":"StartMonth","v":"January"},1,"Su","Sun",2000,1,null,"Start Date","Month",null,null,null,"2000-04-23",null,"00:00:00"]
["#","S","M","T","W","T","F","S",null,"S","M","T","W","T","F","S","#",null,{"$f":"1+S4","v":"2018-01-02"},"T",3,{"$f":"DAY(S5)","v":2},null,null,null,2,"M","Mon",2001,0,null,"2002-01-01","1 January","Jan","January",null,"2001-04-15",null,{"$f":"DATE(CurrYear,1,1)","v":"2018-01-01"},"New Years Day",{"$f":"VLOOKUP(WEEKDAY(AM5,1),DayTable,2,FALSE)","v":"M"},1]
[1,{"$f":"IF(U4=1,1,0)","v":0},{"$f":"IF(B6>0,1+B6,IF($U$4=2,1,0))","v":1},{"$f":"IF(C6>0,1+C6,IF($U$4=3,1,0))","v":2},{"$f":"IF(D6>0,1+D6,IF($U$4=4,1,0))","v":3},{"$f":"IF(E6>0,1+E6,IF($U$4=5,1,0))","v":4},{"$f":"IF(F6>0,1+F6,IF($U$4=6,1,0))","v":5},{"$f":"G6+1","v":6},null,{"$f":"'Marketing Calendar'!E337","v":1},{"$f":"'Marketing Calendar'!J337","v":2},{"$f":"'Marketing Calendar'!O337","v":3},{"$f":"'Marketing Calendar'!T337","v":4},{"$f":"'Marketing Calendar'!Z337","v":5},{"$f":"'Marketing Calendar'!AF337","v":6},{"$f":"'Marketing Calendar'!AK337","v":7},{"$f":"IF(A51>1,A51,IF(AND(A50>1,H50>1),A50+1,A50))","v":27},null,{"$f":"1+S5","v":"2018-01-03"},"W",4,{"$f":"DAY(S6)","v":3},null,null,null,3,"T","Tue",2002,0,null,"2002-01-21","21 January","Feb","February",null,"2002-03-31",null,{"$f":"1+AM5","v":"2018-01-02"},null,{"$f":"VLOOKUP(WEEKDAY(AM6,1),DayTable,2,FALSE)","v":"T"}]
[{"$f":"A6+1","v":2},{"$f":"'Marketing Calendar'!E14","v":7},{"$f":"'Marketing Calendar'!J14","v":8},{"$f":"'Marketing Calendar'!O14","v":9},{"$f":"'Marketing Calendar'!T14","v":10},{"$f":"'Marketing Calendar'!Z14","v":11},{"$f":"'Marketing Calendar'!AF14","v":12},{"$f":"'Marketing Calendar'!AK14","v":13},null,{"$f":"'Marketing Calendar'!E344","v":8},{"$f":"'Marketing Calendar'!J344","v":9},{"$f":"'Marketing Calendar'!O344","v":10},{"$f":"'Marketing Calendar'!T344","v":11},{"$f":"'Marketing Calendar'!Z344","v":12},{"$f":"'Marketing Calendar'!AF344","v":13},{"$f":"'Marketing Calendar'!AK344","v":14},{"$f":"Q6+1","v":28},null,"2018-01-04","Th",5,4,null,null,null,4,"W","Wed",2003,0,null,"2002-02-18","18 February","Mar","March",null,"2003-04-20",null,{"$f":"1+AM6","v":"2018-01-03"},null,"W"]
[{"$f":"A7+1","v":3},{"$f":"'Marketing Calendar'!E21","v":14},{"$f":"'Marketing Calendar'!J21","v":15},{"$f":"'Marketing Calendar'!O21","v":16},{"$f":"'Marketing Calendar'!T21","v":17},{"$f":"'Marketing Calendar'!Z21","v":18},{"$f":"'Marketing Calendar'!AF21","v":19},{"$f":"'Marketing Calendar'!AK21","v":20},null,{"$f":"'Marketing Calendar'!E351","v":15},{"$f":"'Marketing Calendar'!J351","v":16},{"$f":"'Marketing Calendar'!O351","v":17},{"$f":"'Marketing Calendar'!T351","v":18},{"$f":"'Marketing Calendar'!Z351","v":19},{"$f":"'Marketing Calendar'!AF351","v":20},{"$f":"'Marketing Calendar'!AK351","v":21},{"$f":"Q7+1","v":29},null,"2018-01-05","F",6,5,null,null,null,5,"Th","Thu",2004,1,null,"2002-03-25","25 March","Apr","April",null,"2004-04-11",null,"2018-01-04",null,"Th"]
[{"$f":"A8+1","v":4},{"$f":"'Marketing Calendar'!E28","v":21},{"$f":"'Marketing Calendar'!J28","v":22},{"$f":"'Marketing Calendar'!O28","v":23},{"$f":"'Marketing Calendar'!T28","v":24},{"$f":"'Marketing Calendar'!Z28","v":25},{"$f":"'Marketing Calendar'!AF28","v":26},{"$f":"'Marketing Calendar'!AK28","v":27},null,{"$f":"'Marketing Calendar'!E358","v":22},{"$f":"'Marketing Calendar'!J358","v":23},{"$f":"'Marketing Calendar'!O358","v":24},{"$f":"'Marketing Calendar'!T358","v":25},{"$f":"'Marketing Calendar'!Z358","v":26},{"$f":"'Marketing Calendar'!AF358","v":27},{"$f":"'Marketing Calendar'!AK358","v":28},{"$f":"Q8+1","v":30},null,"2018-01-06","Sa",7,6,null,null,null,6,"F","Fri",2005,0,null,"2002-04-22","22 April","May","May",null,"2005-03-27",null,"2018-01-05",null,"F"]
[{"$f":"IF(B10>1,A9+1,0)","v":5},{"$f":"'Marketing Calendar'!E35","v":28},{"$f":"'Marketing Calendar'!J35","v":29},{"$f":"'Marketing Calendar'!O35","v":30},{"$f":"'Marketing Calendar'!T35","v":31},{"$f":"'Marketing Calendar'!Z35","v":0},{"$f":"'Marketing Calendar'!AF35","v":0},{"$f":"'Marketing Calendar'!AK35","v":0},null,{"$f":"'Marketing Calendar'!E365","v":29},{"$f":"'Marketing Calendar'!J365","v":30},{"$f":"'Marketing Calendar'!O365","v":31},{"$f":"'Marketing Calendar'!T365","v":0},{"$f":"'Marketing Calendar'!Z365","v":0},{"$f":"'Marketing Calendar'!AF365","v":0},{"$f":"'Marketing Calendar'!AK365","v":0},{"$f":"IF(J10>1,Q9+1,0)","v":31},null,"2018-01-07","Su",1,7,null,null,null,7,"Sa","Sat",2006,0,null,"2002-05-20","20 May","Jun","June",null,"2006-04-16",null,"2018-01-06",null,"Sa"]
[{"$f":"IF(B11>1,A10+1,0)","v":0},{"$f":"'Marketing Calendar'!E42","v":0},{"$f":"'Marketing Calendar'!J42","v":0},{"$f":"'Marketing Calendar'!O42","v":0},{"$f":"'Marketing Calendar'!T42","v":0},{"$f":"'Marketing Calendar'!Z42","v":0},{"$f":"'Marketing Calendar'!AF42","v":0},{"$f":"'Marketing Calendar'!AK42","v":0},null,{"$f":"'Marketing Calendar'!E372","v":0},{"$f":"'Marketing Calendar'!J372","v":0},{"$f":"'Marketing Calendar'!O372","v":0},{"$f":"'Marketing Calendar'!T372","v":0},{"$f":"'Marketing Calendar'!Z372","v":0},{"$f":"'Marketing Calendar'!AF372","v":0},{"$f":"'Marketing Calendar'!AK372","v":0},{"$f":"IF(J11>1,Q10+1,0)","v":0},null,"2018-01-08","M",2,8,null,null,null,null,null,null,2007,0,null,"2002-06-24","24 June","Jul","July",null,"2007-04-08",null,"2018-01-07",null,"Su"]
[{"$f":"IF(A2=12,1,A2+1)","v":2},{"$f":"UPPER(VLOOKUP(A12,Monthlookup2,2))","v":"FEBRUARY"},null,null,null,null,null,null,{"$f":"IF(I4=12,1,I4+1)","v":8},{"$f":"UPPER(VLOOKUP(I12,Monthlookup2,2))","v":"AUGUST"},null,null,null,null,null,null,null,null,"2018-01-09","T",3,9,null,null,null,null,null,null,2008,1,null,"2002-07-22","22 July","Aug","August",null,"2008-03-23",null,"2018-01-08",null,"M"]
[null,"S","M","T","W","T","F","S",null,"S","M","T","W","T","F","S",null,null,"2018-01-10","W",4,10,null,null,"MonthNumLookup",null,null,null,2009,0,null,"2002-08-19","19 August","Sep","September",null,"2009-04-12",null,"2018-01-09",null,"T"]
[{"$f":"IF(A11>1,A11,IF(AND(A10>1,H10>1),A10+1,A10))","v":5},{"$f":"'Marketing Calendar'!E62","v":0},{"$f":"'Marketing Calendar'!J62","v":0},{"$f":"'Marketing Calendar'!O62","v":0},{"$f":"'Marketing Calendar'!T62","v":0},{"$f":"'Marketing Calendar'!Z62","v":1},{"$f":"'Marketing Calendar'!AF62","v":2},{"$f":"'Marketing Calendar'!AK62","v":3},null,{"$f":"'Marketing Calendar'!E392","v":0},{"$f":"'Marketing Calendar'!J392","v":0},{"$f":"'Marketing Calendar'!O392","v":0},{"$f":"'Marketing Calendar'!T392","v":1},{"$f":"'Marketing Calendar'!Z392","v":2},{"$f":"'Marketing Calendar'!AF392","v":3},{"$f":"'Marketing Calendar'!AK392","v":4},{"$f":"IF(Q11>1,Q11,IF(AND(Q10>1,P10>1),Q10+1,Q10))","v":31},null,"2018-01-11","Th",5,11,null,null,1,"January",null,null,2010,0,null,"2002-09-23","23 September","Oct","October",null,"2010-04-04",null,"2018-01-10",null,"W"]
[{"$f":"A14+1","v":6},{"$f":"'Marketing Calendar'!E69","v":4},{"$f":"'Marketing Calendar'!J69","v":5},{"$f":"'Marketing Calendar'!O69","v":6},{"$f":"'Marketing Calendar'!T69","v":7},{"$f":"'Marketing Calendar'!Z69","v":8},{"$f":"'Marketing Calendar'!AF69","v":9},{"$f":"'Marketing Calendar'!AK69","v":10},null,{"$f":"'Marketing Calendar'!E399","v":5},{"$f":"'Marketing Calendar'!J399","v":6},{"$f":"'Marketing Calendar'!O399","v":7},{"$f":"'Marketing Calendar'!T399","v":8},{"$f":"'Marketing Calendar'!Z399","v":9},{"$f":"'Marketing Calendar'!AF399","v":10},{"$f":"'Marketing Calendar'!AK399","v":11},{"$f":"Q14+1","v":32},null,"2018-01-12","F",6,12,null,null,2,"February",null,null,2011,0,null,"2002-10-21","21 October","Nov","November",null,"2011-04-24",null,"2018-01-11",null,"Th"]
[{"$f":"A15+1","v":7},{"$f":"'Marketing Calendar'!E76","v":11},{"$f":"'Marketing Calendar'!J76","v":12},{"$f":"'Marketing Calendar'!O76","v":13},{"$f":"'Marketing Calendar'!T76","v":14},{"$f":"'Marketing Calendar'!Z76","v":15},{"$f":"'Marketing Calendar'!AF76","v":16},{"$f":"'Marketing Calendar'!AK76","v":17},null,{"$f":"'Marketing Calendar'!E406","v":12},{"$f":"'Marketing Calendar'!J406","v":13},{"$f":"'Marketing Calendar'!O406","v":14},{"$f":"'Marketing Calendar'!T406","v":15},{"$f":"'Marketing Calendar'!Z406","v":16},{"$f":"'Marketing Calendar'!AF406","v":17},{"$f":"'Marketing Calendar'!AK406","v":18},{"$f":"Q15+1","v":33},null,"2018-01-13","Sa",7,13,null,null,3,"March",null,null,2012,1,null,"2002-11-18","18 November","Dec","December",null,"2012-04-08",null,"2018-01-12",null,"F"]
[{"$f":"A16+1","v":8},{"$f":"'Marketing Calendar'!E83","v":18},{"$f":"'Marketing Calendar'!J83","v":19},{"$f":"'Marketing Calendar'!O83","v":20},{"$f":"'Marketing Calendar'!T83","v":21},{"$f":"'Marketing Calendar'!Z83","v":22},{"$f":"'Marketing Calendar'!AF83","v":23},{"$f":"'Marketing Calendar'!AK83","v":24},null,{"$f":"'Marketing Calendar'!E413","v":19},{"$f":"'Marketing Calendar'!J413","v":20},{"$f":"'Marketing Calendar'!O413","v":21},{"$f":"'Marketing Calendar'!T413","v":22},{"$f":"'Marketing Calendar'!Z413","v":23},{"$f":"'Marketing Calendar'!AF413","v":24},{"$f":"'Marketing Calendar'!AK413","v":25},{"$f":"Q16+1","v":34},null,"2018-01-14","Su",1,14,null,null,4,"April",null,null,2013,0,null,null,null,null,null,null,"2013-03-31",null,"2018-01-13",null,"Sa"]
[{"$f":"IF(B18>1,A17+1,0)","v":9},{"$f":"'Marketing Calendar'!E90","v":25},{"$f":"'Marketing Calendar'!J90","v":26},{"$f":"'Marketing Calendar'!O90","v":27},{"$f":"'Marketing Calendar'!T90","v":28},{"$f":"'Marketing Calendar'!Z90","v":0},{"$f":"'Marketing Calendar'!AF90","v":0},{"$f":"'Marketing Calendar'!AK90","v":0},null,{"$f":"'Marketing Calendar'!E420","v":26},{"$f":"'Marketing Calendar'!J420","v":27},{"$f":"'Marketing Calendar'!O420","v":28},{"$f":"'Marketing Calendar'!T420","v":29},{"$f":"'Marketing Calendar'!Z420","v":30},{"$f":"'Marketing Calendar'!AF420","v":31},{"$f":"'Marketing Calendar'!AK420","v":0},{"$f":"IF(J18>1,Q17+1,0)","v":35},null,"2018-01-15","M",2,15,null,null,5,"May",null,null,2014,0,null,null,null,null,null,null,"2014-04-20",null,"2018-01-14",null,"Su"]
[{"$f":"IF(B19>1,A18+1,0)","v":0},{"$f":"'Marketing Calendar'!E97","v":0},{"$f":"'Marketing Calendar'!J97","v":0},{"$f":"'Marketing Calendar'!O97","v":0},{"$f":"'Marketing Calendar'!T97","v":0},{"$f":"'Marketing Calendar'!Z97","v":0},{"$f":"'Marketing Calendar'!AF97","v":0},{"$f":"'Marketing Calendar'!AK97","v":0},null,{"$f":"'Marketing Calendar'!E427","v":0},{"$f":"'Marketing Calendar'!J427","v":0},{"$f":"'Marketing Calendar'!O427","v":0},{"$f":"'Marketing Calendar'!T427","v":0},{"$f":"'Marketing Calendar'!Z427","v":0},{"$f":"'Marketing Calendar'!AF427","v":0},{"$f":"'Marketing Calendar'!AK427","v":0},{"$f":"IF(J19>1,Q18+1,0)","v":0},null,"2018-01-16","T",3,16,null,null,6,"June",null,null,2015,0,null,null,"SetupMonthNo",null,null,null,"2015-04-05",null,"2018-01-15",{"$f":"IF(AO19=\"M\",\"MLK Birthday\",\"\")","v":"MLK Birthday"},"M",{"$f":"IF(AO19=\"M\",1,0)","v":1}]
[{"$f":"IF(A12=12,1,A12+1)","v":3},{"$f":"UPPER(VLOOKUP(A20,Monthlookup2,2))","v":"MARCH"},null,null,null,null,null,null,{"$f":"IF(I12=12,1,I12+1)","v":9},{"$f":"UPPER(VLOOKUP(I20,Monthlookup2,2))","v":"SEPTEMBER"},null,null,null,null,null,null,null,null,"2018-01-17","W",4,17,null,null,7,"July",null,null,2016,1,null,null,"April",4,null,null,"2016-03-27",null,"2018-01-16","","T",{"$f":"IF(AO20=\"M\",1,0)","v":0}]
[null,"S","M","T","W","T","F","S",null,"S","M","T","W","T","F","S",null,null,"2018-01-18","Th",5,18,null,null,8,"August",null,null,2017,0,null,null,"August",8,null,null,"2017-04-16",null,"2018-01-17","","W",0]
[{"$f":"IF(A19>1,A19,IF(AND(A18>1,H18>1),A18+1,A18))","v":9},{"$f":"'Marketing Calendar'!E117","v":0},{"$f":"'Marketing Calendar'!J117","v":0},{"$f":"'Marketing Calendar'!O117","v":0},{"$f":"'Marketing Calendar'!T117","v":0},{"$f":"'Marketing Calendar'!Z117","v":1},{"$f":"'Marketing Calendar'!AF117","v":2},{"$f":"'Marketing Calendar'!AK117","v":3},null,{"$f":"'Marketing Calendar'!E447","v":0},{"$f":"'Marketing Calendar'!J447","v":0},{"$f":"'Marketing Calendar'!O447","v":0},{"$f":"'Marketing Calendar'!T447","v":0},{"$f":"'Marketing Calendar'!Z447","v":0},{"$f":"'Marketing Calendar'!AF447","v":0},{"$f":"'Marketing Calendar'!AK447","v":1},{"$f":"IF(Q19>1,Q19,IF(AND(Q18>1,P18>1),Q18+1,Q18))","v":35},null,"2018-01-19","F",6,19,null,null,9,"September",null,null,2018,0,null,null,"December",12,null,null,"2018-04-01",null,"2018-01-18","","Th",0]
[{"$f":"A22+1","v":10},{"$f":"'Marketing Calendar'!E124","v":4},{"$f":"'Marketing Calendar'!J124","v":5},{"$f":"'Marketing Calendar'!O124","v":6},{"$f":"'Marketing Calendar'!T124","v":7},{"$f":"'Marketing Calendar'!Z124","v":8},{"$f":"'Marketing Calendar'!AF124","v":9},{"$f":"'Marketing Calendar'!AK124","v":10},null,{"$f":"'Marketing Calendar'!E454","v":2},{"$f":"'Marketing Calendar'!J454","v":3},{"$f":"'Marketing Calendar'!O454","v":4},{"$f":"'Marketing Calendar'!T454","v":5},{"$f":"'Marketing Calendar'!Z454","v":6},{"$f":"'Marketing Calendar'!AF454","v":7},{"$f":"'Marketing Calendar'!AK454","v":8},{"$f":"Q22+1","v":36},null,"2018-01-20","Sa",7,20,null,null,10,"October",null,null,2019,0,null,null,"February",2,null,null,"2019-04-21",null,"2018-01-19","","F",0]
[{"$f":"A23+1","v":11},{"$f":"'Marketing Calendar'!E131","v":11},{"$f":"'Marketing Calendar'!J131","v":12},{"$f":"'Marketing Calendar'!O131","v":13},{"$f":"'Marketing Calendar'!T131","v":14},{"$f":"'Marketing Calendar'!Z131","v":15},{"$f":"'Marketing Calendar'!AF131","v":16},{"$f":"'Marketing Calendar'!AK131","v":17},null,{"$f":"'Marketing Calendar'!E461","v":9},{"$f":"'Marketing Calendar'!J461","v":10},{"$f":"'Marketing Calendar'!O461","v":11},{"$f":"'Marketing Calendar'!T461","v":12},{"$f":"'Marketing Calendar'!Z461","v":13},{"$f":"'Marketing Calendar'!AF461","v":14},{"$f":"'Marketing Calendar'!AK461","v":15},{"$f":"Q23+1","v":37},null,"2018-01-21","Su",1,21,null,null,11,"November",null,null,2020,1,null,null,"January",1,null,null,"2020-04-12",null,"2018-01-20","","Sa",0]
[{"$f":"A24+1","v":12},{"$f":"'Marketing Calendar'!E138","v":18},{"$f":"'Marketing Calendar'!J138","v":19},{"$f":"'Marketing Calendar'!O138","v":20},{"$f":"'Marketing Calendar'!T138","v":21},{"$f":"'Marketing Calendar'!Z138","v":22},{"$f":"'Marketing Calendar'!AF138","v":23},{"$f":"'Marketing Calendar'!AK138","v":24},null,{"$f":"'Marketing Calendar'!E468","v":16},{"$f":"'Marketing Calendar'!J468","v":17},{"$f":"'Marketing Calendar'!O468","v":18},{"$f":"'Marketing Calendar'!T468","v":19},{"$f":"'Marketing Calendar'!Z468","v":20},{"$f":"'Marketing Calendar'!AF468","v":21},{"$f":"'Marketing Calendar'!AK468","v":22},{"$f":"Q24+1","v":38},null,"2018-01-22","M",2,22,null,null,12,"December",null,null,2021,0,null,null,"July",7,null,null,"2021-04-04",null,"2018-01-21","","Su",0]
[{"$f":"IF(B26>1,A25+1,0)","v":13},{"$f":"'Marketing Calendar'!E145","v":25},{"$f":"'Marketing Calendar'!J145","v":26},{"$f":"'Marketing Calendar'!O145","v":27},{"$f":"'Marketing Calendar'!T145","v":28},{"$f":"'Marketing Calendar'!Z145","v":29},{"$f":"'Marketing Calendar'!AF145","v":30},{"$f":"'Marketing Calendar'!AK145","v":31},null,{"$f":"'Marketing Calendar'!E475","v":23},{"$f":"'Marketing Calendar'!J475","v":24},{"$f":"'Marketing Calendar'!O475","v":25},{"$f":"'Marketing Calendar'!T475","v":26},{"$f":"'Marketing Calendar'!Z475","v":27},{"$f":"'Marketing Calendar'!AF475","v":28},{"$f":"'Marketing Calendar'!AK475","v":29},{"$f":"IF(J26>1,Q25+1,0)","v":39},null,"2018-01-23","T",3,23,null,null,null,null,null,null,2022,0,null,null,"June",6,null,null,"2022-04-17",null,"2018-01-22",null,"M"]
[{"$f":"IF(B27>1,A26+1,0)","v":0},{"$f":"'Marketing Calendar'!E152","v":0},{"$f":"'Marketing Calendar'!J152","v":0},{"$f":"'Marketing Calendar'!O152","v":0},{"$f":"'Marketing Calendar'!T152","v":0},{"$f":"'Marketing Calendar'!Z152","v":0},{"$f":"'Marketing Calendar'!AF152","v":0},{"$f":"'Marketing Calendar'!AK152","v":0},null,{"$f":"'Marketing Calendar'!E482","v":30},{"$f":"'Marketing Calendar'!J482","v":0},{"$f":"'Marketing Calendar'!O482","v":0},{"$f":"'Marketing Calendar'!T482","v":0},{"$f":"'Marketing Calendar'!Z482","v":0},{"$f":"'Marketing Calendar'!AF482","v":0},{"$f":"'Marketing Calendar'!AK482","v":0},{"$f":"IF(J27>1,Q26+1,0)","v":40},null,"2018-01-24","W",4,24,null,null,"StartMonth:",{"$f":"VLOOKUP(StartMonth,MonthLookup,2)","v":1},null,null,2023,0,null,null,"March",3,null,null,"2023-04-09",null,"2018-01-23",null,"T"]
[{"$f":"IF(A20=12,1,A20+1)","v":4},{"$f":"UPPER(VLOOKUP(A28,Monthlookup2,2))","v":"APRIL"},null,null,null,null,null,null,{"$f":"IF(I20=12,1,I20+1)","v":10},{"$f":"UPPER(VLOOKUP(I28,Monthlookup2,2))","v":"OCTOBER"},null,null,null,null,null,null,null,null,"2018-01-25","Th",5,25,null,null,null,null,"possible future use",null,2024,1,null,null,"May",5,null,null,"2024-03-31",null,"2018-01-24",null,"W"]
[null,"S","M","T","W","T","F","S",null,"S","M","T","W","T","F","S",null,null,"2018-01-26","F",6,26,null,null,"MonthLookup",null,"Year","# Days",2025,0,null,null,"November",11,null,null,"2025-04-20",null,"2018-01-25",null,"Th"]
[{"$f":"IF(A27>1,A27+1,IF(AND(A26>1,H26>1),A26+1,A26))","v":14},{"$f":"'Marketing Calendar'!E172","v":1},{"$f":"'Marketing Calendar'!J172","v":2},{"$f":"'Marketing Calendar'!O172","v":3},{"$f":"'Marketing Calendar'!T172","v":4},{"$f":"'Marketing Calendar'!Z172","v":5},{"$f":"'Marketing Calendar'!AF172","v":6},{"$f":"'Marketing Calendar'!AK172","v":7},null,{"$f":"'Marketing Calendar'!E502","v":0},{"$f":"'Marketing Calendar'!J502","v":1},{"$f":"'Marketing Calendar'!O502","v":2},{"$f":"'Marketing Calendar'!T502","v":3},{"$f":"'Marketing Calendar'!Z502","v":4},{"$f":"'Marketing Calendar'!AF502","v":5},{"$f":"'Marketing Calendar'!AK502","v":6},{"$f":"IF(Q27>1,Q27,IF(AND(Q26>1,P26>1),Q26+1,Q26))","v":40},null,"2018-01-27","Sa",7,27,null,null,"April",4,{"$f":"IF(Z30<StartMoNum,CurrYear+1,CurrYear)","v":2018},30,2026,0,null,null,"October",10,null,null,"2026-04-05",null,"2018-01-26",null,"F"]
[{"$f":"A30+1","v":15},{"$f":"'Marketing Calendar'!E179","v":8},{"$f":"'Marketing Calendar'!J179","v":9},{"$f":"'Marketing Calendar'!O179","v":10},{"$f":"'Marketing Calendar'!T179","v":11},{"$f":"'Marketing Calendar'!Z179","v":12},{"$f":"'Marketing Calendar'!AF179","v":13},{"$f":"'Marketing Calendar'!AK179","v":14},null,{"$f":"'Marketing Calendar'!E509","v":7},{"$f":"'Marketing Calendar'!J509","v":8},{"$f":"'Marketing Calendar'!O509","v":9},{"$f":"'Marketing Calendar'!T509","v":10},{"$f":"'Marketing Calendar'!Z509","v":11},{"$f":"'Marketing Calendar'!AF509","v":12},{"$f":"'Marketing Calendar'!AK509","v":13},{"$f":"Q30+1","v":41},null,"2018-01-28","Su",1,28,null,null,"August",8,{"$f":"IF(Z31<StartMoNum,CurrYear+1,CurrYear)","v":2018},31,2027,0,null,null,"September",9,null,null,"2027-03-28",null,"2018-01-27",null,"Sa"]
[{"$f":"A31+1","v":16},{"$f":"'Marketing Calendar'!E186","v":15},{"$f":"'Marketing Calendar'!J186","v":16},{"$f":"'Marketing Calendar'!O186","v":17},{"$f":"'Marketing Calendar'!T186","v":18},{"$f":"'Marketing Calendar'!Z186","v":19},{"$f":"'Marketing Calendar'!AF186","v":20},{"$f":"'Marketing Calendar'!AK186","v":21},null,{"$f":"'Marketing Calendar'!E516","v":14},{"$f":"'Marketing Calendar'!J516","v":15},{"$f":"'Marketing Calendar'!O516","v":16},{"$f":"'Marketing Calendar'!T516","v":17},{"$f":"'Marketing Calendar'!Z516","v":18},{"$f":"'Marketing Calendar'!AF516","v":19},{"$f":"'Marketing Calendar'!AK516","v":20},{"$f":"Q31+1","v":42},null,"2018-01-29","M",2,29,null,null,"December",12,2018,31,2028,1,null,null,null,null,null,null,"2028-04-16",null,"2018-01-28",null,"Su"]
[{"$f":"A32+1","v":17},{"$f":"'Marketing Calendar'!E193","v":22},{"$f":"'Marketing Calendar'!J193","v":23},{"$f":"'Marketing Calendar'!O193","v":24},{"$f":"'Marketing Calendar'!T193","v":25},{"$f":"'Marketing Calendar'!Z193","v":26},{"$f":"'Marketing Calendar'!AF193","v":27},{"$f":"'Marketing Calendar'!AK193","v":28},null,{"$f":"'Marketing Calendar'!E523","v":21},{"$f":"'Marketing Calendar'!J523","v":22},{"$f":"'Marketing Calendar'!O523","v":23},{"$f":"'Marketing Calendar'!T523","v":24},{"$f":"'Marketing Calendar'!Z523","v":25},{"$f":"'Marketing Calendar'!AF523","v":26},{"$f":"'Marketing Calendar'!AK523","v":27},{"$f":"Q32+1","v":43},null,"2018-01-30","T",3,30,null,null,"February",2,2018,{"$f":"IF(VLOOKUP(AA33,LeapYrTable,2)=1,29,28)","v":28},2029,0,null,null,null,null,null,null,"2029-04-01",null,"2018-01-29",null,"M"]
[{"$f":"IF(B34>1,A33+1,0)","v":18},{"$f":"'Marketing Calendar'!E200","v":29},{"$f":"'Marketing Calendar'!J200","v":30},{"$f":"'Marketing Calendar'!O200","v":0},{"$f":"'Marketing Calendar'!T200","v":0},{"$f":"'Marketing Calendar'!Z200","v":0},{"$f":"'Marketing Calendar'!AF200","v":0},{"$f":"'Marketing Calendar'!AK200","v":0},null,{"$f":"'Marketing Calendar'!E530","v":28},{"$f":"'Marketing Calendar'!J530","v":29},{"$f":"'Marketing Calendar'!O530","v":30},{"$f":"'Marketing Calendar'!T530","v":31},{"$f":"'Marketing Calendar'!Z530","v":0},{"$f":"'Marketing Calendar'!AF530","v":0},{"$f":"'Marketing Calendar'!AK530","v":0},{"$f":"IF(J34>1,Q33+1,0)","v":44},null,"2018-01-31","W",4,31,null,null,"January",1,2018,31,2030,0,null,null,null,null,null,null,"2030-04-21",null,"2018-01-30",null,"T"]
[{"$f":"IF(B35>1,A34+1,0)","v":0},{"$f":"'Marketing Calendar'!E207","v":0},{"$f":"'Marketing Calendar'!J207","v":0},{"$f":"'Marketing Calendar'!O207","v":0},{"$f":"'Marketing Calendar'!T207","v":0},{"$f":"'Marketing Calendar'!Z207","v":0},{"$f":"'Marketing Calendar'!AF207","v":0},{"$f":"'Marketing Calendar'!AK207","v":0},null,{"$f":"'Marketing Calendar'!E537","v":0},{"$f":"'Marketing Calendar'!J537","v":0},{"$f":"'Marketing Calendar'!O537","v":0},{"$f":"'Marketing Calendar'!T537","v":0},{"$f":"'Marketing Calendar'!Z537","v":0},{"$f":"'Marketing Calendar'!AF537","v":0},{"$f":"'Marketing Calendar'!AK537","v":0},{"$f":"IF(J35>1,Q34+1,0)","v":0},null,"2018-02-01","Th",5,1,null,null,"July",7,2018,31,2031,0,null,null,null,null,null,null,"2031-04-13",null,"2018-01-31",null,"W"]
[{"$f":"IF(A28=12,1,A28+1)","v":5},{"$f":"UPPER(VLOOKUP(A36,Monthlookup2,2))","v":"MAY"},null,null,null,null,null,null,{"$f":"IF(I28=12,1,I28+1)","v":11},{"$f":"UPPER(VLOOKUP(I36,Monthlookup2,2))","v":"NOVEMBER"},null,null,null,null,null,null,null,null,"2018-02-02","F",6,2,null,null,"June",6,2018,30,2032,1,null,null,null,null,null,null,"2032-03-28",null,"2018-02-01",null,"Th"]
[null,"S","M","T","W","T","F","S",null,"S","M","T","W","T","F","S",null,null,"2018-02-03","Sa",7,3,null,null,"March",3,2018,31,2033,0,null,null,null,null,null,null,"2033-04-17",null,"2018-02-02",null,"F"]
[{"$f":"IF(A35>1,A35,IF(AND(A34>1,H34>1),A34+1,A34))","v":18},{"$f":"'Marketing Calendar'!E227","v":0},{"$f":"'Marketing Calendar'!J227","v":0},{"$f":"'Marketing Calendar'!O227","v":1},{"$f":"'Marketing Calendar'!T227","v":2},{"$f":"'Marketing Calendar'!Z227","v":3},{"$f":"'Marketing Calendar'!AF227","v":4},{"$f":"'Marketing Calendar'!AK227","v":5},null,{"$f":"'Marketing Calendar'!E557","v":0},{"$f":"'Marketing Calendar'!J557","v":0},{"$f":"'Marketing Calendar'!O557","v":0},{"$f":"'Marketing Calendar'!T557","v":0},{"$f":"'Marketing Calendar'!Z557","v":1},{"$f":"'Marketing Calendar'!AF557","v":2},{"$f":"'Marketing Calendar'!AK557","v":3},{"$f":"IF(Q35>1,Q35,IF(AND(Q34>1,P34>1),Q34+1,Q34))","v":44},null,"2018-02-04","Su",1,4,null,null,"May",5,2018,31,2034,0,null,null,null,null,null,null,"2034-04-09",null,"2018-02-03",null,"Sa"]
[{"$f":"A38+1","v":19},{"$f":"'Marketing Calendar'!E234","v":6},{"$f":"'Marketing Calendar'!J234","v":7},{"$f":"'Marketing Calendar'!O234","v":8},{"$f":"'Marketing Calendar'!T234","v":9},{"$f":"'Marketing Calendar'!Z234","v":10},{"$f":"'Marketing Calendar'!AF234","v":11},{"$f":"'Marketing Calendar'!AK234","v":12},null,{"$f":"'Marketing Calendar'!E564","v":4},{"$f":"'Marketing Calendar'!J564","v":5},{"$f":"'Marketing Calendar'!O564","v":6},{"$f":"'Marketing Calendar'!T564","v":7},{"$f":"'Marketing Calendar'!Z564","v":8},{"$f":"'Marketing Calendar'!AF564","v":9},{"$f":"'Marketing Calendar'!AK564","v":10},{"$f":"Q38+1","v":45},null,"2018-02-05","M",2,5,null,null,"November",11,2018,30,2035,0,null,null,null,null,null,null,"2035-03-25",null,"2018-02-04",null,"Su"]
[{"$f":"A39+1","v":20},{"$f":"'Marketing Calendar'!E241","v":13},{"$f":"'Marketing Calendar'!J241","v":14},{"$f":"'Marketing Calendar'!O241","v":15},{"$f":"'Marketing Calendar'!T241","v":16},{"$f":"'Marketing Calendar'!Z241","v":17},{"$f":"'Marketing Calendar'!AF241","v":18},{"$f":"'Marketing Calendar'!AK241","v":19},null,{"$f":"'Marketing Calendar'!E571","v":11},{"$f":"'Marketing Calendar'!J571","v":12},{"$f":"'Marketing Calendar'!O571","v":13},{"$f":"'Marketing Calendar'!T571","v":14},{"$f":"'Marketing Calendar'!Z571","v":15},{"$f":"'Marketing Calendar'!AF571","v":16},{"$f":"'Marketing Calendar'!AK571","v":17},{"$f":"Q39+1","v":46},null,"2018-02-06","T",3,6,null,null,"October",10,2018,31,2036,1,null,null,null,null,null,null,"2036-04-13",null,"2018-02-05",null,"M"]
[{"$f":"A40+1","v":21},{"$f":"'Marketing Calendar'!E248","v":20},{"$f":"'Marketing Calendar'!J248","v":21},{"$f":"'Marketing Calendar'!O248","v":22},{"$f":"'Marketing Calendar'!T248","v":23},{"$f":"'Marketing Calendar'!Z248","v":24},{"$f":"'Marketing Calendar'!AF248","v":25},{"$f":"'Marketing Calendar'!AK248","v":26},null,{"$f":"'Marketing Calendar'!E578","v":18},{"$f":"'Marketing Calendar'!J578","v":19},{"$f":"'Marketing Calendar'!O578","v":20},{"$f":"'Marketing Calendar'!T578","v":21},{"$f":"'Marketing Calendar'!Z578","v":22},{"$f":"'Marketing Calendar'!AF578","v":23},{"$f":"'Marketing Calendar'!AK578","v":24},{"$f":"Q40+1","v":47},null,"2018-02-07","W",4,7,null,null,"September",9,2018,30,2037,0,null,null,null,null,null,null,"2037-04-05",null,"2018-02-06",null,"T"]
[{"$f":"IF(B42>1,A41+1,0)","v":22},{"$f":"'Marketing Calendar'!E255","v":27},{"$f":"'Marketing Calendar'!J255","v":28},{"$f":"'Marketing Calendar'!O255","v":29},{"$f":"'Marketing Calendar'!T255","v":30},{"$f":"'Marketing Calendar'!Z255","v":31},{"$f":"'Marketing Calendar'!AF255","v":0},{"$f":"'Marketing Calendar'!AK255","v":0},null,{"$f":"'Marketing Calendar'!E585","v":25},{"$f":"'Marketing Calendar'!J585","v":26},{"$f":"'Marketing Calendar'!O585","v":27},{"$f":"'Marketing Calendar'!T585","v":28},{"$f":"'Marketing Calendar'!Z585","v":29},{"$f":"'Marketing Calendar'!AF585","v":30},{"$f":"'Marketing Calendar'!AK585","v":0},{"$f":"IF(J42>1,Q41+1,0)","v":48},null,"2018-02-08","Th",5,8,null,null,null,null,null,null,2038,0,null,null,null,null,null,null,"2038-04-25",null,"2018-02-07",null,"W"]
[null,{"$f":"'Marketing Calendar'!E262","v":0},{"$f":"'Marketing Calendar'!J262","v":0},{"$f":"'Marketing Calendar'!O262","v":0},{"$f":"'Marketing Calendar'!T262","v":0},{"$f":"'Marketing Calendar'!Z262","v":0},{"$f":"'Marketing Calendar'!AF262","v":0},{"$f":"'Marketing Calendar'!AK262","v":0},null,{"$f":"'Marketing Calendar'!E592","v":0},{"$f":"'Marketing Calendar'!J592","v":0},{"$f":"'Marketing Calendar'!O592","v":0},{"$f":"'Marketing Calendar'!T592","v":0},{"$f":"'Marketing Calendar'!Z592","v":0},{"$f":"'Marketing Calendar'!AF592","v":0},{"$f":"'Marketing Calendar'!AK592","v":0},{"$f":"IF(J43>1,Q42+1,0)","v":0},null,"2018-02-09","F",6,9,null,null,null,null,null,null,2039,0,null,null,null,null,null,null,"2039-04-10",null,"2018-02-08",null,"Th"]
[{"$f":"IF(A36=12,1,A36+1)","v":6},{"$f":"UPPER(VLOOKUP(A44,Monthlookup2,2))","v":"JUNE"},null,null,null,null,null,null,{"$f":"IF(I36=12,1,I36+1)","v":12},{"$f":"UPPER(VLOOKUP(I44,Monthlookup2,2))","v":"DECEMBER"},null,null,null,null,null,null,null,null,"2018-02-10","Sa",7,10,null,null,null,null,null,null,2040,1,null,null,null,null,null,null,"2040-04-01",null,"2018-02-09",null,"F"]
[null,"S","M","T","W","T","F","S",null,"S","M","T","W","T","F","S",null,null,"2018-02-11","Su",1,11,null,null,null,null,null,null,2041,0,null,null,null,null,null,null,"2041-04-21",null,"2018-02-10",null,"Sa"]
[{"$f":"IF(A43>1,A43,IF(AND(A42>1,H42>1),A42+1,A42))","v":22},{"$f":"'Marketing Calendar'!E282","v":0},{"$f":"'Marketing Calendar'!J282","v":0},{"$f":"'Marketing Calendar'!O282","v":0},{"$f":"'Marketing Calendar'!T282","v":0},{"$f":"'Marketing Calendar'!Z282","v":0},{"$f":"'Marketing Calendar'!AF282","v":1},{"$f":"'Marketing Calendar'!AK282","v":2},null,{"$f":"'Marketing Calendar'!E612","v":0},{"$f":"'Marketing Calendar'!J612","v":0},{"$f":"'Marketing Calendar'!O612","v":0},{"$f":"'Marketing Calendar'!T612","v":0},{"$f":"'Marketing Calendar'!Z612","v":0},{"$f":"'Marketing Calendar'!AF612","v":0},{"$f":"'Marketing Calendar'!AK612","v":1},{"$f":"IF(Q43>1,Q43,IF(AND(Q42>1,P42>1),Q42+1,Q42))","v":48},null,"2018-02-12","M",2,12,null,null,null,null,null,null,2042,0,null,null,null,null,null,null,"2042-04-06",null,"2018-02-11",null,"Su"]
[{"$f":"A46+1","v":23},{"$f":"'Marketing Calendar'!E289","v":3},{"$f":"'Marketing Calendar'!J289","v":4},{"$f":"'Marketing Calendar'!O289","v":5},{"$f":"'Marketing Calendar'!T289","v":6},{"$f":"'Marketing Calendar'!Z289","v":7},{"$f":"'Marketing Calendar'!AF289","v":8},{"$f":"'Marketing Calendar'!AK289","v":9},null,{"$f":"'Marketing Calendar'!E619","v":2},{"$f":"'Marketing Calendar'!J619","v":3},{"$f":"'Marketing Calendar'!O619","v":4},{"$f":"'Marketing Calendar'!T619","v":5},{"$f":"'Marketing Calendar'!Z619","v":6},{"$f":"'Marketing Calendar'!AF619","v":7},{"$f":"'Marketing Calendar'!AK619","v":8},{"$f":"Q46+1","v":49},null,"2018-02-13","T",3,13,null,null,null,null,null,null,2043,0,null,null,null,null,null,null,"2043-03-29",null,"2018-02-12",{"$f":"IF(AO47=\"M\",\"Presidents Day\",\"\")","v":"Presidents Day"},"M",{"$f":"IF(AO47=\"M\",1,0)","v":1}]
[{"$f":"A47+1","v":24},{"$f":"'Marketing Calendar'!E296","v":10},{"$f":"'Marketing Calendar'!J296","v":11},{"$f":"'Marketing Calendar'!O296","v":12},{"$f":"'Marketing Calendar'!T296","v":13},{"$f":"'Marketing Calendar'!Z296","v":14},{"$f":"'Marketing Calendar'!AF296","v":15},{"$f":"'Marketing Calendar'!AK296","v":16},null,{"$f":"'Marketing Calendar'!E626","v":9},{"$f":"'Marketing Calendar'!J626","v":10},{"$f":"'Marketing Calendar'!O626","v":11},{"$f":"'Marketing Calendar'!T626","v":12},{"$f":"'Marketing Calendar'!Z626","v":13},{"$f":"'Marketing Calendar'!AF626","v":14},{"$f":"'Marketing Calendar'!AK626","v":15},{"$f":"Q47+1","v":50},null,"2018-02-14","W",4,14,null,null,null,null,null,null,2044,1,null,null,null,null,null,null,"2044-04-17",null,"2018-02-13",{"$f":"IF(AO48=\"M\",\"Presidents Day\",\"\")","v":""},"T",{"$f":"IF(AO48=\"M\",1,0)","v":0}]
[{"$f":"A48+1","v":25},{"$f":"'Marketing Calendar'!E303","v":17},{"$f":"'Marketing Calendar'!J303","v":18},{"$f":"'Marketing Calendar'!O303","v":19},{"$f":"'Marketing Calendar'!T303","v":20},{"$f":"'Marketing Calendar'!Z303","v":21},{"$f":"'Marketing Calendar'!AF303","v":22},{"$f":"'Marketing Calendar'!AK303","v":23},null,{"$f":"'Marketing Calendar'!E633","v":16},{"$f":"'Marketing Calendar'!J633","v":17},{"$f":"'Marketing Calendar'!O633","v":18},{"$f":"'Marketing Calendar'!T633","v":19},{"$f":"'Marketing Calendar'!Z633","v":20},{"$f":"'Marketing Calendar'!AF633","v":21},{"$f":"'Marketing Calendar'!AK633","v":22},{"$f":"Q48+1","v":51},null,"2018-02-15","Th",5,15,null,null,null,null,null,null,2045,0,null,null,null,null,null,null,"2045-04-09",null,"2018-02-14","","W",0]
[{"$f":"IF(B50>1,A49+1,0)","v":26},{"$f":"'Marketing Calendar'!E310","v":24},{"$f":"'Marketing Calendar'!J310","v":25},{"$f":"'Marketing Calendar'!O310","v":26},{"$f":"'Marketing Calendar'!T310","v":27},{"$f":"'Marketing Calendar'!Z310","v":28},{"$f":"'Marketing Calendar'!AF310","v":29},{"$f":"'Marketing Calendar'!AK310","v":30},null,{"$f":"'Marketing Calendar'!E640","v":23},{"$f":"'Marketing Calendar'!J640","v":24},{"$f":"'Marketing Calendar'!O640","v":25},{"$f":"'Marketing Calendar'!T640","v":26},{"$f":"'Marketing Calendar'!Z640","v":27},{"$f":"'Marketing Calendar'!AF640","v":28},{"$f":"'Marketing Calendar'!AK640","v":29},{"$f":"IF(J50>1,Q49+1,0)","v":52},null,"2018-02-16","F",6,16,null,null,null,null,null,null,2046,0,null,null,null,null,null,null,"2046-03-25",null,"2018-02-15","","Th",0]
[null,{"$f":"'Marketing Calendar'!E317","v":0},{"$f":"'Marketing Calendar'!J317","v":0},{"$f":"'Marketing Calendar'!O317","v":0},{"$f":"'Marketing Calendar'!T317","v":0},{"$f":"'Marketing Calendar'!Z317","v":0},{"$f":"'Marketing Calendar'!AF317","v":0},{"$f":"'Marketing Calendar'!AK317","v":0},null,{"$f":"'Marketing Calendar'!E647","v":30},{"$f":"'Marketing Calendar'!J647","v":31},{"$f":"'Marketing Calendar'!O647","v":0},{"$f":"'Marketing Calendar'!T647","v":0},{"$f":"'Marketing Calendar'!Z647","v":0},{"$f":"'Marketing Calendar'!AF647","v":0},{"$f":"'Marketing Calendar'!AK647","v":0},{"$f":"IF(J51>1,Q50+1,0)","v":53},null,"2018-02-17","Sa",7,17,null,null,null,null,null,null,2047,0,null,null,null,null,null,null,"2047-04-14",null,"2018-02-16","","F",0]
["©",{"$f":"+'Marketing Calendar'!F56","v":"Bedrock Markets, Inc. 2000 - 2100"},null,null,null,null,null,null,null,null,null,null,null,null,null,null,null,null,"2018-02-18","Su",1,18,null,null,null,null,null,null,2048,1,null,null,null,null,null,null,"2048-04-05",null,"2018-02-17","","Sa",0]
[null,null,null,null,null,null,null,null,null,null,null,null,null,null,null,null,null,null,"2018-02-19","M",2,19,null,null,null,null,null,null,2049,0,null,null,null,null,null,null,"2049-04-18",null,"2018-02-18","","Su",0]
[null,null,null,null,null,null,null,null,null,null,null,null,null,null,null,null,null,null,"2018-02-20","T",3,20,null,null,null,null,null,null,2050,0,null,null,null,null,null,null,"2050-04-10",null,"2018-02-19",null,"M"]
[null,null,null,null,null,null,null,null,null,null,null,null,null,null,null,null,null,null,"2018-02-21","W",4,21,null,null,null,null,null,null,2051,0,null,null,null,null,null,null,"2051-04-02",null,"2018-02-20",null,"T"]
[null,null,null,null,null,null,null,null,null,null,null,null,null,null,null,null,null,null,"2018-02-22","Th",5,22,null,null,null,null,null,null,2052,1,null,null,null,null,null,null,"2052-04-21",null,"2018-02-21",null,"W"]
[null,null,null,null,null,null,null,null,null,null,null,null,null,null,null,null,null,null,"2018-02-23","F",6,23,null,null,null,null,null,null,2053,0,null,null,null,null,null,null,"2053-04-06",null,"2018-02-22",null,"Th"]
[null,null,null,null,null,null,null,null,null,null,null,null,null,null,null,null,null,null,"2018-02-24","Sa",7,24,null,null,null,null,null,null,2054,0,null,null,null,null,null,null,"2054-03-29",null,"2018-02-23",null,"F"]
[null,null,null,null,null,null,null,null,null,null,null,null,null,null,null,null,null,null,"2018-02-25","Su",1,25,null,null,null,null,null,null,2055,0,null,null,null,null,null,null,"2055-04-18",null,"2018-02-24",null,"Sa"]
[null,null,null,null,null,null,null,null,null,null,null,null,null,null,null,null,null,null,"2018-02-26","M",2,26,null,null,null,null,null,null,2056,1,null,null,null,null,null,null,"2056-04-02",null,"2018-02-25",null,"Su"]
[null,null,null,null,null,null,null,null,null,null,null,null,null,null,null,null,null,null,"2018-02-27","T",3,27,null,null,null,null,null,null,2057,0,null,null,null,null,null,null,"2057-04-22",null,"2018-02-26",null,"M"]
[null,null,null,null,null,null,null,null,null,null,null,null,null,null,null,null,null,null,"2018-02-28","W",4,28,null,null,null,null,null,null,2058,0,null,null,null,null,null,null,"2058-04-14",null,"2018-02-27",null,"T"]
[null,null,null,null,null,null,null,null,null,null,null,null,null,null,null,null,null,null,"2018-03-01","Th",5,1,null,null,null,null,null,null,2059,0,null,null,null,null,null,null,"2059-03-30",null,"2018-02-28",null,"W"]
[null,null,null,null,null,null,null,null,null,null,null,null,null,null,null,null,null,null,"2018-03-02","F",6,2,null,null,null,null,null,null,2060,1,null,null,null,null,null,null,"2060-04-18",null,"2018-03-01",null,"Th"]
[null,null,null,null,null,null,null,null,null,null,null,null,null,null,null,null,null,null,"2018-03-03","Sa",7,3,null,null,null,null,null,null,2061,0,null,null,null,null,null,null,"2061-04-10",null,"2018-03-02",null,"F"]
[null,null,null,null,null,null,null,null,null,null,null,null,null,null,null,null,null,null,"2018-03-04","Su",1,4,null,null,null,null,null,null,2062,0,null,null,null,null,null,null,"2062-03-26",null,"2018-03-03",null,"Sa"]
[null,null,null,null,null,null,null,null,null,null,null,null,null,null,null,null,null,null,"2018-03-05","M",2,5,null,null,null,null,null,null,2063,0,null,null,null,null,null,null,"2063-04-15",null,"2018-03-04",null,"Su"]
[null,null,null,null,null,null,null,null,null,null,null,null,null,null,null,null,null,null,"2018-03-06",{"$f":"VLOOKUP(U68,DayTable,2,FALSE)","v":"T"},{"$f":"WEEKDAY(S68,1)","v":3},6,null,null,null,null,null,null,2064,1,null,null,null,null,null,null,"2064-04-06",null,"2018-03-05",null,"M"]
[null,null,null,null,null,null,null,null,null,null,null,null,null,null,null,null,null,null,"2018-03-07","W",4,7,null,null,null,null,null,null,2065,0,null,null,null,null,null,null,"2065-03-29",null,"2018-03-06",null,"T"]
[null,null,null,null,null,null,null,null,null,null,null,null,null,null,null,null,null,null,{"$f":"1+S69","v":"2018-03-08"},"Th",5,{"$f":"DAY(S70)","v":8},null,null,null,null,null,null,2066,0,null,null,null,null,null,null,"2066-04-11",null,"2018-03-07",null,{"$f":"VLOOKUP(WEEKDAY(AM70,1),DayTable,2,FALSE)","v":"W"}]
[null,null,null,null,null,null,null,null,null,null,null,null,null,null,null,null,null,null,"2018-03-09","F",6,9,null,null,null,null,null,null,2067,0,null,null,null,null,null,null,"2067-04-03",null,{"$f":"1+AM70","v":"2018-03-08"},null,"Th"]
[null,null,null,null,null,null,null,null,null,null,null,null,null,null,null,null,null,null,"2018-03-10","Sa",7,10,null,null,null,null,null,null,2068,1,null,null,null,null,null,null,"2068-04-22",null,"2018-03-09",null,"F"]
[null,null,null,null,null,null,null,null,null,null,null,null,null,null,null,null,null,null,"2018-03-11","Su",1,11,null,null,null,null,null,null,2069,0,null,null,null,null,null,null,"2069-04-14",null,"2018-03-10",null,"Sa"]
[null,null,null,null,null,null,null,null,null,null,null,null,null,null,null,null,null,null,"2018-03-12","M",2,12,null,null,null,null,null,null,2070,0,null,null,null,null,null,null,"2070-03-30",null,"2018-03-11",null,"Su"]
[null,null,null,null,null,null,null,null,null,null,null,null,null,null,null,null,null,null,"2018-03-13","T",3,13,null,null,null,null,null,null,2071,0,null,null,null,null,null,null,"2071-04-19",null,"2018-03-12",null,"M"]
[null,null,null,null,null,null,null,null,null,null,null,null,null,null,null,null,null,null,"2018-03-14","W",4,14,null,null,null,null,null,null,2072,1,null,null,null,null,null,null,"2072-04-10",null,"2018-03-13",null,"T"]
[null,null,null,null,null,null,null,null,null,null,null,null,null,null,null,null,null,null,"2018-03-15","Th",5,15,null,null,null,null,null,null,2073,0,null,null,null,null,null,null,"2073-03-26",null,"2018-03-14",null,"W"]
[null,null,null,null,null,null,null,null,null,null,null,null,null,null,null,null,null,null,"2018-03-16","F",6,16,null,null,null,null,null,null,2074,0,null,null,null,null,null,null,"2074-04-15",null,"2018-03-15",null,"Th"]
[null,null,null,null,null,null,null,null,null,null,null,null,null,null,null,null,null,null,"2018-03-17","Sa",7,17,null,null,null,null,null,null,2075,0,null,null,null,null,null,null,"2075-04-07",null,"2018-03-16",null,"F"]
[null,null,null,null,null,null,null,null,null,null,null,null,null,null,null,null,null,null,"2018-03-18","Su",1,18,null,null,null,null,null,null,2076,1,null,null,null,null,null,null,"2076-04-19",null,"2018-03-17",null,"Sa"]
[null,null,null,null,null,null,null,null,null,null,null,null,null,null,null,null,null,null,"2018-03-19","M",2,19,null,null,null,null,null,null,2077,0,null,null,null,null,null,null,"2077-04-11",null,"2018-03-18",null,"Su"]
[null,null,null,null,null,null,null,null,null,null,null,null,null,null,null,null,null,null,"2018-03-20","T",3,20,null,null,null,null,null,null,2078,0,null,null,null,null,null,null,"2078-04-03",null,"2018-03-19",null,"M"]
[null,null,null,null,null,null,null,null,null,null,null,null,null,null,null,null,null,null,"2018-03-21","W",4,21,null,null,null,null,null,null,2079,0,null,null,null,null,null,null,"2079-04-23",null,"2018-03-20",null,"T"]
[null,null,null,null,null,null,null,null,null,null,null,null,null,null,null,null,null,null,"2018-03-22","Th",5,22,null,null,null,null,null,null,2080,1,null,null,null,null,null,null,"2080-04-07",null,"2018-03-21",{"$f":"IF(VLOOKUP(AM84,EasterDates,1)=AM84,\"Easter\",IF(VLOOKUP(AM84+2,EasterDates,1)=AM84+2,\"Good Friday\",0))","v":0},"W",{"$f":"IF(VLOOKUP(AM84,EasterDates,1)=AM84,1,IF(VLOOKUP(AM84+2,EasterDates,1)=AM84+2,1,0))","v":0}]
[null,null,null,null,null,null,null,null,null,null,null,null,null,null,null,null,null,null,"2018-03-23","F",6,23,null,null,null,null,null,null,2081,0,null,null,null,null,null,null,"2081-03-30",null,"2018-03-22",{"$f":"IF(VLOOKUP(AM85,EasterDates,1)=AM85,\"Easter\",IF(VLOOKUP(AM85+2,EasterDates,1)=AM85+2,\"Good Friday\",0))","v":0},"Th",{"$f":"IF(VLOOKUP(AM85,EasterDates,1)=AM85,1,IF(VLOOKUP(AM85+2,EasterDates,1)=AM85+2,1,0))","v":0}]
[null,null,null,null,null,null,null,null,null,null,null,null,null,null,null,null,null,null,"2018-03-24","Sa",7,24,null,null,null,null,null,null,2082,0,null,null,null,null,null,null,"2082-04-19",null,"2018-03-23",0,"F",0]
[null,null,null,null,null,null,null,null,null,null,null,null,null,null,null,null,null,null,"2018-03-25","Su",1,25,null,null,null,null,null,null,2083,0,null,null,null,null,null,null,"2083-04-04",null,"2018-03-24",0,"Sa",0]
[null,null,null,null,null,null,null,null,null,null,null,null,null,null,null,null,null,null,"2018-03-26","M",2,26,null,null,null,null,null,null,2084,1,null,null,null,null,null,null,"2084-03-26",null,"2018-03-25",0,"Su",0]
[null,null,null,null,null,null,null,null,null,null,null,null,null,null,null,null,null,null,"2018-03-27","T",3,27,null,null,null,null,null,null,2085,0,null,null,null,null,null,null,"2085-04-15",null,"2018-03-26",0,"M",0]
[null,null,null,null,null,null,null,null,null,null,null,null,null,null,null,null,null,null,"2018-03-28","W",4,28,null,null,null,null,null,null,2086,0,null,null,null,null,null,null,"2086-03-31",null,"2018-03-27",0,"T",0]
[null,null,null,null,null,null,null,null,null,null,null,null,null,null,null,null,null,null,"2018-03-29","Th",5,29,null,null,null,null,null,null,2087,0,null,null,null,null,null,null,"2087-04-20",null,"2018-03-28",0,"W",0]
[null,null,null,null,null,null,null,null,null,null,null,null,null,null,null,null,null,null,"2018-03-30","F",6,30,null,null,null,null,null,null,2088,1,null,null,null,null,null,null,"2088-04-11",null,"2018-03-29",0,"Th",0]
[null,null,null,null,null,null,null,null,null,null,null,null,null,null,null,null,null,null,"2018-03-31","Sa",7,31,null,null,null,null,null,null,2089,0,null,null,null,null,null,null,"2089-04-03",null,"2018-03-30","Good Friday","F",1]
[null,null,null,null,null,null,null,null,null,null,null,null,null,null,null,null,null,null,"2018-04-01","Su",1,1,null,null,null,null,null,null,2090,0,null,null,null,null,null,null,"2090-04-16",null,"2018-03-31",0,"Sa",0]
[null,null,null,null,null,null,null,null,null,null,null,null,null,null,null,null,null,null,"2018-04-02","M",2,2,null,null,null,null,null,null,2091,0,null,null,null,null,null,null,"2091-04-08",null,"2018-04-01","Easter","Su",1]
[null,null,null,null,null,null,null,null,null,null,null,null,null,null,null,null,null,null,"2018-04-03","T",3,3,null,null,null,null,null,null,2092,1,null,null,null,null,null,null,"2092-03-30",null,"2018-04-02",0,"M",0]
[null,null,null,null,null,null,null,null,null,null,null,null,null,null,null,null,null,null,"2018-04-04","W",4,4,null,null,null,null,null,null,2093,0,null,null,null,null,null,null,"2093-04-12",null,"2018-04-03",0,"T",0]
[null,null,null,null,null,null,null,null,null,null,null,null,null,null,null,null,null,null,"2018-04-05","Th",5,5,null,null,null,null,null,null,2094,0,null,null,null,null,null,null,"2094-04-04",null,"2018-04-04",0,"W",0]
[null,null,null,null,null,null,null,null,null,null,null,null,null,null,null,null,null,null,"2018-04-06","F",6,6,null,null,null,null,null,null,2095,0,null,null,null,null,null,null,"2095-04-24",null,"2018-04-05",0,"Th",0]
[null,null,null,null,null,null,null,null,null,null,null,null,null,null,null,null,null,null,"2018-04-07","Sa",7,7,null,null,null,null,null,null,2096,1,null,null,null,null,null,null,"2096-04-15",null,"2018-04-06",0,"F",0]
[null,null,null,null,null,null,null,null,null,null,null,null,null,null,null,null,null,null,"2018-04-08","Su",1,8,null,null,null,null,null,null,2097,0,null,null,null,null,null,null,"2097-03-31",null,"2018-04-07",0,"Sa",0]
[null,null,null,null,null,null,null,null,null,null,null,null,null,null,null,null,null,null,"2018-04-09","M",2,9,null,null,null,null,null,null,2098,0,null,null,null,null,null,null,"2098-04-20",null,"2018-04-08",0,"Su",0]
[null,null,null,null,null,null,null,null,null,null,null,null,null,null,null,null,null,null,"2018-04-10","T",3,10,null,null,null,null,null,null,2099,0,null,null,null,null,null,null,"2099-04-12",null,"2018-04-09",0,"M",0]
[null,null,null,null,null,null,null,null,null,null,null,null,null,null,null,null,null,null,"2018-04-11","W",4,11,null,null,null,null,null,null,2100,1,null,null,null,null,null,null,null,null,"2018-04-10",0,"T",0]
[null,null,null,null,null,null,null,null,null,null,null,null,null,null,null,null,null,null,"2018-04-12","Th",5,12,null,null,null,null,null,null,null,null,null,null,null,null,null,null,null,null,"2018-04-11",0,"W",0]
[null,null,null,null,null,null,null,null,null,null,null,null,null,null,null,null,null,null,"2018-04-13","F",6,13,null,null,null,null,null,null,null,null,null,null,null,null,null,null,null,null,"2018-04-12",0,"Th",0]
[null,null,null,null,null,null,null,null,null,null,null,null,null,null,null,null,null,null,"2018-04-14","Sa",7,14,null,null,null,null,null,null,null,null,null,null,null,null,null,null,null,null,"2018-04-13",0,"F",0]
[null,null,null,null,null,null,null,null,null,null,null,null,null,null,null,null,null,null,"2018-04-15","Su",1,15,null,null,null,null,null,null,null,null,null,null,null,null,null,null,null,null,"2018-04-14",0,"Sa",0]
[null,null,null,null,null,null,null,null,null,null,null,null,null,null,null,null,null,null,"2018-04-16","M",2,16,null,null,null,null,null,null,null,null,null,null,null,null,null,null,null,null,"2018-04-15",0,"Su",0]
[null,null,null,null,null,null,null,null,null,null,null,null,null,null,null,null,null,null,"2018-04-17","T",3,17,null,null,null,null,null,null,null,null,null,null,null,null,null,null,null,null,"2018-04-16",0,"M",0]
[null,null,null,null,null,null,null,null,null,null,null,null,null,null,null,null,null,null,"2018-04-18","W",4,18,null,null,null,null,null,null,null,null,null,null,null,null,null,null,null,null,"2018-04-17",0,"T",0]
[null,null,null,null,null,null,null,null,null,null,null,null,null,null,null,null,null,null,"2018-04-19","Th",5,19,null,null,null,null,null,null,null,null,null,null,null,null,null,null,null,null,"2018-04-18",0,"W",0]
[null,null,null,null,null,null,null,null,null,null,null,null,null,null,null,null,null,null,"2018-04-20","F",6,20,null,null,null,null,null,null,null,null,null,null,null,null,null,null,null,null,"2018-04-19",0,"Th",0]
[null,null,null,null,null,null,null,null,null,null,null,null,null,null,null,null,null,null,"2018-04-21","Sa",7,21,null,null,null,null,null,null,null,null,null,null,null,null,null,null,null,null,"2018-04-20",0,"F",0]
[null,null,null,null,null,null,null,null,null,null,null,null,null,null,null,null,null,null,"2018-04-22","Su",1,22,null,null,null,null,null,null,null,null,null,null,null,null,null,null,null,null,"2018-04-21",0,"Sa",0]
[null,null,null,null,null,null,null,null,null,null,null,null,null,null,null,null,null,null,"2018-04-23","M",2,23,null,null,null,null,null,null,null,null,null,null,null,null,null,null,null,null,"2018-04-22",0,"Su",0]
[null,null,null,null,null,null,null,null,null,null,null,null,null,null,null,null,null,null,"2018-04-24","T",3,24,null,null,null,null,null,null,null,null,null,null,null,null,null,null,null,null,"2018-04-23",0,"M",0]
[null,null,null,null,null,null,null,null,null,null,null,null,null,null,null,null,null,null,"2018-04-25","W",4,25,null,null,null,null,null,null,null,null,null,null,null,null,null,null,null,null,"2018-04-24",0,"T",0]
[null,null,null,null,null,null,null,null,null,null,null,null,null,null,null,null,null,null,"2018-04-26","Th",5,26,null,null,null,null,null,null,null,null,null,null,null,null,null,null,null,null,"2018-04-25",null,"W"]
[null,null,null,null,null,null,null,null,null,null,null,null,null,null,null,null,null,null,"2018-04-27","F",6,27,null,null,null,null,null,null,null,null,null,null,null,null,null,null,null,null,"2018-04-26",null,"Th"]
[null,null,null,null,null,null,null,null,null,null,null,null,null,null,null,null,null,null,"2018-04-28","Sa",7,28,null,null,null,null,null,null,null,null,null,null,null,null,null,null,null,null,"2018-04-27",null,"F"]
[null,null,null,null,null,null,null,null,null,null,null,null,null,null,null,null,null,null,"2018-04-29","Su",1,29,null,null,null,null,null,null,null,null,null,null,null,null,null,null,null,null,"2018-04-28",null,"Sa"]
[null,null,null,null,null,null,null,null,null,null,null,null,null,null,null,null,null,null,"2018-04-30","M",2,30,null,null,null,null,null,null,null,null,null,null,null,null,null,null,null,null,"2018-04-29",null,"Su"]
[null,null,null,null,null,null,null,null,null,null,null,null,null,null,null,null,null,null,"2018-05-01","T",3,1,null,null,null,null,null,null,null,null,null,null,null,null,null,null,null,null,"2018-04-30",null,"M"]
[null,null,null,null,null,null,null,null,null,null,null,null,null,null,null,null,null,null,"2018-05-02","W",4,2,null,null,null,null,null,null,null,null,null,null,null,null,null,null,null,null,"2018-05-01",null,"T"]
[null,null,null,null,null,null,null,null,null,null,null,null,null,null,null,null,null,null,"2018-05-03","Th",5,3,null,null,null,null,null,null,null,null,null,null,null,null,null,null,null,null,"2018-05-02",null,"W"]
[null,null,null,null,null,null,null,null,null,null,null,null,null,null,null,null,null,null,"2018-05-04","F",6,4,null,null,null,null,null,null,null,null,null,null,null,null,null,null,null,null,"2018-05-03",null,"Th"]
[null,null,null,null,null,null,null,null,null,null,null,null,null,null,null,null,null,null,"2018-05-05","Sa",7,5,null,null,null,null,null,null,null,null,null,null,null,null,null,null,null,null,"2018-05-04",null,"F"]
[null,null,null,null,null,null,null,null,null,null,null,null,null,null,null,null,null,null,"2018-05-06","Su",1,6,null,null,null,null,null,null,null,null,null,null,null,null,null,null,null,null,"2018-05-05",null,"Sa"]
[null,null,null,null,null,null,null,null,null,null,null,null,null,null,null,null,null,null,"2018-05-07","M",2,7,null,null,null,null,null,null,null,null,null,null,null,null,null,null,null,null,"2018-05-06",null,"Su"]
[null,null,null,null,null,null,null,null,null,null,null,null,null,null,null,null,null,null,"2018-05-08","T",3,8,null,null,null,null,null,null,null,null,null,null,null,null,null,null,null,null,"2018-05-07",null,"M"]
[null,null,null,null,null,null,null,null,null,null,null,null,null,null,null,null,null,null,"2018-05-09",{"$f":"VLOOKUP(U132,DayTable,2,FALSE)","v":"W"},{"$f":"WEEKDAY(S132,1)","v":4},9,null,null,null,null,null,null,null,null,null,null,null,null,null,null,null,null,"2018-05-08",null,"T"]
[null,null,null,null,null,null,null,null,null,null,null,null,null,null,null,null,null,null,"2018-05-10","Th",5,10,null,null,null,null,null,null,null,null,null,null,null,null,null,null,null,null,"2018-05-09",null,"W"]
[null,null,null,null,null,null,null,null,null,null,null,null,null,null,null,null,null,null,{"$f":"1+S133","v":"2018-05-11"},"F",6,{"$f":"DAY(S134)","v":11},null,null,null,null,null,null,null,null,null,null,null,null,null,null,null,null,"2018-05-10",null,{"$f":"VLOOKUP(WEEKDAY(AM134,1),DayTable,2,FALSE)","v":"Th"}]
[null,null,null,null,null,null,null,null,null,null,null,null,null,null,null,null,null,null,"2018-05-12","Sa",7,12,null,null,null,null,null,null,null,null,null,null,null,null,null,null,null,null,{"$f":"1+AM134","v":"2018-05-11"},null,"F"]
[null,null,null,null,null,null,null,null,null,null,null,null,null,null,null,null,null,null,"2018-05-13","Su",1,13,null,null,null,null,null,null,null,null,null,null,null,null,null,null,null,null,"2018-05-12",null,"Sa"]
[null,null,null,null,null,null,null,null,null,null,null,null,null,null,null,null,null,null,"2018-05-14","M",2,14,null,null,null,null,null,null,null,null,null,null,null,null,null,null,null,null,"2018-05-13",null,"Su"]
[null,null,null,null,null,null,null,null,null,null,null,null,null,null,null,null,null,null,"2018-05-15","T",3,15,null,null,null,null,null,null,null,null,null,null,null,null,null,null,null,null,"2018-05-14",null,"M"]
[null,null,null,null,null,null,null,null,null,null,null,null,null,null,null,null,null,null,"2018-05-16","W",4,16,null,null,null,null,null,null,null,null,null,null,null,null,null,null,null,null,"2018-05-15",null,"T"]
[null,null,null,null,null,null,null,null,null,null,null,null,null,null,null,null,null,null,"2018-05-17","Th",5,17,null,null,null,null,null,null,null,null,null,null,null,null,null,null,null,null,"2018-05-16",null,"W"]
[null,null,null,null,null,null,null,null,null,null,null,null,null,null,null,null,null,null,"2018-05-18","F",6,18,null,null,null,null,null,null,null,null,null,null,null,null,null,null,null,null,"2018-05-17",null,"Th"]
[null,null,null,null,null,null,null,null,null,null,null,null,null,null,null,null,null,null,"2018-05-19","Sa",7,19,null,null,null,null,null,null,null,null,null,null,null,null,null,null,null,null,"2018-05-18",null,"F"]
[null,null,null,null,null,null,null,null,null,null,null,null,null,null,null,null,null,null,"2018-05-20","Su",1,20,null,null,null,null,null,null,null,null,null,null,null,null,null,null,null,null,"2018-05-19",null,"Sa"]
[null,null,null,null,null,null,null,null,null,null,null,null,null,null,null,null,null,null,"2018-05-21","M",2,21,null,null,null,null,null,null,null,null,null,null,null,null,null,null,null,null,"2018-05-20",null,"Su"]
[null,null,null,null,null,null,null,null,null,null,null,null,null,null,null,null,null,null,"2018-05-22","T",3,22,null,null,null,null,null,null,null,null,null,null,null,null,null,null,null,null,"2018-05-21",null,"M"]
[null,null,null,null,null,null,null,null,null,null,null,null,null,null,null,null,null,null,"2018-05-23","W",4,23,null,null,null,null,null,null,null,null,null,null,null,null,null,null,null,null,"2018-05-22",null,"T"]
[null,null,null,null,null,null,null,null,null,null,null,null,null,null,null,null,null,null,"2018-05-24","Th",5,24,null,null,null,null,null,null,null,null,null,null,null,null,null,null,null,null,"2018-05-23",null,"W"]
[null,null,null,null,null,null,null,null,null,null,null,null,null,null,null,null,null,null,"2018-05-25","F",6,25,null,null,null,null,null,null,null,null,null,null,null,null,null,null,null,null,"2018-05-24",null,"Th"]
[null,null,null,null,null,null,null,null,null,null,null,null,null,null,null,null,null,null,"2018-05-26","Sa",7,26,null,null,null,null,null,null,null,null,null,null,null,null,null,null,null,null,"2018-05-25",{"$f":"IF(AND(DAY(AM149)>24,AO149=\"M\"),\"Memorial Day\",0)","v":0},"F",{"$f":"IF(AND(DAY(AM149)>24,AO149=\"M\"),1,0)","v":0}]
[null,null,null,null,null,null,null,null,null,null,null,null,null,null,null,null,null,null,"2018-05-27","Su",1,27,null,null,null,null,null,null,null,null,null,null,null,null,null,null,null,null,"2018-05-26",0,"Sa",{"$f":"IF(AND(DAY(AM150)>24,AO150=\"M\"),1,0)","v":0}]
[null,null,null,null,null,null,null,null,null,null,null,null,null,null,null,null,null,null,"2018-05-28","M",2,28,null,null,null,null,null,null,null,null,null,null,null,null,null,null,null,null,"2018-05-27",0,"Su",0]
[null,null,null,null,null,null,null,null,null,null,null,null,null,null,null,null,null,null,"2018-05-29","T",3,29,null,null,null,null,null,null,null,null,null,null,null,null,null,null,null,null,"2018-05-28","Memorial Day","M",1]
[null,null,null,null,null,null,null,null,null,null,null,null,null,null,null,null,null,null,"2018-05-30","W",4,30,null,null,null,null,null,null,null,null,null,null,null,null,null,null,null,null,"2018-05-29",0,"T",0]
[null,null,null,null,null,null,null,null,null,null,null,null,null,null,null,null,null,null,"2018-05-31","Th",5,31,null,null,null,null,null,null,null,null,null,null,null,null,null,null,null,null,"2018-05-30",0,"W",0]
[null,null,null,null,null,null,null,null,null,null,null,null,null,null,null,null,null,null,"2018-06-01","F",6,1,null,null,null,null,null,null,null,null,null,null,null,null,null,null,null,null,"2018-05-31",0,"Th",0]
[null,null,null,null,null,null,null,null,null,null,null,null,null,null,null,null,null,null,"2018-06-02","Sa",7,2,null,null,null,null,null,null,null,null,null,null,null,null,null,null,null,null,"2018-06-01",0,"F",0]
[null,null,null,null,null,null,null,null,null,null,null,null,null,null,null,null,null,null,"2018-06-03","Su",1,3,null,null,null,null,null,null,null,null,null,null,null,null,null,null,null,null,"2018-06-02",0,"Sa",0]
[null,null,null,null,null,null,null,null,null,null,null,null,null,null,null,null,null,null,"2018-06-04","M",2,4,null,null,null,null,null,null,null,null,null,null,null,null,null,null,null,null,"2018-06-03",0,"Su",0]
[null,null,null,null,null,null,null,null,null,null,null,null,null,null,null,null,null,null,"2018-06-05","T",3,5,null,null,null,null,null,null,null,null,null,null,null,null,null,null,null,null,"2018-06-04",null,"M"]
[null,null,null,null,null,null,null,null,null,null,null,null,null,null,null,null,null,null,"2018-06-06","W",4,6,null,null,null,null,null,null,null,null,null,null,null,null,null,null,null,null,"2018-06-05",null,"T"]
[null,null,null,null,null,null,null,null,null,null,null,null,null,null,null,null,null,null,"2018-06-07","Th",5,7,null,null,null,null,null,null,null,null,null,null,null,null,null,null,null,null,"2018-06-06",null,"W"]
[null,null,null,null,null,null,null,null,null,null,null,null,null,null,null,null,null,null,"2018-06-08","F",6,8,null,null,null,null,null,null,null,null,null,null,null,null,null,null,null,null,"2018-06-07",null,"Th"]
[null,null,null,null,null,null,null,null,null,null,null,null,null,null,null,null,null,null,"2018-06-09","Sa",7,9,null,null,null,null,null,null,null,null,null,null,null,null,null,null,null,null,"2018-06-08",null,"F"]
[null,null,null,null,null,null,null,null,null,null,null,null,null,null,null,null,null,null,"2018-06-10","Su",1,10,null,null,null,null,null,null,null,null,null,null,null,null,null,null,null,null,"2018-06-09",null,"Sa"]
[null,null,null,null,null,null,null,null,null,null,null,null,null,null,null,null,null,null,"2018-06-11","M",2,11,null,null,null,null,null,null,null,null,null,null,null,null,null,null,null,null,"2018-06-10",null,"Su"]
[null,null,null,null,null,null,null,null,null,null,null,null,null,null,null,null,null,null,"2018-06-12","T",3,12,null,null,null,null,null,null,null,null,null,null,null,null,null,null,null,null,"2018-06-11",null,"M"]
[null,null,null,null,null,null,null,null,null,null,null,null,null,null,null,null,null,null,"2018-06-13","W",4,13,null,null,null,null,null,null,null,null,null,null,null,null,null,null,null,null,"2018-06-12",null,"T"]
[null,null,null,null,null,null,null,null,null,null,null,null,null,null,null,null,null,null,"2018-06-14","Th",5,14,null,null,null,null,null,null,null,null,null,null,null,null,null,null,null,null,"2018-06-13",null,"W"]
[null,null,null,null,null,null,null,null,null,null,null,null,null,null,null,null,null,null,"2018-06-15","F",6,15,null,null,null,null,null,null,null,null,null,null,null,null,null,null,null,null,"2018-06-14",null,"Th"]
[null,null,null,null,null,null,null,null,null,null,null,null,null,null,null,null,null,null,"2018-06-16","Sa",7,16,null,null,null,null,null,null,null,null,null,null,null,null,null,null,null,null,"2018-06-15",null,"F"]
[null,null,null,null,null,null,null,null,null,null,null,null,null,null,null,null,null,null,"2018-06-17","Su",1,17,null,null,null,null,null,null,null,null,null,null,null,null,null,null,null,null,"2018-06-16",null,"Sa"]
[null,null,null,null,null,null,null,null,null,null,null,null,null,null,null,null,null,null,"2018-06-18","M",2,18,null,null,null,null,null,null,null,null,null,null,null,null,null,null,null,null,"2018-06-17",null,"Su"]
[null,null,null,null,null,null,null,null,null,null,null,null,null,null,null,null,null,null,"2018-06-19","T",3,19,null,null,null,null,null,null,null,null,null,null,null,null,null,null,null,null,"2018-06-18",null,"M"]
[null,null,null,null,null,null,null,null,null,null,null,null,null,null,null,null,null,null,"2018-06-20","W",4,20,null,null,null,null,null,null,null,null,null,null,null,null,null,null,null,null,"2018-06-19",null,"T"]
[null,null,null,null,null,null,null,null,null,null,null,null,null,null,null,null,null,null,"2018-06-21","Th",5,21,null,null,null,null,null,null,null,null,null,null,null,null,null,null,null,null,"2018-06-20",null,"W"]
[null,null,null,null,null,null,null,null,null,null,null,null,null,null,null,null,null,null,"2018-06-22","F",6,22,null,null,null,null,null,null,null,null,null,null,null,null,null,null,null,null,"2018-06-21",null,"Th"]
[null,null,null,null,null,null,null,null,null,null,null,null,null,null,null,null,null,null,"2018-06-23","Sa",7,23,null,null,null,null,null,null,null,null,null,null,null,null,null,null,null,null,"2018-06-22",null,"F"]
[null,null,null,null,null,null,null,null,null,null,null,null,null,null,null,null,null,null,"2018-06-24","Su",1,24,null,null,null,null,null,null,null,null,null,null,null,null,null,null,null,null,"2018-06-23",null,"Sa"]
[null,null,null,null,null,null,null,null,null,null,null,null,null,null,null,null,null,null,"2018-06-25","M",2,25,null,null,null,null,null,null,null,null,null,null,null,null,null,null,null,null,"2018-06-24",null,"Su"]
[null,null,null,null,null,null,null,null,null,null,null,null,null,null,null,null,null,null,"2018-06-26","T",3,26,null,null,null,null,null,null,null,null,null,null,null,null,null,null,null,null,"2018-06-25",null,"M"]
[null,null,null,null,null,null,null,null,null,null,null,null,null,null,null,null,null,null,"2018-06-27","W",4,27,null,null,null,null,null,null,null,null,null,null,null,{"$f":"AM182","v":"2018-06-27"},null,null,null,null,"2018-06-26",null,"T"]
[null,null,null,null,null,null,null,null,null,null,null,null,null,null,null,null,null,null,"2018-06-28","Th",5,28,null,null,null,null,null,null,null,null,null,null,null,{"$f":"1+AH181","v":"2018-06-28"},null,null,null,null,"2018-06-27",null,"W"]
[null,null,null,null,null,null,null,null,null,null,null,null,null,null,null,null,null,null,"2018-06-29","F",6,29,null,null,null,null,null,null,null,null,null,null,null,"2018-06-29",null,null,null,null,"2018-06-28",null,"Th"]
[null,null,null,null,null,null,null,null,null,null,null,null,null,null,null,null,null,null,"2018-06-30","Sa",7,30,null,null,null,null,null,null,null,null,null,null,null,"2018-06-30",null,null,null,null,"2018-06-29",null,"F"]
[null,null,null,null,null,null,null,null,null,null,null,null,null,null,null,null,null,null,"2018-07-01","Su",1,1,null,null,null,null,null,null,null,null,null,null,null,"2018-07-01",null,null,null,null,"2018-06-30",{"$f":"IF(AND(DAY(AM185)=4,AND(AO185<>\"Sa\",AO185<>\"Su\")),\"4th of July\",\"\")","v":""},"Sa",{"$f":"IF(AND(DAY(AM185)=4,AND(AO185<>\"Sa\",AO185<>\"Su\")),1,0)","v":0}]
[null,null,null,null,null,null,null,null,null,null,null,null,null,null,null,null,null,null,"2018-07-02","M",2,2,null,null,null,null,null,null,null,null,null,null,null,"2018-07-02",null,null,null,null,"2018-07-01",{"$f":"IF(AND(DAY(AM186)=4,AND(AO186<>\"Sa\",AO186<>\"Su\")),\"4th of July\",\"\")","v":""},"Su",{"$f":"IF(AND(DAY(AM186)=4,AND(AO186<>\"Sa\",AO186<>\"Su\")),1,0)","v":0}]
[null,null,null,null,null,null,null,null,null,null,null,null,null,null,null,null,null,null,"2018-07-03","T",3,3,null,null,null,null,null,null,null,null,null,null,null,"2018-07-03",null,null,null,null,"2018-07-02",{"$f":"IF(AND(DAY(AM187)=4,AND(AO187<>\"Sa\",AO187<>\"Su\")),\"4th of July\",\"\")","v":""},"M",{"$f":"IF(AND(DAY(AM187)=4,AND(AO187<>\"Sa\",AO187<>\"Su\")),1,0)","v":0}]
[null,null,null,null,null,null,null,null,null,null,null,null,null,null,null,null,null,null,"2018-07-04","W",4,4,null,null,null,null,null,null,null,null,null,null,null,"2018-07-04",null,null,null,null,"2018-07-03",{"$f":"IF(AQ188=1,AR188,IF(AS188=1,AT188,\"\"))","v":""},"T",{"$f":"MAX(AQ188,AS188)","v":0},{"$f":"IF(AND(DAY(AM188)=4,AO188<>\"Sa\",AO188<>\"Su\"),1,0)","v":0},{"$f":"IF(AND(DAY(AM188)=4,AO188<>\"Sa\",AO188<>\"Su\"),\"4th of July\",\"\")","v":""},{"$f":"IF(AND(DAY(AM188)=3,AO188=\"F\"),1,0)","v":0},{"$f":"IF(AND(DAY(AM188)=3,AO188=\"F\"),\"July 4th Observed\",\"\")","v":""}]
[null,null,null,null,null,null,null,null,null,null,null,null,null,null,null,null,null,null,"2018-07-05","Th",5,5,null,null,null,null,null,null,null,null,null,null,null,"2018-07-05",null,null,null,null,"2018-07-04",{"$f":"IF(AQ189=1,AR189,IF(AS189=1,AT189,\"\"))","v":"4th of July"},"W",{"$f":"MAX(AQ189,AS189)","v":1},{"$f":"IF(AND(DAY(AM189)=4,AO189<>\"Sa\",AO189<>\"Su\"),1,0)","v":1},{"$f":"IF(AND(DAY(AM189)=4,AO189<>\"Sa\",AO189<>\"Su\"),\"4th of July\",\"\")","v":"4th of July"},{"$f":"IF(AND(DAY(AM189)=3,AO189=\"F\"),1,0)","v":0},{"$f":"IF(AND(DAY(AM189)=3,AO189=\"F\"),\"July 4th Observed\",\"\")","v":""}]
[null,null,null,null,null,null,null,null,null,null,null,null,null,null,null,null,null,null,"2018-07-06","F",6,6,null,null,null,null,null,null,null,null,null,null,null,"2018-07-06",null,null,null,null,"2018-07-05",{"$f":"IF(AQ190=1,AR190,IF(AS190=1,AT190,\"\"))","v":""},"Th",{"$f":"MAX(AQ190,AS190)","v":0},{"$f":"IF(AND(DAY(AM190)=4,AO190<>\"Sa\",AO190<>\"Su\"),1,0)","v":0},{"$f":"IF(AND(DAY(AM190)=4,AO190<>\"Sa\",AO190<>\"Su\"),\"4th of July\",\"\")","v":""},{"$f":"IF(AND(DAY(AM190)=5,AO190=\"M\"),1,0)","v":0},{"$f":"IF(AND(DAY(AM190)=5,AO190=\"M\"),\"July 4th Observed\",\"\")","v":""}]
[null,null,null,null,null,null,null,null,null,null,null,null,null,null,null,null,null,null,"2018-07-07","Sa",7,7,null,null,null,null,null,null,null,null,null,null,null,"2018-07-07",null,null,null,null,"2018-07-06",{"$f":"IF(AQ191=1,AR191,IF(AS191=1,AT191,\"\"))","v":""},"F",{"$f":"MAX(AQ191,AS191)","v":0},{"$f":"IF(AND(DAY(AM191)=4,AO191<>\"Sa\",AO191<>\"Su\"),1,0)","v":0},{"$f":"IF(AND(DAY(AM191)=4,AO191<>\"Sa\",AO191<>\"Su\"),\"4th of July\",\"\")","v":""},{"$f":"IF(AND(DAY(AM191)=5,AO191=\"M\"),1,0)","v":0},{"$f":"IF(AND(DAY(AM191)=5,AO191=\"M\"),\"July 4th Observed\",\"\")","v":""}]
[null,null,null,null,null,null,null,null,null,null,null,null,null,null,null,null,null,null,"2018-07-08","Su",1,8,null,null,null,null,null,null,null,null,null,null,null,null,null,null,null,null,"2018-07-07",{"$f":"IF(AQ192=1,AR192,IF(AS192=1,AT192,\"\"))","v":""},"Sa",{"$f":"MAX(AQ192,AS192)","v":0},{"$f":"IF(AND(DAY(AM192)=4,AO192<>\"Sa\",AO192<>\"Su\"),1,0)","v":0},{"$f":"IF(AND(DAY(AM192)=4,AO192<>\"Sa\",AO192<>\"Su\"),\"4th of July\",\"\")","v":""},{"$f":"IF(AND(DAY(AM192)=5,AO192=\"M\"),1,0)","v":0},{"$f":"IF(AND(DAY(AM192)=5,AO192=\"M\"),\"July 4th Observed\",\"\")","v":""}]
[null,null,null,null,null,null,null,null,null,null,null,null,null,null,null,null,null,null,"2018-07-09","M",2,9,null,null,null,null,null,null,null,null,null,null,null,null,null,null,null,null,"2018-07-08",null,"Su"]
[null,null,null,null,null,null,null,null,null,null,null,null,null,null,null,null,null,null,"2018-07-10","T",3,10,null,null,null,null,null,null,null,null,null,null,null,null,null,null,null,null,"2018-07-09",null,"M"]
[null,null,null,null,null,null,null,null,null,null,null,null,null,null,null,null,null,null,"2018-07-11","W",4,11,null,null,null,null,null,null,null,null,null,null,null,null,null,null,null,null,"2018-07-10",null,"T"]
[null,null,null,null,null,null,null,null,null,null,null,null,null,null,null,null,null,null,"2018-07-12",{"$f":"VLOOKUP(U196,DayTable,2,FALSE)","v":"Th"},{"$f":"WEEKDAY(S196,1)","v":5},12,null,null,null,null,null,null,null,null,null,null,null,null,null,null,null,null,"2018-07-11",null,"W"]
[null,null,null,null,null,null,null,null,null,null,null,null,null,null,null,null,null,null,"2018-07-13","F",6,13,null,null,null,null,null,null,null,null,null,null,null,null,null,null,null,null,"2018-07-12",null,"Th"]
[null,null,null,null,null,null,null,null,null,null,null,null,null,null,null,null,null,null,{"$f":"1+S197","v":"2018-07-14"},"Sa",7,{"$f":"DAY(S198)","v":14},null,null,null,null,null,null,null,null,null,null,null,null,null,null,null,null,"2018-07-13",null,{"$f":"VLOOKUP(WEEKDAY(AM198,1),DayTable,2,FALSE)","v":"F"}]
[null,null,null,null,null,null,null,null,null,null,null,null,null,null,null,null,null,null,"2018-07-15","Su",1,15,null,null,null,null,null,null,null,null,null,null,null,null,null,null,null,null,{"$f":"1+AM198","v":"2018-07-14"},null,"Sa"]
[null,null,null,null,null,null,null,null,null,null,null,null,null,null,null,null,null,null,"2018-07-16","M",2,16,null,null,null,null,null,null,null,null,null,null,null,null,null,null,null,null,"2018-07-15",null,"Su"]
[null,null,null,null,null,null,null,null,null,null,null,null,null,null,null,null,null,null,"2018-07-17","T",3,17,null,null,null,null,null,null,null,null,null,null,null,null,null,null,null,null,"2018-07-16",null,"M"]
[null,null,null,null,null,null,null,null,null,null,null,null,null,null,null,null,null,null,"2018-07-18","W",4,18,null,null,null,null,null,null,null,null,null,null,null,null,null,null,null,null,"2018-07-17",null,"T"]
[null,null,null,null,null,null,null,null,null,null,null,null,null,null,null,null,null,null,"2018-07-19","Th",5,19,null,null,null,null,null,null,null,null,null,null,null,null,null,null,null,null,"2018-07-18",null,"W"]
[null,null,null,null,null,null,null,null,null,null,null,null,null,null,null,null,null,null,"2018-07-20","F",6,20,null,null,null,null,null,null,null,null,null,null,null,null,null,null,null,null,"2018-07-19",null,"Th"]
[null,null,null,null,null,null,null,null,null,null,null,null,null,null,null,null,null,null,"2018-07-21","Sa",7,21,null,null,null,null,null,null,null,null,null,null,null,null,null,null,null,null,"2018-07-20",null,"F"]
[null,null,null,null,null,null,null,null,null,null,null,null,null,null,null,null,null,null,"2018-07-22","Su",1,22,null,null,null,null,null,null,null,null,null,null,null,null,null,null,null,null,"2018-07-21",null,"Sa"]
[null,null,null,null,null,null,null,null,null,null,null,null,null,null,null,null,null,null,"2018-07-23","M",2,23,null,null,null,null,null,null,null,null,null,null,null,null,null,null,null,null,"2018-07-22",null,"Su"]
[null,null,null,null,null,null,null,null,null,null,null,null,null,null,null,null,null,null,"2018-07-24","T",3,24,null,null,null,null,null,null,null,null,null,null,null,null,null,null,null,null,"2018-07-23",null,"M"]
[null,null,null,null,null,null,null,null,null,null,null,null,null,null,null,null,null,null,"2018-07-25","W",4,25,null,null,null,null,null,null,null,null,null,null,null,null,null,null,null,null,"2018-07-24",null,"T"]
[null,null,null,null,null,null,null,null,null,null,null,null,null,null,null,null,null,null,"2018-07-26","Th",5,26,null,null,null,null,null,null,null,null,null,null,null,null,null,null,null,null,"2018-07-25",null,"W"]
[null,null,null,null,null,null,null,null,null,null,null,null,null,null,null,null,null,null,"2018-07-27","F",6,27,null,null,null,null,null,null,null,null,null,null,null,null,null,null,null,null,"2018-07-26",null,"Th"]
[null,null,null,null,null,null,null,null,null,null,null,null,null,null,null,null,null,null,"2018-07-28","Sa",7,28,null,null,null,null,null,null,null,null,null,null,null,null,null,null,null,null,"2018-07-27",null,"F"]
[null,null,null,null,null,null,null,null,null,null,null,null,null,null,null,null,null,null,"2018-07-29","Su",1,29,null,null,null,null,null,null,null,null,null,null,null,null,null,null,null,null,"2018-07-28",null,"Sa"]
[null,null,null,null,null,null,null,null,null,null,null,null,null,null,null,null,null,null,"2018-07-30","M",2,30,null,null,null,null,null,null,null,null,null,null,null,null,null,null,null,null,"2018-07-29",null,"Su"]
[null,null,null,null,null,null,null,null,null,null,null,null,null,null,null,null,null,null,"2018-07-31","T",3,31,null,null,null,null,null,null,null,null,null,null,null,null,null,null,null,null,"2018-07-30",null,"M"]
[null,null,null,null,null,null,null,null,null,null,null,null,null,null,null,null,null,null,"2018-08-01","W",4,1,null,null,null,null,null,null,null,null,null,null,null,null,null,null,null,null,"2018-07-31",null,"T"]
[null,null,null,null,null,null,null,null,null,null,null,null,null,null,null,null,null,null,"2018-08-02","Th",5,2,null,null,null,null,null,null,null,null,null,null,null,null,null,null,null,null,"2018-08-01",null,"W"]
[null,null,null,null,null,null,null,null,null,null,null,null,null,null,null,null,null,null,"2018-08-03","F",6,3,null,null,null,null,null,null,null,null,null,null,null,null,null,null,null,null,"2018-08-02",null,"Th"]
[null,null,null,null,null,null,null,null,null,null,null,null,null,null,null,null,null,null,"2018-08-04","Sa",7,4,null,null,null,null,null,null,null,null,null,null,null,null,null,null,null,null,"2018-08-03",null,"F"]
[null,null,null,null,null,null,null,null,null,null,null,null,null,null,null,null,null,null,"2018-08-05","Su",1,5,null,null,null,null,null,null,null,null,null,null,null,null,null,null,null,null,"2018-08-04",null,"Sa"]
[null,null,null,null,null,null,null,null,null,null,null,null,null,null,null,null,null,null,"2018-08-06","M",2,6,null,null,null,null,null,null,null,null,null,null,null,null,null,null,null,null,"2018-08-05",null,"Su"]
[null,null,null,null,null,null,null,null,null,null,null,null,null,null,null,null,null,null,"2018-08-07","T",3,7,null,null,null,null,null,null,null,null,null,null,null,null,null,null,null,null,"2018-08-06",null,"M"]
[null,null,null,null,null,null,null,null,null,null,null,null,null,null,null,null,null,null,"2018-08-08","W",4,8,null,null,null,null,null,null,null,null,null,null,null,null,null,null,null,null,"2018-08-07",null,"T"]
[null,null,null,null,null,null,null,null,null,null,null,null,null,null,null,null,null,null,"2018-08-09","Th",5,9,null,null,null,null,null,null,null,null,null,null,null,null,null,null,null,null,"2018-08-08",null,"W"]
[null,null,null,null,null,null,null,null,null,null,null,null,null,null,null,null,null,null,"2018-08-10","F",6,10,null,null,null,null,null,null,null,null,null,null,null,null,null,null,null,null,"2018-08-09",null,"Th"]
[null,null,null,null,null,null,null,null,null,null,null,null,null,null,null,null,null,null,"2018-08-11","Sa",7,11,null,null,null,null,null,null,null,null,null,null,null,null,null,null,null,null,"2018-08-10",null,"F"]
[null,null,null,null,null,null,null,null,null,null,null,null,null,null,null,null,null,null,"2018-08-12","Su",1,12,null,null,null,null,null,null,null,null,null,null,null,null,null,null,null,null,"2018-08-11",null,"Sa"]
[null,null,null,null,null,null,null,null,null,null,null,null,null,null,null,null,null,null,"2018-08-13","M",2,13,null,null,null,null,null,null,null,null,null,null,null,null,null,null,null,null,"2018-08-12",null,"Su"]
[null,null,null,null,null,null,null,null,null,null,null,null,null,null,null,null,null,null,"2018-08-14","T",3,14,null,null,null,null,null,null,null,null,null,null,null,null,null,null,null,null,"2018-08-13",null,"M"]
[null,null,null,null,null,null,null,null,null,null,null,null,null,null,null,null,null,null,"2018-08-15","W",4,15,null,null,null,null,null,null,null,null,null,null,null,null,null,null,null,null,"2018-08-14",null,"T"]
[null,null,null,null,null,null,null,null,null,null,null,null,null,null,null,null,null,null,"2018-08-16","Th",5,16,null,null,null,null,null,null,null,null,null,null,null,null,null,null,null,null,"2018-08-15",null,"W"]
[null,null,null,null,null,null,null,null,null,null,null,null,null,null,null,null,null,null,"2018-08-17","F",6,17,null,null,null,null,null,null,null,null,null,null,null,null,null,null,null,null,"2018-08-16",null,"Th"]
[null,null,null,null,null,null,null,null,null,null,null,null,null,null,null,null,null,null,"2018-08-18","Sa",7,18,null,null,null,null,null,null,null,null,null,null,null,null,null,null,null,null,"2018-08-17",null,"F"]
[null,null,null,null,null,null,null,null,null,null,null,null,null,null,null,null,null,null,"2018-08-19","Su",1,19,null,null,null,null,null,null,null,null,null,null,null,null,null,null,null,null,"2018-08-18",null,"Sa"]
[null,null,null,null,null,null,null,null,null,null,null,null,null,null,null,null,null,null,"2018-08-20","M",2,20,null,null,null,null,null,null,null,null,null,null,null,null,null,null,null,null,"2018-08-19",null,"Su"]
[null,null,null,null,null,null,null,null,null,null,null,null,null,null,null,null,null,null,"2018-08-21","T",3,21,null,null,null,null,null,null,null,null,null,null,null,null,null,null,null,null,"2018-08-20",null,"M"]
[null,null,null,null,null,null,null,null,null,null,null,null,null,null,null,null,null,null,"2018-08-22","W",4,22,null,null,null,null,null,null,null,null,null,null,null,null,null,null,null,null,"2018-08-21",null,"T"]
[null,null,null,null,null,null,null,null,null,null,null,null,null,null,null,null,null,null,"2018-08-23","Th",5,23,null,null,null,null,null,null,null,null,null,null,null,null,null,null,null,null,"2018-08-22",null,"W"]
[null,null,null,null,null,null,null,null,null,null,null,null,null,null,null,null,null,null,"2018-08-24","F",6,24,null,null,null,null,null,null,null,null,null,null,null,null,null,null,null,null,"2018-08-23",null,"Th"]
[null,null,null,null,null,null,null,null,null,null,null,null,null,null,null,null,null,null,"2018-08-25","Sa",7,25,null,null,null,null,null,null,null,null,null,null,null,null,null,null,null,null,"2018-08-24",null,"F"]
[null,null,null,null,null,null,null,null,null,null,null,null,null,null,null,null,null,null,"2018-08-26","Su",1,26,null,null,null,null,null,null,null,null,null,null,null,null,null,null,null,null,"2018-08-25",null,"Sa"]
[null,null,null,null,null,null,null,null,null,null,null,null,null,null,null,null,null,null,"2018-08-27","M",2,27,null,null,null,null,null,null,null,null,null,null,null,null,null,null,null,null,"2018-08-26",null,"Su"]
[null,null,null,null,null,null,null,null,null,null,null,null,null,null,null,null,null,null,"2018-08-28","T",3,28,null,null,null,null,null,null,null,null,null,null,null,null,null,null,null,null,"2018-08-27",null,"M"]
[null,null,null,null,null,null,null,null,null,null,null,null,null,null,null,null,null,null,"2018-08-29","W",4,29,null,null,null,null,null,null,null,null,null,null,null,null,null,null,null,null,"2018-08-28",null,"T"]
[null,null,null,null,null,null,null,null,null,null,null,null,null,null,null,null,null,null,"2018-08-30","Th",5,30,null,null,null,null,null,null,null,null,null,null,null,null,null,null,null,null,"2018-08-29",{"$f":"IF(AND(AO245=\"M\",MONTH(AM245)=9),\"Labor Day\",\"\")","v":""},"W",{"$f":"IF(AND(AO245=\"M\",MONTH(AM245)=9),1,0)","v":0}]
[null,null,null,null,null,null,null,null,null,null,null,null,null,null,null,null,null,null,"2018-08-31","F",6,31,null,null,null,null,null,null,null,null,null,null,null,null,null,null,null,null,"2018-08-30",{"$f":"IF(AND(AO246=\"M\",MONTH(AM246)=9),\"Labor Day\",\"\")","v":""},"Th",{"$f":"IF(AND(AO246=\"M\",MONTH(AM246)=9),1,0)","v":0}]
[null,null,null,null,null,null,null,null,null,null,null,null,null,null,null,null,null,null,"2018-09-01","Sa",7,1,null,null,null,null,null,null,null,null,null,null,null,null,null,null,null,null,"2018-08-31",{"$f":"IF(AND(AO247=\"M\",MONTH(AM247)=9),\"Labor Day\",\"\")","v":""},"F",0]
[null,null,null,null,null,null,null,null,null,null,null,null,null,null,null,null,null,null,"2018-09-02","Su",1,2,null,null,null,null,null,null,null,null,null,null,null,null,null,null,null,null,"2018-09-01","","Sa",0]
[null,null,null,null,null,null,null,null,null,null,null,null,null,null,null,null,null,null,"2018-09-03","M",2,3,null,null,null,null,null,null,null,null,null,null,null,null,null,null,null,null,"2018-09-02","","Su",0]
[null,null,null,null,null,null,null,null,null,null,null,null,null,null,null,null,null,null,"2018-09-04","T",3,4,null,null,null,null,null,null,null,null,null,null,null,null,null,null,null,null,"2018-09-03","Labor Day","M",1]
[null,null,null,null,null,null,null,null,null,null,null,null,null,null,null,null,null,null,"2018-09-05","W",4,5,null,null,null,null,null,null,null,null,null,null,null,null,null,null,null,null,"2018-09-04","","T",0]
[null,null,null,null,null,null,null,null,null,null,null,null,null,null,null,null,null,null,"2018-09-06","Th",5,6,null,null,null,null,null,null,null,null,null,null,null,null,null,null,null,null,"2018-09-05","","W",0]
[null,null,null,null,null,null,null,null,null,null,null,null,null,null,null,null,null,null,"2018-09-07","F",6,7,null,null,null,null,null,null,null,null,null,null,null,null,null,null,null,null,"2018-09-06","","Th",0]
[null,null,null,null,null,null,null,null,null,null,null,null,null,null,null,null,null,null,"2018-09-08","Sa",7,8,null,null,null,null,null,null,null,null,null,null,null,null,null,null,null,null,"2018-09-07","","F",0]
[null,null,null,null,null,null,null,null,null,null,null,null,null,null,null,null,null,null,"2018-09-09","Su",1,9,null,null,null,null,null,null,null,null,null,null,null,null,null,null,null,null,"2018-09-08","","Sa",0]
[null,null,null,null,null,null,null,null,null,null,null,null,null,null,null,null,null,null,"2018-09-10","M",2,10,null,null,null,null,null,null,null,null,null,null,null,null,null,null,null,null,"2018-09-09",null,"Su"]
[null,null,null,null,null,null,null,null,null,null,null,null,null,null,null,null,null,null,"2018-09-11","T",3,11,null,null,null,null,null,null,null,null,null,null,null,null,null,null,null,null,"2018-09-10",null,"M"]
[null,null,null,null,null,null,null,null,null,null,null,null,null,null,null,null,null,null,"2018-09-12","W",4,12,null,null,null,null,null,null,null,null,null,null,null,null,null,null,null,null,"2018-09-11",null,"T"]
[null,null,null,null,null,null,null,null,null,null,null,null,null,null,null,null,null,null,"2018-09-13","Th",5,13,null,null,null,null,null,null,null,null,null,null,null,null,null,null,null,null,"2018-09-12",null,"W"]
[null,null,null,null,null,null,null,null,null,null,null,null,null,null,null,null,null,null,"2018-09-14",{"$f":"VLOOKUP(U260,DayTable,2,FALSE)","v":"F"},{"$f":"WEEKDAY(S260,1)","v":6},14,null,null,null,null,null,null,null,null,null,null,null,null,null,null,null,null,"2018-09-13",null,"Th"]
[null,null,null,null,null,null,null,null,null,null,null,null,null,null,null,null,null,null,"2018-09-15","Sa",7,15,null,null,null,null,null,null,null,null,null,null,null,null,null,null,null,null,"2018-09-14",null,"F"]
[null,null,null,null,null,null,null,null,null,null,null,null,null,null,null,null,null,null,{"$f":"1+S261","v":"2018-09-16"},"Su",1,{"$f":"DAY(S262)","v":16},null,null,null,null,null,null,null,null,null,null,null,null,null,null,null,null,"2018-09-15",null,{"$f":"VLOOKUP(WEEKDAY(AM262,1),DayTable,2,FALSE)","v":"Sa"}]
[null,null,null,null,null,null,null,null,null,null,null,null,null,null,null,null,null,null,"2018-09-17","M",2,17,null,null,null,null,null,null,null,null,null,null,null,null,null,null,null,null,{"$f":"1+AM262","v":"2018-09-16"},null,"Su"]
[null,null,null,null,null,null,null,null,null,null,null,null,null,null,null,null,null,null,"2018-09-18","T",3,18,null,null,null,null,null,null,null,null,null,null,null,null,null,null,null,null,"2018-09-17",null,"M"]
[null,null,null,null,null,null,null,null,null,null,null,null,null,null,null,null,null,null,"2018-09-19","W",4,19,null,null,null,null,null,null,null,null,null,null,null,null,null,null,null,null,"2018-09-18",null,"T"]
[null,null,null,null,null,null,null,null,null,null,null,null,null,null,null,null,null,null,"2018-09-20","Th",5,20,null,null,null,null,null,null,null,null,null,null,null,null,null,null,null,null,"2018-09-19",null,"W"]
[null,null,null,null,null,null,null,null,null,null,null,null,null,null,null,null,null,null,"2018-09-21","F",6,21,null,null,null,null,null,null,null,null,null,null,null,null,null,null,null,null,"2018-09-20",null,"Th"]
[null,null,null,null,null,null,null,null,null,null,null,null,null,null,null,null,null,null,"2018-09-22","Sa",7,22,null,null,null,null,null,null,null,null,null,null,null,null,null,null,null,null,"2018-09-21",null,"F"]
[null,null,null,null,null,null,null,null,null,null,null,null,null,null,null,null,null,null,"2018-09-23","Su",1,23,null,null,null,null,null,null,null,null,null,null,null,null,null,null,null,null,"2018-09-22",null,"Sa"]
[null,null,null,null,null,null,null,null,null,null,null,null,null,null,null,null,null,null,"2018-09-24","M",2,24,null,null,null,null,null,null,null,null,null,null,null,null,null,null,null,null,"2018-09-23",null,"Su"]
[null,null,null,null,null,null,null,null,null,null,null,null,null,null,null,null,null,null,"2018-09-25","T",3,25,null,null,null,null,null,null,null,null,null,null,null,null,null,null,null,null,"2018-09-24",null,"M"]
[null,null,null,null,null,null,null,null,null,null,null,null,null,null,null,null,null,null,"2018-09-26","W",4,26,null,null,null,null,null,null,null,null,null,null,null,null,null,null,null,null,"2018-09-25",null,"T"]
[null,null,null,null,null,null,null,null,null,null,null,null,null,null,null,null,null,null,"2018-09-27","Th",5,27,null,null,null,null,null,null,null,null,null,null,null,null,null,null,null,null,"2018-09-26",null,"W"]
[null,null,null,null,null,null,null,null,null,null,null,null,null,null,null,null,null,null,"2018-09-28","F",6,28,null,null,null,null,null,null,null,null,null,null,null,null,null,null,null,null,"2018-09-27",null,"Th"]
[null,null,null,null,null,null,null,null,null,null,null,null,null,null,null,null,null,null,"2018-09-29","Sa",7,29,null,null,null,null,null,null,null,null,null,null,null,null,null,null,null,null,"2018-09-28",null,"F"]
[null,null,null,null,null,null,null,null,null,null,null,null,null,null,null,null,null,null,"2018-09-30","Su",1,30,null,null,null,null,null,null,null,null,null,null,null,null,null,null,null,null,"2018-09-29",null,"Sa"]
[null,null,null,null,null,null,null,null,null,null,null,null,null,null,null,null,null,null,"2018-10-01","M",2,1,null,null,null,null,null,null,null,null,null,null,null,null,null,null,null,null,"2018-09-30",null,"Su"]
[null,null,null,null,null,null,null,null,null,null,null,null,null,null,null,null,null,null,"2018-10-02","T",3,2,null,null,null,null,null,null,null,null,null,null,null,null,null,null,null,null,"2018-10-01",null,"M"]
[null,null,null,null,null,null,null,null,null,null,null,null,null,null,null,null,null,null,"2018-10-03","W",4,3,null,null,null,null,null,null,null,null,null,null,null,null,null,null,null,null,"2018-10-02",null,"T"]
[null,null,null,null,null,null,null,null,null,null,null,null,null,null,null,null,null,null,"2018-10-04","Th",5,4,null,null,null,null,null,null,null,null,null,null,null,null,null,null,null,null,"2018-10-03",null,"W"]
[null,null,null,null,null,null,null,null,null,null,null,null,null,null,null,null,null,null,"2018-10-05","F",6,5,null,null,null,null,null,null,null,null,null,null,null,null,null,null,null,null,"2018-10-04",null,"Th"]
[null,null,null,null,null,null,null,null,null,null,null,null,null,null,null,null,null,null,"2018-10-06","Sa",7,6,null,null,null,null,null,null,null,null,null,null,null,null,null,null,null,null,"2018-10-05",null,"F"]
[null,null,null,null,null,null,null,null,null,null,null,null,null,null,null,null,null,null,"2018-10-07","Su",1,7,null,null,null,null,null,null,null,null,null,null,null,null,null,null,null,null,"2018-10-06",null,"Sa"]
[null,null,null,null,null,null,null,null,null,null,null,null,null,null,null,null,null,null,"2018-10-08","M",2,8,null,null,null,null,null,null,null,null,null,null,null,null,null,null,null,null,"2018-10-07",null,"Su"]
[null,null,null,null,null,null,null,null,null,null,null,null,null,null,null,null,null,null,"2018-10-09","T",3,9,null,null,null,null,null,null,null,null,null,null,null,null,null,null,null,null,"2018-10-08",null,"M"]
[null,null,null,null,null,null,null,null,null,null,null,null,null,null,null,null,null,null,"2018-10-10","W",4,10,null,null,null,null,null,null,null,null,null,null,null,null,null,null,null,null,"2018-10-09",null,"T"]
[null,null,null,null,null,null,null,null,null,null,null,null,null,null,null,null,null,null,"2018-10-11","Th",5,11,null,null,null,null,null,null,null,null,null,null,null,null,null,null,null,null,"2018-10-10",null,"W"]
[null,null,null,null,null,null,null,null,null,null,null,null,null,null,null,null,null,null,"2018-10-12","F",6,12,null,null,null,null,null,null,null,null,null,null,null,null,null,null,null,null,"2018-10-11",null,"Th"]
[null,null,null,null,null,null,null,null,null,null,null,null,null,null,null,null,null,null,"2018-10-13","Sa",7,13,null,null,null,null,null,null,null,null,null,null,null,null,null,null,null,null,"2018-10-12",null,"F"]
[null,null,null,null,null,null,null,null,null,null,null,null,null,null,null,null,null,null,"2018-10-14","Su",1,14,null,null,null,null,null,null,null,null,null,null,null,null,null,null,null,null,"2018-10-13",null,"Sa"]
[null,null,null,null,null,null,null,null,null,null,null,null,null,null,null,null,null,null,"2018-10-15","M",2,15,null,null,null,null,null,null,null,null,null,null,null,null,null,null,null,null,"2018-10-14",null,"Su"]
[null,null,null,null,null,null,null,null,null,null,null,null,null,null,null,null,null,null,"2018-10-16","T",3,16,null,null,null,null,null,null,null,null,null,null,null,null,null,null,null,null,"2018-10-15",null,"M"]
[null,null,null,null,null,null,null,null,null,null,null,null,null,null,null,null,null,null,"2018-10-17","W",4,17,null,null,null,null,null,null,null,null,null,null,null,null,null,null,null,null,"2018-10-16",null,"T"]
[null,null,null,null,null,null,null,null,null,null,null,null,null,null,null,null,null,null,"2018-10-18","Th",5,18,null,null,null,null,null,null,null,null,null,null,null,null,null,null,null,null,"2018-10-17",null,"W"]
[null,null,null,null,null,null,null,null,null,null,null,null,null,null,null,null,null,null,"2018-10-19","F",6,19,null,null,null,null,null,null,null,null,null,null,null,null,null,null,null,null,"2018-10-18",null,"Th"]
[null,null,null,null,null,null,null,null,null,null,null,null,null,null,null,null,null,null,"2018-10-20","Sa",7,20,null,null,null,null,null,null,null,null,null,null,null,null,null,null,null,null,"2018-10-19",null,"F"]
[null,null,null,null,null,null,null,null,null,null,null,null,null,null,null,null,null,null,"2018-10-21","Su",1,21,null,null,null,null,null,null,null,null,null,null,null,null,null,null,null,null,"2018-10-20",null,"Sa"]
[null,null,null,null,null,null,null,null,null,null,null,null,null,null,null,null,null,null,"2018-10-22","M",2,22,null,null,null,null,null,null,null,null,null,null,null,null,null,null,null,null,"2018-10-21",null,"Su"]
[null,null,null,null,null,null,null,null,null,null,null,null,null,null,null,null,null,null,"2018-10-23","T",3,23,null,null,null,null,null,null,null,null,null,null,null,null,null,null,null,null,"2018-10-22",null,"M"]
[null,null,null,null,null,null,null,null,null,null,null,null,null,null,null,null,null,null,"2018-10-24","W",4,24,null,null,null,null,null,null,null,null,null,null,null,null,null,null,null,null,"2018-10-23",null,"T"]
[null,null,null,null,null,null,null,null,null,null,null,null,null,null,null,null,null,null,"2018-10-25","Th",5,25,null,null,null,null,null,null,null,null,null,null,null,null,null,null,null,null,"2018-10-24",null,"W"]
[null,null,null,null,null,null,null,null,null,null,null,null,null,null,null,null,null,null,"2018-10-26","F",6,26,null,null,null,null,null,null,null,null,null,null,null,null,null,null,null,null,"2018-10-25",null,"Th"]
[null,null,null,null,null,null,null,null,null,null,null,null,null,null,null,null,null,null,"2018-10-27","Sa",7,27,null,null,null,null,null,null,null,null,null,null,null,null,null,null,null,null,"2018-10-26",null,"F"]
[null,null,null,null,null,null,null,null,null,null,null,null,null,null,null,null,null,null,"2018-10-28","Su",1,28,null,null,null,null,null,null,null,null,null,null,null,null,null,null,null,null,"2018-10-27",null,"Sa"]
[null,null,null,null,null,null,null,null,null,null,null,null,null,null,null,null,null,null,"2018-10-29","M",2,29,null,null,null,null,null,null,null,null,null,null,null,null,null,null,null,null,"2018-10-28",null,"Su"]
[null,null,null,null,null,null,null,null,null,null,null,null,null,null,null,null,null,null,"2018-10-30","T",3,30,null,null,null,null,null,null,null,null,null,null,null,null,null,null,null,null,"2018-10-29",null,"M"]
[null,null,null,null,null,null,null,null,null,null,null,null,null,null,null,null,null,null,"2018-10-31","W",4,31,null,null,null,null,null,null,null,null,null,null,null,null,null,null,null,null,"2018-10-30",null,"T"]
[null,null,null,null,null,null,null,null,null,null,null,null,null,null,null,null,null,null,"2018-11-01","Th",5,1,null,null,null,null,null,null,null,null,null,null,null,null,null,null,null,null,"2018-10-31",null,"W"]
[null,null,null,null,null,null,null,null,null,null,null,null,null,null,null,null,null,null,"2018-11-02","F",6,2,null,null,null,null,null,null,null,null,null,null,null,null,null,null,null,null,"2018-11-01",null,"Th"]
[null,null,null,null,null,null,null,null,null,null,null,null,null,null,null,null,null,null,"2018-11-03","Sa",7,3,null,null,null,null,null,null,null,null,null,null,null,null,null,null,null,null,"2018-11-02",null,"F"]
[null,null,null,null,null,null,null,null,null,null,null,null,null,null,null,null,null,null,"2018-11-04","Su",1,4,null,null,null,null,null,null,null,null,null,null,null,null,null,null,null,null,"2018-11-03",null,"Sa"]
[null,null,null,null,null,null,null,null,null,null,null,null,null,null,null,null,null,null,"2018-11-05","M",2,5,null,null,null,null,null,null,null,null,null,null,null,null,null,null,null,null,"2018-11-04",null,"Su"]
[null,null,null,null,null,null,null,null,null,null,null,null,null,null,null,null,null,null,"2018-11-06","T",3,6,null,null,null,null,null,null,null,null,null,null,null,null,null,null,null,null,"2018-11-05",null,"M"]
[null,null,null,null,null,null,null,null,null,null,null,null,null,null,null,null,null,null,"2018-11-07","W",4,7,null,null,null,null,null,null,null,null,null,null,null,null,null,null,null,null,"2018-11-06",null,"T"]
[null,null,null,null,null,null,null,null,null,null,null,null,null,null,null,null,null,null,"2018-11-08","Th",5,8,null,null,null,null,null,null,null,null,null,null,null,null,null,null,null,null,"2018-11-07",null,"W"]
[null,null,null,null,null,null,null,null,null,null,null,null,null,null,null,null,null,null,"2018-11-09","F",6,9,null,null,null,null,null,null,null,null,null,null,null,null,null,null,null,null,"2018-11-08",null,"Th"]
[null,null,null,null,null,null,null,null,null,null,null,null,null,null,null,null,null,null,"2018-11-10","Sa",7,10,null,null,null,null,null,null,null,null,null,null,null,null,null,null,null,null,"2018-11-09",null,"F"]
[null,null,null,null,null,null,null,null,null,null,null,null,null,null,null,null,null,null,"2018-11-11","Su",1,11,null,null,null,null,null,null,null,null,null,null,null,null,null,null,null,null,"2018-11-10",null,"Sa"]
[null,null,null,null,null,null,null,null,null,null,null,null,null,null,null,null,null,null,"2018-11-12","M",2,12,null,null,null,null,null,null,null,null,null,null,null,null,null,null,null,null,"2018-11-11",null,"Su"]
[null,null,null,null,null,null,null,null,null,null,null,null,null,null,null,null,null,null,"2018-11-13","T",3,13,null,null,null,null,null,null,null,null,null,null,null,null,null,null,null,null,"2018-11-12",null,"M"]
[null,null,null,null,null,null,null,null,null,null,null,null,null,null,null,null,null,null,"2018-11-14","W",4,14,null,null,null,null,null,null,null,null,null,null,null,null,null,null,null,null,"2018-11-13",null,"T"]
[null,null,null,null,null,null,null,null,null,null,null,null,null,null,null,null,null,null,"2018-11-15","Th",5,15,null,null,null,null,null,null,null,null,null,null,null,null,null,null,null,null,"2018-11-14",null,"W"]
[null,null,null,null,null,null,null,null,null,null,null,null,null,null,null,null,null,null,"2018-11-16","F",6,16,null,null,null,null,null,null,null,null,null,null,null,null,null,null,null,null,"2018-11-15",null,"Th"]
[null,null,null,null,null,null,null,null,null,null,null,null,null,null,null,null,null,null,"2018-11-17",{"$f":"VLOOKUP(U324,DayTable,2,FALSE)","v":"Sa"},{"$f":"WEEKDAY(S324,1)","v":7},17,null,null,null,null,null,null,null,null,null,null,null,null,null,null,null,null,"2018-11-16",null,"F"]
[null,null,null,null,null,null,null,null,null,null,null,null,null,null,null,null,null,null,"2018-11-18","Su",1,18,null,null,null,null,null,null,null,null,null,null,null,null,null,null,null,null,"2018-11-17",null,"Sa"]
[null,null,null,null,null,null,null,null,null,null,null,null,null,null,null,null,null,null,{"$f":"1+S325","v":"2018-11-19"},"M",2,{"$f":"DAY(S326)","v":19},null,null,null,null,null,null,null,null,null,null,null,null,null,null,null,null,"2018-11-18",null,{"$f":"VLOOKUP(WEEKDAY(AM326,1),DayTable,2,FALSE)","v":"Su"}]
[null,null,null,null,null,null,null,null,null,null,null,null,null,null,null,null,null,null,"2018-11-20","T",3,20,null,null,null,null,null,null,null,null,null,null,null,null,null,null,null,null,{"$f":"1+AM326","v":"2018-11-19"},null,"M"]
[null,null,null,null,null,null,null,null,null,null,null,null,null,null,null,null,null,null,"2018-11-21","W",4,21,null,null,null,null,null,null,null,null,null,null,null,null,null,null,null,null,"2018-11-20",null,"T"]
[null,null,null,null,null,null,null,null,null,null,null,null,null,null,null,null,null,null,"2018-11-22","Th",5,22,null,null,null,null,null,null,null,null,null,null,null,null,null,null,null,null,"2018-11-21",null,"W"]
[null,null,null,null,null,null,null,null,null,null,null,null,null,null,null,null,null,null,"2018-11-23","F",6,23,null,null,null,null,null,null,null,null,null,null,null,null,null,null,null,null,"2018-11-22",{"$f":"IF(AND(AO330=\"Th\",DAY(AM330)>21),\"Thanksgiving\",\"\")","v":"Thanksgiving"},"Th",{"$f":"IF(AND(AO330=\"Th\",DAY(AM330)>21),1,0)","v":1}]
[null,null,null,null,null,null,null,null,null,null,null,null,null,null,null,null,null,null,"2018-11-24","Sa",7,24,null,null,null,null,null,null,null,null,null,null,null,null,null,null,null,null,"2018-11-23",{"$f":"IF(AO331=\"Th\",\"Thanksgiving\",\"\")","v":""},{"$f":"VLOOKUP(WEEKDAY(AM331,1),DayTable,2,FALSE)","v":"F"},{"$f":"IF(AO331=\"Th\",1,0)","v":0}]
[null,null,null,null,null,null,null,null,null,null,null,null,null,null,null,null,null,null,"2018-11-25","Su",1,25,null,null,null,null,null,null,null,null,null,null,null,null,null,null,null,null,"2018-11-24","","Sa",0]
[null,null,null,null,null,null,null,null,null,null,null,null,null,null,null,null,null,null,"2018-11-26","M",2,26,null,null,null,null,null,null,null,null,null,null,null,null,null,null,null,null,"2018-11-25","","Su",0]
[null,null,null,null,null,null,null,null,null,null,null,null,null,null,null,null,null,null,"2018-11-27","T",3,27,null,null,null,null,null,null,null,null,null,null,null,null,null,null,null,null,"2018-11-26","","M",0]
[null,null,null,null,null,null,null,null,null,null,null,null,null,null,null,null,null,null,"2018-11-28","W",4,28,null,null,null,null,null,null,null,null,null,null,null,null,null,null,null,null,"2018-11-27","","T",0]
[null,null,null,null,null,null,null,null,null,null,null,null,null,null,null,null,null,null,"2018-11-29","Th",5,29,null,null,null,null,null,null,null,null,null,null,null,null,null,null,null,null,"2018-11-28","","W",0]
[null,null,null,null,null,null,null,null,null,null,null,null,null,null,null,null,null,null,"2018-11-30","F",6,30,null,null,null,null,null,null,null,null,null,null,null,null,null,null,null,null,"2018-11-29",{"$f":"IF(AND(AO337=\"Th\",DAY(AM337)<29),\"Thanksgiving\",\"\")","v":""},{"$f":"VLOOKUP(WEEKDAY(AM337,1),DayTable,2,FALSE)","v":"Th"},{"$f":"IF(AND(AO337=\"Th\",DAY(AM337)<29),1,0)","v":0}]
[null,null,null,null,null,null,null,null,null,null,null,null,null,null,null,null,null,null,"2018-12-01","Sa",7,1,null,null,null,null,null,null,null,null,null,null,null,null,null,null,null,null,"2018-11-30",null,{"$f":"VLOOKUP(WEEKDAY(AM338,1),DayTable,2,FALSE)","v":"F"}]
[null,null,null,null,null,null,null,null,null,null,null,null,null,null,null,null,null,null,"2018-12-02","Su",1,2,null,null,null,null,null,null,null,null,null,null,null,null,null,null,null,null,"2018-12-01",null,"Sa"]
[null,null,null,null,null,null,null,null,null,null,null,null,null,null,null,null,null,null,"2018-12-03","M",2,3,null,null,null,null,null,null,null,null,null,null,null,null,null,null,null,null,"2018-12-02",null,"Su"]
[null,null,null,null,null,null,null,null,null,null,null,null,null,null,null,null,null,null,"2018-12-04","T",3,4,null,null,null,null,null,null,null,null,null,null,null,null,null,null,null,null,"2018-12-03",null,"M"]
[null,null,null,null,null,null,null,null,null,null,null,null,null,null,null,null,null,null,"2018-12-05","W",4,5,null,null,null,null,null,null,null,null,null,null,null,null,null,null,null,null,"2018-12-04",null,"T"]
[null,null,null,null,null,null,null,null,null,null,null,null,null,null,null,null,null,null,"2018-12-06","Th",5,6,null,null,null,null,null,null,null,null,null,null,null,null,null,null,null,null,"2018-12-05",null,"W"]
[null,null,null,null,null,null,null,null,null,null,null,null,null,null,null,null,null,null,"2018-12-07","F",6,7,null,null,null,null,null,null,null,null,null,null,null,null,null,null,null,null,"2018-12-06",null,"Th"]
[null,null,null,null,null,null,null,null,null,null,null,null,null,null,null,null,null,null,"2018-12-08","Sa",7,8,null,null,null,null,null,null,null,null,null,null,null,null,null,null,null,null,"2018-12-07",null,"F"]
[null,null,null,null,null,null,null,null,null,null,null,null,null,null,null,null,null,null,"2018-12-09","Su",1,9,null,null,null,null,null,null,null,null,null,null,null,null,null,null,null,null,"2018-12-08",null,"Sa"]
[null,null,null,null,null,null,null,null,null,null,null,null,null,null,null,null,null,null,"2018-12-10","M",2,10,null,null,null,null,null,null,null,null,null,null,null,null,null,null,null,null,"2018-12-09",null,"Su"]
[null,null,null,null,null,null,null,null,null,null,null,null,null,null,null,null,null,null,"2018-12-11","T",3,11,null,null,null,null,null,null,null,null,null,null,null,null,null,null,null,null,"2018-12-10",null,"M"]
[null,null,null,null,null,null,null,null,null,null,null,null,null,null,null,null,null,null,"2018-12-12","W",4,12,null,null,null,null,null,null,null,null,null,null,null,null,null,null,null,null,"2018-12-11",null,"T"]
[null,null,null,null,null,null,null,null,null,null,null,null,null,null,null,null,null,null,"2018-12-13","Th",5,13,null,null,null,null,null,null,null,null,null,null,null,null,null,null,null,null,"2018-12-12",null,"W"]
[null,null,null,null,null,null,null,null,null,null,null,null,null,null,null,null,null,null,"2018-12-14","F",6,14,null,null,null,null,null,null,null,null,null,null,null,null,null,null,null,null,"2018-12-13",null,"Th"]
[null,null,null,null,null,null,null,null,null,null,null,null,null,null,null,null,null,null,"2018-12-15","Sa",7,15,null,null,null,null,null,null,null,null,null,null,null,null,null,null,null,null,"2018-12-14",null,"F"]
[null,null,null,null,null,null,null,null,null,null,null,null,null,null,null,null,null,null,"2018-12-16","Su",1,16,null,null,null,null,null,null,null,null,null,null,null,null,null,null,null,null,"2018-12-15",null,"Sa"]
[null,null,null,null,null,null,null,null,null,null,null,null,null,null,null,null,null,null,"2018-12-17","M",2,17,null,null,null,null,null,null,null,null,null,null,null,null,null,null,null,null,"2018-12-16",null,"Su"]
[null,null,null,null,null,null,null,null,null,null,null,null,null,null,null,null,null,null,"2018-12-18","T",3,18,null,null,null,null,null,null,null,null,null,null,null,null,null,null,null,null,"2018-12-17",null,"M"]
[null,null,null,null,null,null,null,null,null,null,null,null,null,null,null,null,null,null,"2018-12-19","W",4,19,null,null,null,null,null,null,null,null,null,null,null,null,null,null,null,null,"2018-12-18",null,"T"]
[null,null,null,null,null,null,null,null,null,null,null,null,null,null,null,null,null,null,"2018-12-20","Th",5,20,null,null,null,null,null,null,null,null,null,null,null,null,{"$f":"AM358","v":"2018-12-20"},null,{"$f":"VLOOKUP(WEEKDAY(AI357,1),DayTable,2,FALSE)","v":"Th"},null,"2018-12-19",null,"W"]
[null,null,null,null,null,null,null,null,null,null,null,null,null,null,null,null,null,null,"2018-12-21","F",6,21,null,null,null,null,null,null,null,null,null,null,null,null,{"$f":"1+AI357","v":"2018-12-21"},null,{"$f":"VLOOKUP(WEEKDAY(AI358,1),DayTable,2,FALSE)","v":"F"},null,"2018-12-20",null,"Th"]
[null,null,null,null,null,null,null,null,null,null,null,null,null,null,null,null,null,null,"2018-12-22","Sa",7,22,null,null,null,null,null,null,null,null,null,null,null,null,"2018-12-22",null,"Sa",null,"2018-12-21",null,"F"]
[null,null,null,null,null,null,null,null,null,null,null,null,null,null,null,null,null,null,"2018-12-23","Su",1,23,null,null,null,null,null,null,null,null,null,null,null,null,"2018-12-23",{"$f":"IF(AND(DAY(AI360)=25,AND(AK360<>\"Sa\",AK360<>\"Su\")),\"Christmas\",\"\")","v":""},"Su",null,"2018-12-22",{"$f":"IF(AQ360=1,AR360,IF(AS360=1,AT360,\"\"))","v":""},"Sa"]
[null,null,null,null,null,null,null,null,null,null,null,null,null,null,null,null,null,null,"2018-12-24","M",2,24,null,null,null,null,null,null,null,null,null,null,null,null,"2018-12-24",{"$f":"IF(OR(AND(DAY(AI361)=25,AND(AK361<>\"Sa\",AK361<>\"Su\")),AND(DAY(AI362)=25,AK361=\"F\")),\"Christmas\",\"\")","v":""},"M",null,"2018-12-23",{"$f":"IF(AQ361=1,AR361,IF(AS361=1,AT361,\"\"))","v":""},"Su",{"$f":"MAX(AQ361,AS361)","v":0},{"$f":"IF(DAY(AM361)=25,1,0)","v":0},{"$f":"IF(DAY(AQ361)=1,\"Christmas\",\"\")","v":""},{"$f":"IF(AND(DAY(AM361)=24,AO361=\"F\"),1,0)","v":0},{"$f":"IF(DAY(AS361)=1,\"Christmas Eve\",\"\")","v":""}]
[null,null,null,null,null,null,null,null,null,null,null,null,null,null,null,null,null,null,"2018-12-25","T",3,25,null,null,null,null,null,null,null,null,null,null,null,null,"2018-12-25",{"$f":"IF(OR(AND(DAY(AI362)=25,AND(AK362<>\"Sa\",AK362<>\"Su\")),AND(DAY(AI363)=25,AK362=\"F\")),\"Christmas\",\"\")","v":"Christmas"},"T",null,"2018-12-24",{"$f":"IF(AQ362=1,AR362,IF(AS362=1,AT362,\"\"))","v":""},"M",{"$f":"MAX(AQ362,AS362)","v":0},{"$f":"IF(DAY(AM362)=25,1,0)","v":0},{"$f":"IF(DAY(AQ362)=1,\"Christmas\",\"\")","v":""},{"$f":"IF(AND(DAY(AM362)=24,AO362=\"F\"),1,0)","v":0},{"$f":"IF(DAY(AS362)=1,\"Christmas Eve\",\"\")","v":""}]
[null,null,null,null,null,null,null,null,null,null,null,null,null,null,null,null,null,null,"2018-12-26","W",4,26,null,null,null,null,null,null,null,null,null,null,null,null,"2018-12-26",{"$f":"IF(OR(AND(DAY(AI363)=25,AK363<>\"Sa\",AK363<>\"Su\"),AND(DAY(AI364)=25,AK363=\"F\"),DAY(AI362)=25),\"Christmas\",\"\")","v":"Christmas"},"W",null,"2018-12-25",{"$f":"IF(AQ363=1,AR363,IF(AS363=1,AT363,\"\"))","v":"Christmas"},"T",{"$f":"MAX(AQ363,AS363)","v":1},{"$f":"IF(DAY(AM363)=25,1,0)","v":1},{"$f":"IF(DAY(AQ363)=1,\"Christmas\",\"\")","v":"Christmas"},{"$f":"IF(AND(DAY(AM363)=24,AO363=\"F\"),1,0)","v":0},{"$f":"IF(DAY(AS363)=1,\"Christmas Eve\",\"\")","v":""}]
[null,null,null,null,null,null,null,null,null,null,null,null,null,null,null,null,null,null,"2018-12-27","Th",5,27,null,null,null,null,null,null,null,null,null,null,null,null,"2018-12-27",{"$f":"IF(OR(AND(DAY(AI364)=25,AND(AK364<>\"Sa\",AK364<>\"Su\")),AND(DAY(AI365)=25,AK364=\"F\")),\"Christmas\",\"\")","v":""},"Th",null,"2018-12-26",{"$f":"IF(AQ364=1,AR364,IF(AS364=1,AT364,\"\"))","v":""},"W",{"$f":"MAX(AQ364,AS364)","v":0},{"$f":"IF(DAY(AM364)=25,1,0)","v":0},{"$f":"IF(DAY(AQ364)=1,\"Christmas\",\"\")","v":""},{"$f":"IF(AND(DAY(AM364)=26,AO364=\"M\"),1,0)","v":0},{"$f":"IF(DAY(AS364)=1,\"Christmas Observed\",\"\")","v":""}]
[null,null,null,null,null,null,null,null,null,null,null,null,null,null,null,null,null,null,"2018-12-28","F",6,28,null,null,null,null,null,null,null,null,null,null,null,null,"2018-12-28",{"$f":"IF(OR(AND(DAY(AI365)=25,AND(AK365<>\"Sa\",AK365<>\"Su\")),AND(DAY(AI364)=25,AK365=\"M\")),\"Christmas\",\"\")","v":""},"F",null,"2018-12-27",null,"Th",{"$f":"MAX(AQ365,AS365)","v":0},{"$f":"IF(DAY(AM365)=25,1,0)","v":0},{"$f":"IF(DAY(AQ365)=1,\"Christmas\",\"\")","v":""},{"$f":"IF(AND(DAY(AM365)=26,AO365=\"M\"),1,0)","v":0},{"$f":"IF(DAY(AS365)=1,\"Christmas Observed\",\"\")","v":""}]
[null,null,null,null,null,null,null,null,null,null,null,null,null,null,null,null,null,null,"2018-12-29","Sa",7,29,null,null,null,null,null,null,null,null,null,null,null,null,"2018-12-29",{"$f":"IF(OR(AND(DAY(AI366)=25,AND(AK366<>\"Sa\",AK366<>\"Su\")),AND(DAY(AI365)=25,AK366=\"M\")),\"Christmas\",\"\")","v":""},"Sa",null,"2018-12-28",null,"F"]
[null,null,null,null,null,null,null,null,null,null,null,null,null,null,null,null,null,null,"2018-12-30","Su",1,30,null,null,null,null,null,null,null,null,null,null,null,null,"2018-12-30",{"$f":"IF(AND(DAY(AI367)=25,AND(AK367<>\"Sa\",AK367<>\"Su\")),\"Christmas\",\"\")","v":""},"Su",null,"2018-12-29",null,"Sa"]
[null,null,null,null,null,null,null,null,null,null,null,null,null,null,null,null,null,null,"2018-12-31","M",2,31,null,null,null,null,null,null,null,null,null,null,null,null,"2018-12-31",{"$f":"IF(AND(DAY(AI368)=25,AND(AK368<>\"Sa\",AK368<>\"Su\")),\"Christmas\",\"\")","v":""},"M",null,"2018-12-30",{"$f":"IF(AQ368=1,AR368,IF(AS368=1,AT368,\"\"))","v":""},{"$f":"VLOOKUP(WEEKDAY(AM368,1),DayTable,2,FALSE)","v":"Su"},{"$f":"MAX(AQ368,AS368)","v":0},{"$f":"IF(DAY(AM368)=1,1,0)","v":0},{"$f":"IF(DAY(AQ368)=1,\"New Years Day\",\"\")","v":""},{"$f":"IF(AND(DAY(AM368)=31,AO368=\"F\"),1,0)","v":0},{"$f":"IF(DAY(AS368)=1,\"New Years  Eve\",\"\")","v":""}]
[null,null,null,null,null,null,null,null,null,null,null,null,null,null,null,null,null,null,"2019-01-01","T",3,1,null,null,null,null,null,null,null,null,null,null,null,null,null,null,null,null,"2018-12-31",{"$f":"IF(AQ369=1,AR369,IF(AS369=1,AT369,\"\"))","v":""},{"$f":"VLOOKUP(WEEKDAY(AM369,1),DayTable,2,FALSE)","v":"M"},{"$f":"MAX(AQ369,AS369)","v":0},{"$f":"IF(DAY(AM369)=1,1,0)","v":0},{"$f":"IF(DAY(AQ369)=1,\"New Years Day\",\"\")","v":""},{"$f":"IF(AND(DAY(AM369)=31,AO369=\"F\"),1,0)","v":0},{"$f":"IF(DAY(AS369)=1,\"New Years Eve\",\"\")","v":""}]
[null,null,null,null,null,null,null,null,null,null,null,null,null,null,null,null,null,null,"2019-01-02",{"$f":"VLOOKUP(U370,DayTable,2,FALSE)","v":"W"},4,2,null,null,null,null,null,null,null,null,null,null,null,null,null,null,null,null,"2019-01-01",{"$f":"IF(AQ370=1,AR370,IF(AS370=1,AT370,\"\"))","v":"New Years Day"},{"$f":"VLOOKUP(WEEKDAY(AM370,1),DayTable,2,FALSE)","v":"T"},{"$f":"MAX(AQ370,AS370)","v":1},{"$f":"IF(DAY(AM370)=1,1,0)","v":1},{"$f":"IF(DAY(AQ370)=1,\"New Years Day\",\"\")","v":"New Years Day"},{"$f":"IF(AND(DAY(AM370)=31,AO370=\"F\"),1,0)","v":0},{"$f":"IF(DAY(AS370)=1,\"New Years  Eve\",\"\")","v":""}]
[null,null,null,null,null,null,null,null,null,null,null,null,null,null,null,null,null,null,"2019-01-03","Th",5,3,null,null,null,null,null,null,null,null,null,null,null,null,null,null,null,null,"2019-01-02",{"$f":"IF(AQ371=1,AR371,IF(AS371=1,AT371,\"\"))","v":""},{"$f":"VLOOKUP(WEEKDAY(AM371,1),DayTable,2,FALSE)","v":"W"},{"$f":"MAX(AQ371,AS371)","v":0},{"$f":"IF(DAY(AM371)=1,1,0)","v":0},{"$f":"IF(DAY(AQ371)=1,\"New Years Day\",\"\")","v":""},{"$f":"IF(AND(DAY(AM371)=2,AO371=\"M\"),1,0)","v":0},{"$f":"IF(DAY(AS371)=1,\"New Year Observed\",\"\")","v":""}]
[null,null,null,null,null,null,null,null,null,null,null,null,null,null,null,null,null,null,"2019-01-04","F",6,4,null,null,null,null,null,null,null,null,null,null,null,null,null,null,null,null,"2019-01-03",null,{"$f":"VLOOKUP(WEEKDAY(AM372,1),DayTable,2,FALSE)","v":"Th"},{"$f":"MAX(AQ372,AS372)","v":0},{"$f":"IF(DAY(AM372)=1,1,0)","v":0},{"$f":"IF(DAY(AQ372)=1,\"New Years Day\",\"\")","v":""},{"$f":"IF(AND(DAY(AM372)=2,AO372=\"M\"),1,0)","v":0},{"$f":"IF(DAY(AS372)=1,\"New Year Observed\",\"\")","v":""}]
[null,null,null,null,null,null,null,null,null,null,null,null,null,null,null,null,null,null,"2019-01-05","Sa",7,5,null,null,null,null,null,null,null,null,null,null,null,null,null,null,null,null,"2019-01-04",null,"F"]
[null,null,null,null,null,null,null,null,null,null,null,null,null,null,null,null,null,null,"2019-01-06","Su",1,6,null,null,null,null,null,null,null,null,null,null,null,null,null,null,null,null,"2019-01-05",null,"Sa"]
[null,null,null,null,null,null,null,null,null,null,null,null,null,null,null,null,null,null,"2019-01-07","M",2,7,null,null,null,null,null,null,null,null,null,null,null,null,null,null,null,null,"2019-01-06",null,"Su"]
[null,null,null,null,null,null,null,null,null,null,null,null,null,null,null,null,null,null,"2019-01-08","T",3,8,null,null,null,null,null,null,null,null,null,null,null,null,null,null,null,null,"2019-01-07",null,"M"]
[null,null,null,null,null,null,null,null,null,null,null,null,null,null,null,null,null,null,"2019-01-09","W",4,9,null,null,null,null,null,null,null,null,null,null,null,null,null,null,null,null,"2019-01-08",null,"T"]
[null,null,null,null,null,null,null,null,null,null,null,null,null,null,null,null,null,null,"2019-01-10","Th",5,10,null,null,null,null,null,null,null,null,null,null,null,null,null,null,null,null,"2019-01-09",null,"W"]
[null,null,null,null,null,null,null,null,null,null,null,null,null,null,null,null,null,null,"2019-01-11","F",6,11,null,null,null,null,null,null,null,null,null,null,null,null,null,null,null,null,"2019-01-10",null,"Th"]
[null,null,null,null,null,null,null,null,null,null,null,null,null,null,null,null,null,null,"2019-01-12","Sa",7,12,null,null,null,null,null,null,null,null,null,null,null,null,null,null,null,null,"2019-01-11",null,"F"]
[null,null,null,null,null,null,null,null,null,null,null,null,null,null,null,null,null,null,"2019-01-13","Su",1,13,null,null,null,null,null,null,null,null,null,null,null,null,null,null,null,null,"2019-01-12",null,"Sa"]
[null,null,null,null,null,null,null,null,null,null,null,null,null,null,null,null,null,null,"2019-01-14","M",2,14,null,null,null,null,null,null,null,null,null,null,null,null,null,null,null,null,"2019-01-13",null,"Su"]
[null,null,null,null,null,null,null,null,null,null,null,null,null,null,null,null,null,null,"2019-01-15","T",3,15,null,null,null,null,null,null,null,null,null,null,null,null,null,null,null,null,"2019-01-14",null,"M"]
[null,null,null,null,null,null,null,null,null,null,null,null,null,null,null,null,null,null,"2019-01-16","W",4,16,null,null,null,null,null,null,null,null,null,null,null,null,null,null,null,null,"2019-01-15",{"$f":"IF(AO384=\"M\",\"MLK Birthday\",\"\")","v":""},"T",{"$f":"IF(AO384=\"M\",1,0)","v":0}]
[null,null,null,null,null,null,null,null,null,null,null,null,null,null,null,null,null,null,"2019-01-17","Th",5,17,null,null,null,null,null,null,null,null,null,null,null,null,null,null,null,null,"2019-01-16","","W",{"$f":"IF(AO385=\"M\",1,0)","v":0}]
[null,null,null,null,null,null,null,null,null,null,null,null,null,null,null,null,null,null,"2019-01-18","F",6,18,null,null,null,null,null,null,null,null,null,null,null,null,null,null,null,null,"2019-01-17","","Th",0]
[null,null,null,null,null,null,null,null,null,null,null,null,null,null,null,null,null,null,"2019-01-19","Sa",7,19,null,null,null,null,null,null,null,null,null,null,null,null,null,null,null,null,"2019-01-18","","F",0]
[null,null,null,null,null,null,null,null,null,null,null,null,null,null,null,null,null,null,"2019-01-20","Su",{"$f":"WEEKDAY(S388,1)","v":1},20,null,null,null,null,null,null,null,null,null,null,null,null,null,null,null,null,"2019-01-19","","Sa",0]
[null,null,null,null,null,null,null,null,null,null,null,null,null,null,null,null,null,null,"2019-01-21","M",2,21,null,null,null,null,null,null,null,null,null,null,null,null,null,null,null,null,"2019-01-20","","Su",0]
[null,null,null,null,null,null,null,null,null,null,null,null,null,null,null,null,null,null,{"$f":"1+S389","v":"2019-01-22"},"T",3,{"$f":"DAY(S390)","v":22},null,null,null,null,null,null,null,null,null,null,null,null,{"$f":"AN391","v":"00:00:00"},null,{"$f":"VLOOKUP(WEEKDAY(AI390,1),DayTable,2,FALSE)","v":"Sa"},null,"2019-01-21","MLK Birthday",{"$f":"VLOOKUP(WEEKDAY(AM390,1),DayTable,2,FALSE)","v":"M"},1]
[null,null,null,null,null,null,null,null,null,null,null,null,null,null,null,null,null,null,"2019-01-23","W",4,23,null,null,null,null,null,null,null,null,null,null,null,null,{"$f":"1+AI390","v":"1900-01-01"},null,"Su",null,{"$f":"1+AM390","v":"2019-01-22"},null,"T"]
[null,null,null,null,null,null,null,null,null,null,null,null,null,null,null,null,null,null,"2019-01-24","Th",5,24,null,null,null,null,null,null,null,null,null,null,null,null,"1900-01-02",null,"M",null,"2019-01-23",null,"W"]
[null,null,null,null,null,null,null,null,null,null,null,null,null,null,null,null,null,null,"2019-01-25","F",6,25,null,null,null,null,null,null,null,null,null,null,null,null,"1900-01-03",{"$f":"IF(AND(DAY(AI393)=4,AND(AK393<>\"Sa\",AK393<>\"Su\")),\"July 4th\",\"\")","v":""},"T",null,"2019-01-24",null,"Th"]
[null,null,null,null,null,null,null,null,null,null,null,null,null,null,null,null,null,null,"2019-01-26","Sa",7,26,null,null,null,null,null,null,null,null,null,null,null,null,"1900-01-04",{"$f":"IF(AND(DAY(AI394)=4,AND(AK394<>\"Sa\",AK394<>\"Su\")),\"July 4th\",\"\")","v":"July 4th"},"W",null,"2019-01-25",null,"F"]
[null,null,null,null,null,null,null,null,null,null,null,null,null,null,null,null,null,null,"2019-01-27","Su",1,27,null,null,null,null,null,null,null,null,null,null,null,null,"1900-01-05",{"$f":"IF(AND(DAY(AI395)=4,AND(AK395<>\"Sa\",AK395<>\"Su\")),\"July 4th\",\"\")","v":""},"Th",null,"2019-01-26",null,"Sa"]
[null,null,null,null,null,null,null,null,null,null,null,null,null,null,null,null,null,null,"2019-01-28","M",2,28,null,null,null,null,null,null,null,null,null,null,null,null,"1900-01-06",{"$f":"IF(OR(AND(DAY(AI396)=4,AND(AK396<>\"Sa\",AK396<>\"Su\")),AND(DAY(AI397)=4,AK396=\"F\")),\"July 4th\",\"\")","v":""},"F",null,"2019-01-27",null,"Su"]
[null,null,null,null,null,null,null,null,null,null,null,null,null,null,null,null,null,null,"2019-01-29","T",3,29,null,null,null,null,null,null,null,null,null,null,null,null,"1900-01-07",{"$f":"IF(OR(AND(DAY(AI397)=4,AND(AK397<>\"Sa\",AK397<>\"Su\")),AND(DAY(AI398)=4,AK397=\"F\")),\"July 4th\",\"\")","v":""},"Sa",null,"2019-01-28",null,"M"]
[null,null,null,null,null,null,null,null,null,null,null,null,null,null,null,null,null,null,"2019-01-30","W",4,30,null,null,null,null,null,null,null,null,null,null,null,null,"1900-01-08",{"$f":"IF(OR(AND(DAY(AI398)=4,AND(AK398<>\"Sa\",AK398<>\"Su\")),AND(DAY(AI397)=4,AK398=\"M\")),\"July 4th\",\"\")","v":""},"Su",null,"2019-01-29",null,"T"]
[null,null,null,null,null,null,null,null,null,null,null,null,null,null,null,null,null,null,"2019-01-31","Th",5,31,null,null,null,null,null,null,null,null,null,null,null,null,"1900-01-09",{"$f":"IF(OR(AND(DAY(AI399)=4,AND(AK399<>\"Sa\",AK399<>\"Su\")),AND(DAY(AI398)=4,AK399=\"M\")),\"July 4th\",\"\")","v":""},"M",null,"2019-01-30",null,"W"]
[null,null,null,null,null,null,null,null,null,null,null,null,null,null,null,null,null,null,"2019-02-01","F",6,1,null,null,null,null,null,null,null,null,null,null,null,null,"1900-01-10",{"$f":"IF(AND(DAY(AI400)=4,AND(AK400<>\"Sa\",AK400<>\"Su\")),\"July 4th\",\"\")","v":""},"T",null,"2019-01-31",null,"Th"]
[null,null,null,null,null,null,null,null,null,null,null,null,null,null,null,null,null,null,"2019-02-02","Sa",7,2,null,null,null,null,null,null,null,null,null,null,null,null,null,null,null,null,"2019-02-01",null,"F"]
[null,null,null,null,null,null,null,null,null,null,null,null,null,null,null,null,null,null,"2019-02-03","Su",1,3,null,null,null,null,null,null,null,null,null,null,null,null,null,null,null,null,"2019-02-02",null,"Sa"]
[null,null,null,null,null,null,null,null,null,null,null,null,null,null,null,null,null,null,"2019-02-04","M",2,4,null,null,null,null,null,null,null,null,null,null,null,null,null,null,null,null,"2019-02-03",null,"Su"]
[null,null,null,null,null,null,null,null,null,null,null,null,null,null,null,null,null,null,"2019-02-05","T",3,5,null,null,null,null,null,null,null,null,null,null,null,null,null,null,null,null,"2019-02-04",null,"M"]
[null,null,null,null,null,null,null,null,null,null,null,null,null,null,null,null,null,null,"2019-02-06","W",4,6,null,null,null,null,null,null,null,null,null,null,null,null,null,null,null,null,"2019-02-05",null,"T"]
[null,null,null,null,null,null,null,null,null,null,null,null,null,null,null,null,null,null,"2019-02-07",{"$f":"VLOOKUP(U406,DayTable,2,FALSE)","v":"Th"},5,7,null,null,null,null,null,null,null,null,null,null,null,null,null,null,null,null,"2019-02-06",null,"W"]
[null,null,null,null,null,null,null,null,null,null,null,null,null,null,null,null,null,null,"2019-02-08","F",6,8,null,null,null,null,null,null,null,null,null,null,null,null,null,null,null,null,"2019-02-07",null,"Th"]
[null,null,null,null,null,null,null,null,null,null,null,null,null,null,null,null,null,null,"2019-02-09","Sa",7,9,null,null,null,null,null,null,null,null,null,null,null,null,null,null,null,null,"2019-02-08",null,"F"]
[null,null,null,null,null,null,null,null,null,null,null,null,null,null,null,null,null,null,"2019-02-10","Su",1,10,null,null,null,null,null,null,null,null,null,null,null,null,null,null,null,null,"2019-02-09",null,"Sa"]
[null,null,null,null,null,null,null,null,null,null,null,null,null,null,null,null,null,null,"2019-02-11","M",2,11,null,null,null,null,null,null,null,null,null,null,null,null,null,null,null,null,"2019-02-10",null,"Su"]
[null,null,null,null,null,null,null,null,null,null,null,null,null,null,null,null,null,null,"2019-02-12","T",3,12,null,null,null,null,null,null,null,null,null,null,null,null,null,null,null,null,"2019-02-11",null,"M"]
[null,null,null,null,null,null,null,null,null,null,null,null,null,null,null,null,null,null,"2019-02-13","W",4,13,null,null,null,null,null,null,null,null,null,null,null,null,null,null,null,null,"2019-02-12",{"$f":"IF(AO412=\"M\",\"Presidents Day\",\"\")","v":""},"T",{"$f":"IF(AO412=\"M\",1,0)","v":0}]
[null,null,null,null,null,null,null,null,null,null,null,null,null,null,null,null,null,null,"2019-02-14","Th",5,14,null,null,null,null,null,null,null,null,null,null,null,null,null,null,null,null,"2019-02-13",{"$f":"IF(AO413=\"M\",\"Presidents Day\",\"\")","v":""},"W",{"$f":"IF(AO413=\"M\",1,0)","v":0}]
[null,null,null,null,null,null,null,null,null,null,null,null,null,null,null,null,null,null,"2019-02-15","F",6,15,null,null,null,null,null,null,null,null,null,null,null,null,null,null,null,null,"2019-02-14","","Th",0]
[null,null,null,null,null,null,null,null,null,null,null,null,null,null,null,null,null,null,"2019-02-16","Sa",7,16,null,null,null,null,null,null,null,null,null,null,null,null,null,null,null,null,"2019-02-15","","F",0]
[null,null,null,null,null,null,null,null,null,null,null,null,null,null,null,null,null,null,"2019-02-17","Su",1,17,null,null,null,null,null,null,null,null,null,null,null,null,null,null,null,null,"2019-02-16","","Sa",0]
[null,null,null,null,null,null,null,null,null,null,null,null,null,null,null,null,null,null,"2019-02-18","M",2,18,null,null,null,null,null,null,null,null,null,null,null,null,null,null,null,null,"2019-02-17","","Su",0]
[null,null,null,null,null,null,null,null,null,null,null,null,null,null,null,null,null,null,"2019-02-19","T",3,19,null,null,null,null,null,null,null,null,null,null,null,null,null,null,null,null,"2019-02-18","Presidents Day","M",1]
[null,null,null,null,null,null,null,null,null,null,null,null,null,null,null,null,null,null,"2019-02-20","W",4,20,null,null,null,null,null,null,null,null,null,null,null,null,null,null,null,null,"2019-02-19",null,"T"]
[null,null,null,null,null,null,null,null,null,null,null,null,null,null,null,null,null,null,"2019-02-21","Th",5,21,null,null,null,null,null,null,null,null,null,null,null,null,null,null,null,null,"2019-02-20",null,"W"]
[null,null,null,null,null,null,null,null,null,null,null,null,null,null,null,null,null,null,"2019-02-22","F",6,22,null,null,null,null,null,null,null,null,null,null,null,null,null,null,null,null,"2019-02-21",null,"Th"]
[null,null,null,null,null,null,null,null,null,null,null,null,null,null,null,null,null,null,"2019-02-23","Sa",7,23,null,null,null,null,null,null,null,null,null,null,null,null,null,null,null,null,"2019-02-22",null,"F"]
[null,null,null,null,null,null,null,null,null,null,null,null,null,null,null,null,null,null,"2019-02-24","Su",1,24,null,null,null,null,null,null,null,null,null,null,null,null,null,null,null,null,"2019-02-23",null,"Sa"]
[null,null,null,null,null,null,null,null,null,null,null,null,null,null,null,null,null,null,"2019-02-25","M",2,25,null,null,null,null,null,null,null,null,null,null,null,null,null,null,null,null,"2019-02-24",null,"Su"]
[null,null,null,null,null,null,null,null,null,null,null,null,null,null,null,null,null,null,"2019-02-26","T",3,26,null,null,null,null,null,null,null,null,null,null,null,null,null,null,null,null,"2019-02-25",null,"M"]
[null,null,null,null,null,null,null,null,null,null,null,null,null,null,null,null,null,null,"2019-02-27","W",4,27,null,null,null,null,null,null,null,null,null,null,null,null,null,null,null,null,"2019-02-26",null,"T"]
[null,null,null,null,null,null,null,null,null,null,null,null,null,null,null,null,null,null,"2019-02-28","Th",5,28,null,null,null,null,null,null,null,null,null,null,null,null,null,null,null,null,"2019-02-27",null,"W"]
[null,null,null,null,null,null,null,null,null,null,null,null,null,null,null,null,null,null,"2019-03-01","F",6,1,null,null,null,null,null,null,null,null,null,null,null,null,null,null,null,null,"2019-02-28",null,"Th"]
[null,null,null,null,null,null,null,null,null,null,null,null,null,null,null,null,null,null,null,null,null,null,null,null,null,null,null,null,null,null,null,null,null,null,null,null,null,null,"2019-03-01",null,"F"]
[null,null,null,null,null,null,null,null,null,null,null,null,null,null,null,null,null,null,null,null,null,null,null,null,null,null,null,null,null,null,null,null,null,null,null,null,null,null,{"$f":"1+AM429","v":"2019-03-02"},null,{"$f":"VLOOKUP(WEEKDAY(AM430,1),DayTable,2,FALSE)","v":"Sa"}]
[null,null,null,null,null,null,null,null,null,null,null,null,null,null,null,null,null,null,null,null,null,null,null,null,null,null,null,null,null,null,null,null,null,null,null,null,null,null,"2019-03-03",null,"Su"]
[null,null,null,null,null,null,null,null,null,null,null,null,null,null,null,null,null,null,null,null,null,null,null,null,null,null,null,null,null,null,null,null,null,null,null,null,null,null,"2019-03-04",null,"M"]
[null,null,null,null,null,null,null,null,null,null,null,null,null,null,null,null,null,null,null,null,null,null,null,null,null,null,null,null,null,null,null,null,null,null,null,null,null,null,"2019-03-05",null,"T"]
[null,null,null,null,null,null,null,null,null,null,null,null,null,null,null,null,null,null,null,null,null,null,null,null,null,null,null,null,null,null,null,null,null,null,null,null,null,null,"2019-03-06",null,"W"]
[null,null,null,null,null,null,null,null,null,null,null,null,null,null,null,null,null,null,null,null,null,null,null,null,null,null,null,null,null,null,null,null,null,null,null,null,null,null,"2019-03-07",null,"Th"]
[null,null,null,null,null,null,null,null,null,null,null,null,null,null,null,null,null,null,null,null,null,null,null,null,null,null,null,null,null,null,null,null,null,null,null,null,null,null,"2019-03-08",null,"F"]
[null,null,null,null,null,null,null,null,null,null,null,null,null,null,null,null,null,null,null,null,null,null,null,null,null,null,null,null,null,null,null,null,null,null,null,null,null,null,"2019-03-09",null,"Sa"]
[null,null,null,null,null,null,null,null,null,null,null,null,null,null,null,null,null,null,null,null,null,null,null,null,null,null,null,null,null,null,null,null,null,null,null,null,null,null,"2019-03-10",null,"Su"]
[null,null,null,null,null,null,null,null,null,null,null,null,null,null,null,null,null,null,null,null,null,null,null,null,null,null,null,null,null,null,null,null,null,null,null,null,null,null,"2019-03-11",null,"M"]
[null,null,null,null,null,null,null,null,null,null,null,null,null,null,null,null,null,null,null,null,null,null,null,null,null,null,null,null,null,null,null,null,null,null,null,null,null,null,"2019-03-12",null,"T"]
[null,null,null,null,null,null,null,null,null,null,null,null,null,null,null,null,null,null,null,null,null,null,null,null,null,null,null,null,null,null,null,null,null,null,null,null,null,null,"2019-03-13",null,"W"]
[null,null,null,null,null,null,null,null,null,null,null,null,null,null,null,null,null,null,null,null,null,null,null,null,null,null,null,null,null,null,null,null,null,null,null,null,null,null,"2019-03-14",null,"Th"]
[null,null,null,null,null,null,null,null,null,null,null,null,null,null,null,null,null,null,null,null,null,null,null,null,null,null,null,null,null,null,null,null,null,null,null,null,null,null,"2019-03-15",null,"F"]
[null,null,null,null,null,null,null,null,null,null,null,null,null,null,null,null,null,null,null,null,null,null,null,null,null,null,null,null,null,null,null,null,null,null,null,null,null,null,"2019-03-16",null,"Sa"]
[null,null,null,null,null,null,null,null,null,null,null,null,null,null,null,null,null,null,null,null,null,null,null,null,null,null,null,null,null,null,null,null,null,null,null,null,null,null,"2019-03-17",null,"Su"]
[null,null,null,null,null,null,null,null,null,null,null,null,null,null,null,null,null,null,null,null,null,null,null,null,null,null,null,null,null,null,null,null,null,null,null,null,null,null,"2019-03-18",null,"M"]
[null,null,null,null,null,null,null,null,null,null,null,null,null,null,null,null,null,null,null,null,null,null,null,null,null,null,null,null,null,null,null,null,null,null,null,null,null,null,"2019-03-19",null,"T"]
[null,null,null,null,null,null,null,null,null,null,null,null,null,null,null,null,null,null,null,null,null,null,null,null,null,null,null,null,null,null,null,null,null,null,null,null,null,null,"2019-03-20",null,"W"]
[null,null,null,null,null,null,null,null,null,null,null,null,null,null,null,null,null,null,null,null,null,null,null,null,null,null,null,null,null,null,null,null,null,null,null,null,null,null,"2019-03-21",{"$f":"IF(VLOOKUP(AM449,EasterDates,1)=AM449,\"Easter\",IF(VLOOKUP(AM449+2,EasterDates,1)=AM449+2,\"Good Friday\",0))","v":0},"Th",{"$f":"IF(VLOOKUP(AM449,EasterDates,1)=AM449,1,IF(VLOOKUP(AM449+2,EasterDates,1)=AM449+2,1,0))","v":0}]
[null,null,null,null,null,null,null,null,null,null,null,null,null,null,null,null,null,null,null,null,null,null,null,null,null,null,null,null,null,null,null,null,null,null,null,null,null,null,"2019-03-22",{"$f":"IF(VLOOKUP(AM450,EasterDates,1)=AM450,\"Easter\",IF(VLOOKUP(AM450+2,EasterDates,1)=AM450+2,\"Good Friday\",0))","v":0},"F",{"$f":"IF(VLOOKUP(AM450,EasterDates,1)=AM450,1,IF(VLOOKUP(AM450+2,EasterDates,1)=AM450+2,1,0))","v":0}]
[null,null,null,null,null,null,null,null,null,null,null,null,null,null,null,null,null,null,null,null,null,null,null,null,null,null,null,null,null,null,null,null,null,null,null,null,null,null,"2019-03-23",0,"Sa",0]
[null,null,null,null,null,null,null,null,null,null,null,null,null,null,null,null,null,null,null,null,null,null,null,null,null,null,null,null,null,null,null,null,null,null,null,null,null,null,"2019-03-24",0,"Su",0]
[null,null,null,null,null,null,null,null,null,null,null,null,null,null,null,null,null,null,null,null,null,null,null,null,null,null,null,null,null,null,null,null,null,null,null,null,null,null,"2019-03-25",0,"M",0]
[null,null,null,null,null,null,null,null,null,null,null,null,null,null,null,null,null,null,null,null,null,null,null,null,null,null,null,null,null,null,null,null,null,null,null,null,null,null,"2019-03-26",0,"T",0]
[null,null,null,null,null,null,null,null,null,null,null,null,null,null,null,null,null,null,null,null,null,null,null,null,null,null,null,null,null,null,null,null,null,null,null,null,null,null,"2019-03-27",0,"W",0]
[null,null,null,null,null,null,null,null,null,null,null,null,null,null,null,null,null,null,null,null,null,null,null,null,null,null,null,null,null,null,null,null,null,null,null,null,null,null,"2019-03-28",0,"Th",0]
[null,null,null,null,null,null,null,null,null,null,null,null,null,null,null,null,null,null,null,null,null,null,null,null,null,null,null,null,null,null,null,null,null,null,null,null,null,null,"2019-03-29",0,"F",0]
[null,null,null,null,null,null,null,null,null,null,null,null,null,null,null,null,null,null,null,null,null,null,null,null,null,null,null,null,null,null,null,null,null,null,null,null,null,null,"2019-03-30",0,"Sa",0]
[null,null,null,null,null,null,null,null,null,null,null,null,null,null,null,null,null,null,null,null,null,null,null,null,null,null,null,null,null,null,null,null,null,null,null,null,null,null,"2019-03-31",0,"Su",0]
[null,null,null,null,null,null,null,null,null,null,null,null,null,null,null,null,null,null,null,null,null,null,null,null,null,null,null,null,null,null,null,null,null,null,null,null,null,null,"2019-04-01",0,"M",0]
[null,null,null,null,null,null,null,null,null,null,null,null,null,null,null,null,null,null,null,null,null,null,null,null,null,null,null,null,null,null,null,null,null,null,null,null,null,null,"2019-04-02",0,"T",0]
[null,null,null,null,null,null,null,null,null,null,null,null,null,null,null,null,null,null,null,null,null,null,null,null,null,null,null,null,null,null,null,null,null,null,null,null,null,null,"2019-04-03",0,"W",0]
[null,null,null,null,null,null,null,null,null,null,null,null,null,null,null,null,null,null,null,null,null,null,null,null,null,null,null,null,null,null,null,null,null,null,null,null,null,null,"2019-04-04",0,"Th",0]
[null,null,null,null,null,null,null,null,null,null,null,null,null,null,null,null,null,null,null,null,null,null,null,null,null,null,null,null,null,null,null,null,null,null,null,null,null,null,"2019-04-05",0,"F",0]
[null,null,null,null,null,null,null,null,null,null,null,null,null,null,null,null,null,null,null,null,null,null,null,null,null,null,null,null,null,null,null,null,null,null,null,null,null,null,"2019-04-06",0,"Sa",0]
[null,null,null,null,null,null,null,null,null,null,null,null,null,null,null,null,null,null,null,null,null,null,null,null,null,null,null,null,null,null,null,null,null,null,null,null,null,null,"2019-04-07",0,"Su",0]
[null,null,null,null,null,null,null,null,null,null,null,null,null,null,null,null,null,null,null,null,null,null,null,null,null,null,null,null,null,null,null,null,null,null,null,null,null,null,"2019-04-08",0,"M",0]
[null,null,null,null,null,null,null,null,null,null,null,null,null,null,null,null,null,null,null,null,null,null,null,null,null,null,null,null,null,null,null,null,null,null,null,null,null,null,"2019-04-09",0,"T",0]
[null,null,null,null,null,null,null,null,null,null,null,null,null,null,null,null,null,null,null,null,null,null,null,null,null,null,null,null,null,null,null,null,null,null,null,null,null,null,"2019-04-10",0,"W",0]
[null,null,null,null,null,null,null,null,null,null,null,null,null,null,null,null,null,null,null,null,null,null,null,null,null,null,null,null,null,null,null,null,null,null,null,null,null,null,"2019-04-11",0,"Th",0]
[null,null,null,null,null,null,null,null,null,null,null,null,null,null,null,null,null,null,null,null,null,null,null,null,null,null,null,null,null,null,null,null,null,null,null,null,null,null,"2019-04-12",0,"F",0]
[null,null,null,null,null,null,null,null,null,null,null,null,null,null,null,null,null,null,null,null,null,null,null,null,null,null,null,null,null,null,null,null,null,null,null,null,null,null,"2019-04-13",0,"Sa",0]
[null,null,null,null,null,null,null,null,null,null,null,null,null,null,null,null,null,null,null,null,null,null,null,null,null,null,null,null,null,null,null,null,null,null,null,null,null,null,"2019-04-14",0,"Su",0]
[null,null,null,null,null,null,null,null,null,null,null,null,null,null,null,null,null,null,null,null,null,null,null,null,null,null,null,null,null,null,null,null,null,null,null,null,null,null,"2019-04-15",0,"M",0]
[null,null,null,null,null,null,null,null,null,null,null,null,null,null,null,null,null,null,null,null,null,null,null,null,null,null,null,null,null,null,null,null,null,null,null,null,null,null,"2019-04-16",0,"T",0]
[null,null,null,null,null,null,null,null,null,null,null,null,null,null,null,null,null,null,null,null,null,null,null,null,null,null,null,null,null,null,null,null,null,null,null,null,null,null,"2019-04-17",0,"W",0]
[null,null,null,null,null,null,null,null,null,null,null,null,null,null,null,null,null,null,null,null,null,null,null,null,null,null,null,null,null,null,null,null,null,null,null,null,null,null,"2019-04-18",0,"Th",0]
[null,null,null,null,null,null,null,null,null,null,null,null,null,null,null,null,null,null,null,null,null,null,null,null,null,null,null,null,null,null,null,null,null,null,null,null,null,null,"2019-04-19","Good Friday","F",1]
[null,null,null,null,null,null,null,null,null,null,null,null,null,null,null,null,null,null,null,null,null,null,null,null,null,null,null,null,null,null,null,null,null,null,null,null,null,null,"2019-04-20",0,"Sa",0]
[null,null,null,null,null,null,null,null,null,null,null,null,null,null,null,null,null,null,null,null,null,null,null,null,null,null,null,null,null,null,null,null,null,null,null,null,null,null,"2019-04-21","Easter","Su",1]
[null,null,null,null,null,null,null,null,null,null,null,null,null,null,null,null,null,null,null,null,null,null,null,null,null,null,null,null,null,null,null,null,null,null,null,null,null,null,"2019-04-22",0,"M",0]
[null,null,null,null,null,null,null,null,null,null,null,null,null,null,null,null,null,null,null,null,null,null,null,null,null,null,null,null,null,null,null,null,null,null,null,null,null,null,"2019-04-23",0,"T",0]
[null,null,null,null,null,null,null,null,null,null,null,null,null,null,null,null,null,null,null,null,null,null,null,null,null,null,null,null,null,null,null,null,null,null,null,null,null,null,"2019-04-24",0,"W",0]
[null,null,null,null,null,null,null,null,null,null,null,null,null,null,null,null,null,null,null,null,null,null,null,null,null,null,null,null,null,null,null,null,null,null,null,null,null,null,"2019-04-25",null,"Th"]
[null,null,null,null,null,null,null,null,null,null,null,null,null,null,null,null,null,null,null,null,null,null,null,null,null,null,null,null,null,null,null,null,null,null,null,null,null,null,"2019-04-26",null,"F"]
[null,null,null,null,null,null,null,null,null,null,null,null,null,null,null,null,null,null,null,null,null,null,null,null,null,null,null,null,null,null,null,null,null,null,null,null,null,null,"2019-04-27",null,"Sa"]
[null,null,null,null,null,null,null,null,null,null,null,null,null,null,null,null,null,null,null,null,null,null,null,null,null,null,null,null,null,null,null,null,null,null,null,null,null,null,"2019-04-28",null,"Su"]
[null,null,null,null,null,null,null,null,null,null,null,null,null,null,null,null,null,null,null,null,null,null,null,null,null,null,null,null,null,null,null,null,null,null,null,null,null,null,{"$f":"1+AM487","v":"2019-04-29"},null,{"$f":"VLOOKUP(WEEKDAY(AM488,1),DayTable,2,FALSE)","v":"M"}]
[null,null,null,null,null,null,null,null,null,null,null,null,null,null,null,null,null,null,null,null,null,null,null,null,null,null,null,null,null,null,null,null,null,null,null,null,null,null,"2019-04-30",null,"T"]
[null,null,null,null,null,null,null,null,null,null,null,null,null,null,null,null,null,null,null,null,null,null,null,null,null,null,null,null,null,null,null,null,null,null,null,null,null,null,"2019-05-01",null,"W"]
[null,null,null,null,null,null,null,null,null,null,null,null,null,null,null,null,null,null,null,null,null,null,null,null,null,null,null,null,null,null,null,null,null,null,null,null,null,null,"2019-05-02",null,"Th"]
[null,null,null,null,null,null,null,null,null,null,null,null,null,null,null,null,null,null,null,null,null,null,null,null,null,null,null,null,null,null,null,null,null,null,null,null,null,null,"2019-05-03",null,"F"]
[null,null,null,null,null,null,null,null,null,null,null,null,null,null,null,null,null,null,null,null,null,null,null,null,null,null,null,null,null,null,null,null,null,null,null,null,null,null,"2019-05-04",null,"Sa"]
[null,null,null,null,null,null,null,null,null,null,null,null,null,null,null,null,null,null,null,null,null,null,null,null,null,null,null,null,null,null,null,null,null,null,null,null,null,null,"2019-05-05",null,"Su"]
[null,null,null,null,null,null,null,null,null,null,null,null,null,null,null,null,null,null,null,null,null,null,null,null,null,null,null,null,null,null,null,null,null,null,null,null,null,null,"2019-05-06",null,"M"]
[null,null,null,null,null,null,null,null,null,null,null,null,null,null,null,null,null,null,null,null,null,null,null,null,null,null,null,null,null,null,null,null,null,null,null,null,null,null,"2019-05-07",null,"T"]
[null,null,null,null,null,null,null,null,null,null,null,null,null,null,null,null,null,null,null,null,null,null,null,null,null,null,null,null,null,null,null,null,null,null,null,null,null,null,"2019-05-08",null,"W"]
[null,null,null,null,null,null,null,null,null,null,null,null,null,null,null,null,null,null,null,null,null,null,null,null,null,null,null,null,null,null,null,null,null,null,null,null,null,null,"2019-05-09",null,"Th"]
[null,null,null,null,null,null,null,null,null,null,null,null,null,null,null,null,null,null,null,null,null,null,null,null,null,null,null,null,null,null,null,null,null,null,null,null,null,null,"2019-05-10",null,"F"]
[null,null,null,null,null,null,null,null,null,null,null,null,null,null,null,null,null,null,null,null,null,null,null,null,null,null,null,null,null,null,null,null,null,null,null,null,null,null,"2019-05-11",null,"Sa"]
[null,null,null,null,null,null,null,null,null,null,null,null,null,null,null,null,null,null,null,null,null,null,null,null,null,null,null,null,null,null,null,null,null,null,null,null,null,null,"2019-05-12",null,"Su"]
[null,null,null,null,null,null,null,null,null,null,null,null,null,null,null,null,null,null,null,null,null,null,null,null,null,null,null,null,null,null,null,null,null,null,null,null,null,null,"2019-05-13",null,"M"]
[null,null,null,null,null,null,null,null,null,null,null,null,null,null,null,null,null,null,null,null,null,null,null,null,null,null,null,null,null,null,null,null,null,null,null,null,null,null,"2019-05-14",null,"T"]
[null,null,null,null,null,null,null,null,null,null,null,null,null,null,null,null,null,null,null,null,null,null,null,null,null,null,null,null,null,null,null,null,null,null,null,null,null,null,"2019-05-15",null,"W"]
[null,null,null,null,null,null,null,null,null,null,null,null,null,null,null,null,null,null,null,null,null,null,null,null,null,null,null,null,null,null,null,null,null,null,null,null,null,null,"2019-05-16",null,"Th"]
[null,null,null,null,null,null,null,null,null,null,null,null,null,null,null,null,null,null,null,null,null,null,null,null,null,null,null,null,null,null,null,null,null,null,null,null,null,null,"2019-05-17",null,"F"]
[null,null,null,null,null,null,null,null,null,null,null,null,null,null,null,null,null,null,null,null,null,null,null,null,null,null,null,null,null,null,null,null,null,null,null,null,null,null,"2019-05-18",null,"Sa"]
[null,null,null,null,null,null,null,null,null,null,null,null,null,null,null,null,null,null,null,null,null,null,null,null,null,null,null,null,null,null,null,null,null,null,null,null,null,null,"2019-05-19",null,"Su"]
[null,null,null,null,null,null,null,null,null,null,null,null,null,null,null,null,null,null,null,null,null,null,null,null,null,null,null,null,null,null,null,null,null,null,null,null,null,null,"2019-05-20",null,"M"]
[null,null,null,null,null,null,null,null,null,null,null,null,null,null,null,null,null,null,null,null,null,null,null,null,null,null,null,null,null,null,null,null,null,null,null,null,null,null,"2019-05-21",null,"T"]
[null,null,null,null,null,null,null,null,null,null,null,null,null,null,null,null,null,null,null,null,null,null,null,null,null,null,null,null,null,null,null,null,null,null,null,null,null,null,"2019-05-22",null,"W"]
[null,null,null,null,null,null,null,null,null,null,null,null,null,null,null,null,null,null,null,null,null,null,null,null,null,null,null,null,null,null,null,null,null,null,null,null,null,null,"2019-05-23",null,"Th"]
[null,null,null,null,null,null,null,null,null,null,null,null,null,null,null,null,null,null,null,null,null,null,null,null,null,null,null,null,null,null,null,null,null,null,null,null,null,null,"2019-05-24",null,"F"]
[null,null,null,null,null,null,null,null,null,null,null,null,null,null,null,null,null,null,null,null,null,null,null,null,null,null,null,null,null,null,null,null,null,null,null,null,null,null,"2019-05-25",{"$f":"IF(AND(DAY(AM514)>24,AO514=\"M\"),\"Memorial Day\",0)","v":0},"Sa",{"$f":"IF(AND(DAY(AM514)>24,AO514=\"M\"),1,0)","v":0}]
[null,null,null,null,null,null,null,null,null,null,null,null,null,null,null,null,null,null,null,null,null,null,null,null,null,null,null,null,null,null,null,null,null,null,null,null,null,null,"2019-05-26",0,"Su",{"$f":"IF(AND(DAY(AM515)>24,AO515=\"M\"),1,0)","v":0}]
[null,null,null,null,null,null,null,null,null,null,null,null,null,null,null,null,null,null,null,null,null,null,null,null,null,null,null,null,null,null,null,null,null,null,null,null,null,null,"2019-05-27","Memorial Day","M",1]
[null,null,null,null,null,null,null,null,null,null,null,null,null,null,null,null,null,null,null,null,null,null,null,null,null,null,null,null,null,null,null,null,null,null,null,null,null,null,"2019-05-28",0,"T",0]
[null,null,null,null,null,null,null,null,null,null,null,null,null,null,null,null,null,null,null,null,null,null,null,null,null,null,null,null,null,null,null,null,null,null,null,null,null,null,"2019-05-29",0,"W",0]
[null,null,null,null,null,null,null,null,null,null,null,null,null,null,null,null,null,null,null,null,null,null,null,null,null,null,null,null,null,null,null,null,null,null,null,null,null,null,"2019-05-30",0,"Th",0]
[null,null,null,null,null,null,null,null,null,null,null,null,null,null,null,null,null,null,null,null,null,null,null,null,null,null,null,null,null,null,null,null,null,null,null,null,null,null,"2019-05-31",0,"F",0]
[null,null,null,null,null,null,null,null,null,null,null,null,null,null,null,null,null,null,null,null,null,null,null,null,null,null,null,null,null,null,null,null,null,null,null,null,null,null,"2019-06-01",0,"Sa",0]
[null,null,null,null,null,null,null,null,null,null,null,null,null,null,null,null,null,null,null,null,null,null,null,null,null,null,null,null,null,null,null,null,null,null,null,null,null,null,"2019-06-02",null,"Su"]
[null,null,null,null,null,null,null,null,null,null,null,null,null,null,null,null,null,null,null,null,null,null,null,null,null,null,null,null,null,null,null,null,null,null,null,null,null,null,"2019-06-03",null,"M"]
[null,null,null,null,null,null,null,null,null,null,null,null,null,null,null,null,null,null,null,null,null,null,null,null,null,null,null,null,null,null,null,null,null,null,null,null,null,null,"2019-06-04",null,"T"]
[null,null,null,null,null,null,null,null,null,null,null,null,null,null,null,null,null,null,null,null,null,null,null,null,null,null,null,null,null,null,null,null,null,null,null,null,null,null,"2019-06-05",null,"W"]
[null,null,null,null,null,null,null,null,null,null,null,null,null,null,null,null,null,null,null,null,null,null,null,null,null,null,null,null,null,null,null,null,null,null,null,null,null,null,"2019-06-06",null,"Th"]
[null,null,null,null,null,null,null,null,null,null,null,null,null,null,null,null,null,null,null,null,null,null,null,null,null,null,null,null,null,null,null,null,null,null,null,null,null,null,"2019-06-07",null,"F"]
[null,null,null,null,null,null,null,null,null,null,null,null,null,null,null,null,null,null,null,null,null,null,null,null,null,null,null,null,null,null,null,null,null,null,null,null,null,null,"2019-06-08",null,"Sa"]
[null,null,null,null,null,null,null,null,null,null,null,null,null,null,null,null,null,null,null,null,null,null,null,null,null,null,null,null,null,null,null,null,null,null,null,null,null,null,"2019-06-09",null,"Su"]
[null,null,null,null,null,null,null,null,null,null,null,null,null,null,null,null,null,null,null,null,null,null,null,null,null,null,null,null,null,null,null,null,null,null,null,null,null,null,"2019-06-10",null,"M"]
[null,null,null,null,null,null,null,null,null,null,null,null,null,null,null,null,null,null,null,null,null,null,null,null,null,null,null,null,null,null,null,null,null,null,null,null,null,null,"2019-06-11",null,"T"]
[null,null,null,null,null,null,null,null,null,null,null,null,null,null,null,null,null,null,null,null,null,null,null,null,null,null,null,null,null,null,null,null,null,null,null,null,null,null,"2019-06-12",null,"W"]
[null,null,null,null,null,null,null,null,null,null,null,null,null,null,null,null,null,null,null,null,null,null,null,null,null,null,null,null,null,null,null,null,null,null,null,null,null,null,"2019-06-13",null,"Th"]
[null,null,null,null,null,null,null,null,null,null,null,null,null,null,null,null,null,null,null,null,null,null,null,null,null,null,null,null,null,null,null,null,null,null,null,null,null,null,"2019-06-14",null,"F"]
[null,null,null,null,null,null,null,null,null,null,null,null,null,null,null,null,null,null,null,null,null,null,null,null,null,null,null,null,null,null,null,null,null,null,null,null,null,null,"2019-06-15",null,"Sa"]
[null,null,null,null,null,null,null,null,null,null,null,null,null,null,null,null,null,null,null,null,null,null,null,null,null,null,null,null,null,null,null,null,null,null,null,null,null,null,"2019-06-16",null,"Su"]
[null,null,null,null,null,null,null,null,null,null,null,null,null,null,null,null,null,null,null,null,null,null,null,null,null,null,null,null,null,null,null,null,null,null,null,null,null,null,"2019-06-17",null,"M"]
[null,null,null,null,null,null,null,null,null,null,null,null,null,null,null,null,null,null,null,null,null,null,null,null,null,null,null,null,null,null,null,null,null,null,null,null,null,null,"2019-06-18",null,"T"]
[null,null,null,null,null,null,null,null,null,null,null,null,null,null,null,null,null,null,null,null,null,null,null,null,null,null,null,null,null,null,null,null,null,null,null,null,null,null,"2019-06-19",null,"W"]
[null,null,null,null,null,null,null,null,null,null,null,null,null,null,null,null,null,null,null,null,null,null,null,null,null,null,null,null,null,null,null,null,null,null,null,null,null,null,"2019-06-20",null,"Th"]
[null,null,null,null,null,null,null,null,null,null,null,null,null,null,null,null,null,null,null,null,null,null,null,null,null,null,null,null,null,null,null,null,null,null,null,null,null,null,"2019-06-21",null,"F"]
[null,null,null,null,null,null,null,null,null,null,null,null,null,null,null,null,null,null,null,null,null,null,null,null,null,null,null,null,null,null,null,null,null,null,null,null,null,null,"2019-06-22",null,"Sa"]
[null,null,null,null,null,null,null,null,null,null,null,null,null,null,null,null,null,null,null,null,null,null,null,null,null,null,null,null,null,null,null,null,null,null,null,null,null,null,"2019-06-23",null,"Su"]
[null,null,null,null,null,null,null,null,null,null,null,null,null,null,null,null,null,null,null,null,null,null,null,null,null,null,null,null,null,null,null,null,null,null,null,null,null,null,"2019-06-24",null,"M"]
[null,null,null,null,null,null,null,null,null,null,null,null,null,null,null,null,null,null,null,null,null,null,null,null,null,null,null,null,null,null,null,null,null,null,null,null,null,null,"2019-06-25",null,"T"]
[null,null,null,null,null,null,null,null,null,null,null,null,null,null,null,null,null,null,null,null,null,null,null,null,null,null,null,null,null,null,null,null,null,null,null,null,null,null,"2019-06-26",null,"W"]
[null,null,null,null,null,null,null,null,null,null,null,null,null,null,null,null,null,null,null,null,null,null,null,null,null,null,null,null,null,null,null,null,null,null,null,null,null,null,"2019-06-27",null,"Th"]
[null,null,null,null,null,null,null,null,null,null,null,null,null,null,null,null,null,null,null,null,null,null,null,null,null,null,null,null,null,null,null,null,null,null,null,null,null,null,"2019-06-28",null,"F"]
[null,null,null,null,null,null,null,null,null,null,null,null,null,null,null,null,null,null,null,null,null,null,null,null,null,null,null,null,null,null,null,null,null,null,null,null,null,null,"2019-06-29",null,"Sa"]
[null,null,null,null,null,null,null,null,null,null,null,null,null,null,null,null,null,null,null,null,null,null,null,null,null,null,null,null,null,null,null,null,null,null,null,null,null,null,"2019-06-30",{"$f":"IF(AND(DAY(AM550)=4,AND(AO550<>\"Sa\",AO550<>\"Su\")),\"4th of July\",\"\")","v":""},"Su",{"$f":"IF(AND(DAY(AM550)=4,AND(AO550<>\"Sa\",AO550<>\"Su\")),1,0)","v":0}]
[null,null,null,null,null,null,null,null,null,null,null,null,null,null,null,null,null,null,null,null,null,null,null,null,null,null,null,null,null,null,null,null,null,null,null,null,null,null,"2019-07-01",{"$f":"IF(AND(DAY(AM551)=4,AND(AO551<>\"Sa\",AO551<>\"Su\")),\"4th of July\",\"\")","v":""},"M",{"$f":"IF(AND(DAY(AM551)=4,AND(AO551<>\"Sa\",AO551<>\"Su\")),1,0)","v":0}]
[null,null,null,null,null,null,null,null,null,null,null,null,null,null,null,null,null,null,null,null,null,null,null,null,null,null,null,null,null,null,null,null,null,null,null,null,null,null,{"$f":"1+AM551","v":"2019-07-02"},{"$f":"IF(AND(DAY(AM552)=4,AND(AO552<>\"Sa\",AO552<>\"Su\")),\"4th of July\",\"\")","v":""},{"$f":"VLOOKUP(WEEKDAY(AM552,1),DayTable,2,FALSE)","v":"T"},{"$f":"IF(AND(DAY(AM552)=4,AND(AO552<>\"Sa\",AO552<>\"Su\")),1,0)","v":0}]
[null,null,null,null,null,null,null,null,null,null,null,null,null,null,null,null,null,null,null,null,null,null,null,null,null,null,null,null,null,null,null,null,null,null,null,null,null,null,"2019-07-03",{"$f":"IF(AQ553=1,AR553,IF(AS553=1,AT553,\"\"))","v":""},"W",{"$f":"MAX(AQ553,AS553)","v":0},{"$f":"IF(AND(DAY(AM553)=4,AO553<>\"Sa\",AO553<>\"Su\"),1,0)","v":0},{"$f":"IF(AND(DAY(AM553)=4,AO553<>\"Sa\",AO553<>\"Su\"),\"4th of July\",\"\")","v":""},{"$f":"IF(AND(DAY(AM553)=3,AO553=\"F\"),1,0)","v":0},{"$f":"IF(AND(DAY(AM553)=3,AO553=\"F\"),\"July 4th Observed\",\"\")","v":""}]
[null,null,null,null,null,null,null,null,null,null,null,null,null,null,null,null,null,null,null,null,null,null,null,null,null,null,null,null,null,null,null,null,null,null,null,null,null,null,"2019-07-04",{"$f":"IF(AQ554=1,AR554,IF(AS554=1,AT554,\"\"))","v":"4th of July"},"Th",{"$f":"MAX(AQ554,AS554)","v":1},{"$f":"IF(AND(DAY(AM554)=4,AO554<>\"Sa\",AO554<>\"Su\"),1,0)","v":1},{"$f":"IF(AND(DAY(AM554)=4,AO554<>\"Sa\",AO554<>\"Su\"),\"4th of July\",\"\")","v":"4th of July"},{"$f":"IF(AND(DAY(AM554)=3,AO554=\"F\"),1,0)","v":0},{"$f":"IF(AND(DAY(AM554)=3,AO554=\"F\"),\"July 4th Observed\",\"\")","v":""}]
[null,null,null,null,null,null,null,null,null,null,null,null,null,null,null,null,null,null,null,null,null,null,null,null,null,null,null,null,null,null,null,null,null,null,null,null,null,null,"2019-07-05",{"$f":"IF(AQ555=1,AR555,IF(AS555=1,AT555,\"\"))","v":""},"F",{"$f":"MAX(AQ555,AS555)","v":0},{"$f":"IF(AND(DAY(AM555)=4,AO555<>\"Sa\",AO555<>\"Su\"),1,0)","v":0},{"$f":"IF(AND(DAY(AM555)=4,AO555<>\"Sa\",AO555<>\"Su\"),\"4th of July\",\"\")","v":""},{"$f":"IF(AND(DAY(AM555)=5,AO555=\"M\"),1,0)","v":0},{"$f":"IF(AND(DAY(AM555)=5,AO555=\"M\"),\"July 4th Observed\",\"\")","v":""}]
[null,null,null,null,null,null,null,null,null,null,null,null,null,null,null,null,null,null,null,null,null,null,null,null,null,null,null,null,null,null,null,null,null,null,null,null,null,null,"2019-07-06",{"$f":"IF(AQ556=1,AR556,IF(AS556=1,AT556,\"\"))","v":""},"Sa",{"$f":"MAX(AQ556,AS556)","v":0},{"$f":"IF(AND(DAY(AM556)=4,AO556<>\"Sa\",AO556<>\"Su\"),1,0)","v":0},{"$f":"IF(AND(DAY(AM556)=4,AO556<>\"Sa\",AO556<>\"Su\"),\"4th of July\",\"\")","v":""},{"$f":"IF(AND(DAY(AM556)=5,AO556=\"M\"),1,0)","v":0},{"$f":"IF(AND(DAY(AM556)=5,AO556=\"M\"),\"July 4th Observed\",\"\")","v":""}]
[null,null,null,null,null,null,null,null,null,null,null,null,null,null,null,null,null,null,null,null,null,null,null,null,null,null,null,null,null,null,null,null,null,null,null,null,null,null,"2019-07-07",{"$f":"IF(AQ557=1,AR557,IF(AS557=1,AT557,\"\"))","v":""},"Su",{"$f":"MAX(AQ557,AS557)","v":0},{"$f":"IF(AND(DAY(AM557)=4,AO557<>\"Sa\",AO557<>\"Su\"),1,0)","v":0},{"$f":"IF(AND(DAY(AM557)=4,AO557<>\"Sa\",AO557<>\"Su\"),\"4th of July\",\"\")","v":""},{"$f":"IF(AND(DAY(AM557)=5,AO557=\"M\"),1,0)","v":0},{"$f":"IF(AND(DAY(AM557)=5,AO557=\"M\"),\"July 4th Observed\",\"\")","v":""}]
[null,null,null,null,null,null,null,null,null,null,null,null,null,null,null,null,null,null,null,null,null,null,null,null,null,null,null,null,null,null,null,null,null,null,null,null,null,null,"2019-07-08",null,"M"]
[null,null,null,null,null,null,null,null,null,null,null,null,null,null,null,null,null,null,null,null,null,null,null,null,null,null,null,null,null,null,null,null,null,null,null,null,null,null,"2019-07-09",null,"T"]
[null,null,null,null,null,null,null,null,null,null,null,null,null,null,null,null,null,null,null,null,null,null,null,null,null,null,null,null,null,null,null,null,null,null,null,null,null,null,"2019-07-10",null,"W"]
[null,null,null,null,null,null,null,null,null,null,null,null,null,null,null,null,null,null,null,null,null,null,null,null,null,null,null,null,null,null,null,null,null,null,null,null,null,null,"2019-07-11",null,"Th"]
[null,null,null,null,null,null,null,null,null,null,null,null,null,null,null,null,null,null,null,null,null,null,null,null,null,null,null,null,null,null,null,null,null,null,null,null,null,null,"2019-07-12",null,"F"]
[null,null,null,null,null,null,null,null,null,null,null,null,null,null,null,null,null,null,null,null,null,null,null,null,null,null,null,null,null,null,null,null,null,null,null,null,null,null,"2019-07-13",null,"Sa"]
[null,null,null,null,null,null,null,null,null,null,null,null,null,null,null,null,null,null,null,null,null,null,null,null,null,null,null,null,null,null,null,null,null,null,null,null,null,null,"2019-07-14",null,"Su"]
[null,null,null,null,null,null,null,null,null,null,null,null,null,null,null,null,null,null,null,null,null,null,null,null,null,null,null,null,null,null,null,null,null,null,null,null,null,null,"2019-07-15",null,"M"]
[null,null,null,null,null,null,null,null,null,null,null,null,null,null,null,null,null,null,null,null,null,null,null,null,null,null,null,null,null,null,null,null,null,null,null,null,null,null,"2019-07-16",null,"T"]
[null,null,null,null,null,null,null,null,null,null,null,null,null,null,null,null,null,null,null,null,null,null,null,null,null,null,null,null,null,null,null,null,null,null,null,null,null,null,"2019-07-17",null,"W"]
[null,null,null,null,null,null,null,null,null,null,null,null,null,null,null,null,null,null,null,null,null,null,null,null,null,null,null,null,null,null,null,null,null,null,null,null,null,null,"2019-07-18",null,"Th"]
[null,null,null,null,null,null,null,null,null,null,null,null,null,null,null,null,null,null,null,null,null,null,null,null,null,null,null,null,null,null,null,null,null,null,null,null,null,null,"2019-07-19",null,"F"]
[null,null,null,null,null,null,null,null,null,null,null,null,null,null,null,null,null,null,null,null,null,null,null,null,null,null,null,null,null,null,null,null,null,null,null,null,null,null,"2019-07-20",null,"Sa"]
[null,null,null,null,null,null,null,null,null,null,null,null,null,null,null,null,null,null,null,null,null,null,null,null,null,null,null,null,null,null,null,null,null,null,null,null,null,null,"2019-07-21",null,"Su"]
[null,null,null,null,null,null,null,null,null,null,null,null,null,null,null,null,null,null,null,null,null,null,null,null,null,null,null,null,null,null,null,null,null,null,null,null,null,null,"2019-07-22",null,"M"]
[null,null,null,null,null,null,null,null,null,null,null,null,null,null,null,null,null,null,null,null,null,null,null,null,null,null,null,null,null,null,null,null,null,null,null,null,null,null,"2019-07-23",null,"T"]
[null,null,null,null,null,null,null,null,null,null,null,null,null,null,null,null,null,null,null,null,null,null,null,null,null,null,null,null,null,null,null,null,null,null,null,null,null,null,"2019-07-24",null,"W"]
[null,null,null,null,null,null,null,null,null,null,null,null,null,null,null,null,null,null,null,null,null,null,null,null,null,null,null,null,null,null,null,null,null,null,null,null,null,null,"2019-07-25",null,"Th"]
[null,null,null,null,null,null,null,null,null,null,null,null,null,null,null,null,null,null,null,null,null,null,null,null,null,null,null,null,null,null,null,null,null,null,null,null,null,null,"2019-07-26",null,"F"]
[null,null,null,null,null,null,null,null,null,null,null,null,null,null,null,null,null,null,null,null,null,null,null,null,null,null,null,null,null,null,null,null,null,null,null,null,null,null,"2019-07-27",null,"Sa"]
[null,null,null,null,null,null,null,null,null,null,null,null,null,null,null,null,null,null,null,null,null,null,null,null,null,null,null,null,null,null,null,null,null,null,null,null,null,null,"2019-07-28",null,"Su"]
[null,null,null,null,null,null,null,null,null,null,null,null,null,null,null,null,null,null,null,null,null,null,null,null,null,null,null,null,null,null,null,null,null,null,null,null,null,null,"2019-07-29",null,"M"]
[null,null,null,null,null,null,null,null,null,null,null,null,null,null,null,null,null,null,null,null,null,null,null,null,null,null,null,null,null,null,null,null,null,null,null,null,null,null,"2019-07-30",null,"T"]
[null,null,null,null,null,null,null,null,null,null,null,null,null,null,null,null,null,null,null,null,null,null,null,null,null,null,null,null,null,null,null,null,null,null,null,null,null,null,"2019-07-31",null,"W"]
[null,null,null,null,null,null,null,null,null,null,null,null,null,null,null,null,null,null,null,null,null,null,null,null,null,null,null,null,null,null,null,null,null,null,null,null,null,null,"2019-08-01",null,"Th"]
[null,null,null,null,null,null,null,null,null,null,null,null,null,null,null,null,null,null,null,null,null,null,null,null,null,null,null,null,null,null,null,null,null,null,null,null,null,null,"2019-08-02",null,"F"]
[null,null,null,null,null,null,null,null,null,null,null,null,null,null,null,null,null,null,null,null,null,null,null,null,null,null,null,null,null,null,null,null,null,null,null,null,null,null,"2019-08-03",null,"Sa"]
[null,null,null,null,null,null,null,null,null,null,null,null,null,null,null,null,null,null,null,null,null,null,null,null,null,null,null,null,null,null,null,null,null,null,null,null,null,null,"2019-08-04",null,"Su"]
[null,null,null,null,null,null,null,null,null,null,null,null,null,null,null,null,null,null,null,null,null,null,null,null,null,null,null,null,null,null,null,null,null,null,null,null,null,null,"2019-08-05",null,"M"]
[null,null,null,null,null,null,null,null,null,null,null,null,null,null,null,null,null,null,null,null,null,null,null,null,null,null,null,null,null,null,null,null,null,null,null,null,null,null,"2019-08-06",null,"T"]
[null,null,null,null,null,null,null,null,null,null,null,null,null,null,null,null,null,null,null,null,null,null,null,null,null,null,null,null,null,null,null,null,null,null,null,null,null,null,"2019-08-07",null,"W"]
[null,null,null,null,null,null,null,null,null,null,null,null,null,null,null,null,null,null,null,null,null,null,null,null,null,null,null,null,null,null,null,null,null,null,null,null,null,null,"2019-08-08",null,"Th"]
[null,null,null,null,null,null,null,null,null,null,null,null,null,null,null,null,null,null,null,null,null,null,null,null,null,null,null,null,null,null,null,null,null,null,null,null,null,null,"2019-08-09",null,"F"]
[null,null,null,null,null,null,null,null,null,null,null,null,null,null,null,null,null,null,null,null,null,null,null,null,null,null,null,null,null,null,null,null,null,null,null,null,null,null,"2019-08-10",null,"Sa"]
[null,null,null,null,null,null,null,null,null,null,null,null,null,null,null,null,null,null,null,null,null,null,null,null,null,null,null,null,null,null,null,null,null,null,null,null,null,null,"2019-08-11",null,"Su"]
[null,null,null,null,null,null,null,null,null,null,null,null,null,null,null,null,null,null,null,null,null,null,null,null,null,null,null,null,null,null,null,null,null,null,null,null,null,null,"2019-08-12",null,"M"]
[null,null,null,null,null,null,null,null,null,null,null,null,null,null,null,null,null,null,null,null,null,null,null,null,null,null,null,null,null,null,null,null,null,null,null,null,null,null,"2019-08-13",null,"T"]
[null,null,null,null,null,null,null,null,null,null,null,null,null,null,null,null,null,null,null,null,null,null,null,null,null,null,null,null,null,null,null,null,null,null,null,null,null,null,"2019-08-14",null,"W"]
[null,null,null,null,null,null,null,null,null,null,null,null,null,null,null,null,null,null,null,null,null,null,null,null,null,null,null,null,null,null,null,null,null,null,null,null,null,null,"2019-08-15",null,"Th"]
[null,null,null,null,null,null,null,null,null,null,null,null,null,null,null,null,null,null,null,null,null,null,null,null,null,null,null,null,null,null,null,null,null,null,null,null,null,null,"2019-08-16",null,"F"]
[null,null,null,null,null,null,null,null,null,null,null,null,null,null,null,null,null,null,null,null,null,null,null,null,null,null,null,null,null,null,null,null,null,null,null,null,null,null,"2019-08-17",null,"Sa"]
[null,null,null,null,null,null,null,null,null,null,null,null,null,null,null,null,null,null,null,null,null,null,null,null,null,null,null,null,null,null,null,null,null,null,null,null,null,null,"2019-08-18",null,"Su"]
[null,null,null,null,null,null,null,null,null,null,null,null,null,null,null,null,null,null,null,null,null,null,null,null,null,null,null,null,null,null,null,null,null,null,null,null,null,null,"2019-08-19",null,"M"]
[null,null,null,null,null,null,null,null,null,null,null,null,null,null,null,null,null,null,null,null,null,null,null,null,null,null,null,null,null,null,null,null,null,null,null,null,null,null,"2019-08-20",null,"T"]
[null,null,null,null,null,null,null,null,null,null,null,null,null,null,null,null,null,null,null,null,null,null,null,null,null,null,null,null,null,null,null,null,null,null,null,null,null,null,"2019-08-21",null,"W"]
[null,null,null,null,null,null,null,null,null,null,null,null,null,null,null,null,null,null,null,null,null,null,null,null,null,null,null,null,null,null,null,null,null,null,null,null,null,null,"2019-08-22",null,"Th"]
[null,null,null,null,null,null,null,null,null,null,null,null,null,null,null,null,null,null,null,null,null,null,null,null,null,null,null,null,null,null,null,null,null,null,null,null,null,null,"2019-08-23",null,"F"]
[null,null,null,null,null,null,null,null,null,null,null,null,null,null,null,null,null,null,null,null,null,null,null,null,null,null,null,null,null,null,null,null,null,null,null,null,null,null,"2019-08-24",null,"Sa"]
[null,null,null,null,null,null,null,null,null,null,null,null,null,null,null,null,null,null,null,null,null,null,null,null,null,null,null,null,null,null,null,null,null,null,null,null,null,null,"2019-08-25",null,"Su"]
[null,null,null,null,null,null,null,null,null,null,null,null,null,null,null,null,null,null,null,null,null,null,null,null,null,null,null,null,null,null,null,null,null,null,null,null,null,null,"2019-08-26",null,"M"]
[null,null,null,null,null,null,null,null,null,null,null,null,null,null,null,null,null,null,null,null,null,null,null,null,null,null,null,null,null,null,null,null,null,null,null,null,null,null,"2019-08-27",null,"T"]
[null,null,null,null,null,null,null,null,null,null,null,null,null,null,null,null,null,null,null,null,null,null,null,null,null,null,null,null,null,null,null,null,null,null,null,null,null,null,"2019-08-28",null,"W"]
[null,null,null,null,null,null,null,null,null,null,null,null,null,null,null,null,null,null,null,null,null,null,null,null,null,null,null,null,null,null,null,null,null,null,null,null,null,null,"2019-08-29",null,"Th"]
[null,null,null,null,null,null,null,null,null,null,null,null,null,null,null,null,null,null,null,null,null,null,null,null,null,null,null,null,null,null,null,null,null,null,null,null,null,null,"2019-08-30",{"$f":"IF(AO611=\"M\",\"Labor Day\",\"\")","v":""},"F",{"$f":"IF(AO611=\"M\",1,0)","v":0}]
[null,null,null,null,null,null,null,null,null,null,null,null,null,null,null,null,null,null,null,null,null,null,null,null,null,null,null,null,null,null,null,null,null,null,null,null,null,null,"2019-08-31","","Sa",{"$f":"IF(AO612=\"M\",1,0)","v":0}]
[null,null,null,null,null,null,null,null,null,null,null,null,null,null,null,null,null,null,null,null,null,null,null,null,null,null,null,null,null,null,null,null,null,null,null,null,null,null,"2019-09-01","","Su",0]
[null,null,null,null,null,null,null,null,null,null,null,null,null,null,null,null,null,null,null,null,null,null,null,null,null,null,null,null,null,null,null,null,null,null,null,null,null,null,"2019-09-02","Labor Day","M",1]
[null,null,null,null,null,null,null,null,null,null,null,null,null,null,null,null,null,null,null,null,null,null,null,null,null,null,null,null,null,null,null,null,null,null,null,null,null,null,"2019-09-03","","T",0]
[null,null,null,null,null,null,null,null,null,null,null,null,null,null,null,null,null,null,null,null,null,null,null,null,null,null,null,null,null,null,null,null,null,null,null,null,null,null,{"$f":"1+AM615","v":"2019-09-04"},"",{"$f":"VLOOKUP(WEEKDAY(AM616,1),DayTable,2,FALSE)","v":"W"},0]
[null,null,null,null,null,null,null,null,null,null,null,null,null,null,null,null,null,null,null,null,null,null,null,null,null,null,null,null,null,null,null,null,null,null,null,null,null,null,"2019-09-05","","Th",0]
[null,null,null,null,null,null,null,null,null,null,null,null,null,null,null,null,null,null,null,null,null,null,null,null,null,null,null,null,null,null,null,null,null,null,null,null,null,null,"2019-09-06",null,"F"]
[null,null,null,null,null,null,null,null,null,null,null,null,null,null,null,null,null,null,null,null,null,null,null,null,null,null,null,null,null,null,null,null,null,null,null,null,null,null,"2019-09-07",null,"Sa"]
[null,null,null,null,null,null,null,null,null,null,null,null,null,null,null,null,null,null,null,null,null,null,null,null,null,null,null,null,null,null,null,null,null,null,null,null,null,null,"2019-09-08",null,"Su"]
[null,null,null,null,null,null,null,null,null,null,null,null,null,null,null,null,null,null,null,null,null,null,null,null,null,null,null,null,null,null,null,null,null,null,null,null,null,null,"2019-09-09",null,"M"]
[null,null,null,null,null,null,null,null,null,null,null,null,null,null,null,null,null,null,null,null,null,null,null,null,null,null,null,null,null,null,null,null,null,null,null,null,null,null,"2019-09-10",null,"T"]
[null,null,null,null,null,null,null,null,null,null,null,null,null,null,null,null,null,null,null,null,null,null,null,null,null,null,null,null,null,null,null,null,null,null,null,null,null,null,"2019-09-11",null,"W"]
[null,null,null,null,null,null,null,null,null,null,null,null,null,null,null,null,null,null,null,null,null,null,null,null,null,null,null,null,null,null,null,null,null,null,null,null,null,null,"2019-09-12",null,"Th"]
[null,null,null,null,null,null,null,null,null,null,null,null,null,null,null,null,null,null,null,null,null,null,null,null,null,null,null,null,null,null,null,null,null,null,null,null,null,null,"2019-09-13",null,"F"]
[null,null,null,null,null,null,null,null,null,null,null,null,null,null,null,null,null,null,null,null,null,null,null,null,null,null,null,null,null,null,null,null,null,null,null,null,null,null,"2019-09-14",null,"Sa"]
[null,null,null,null,null,null,null,null,null,null,null,null,null,null,null,null,null,null,null,null,null,null,null,null,null,null,null,null,null,null,null,null,null,null,null,null,null,null,"2019-09-15",null,"Su"]
[null,null,null,null,null,null,null,null,null,null,null,null,null,null,null,null,null,null,null,null,null,null,null,null,null,null,null,null,null,null,null,null,null,null,null,null,null,null,"2019-09-16",null,"M"]
[null,null,null,null,null,null,null,null,null,null,null,null,null,null,null,null,null,null,null,null,null,null,null,null,null,null,null,null,null,null,null,null,null,null,null,null,null,null,"2019-09-17",null,"T"]
[null,null,null,null,null,null,null,null,null,null,null,null,null,null,null,null,null,null,null,null,null,null,null,null,null,null,null,null,null,null,null,null,null,null,null,null,null,null,"2019-09-18",null,"W"]
[null,null,null,null,null,null,null,null,null,null,null,null,null,null,null,null,null,null,null,null,null,null,null,null,null,null,null,null,null,null,null,null,null,null,null,null,null,null,"2019-09-19",null,"Th"]
[null,null,null,null,null,null,null,null,null,null,null,null,null,null,null,null,null,null,null,null,null,null,null,null,null,null,null,null,null,null,null,null,null,null,null,null,null,null,"2019-09-20",null,"F"]
[null,null,null,null,null,null,null,null,null,null,null,null,null,null,null,null,null,null,null,null,null,null,null,null,null,null,null,null,null,null,null,null,null,null,null,null,null,null,"2019-09-21",null,"Sa"]
[null,null,null,null,null,null,null,null,null,null,null,null,null,null,null,null,null,null,null,null,null,null,null,null,null,null,null,null,null,null,null,null,null,null,null,null,null,null,"2019-09-22",null,"Su"]
[null,null,null,null,null,null,null,null,null,null,null,null,null,null,null,null,null,null,null,null,null,null,null,null,null,null,null,null,null,null,null,null,null,null,null,null,null,null,"2019-09-23",null,"M"]
[null,null,null,null,null,null,null,null,null,null,null,null,null,null,null,null,null,null,null,null,null,null,null,null,null,null,null,null,null,null,null,null,null,null,null,null,null,null,"2019-09-24",null,"T"]
[null,null,null,null,null,null,null,null,null,null,null,null,null,null,null,null,null,null,null,null,null,null,null,null,null,null,null,null,null,null,null,null,null,null,null,null,null,null,"2019-09-25",null,"W"]
[null,null,null,null,null,null,null,null,null,null,null,null,null,null,null,null,null,null,null,null,null,null,null,null,null,null,null,null,null,null,null,null,null,null,null,null,null,null,"2019-09-26",null,"Th"]
[null,null,null,null,null,null,null,null,null,null,null,null,null,null,null,null,null,null,null,null,null,null,null,null,null,null,null,null,null,null,null,null,null,null,null,null,null,null,"2019-09-27",null,"F"]
[null,null,null,null,null,null,null,null,null,null,null,null,null,null,null,null,null,null,null,null,null,null,null,null,null,null,null,null,null,null,null,null,null,null,null,null,null,null,"2019-09-28",null,"Sa"]
[null,null,null,null,null,null,null,null,null,null,null,null,null,null,null,null,null,null,null,null,null,null,null,null,null,null,null,null,null,null,null,null,null,null,null,null,null,null,"2019-09-29",null,"Su"]
[null,null,null,null,null,null,null,null,null,null,null,null,null,null,null,null,null,null,null,null,null,null,null,null,null,null,null,null,null,null,null,null,null,null,null,null,null,null,"2019-09-30",null,"M"]
[null,null,null,null,null,null,null,null,null,null,null,null,null,null,null,null,null,null,null,null,null,null,null,null,null,null,null,null,null,null,null,null,null,null,null,null,null,null,"2019-10-01",null,"T"]
[null,null,null,null,null,null,null,null,null,null,null,null,null,null,null,null,null,null,null,null,null,null,null,null,null,null,null,null,null,null,null,null,null,null,null,null,null,null,"2019-10-02",null,"W"]
[null,null,null,null,null,null,null,null,null,null,null,null,null,null,null,null,null,null,null,null,null,null,null,null,null,null,null,null,null,null,null,null,null,null,null,null,null,null,"2019-10-03",null,"Th"]
[null,null,null,null,null,null,null,null,null,null,null,null,null,null,null,null,null,null,null,null,null,null,null,null,null,null,null,null,null,null,null,null,null,null,null,null,null,null,"2019-10-04",null,"F"]
[null,null,null,null,null,null,null,null,null,null,null,null,null,null,null,null,null,null,null,null,null,null,null,null,null,null,null,null,null,null,null,null,null,null,null,null,null,null,"2019-10-05",null,"Sa"]
[null,null,null,null,null,null,null,null,null,null,null,null,null,null,null,null,null,null,null,null,null,null,null,null,null,null,null,null,null,null,null,null,null,null,null,null,null,null,"2019-10-06",null,"Su"]
[null,null,null,null,null,null,null,null,null,null,null,null,null,null,null,null,null,null,null,null,null,null,null,null,null,null,null,null,null,null,null,null,null,null,null,null,null,null,"2019-10-07",null,"M"]
[null,null,null,null,null,null,null,null,null,null,null,null,null,null,null,null,null,null,null,null,null,null,null,null,null,null,null,null,null,null,null,null,null,null,null,null,null,null,"2019-10-08",null,"T"]
[null,null,null,null,null,null,null,null,null,null,null,null,null,null,null,null,null,null,null,null,null,null,null,null,null,null,null,null,null,null,null,null,null,null,null,null,null,null,"2019-10-09",null,"W"]
[null,null,null,null,null,null,null,null,null,null,null,null,null,null,null,null,null,null,null,null,null,null,null,null,null,null,null,null,null,null,null,null,null,null,null,null,null,null,"2019-10-10",null,"Th"]
[null,null,null,null,null,null,null,null,null,null,null,null,null,null,null,null,null,null,null,null,null,null,null,null,null,null,null,null,null,null,null,null,null,null,null,null,null,null,"2019-10-11",null,"F"]
[null,null,null,null,null,null,null,null,null,null,null,null,null,null,null,null,null,null,null,null,null,null,null,null,null,null,null,null,null,null,null,null,null,null,null,null,null,null,"2019-10-12",null,"Sa"]
[null,null,null,null,null,null,null,null,null,null,null,null,null,null,null,null,null,null,null,null,null,null,null,null,null,null,null,null,null,null,null,null,null,null,null,null,null,null,"2019-10-13",null,"Su"]
[null,null,null,null,null,null,null,null,null,null,null,null,null,null,null,null,null,null,null,null,null,null,null,null,null,null,null,null,null,null,null,null,null,null,null,null,null,null,"2019-10-14",null,"M"]
[null,null,null,null,null,null,null,null,null,null,null,null,null,null,null,null,null,null,null,null,null,null,null,null,null,null,null,null,null,null,null,null,null,null,null,null,null,null,"2019-10-15",null,"T"]
[null,null,null,null,null,null,null,null,null,null,null,null,null,null,null,null,null,null,null,null,null,null,null,null,null,null,null,null,null,null,null,null,null,null,null,null,null,null,"2019-10-16",null,"W"]
[null,null,null,null,null,null,null,null,null,null,null,null,null,null,null,null,null,null,null,null,null,null,null,null,null,null,null,null,null,null,null,null,null,null,null,null,null,null,"2019-10-17",null,"Th"]
[null,null,null,null,null,null,null,null,null,null,null,null,null,null,null,null,null,null,null,null,null,null,null,null,null,null,null,null,null,null,null,null,null,null,null,null,null,null,"2019-10-18",null,"F"]
[null,null,null,null,null,null,null,null,null,null,null,null,null,null,null,null,null,null,null,null,null,null,null,null,null,null,null,null,null,null,null,null,null,null,null,null,null,null,"2019-10-19",null,"Sa"]
[null,null,null,null,null,null,null,null,null,null,null,null,null,null,null,null,null,null,null,null,null,null,null,null,null,null,null,null,null,null,null,null,null,null,null,null,null,null,"2019-10-20",null,"Su"]
[null,null,null,null,null,null,null,null,null,null,null,null,null,null,null,null,null,null,null,null,null,null,null,null,null,null,null,null,null,null,null,null,null,null,null,null,null,null,"2019-10-21",null,"M"]
[null,null,null,null,null,null,null,null,null,null,null,null,null,null,null,null,null,null,null,null,null,null,null,null,null,null,null,null,null,null,null,null,null,null,null,null,null,null,"2019-10-22",null,"T"]
[null,null,null,null,null,null,null,null,null,null,null,null,null,null,null,null,null,null,null,null,null,null,null,null,null,null,null,null,null,null,null,null,null,null,null,null,null,null,"2019-10-23",null,"W"]
[null,null,null,null,null,null,null,null,null,null,null,null,null,null,null,null,null,null,null,null,null,null,null,null,null,null,null,null,null,null,null,null,null,null,null,null,null,null,"2019-10-24",null,"Th"]
[null,null,null,null,null,null,null,null,null,null,null,null,null,null,null,null,null,null,null,null,null,null,null,null,null,null,null,null,null,null,null,null,null,null,null,null,null,null,"2019-10-25",null,"F"]
[null,null,null,null,null,null,null,null,null,null,null,null,null,null,null,null,null,null,null,null,null,null,null,null,null,null,null,null,null,null,null,null,null,null,null,null,null,null,"2019-10-26",null,"Sa"]
[null,null,null,null,null,null,null,null,null,null,null,null,null,null,null,null,null,null,null,null,null,null,null,null,null,null,null,null,null,null,null,null,null,null,null,null,null,null,"2019-10-27",null,"Su"]
[null,null,null,null,null,null,null,null,null,null,null,null,null,null,null,null,null,null,null,null,null,null,null,null,null,null,null,null,null,null,null,null,null,null,null,null,null,null,"2019-10-28",null,"M"]
[null,null,null,null,null,null,null,null,null,null,null,null,null,null,null,null,null,null,null,null,null,null,null,null,null,null,null,null,null,null,null,null,null,null,null,null,null,null,"2019-10-29",null,"T"]
[null,null,null,null,null,null,null,null,null,null,null,null,null,null,null,null,null,null,null,null,null,null,null,null,null,null,null,null,null,null,null,null,null,null,null,null,null,null,"2019-10-30",null,"W"]
[null,null,null,null,null,null,null,null,null,null,null,null,null,null,null,null,null,null,null,null,null,null,null,null,null,null,null,null,null,null,null,null,null,null,null,null,null,null,"2019-10-31",null,"Th"]
[null,null,null,null,null,null,null,null,null,null,null,null,null,null,null,null,null,null,null,null,null,null,null,null,null,null,null,null,null,null,null,null,null,null,null,null,null,null,"2019-11-01",null,"F"]
[null,null,null,null,null,null,null,null,null,null,null,null,null,null,null,null,null,null,null,null,null,null,null,null,null,null,null,null,null,null,null,null,null,null,null,null,null,null,"2019-11-02",null,"Sa"]
[null,null,null,null,null,null,null,null,null,null,null,null,null,null,null,null,null,null,null,null,null,null,null,null,null,null,null,null,null,null,null,null,null,null,null,null,null,null,"2019-11-03",null,"Su"]
[null,null,null,null,null,null,null,null,null,null,null,null,null,null,null,null,null,null,null,null,null,null,null,null,null,null,null,null,null,null,null,null,null,null,null,null,null,null,"2019-11-04",null,"M"]
[null,null,null,null,null,null,null,null,null,null,null,null,null,null,null,null,null,null,null,null,null,null,null,null,null,null,null,null,null,null,null,null,null,null,null,null,null,null,"2019-11-05",null,"T"]
[null,null,null,null,null,null,null,null,null,null,null,null,null,null,null,null,null,null,null,null,null,null,null,null,null,null,null,null,null,null,null,null,null,null,null,null,null,null,"2019-11-06",null,"W"]
[null,null,null,null,null,null,null,null,null,null,null,null,null,null,null,null,null,null,null,null,null,null,null,null,null,null,null,null,null,null,null,null,null,null,null,null,null,null,{"$f":"1+AM679","v":"2019-11-07"},null,{"$f":"VLOOKUP(WEEKDAY(AM680,1),DayTable,2,FALSE)","v":"Th"}]
[null,null,null,null,null,null,null,null,null,null,null,null,null,null,null,null,null,null,null,null,null,null,null,null,null,null,null,null,null,null,null,null,null,null,null,null,null,null,"2019-11-08",null,"F"]
[null,null,null,null,null,null,null,null,null,null,null,null,null,null,null,null,null,null,null,null,null,null,null,null,null,null,null,null,null,null,null,null,null,null,null,null,null,null,"2019-11-09",null,"Sa"]
[null,null,null,null,null,null,null,null,null,null,null,null,null,null,null,null,null,null,null,null,null,null,null,null,null,null,null,null,null,null,null,null,null,null,null,null,null,null,"2019-11-10",null,"Su"]
[null,null,null,null,null,null,null,null,null,null,null,null,null,null,null,null,null,null,null,null,null,null,null,null,null,null,null,null,null,null,null,null,null,null,null,null,null,null,"2019-11-11",null,"M"]
[null,null,null,null,null,null,null,null,null,null,null,null,null,null,null,null,null,null,null,null,null,null,null,null,null,null,null,null,null,null,null,null,null,null,null,null,null,null,"2019-11-12",null,"T"]
[null,null,null,null,null,null,null,null,null,null,null,null,null,null,null,null,null,null,null,null,null,null,null,null,null,null,null,null,null,null,null,null,null,null,null,null,null,null,"2019-11-13",null,"W"]
[null,null,null,null,null,null,null,null,null,null,null,null,null,null,null,null,null,null,null,null,null,null,null,null,null,null,null,null,null,null,null,null,null,null,null,null,null,null,"2019-11-14",null,"Th"]
[null,null,null,null,null,null,null,null,null,null,null,null,null,null,null,null,null,null,null,null,null,null,null,null,null,null,null,null,null,null,null,null,null,null,null,null,null,null,"2019-11-15",null,"F"]
[null,null,null,null,null,null,null,null,null,null,null,null,null,null,null,null,null,null,null,null,null,null,null,null,null,null,null,null,null,null,null,null,null,null,null,null,null,null,"2019-11-16",null,"Sa"]
[null,null,null,null,null,null,null,null,null,null,null,null,null,null,null,null,null,null,null,null,null,null,null,null,null,null,null,null,null,null,null,null,null,null,null,null,null,null,"2019-11-17",null,"Su"]
[null,null,null,null,null,null,null,null,null,null,null,null,null,null,null,null,null,null,null,null,null,null,null,null,null,null,null,null,null,null,null,null,null,null,null,null,null,null,"2019-11-18",null,"M"]
[null,null,null,null,null,null,null,null,null,null,null,null,null,null,null,null,null,null,null,null,null,null,null,null,null,null,null,null,null,null,null,null,null,null,null,null,null,null,"2019-11-19",null,"T"]
[null,null,null,null,null,null,null,null,null,null,null,null,null,null,null,null,null,null,null,null,null,null,null,null,null,null,null,null,null,null,null,null,null,null,null,null,null,null,"2019-11-20",null,"W"]
[null,null,null,null,null,null,null,null,null,null,null,null,null,null,null,null,null,null,null,null,null,null,null,null,null,null,null,null,null,null,null,null,null,null,null,null,null,null,"2019-11-21",null,"Th"]
[null,null,null,null,null,null,null,null,null,null,null,null,null,null,null,null,null,null,null,null,null,null,null,null,null,null,null,null,null,null,null,null,null,null,null,null,null,null,"2019-11-22",null,"F"]
[null,null,null,null,null,null,null,null,null,null,null,null,null,null,null,null,null,null,null,null,null,null,null,null,null,null,null,null,null,null,null,null,null,null,null,null,null,null,"2019-11-23",null,"Sa"]
[null,null,null,null,null,null,null,null,null,null,null,null,null,null,null,null,null,null,null,null,null,null,null,null,null,null,null,null,null,null,null,null,null,null,null,null,null,null,"2019-11-24",{"$f":"IF(AO697=\"Th\",\"Thanksgiving\",\"\")","v":""},"Su",{"$f":"IF(AO697=\"Th\",1,0)","v":0}]
[null,null,null,null,null,null,null,null,null,null,null,null,null,null,null,null,null,null,null,null,null,null,null,null,null,null,null,null,null,null,null,null,null,null,null,null,null,null,"2019-11-25","","M",{"$f":"IF(AO698=\"Th\",1,0)","v":0}]
[null,null,null,null,null,null,null,null,null,null,null,null,null,null,null,null,null,null,null,null,null,null,null,null,null,null,null,null,null,null,null,null,null,null,null,null,null,null,"2019-11-26","","T",0]
[null,null,null,null,null,null,null,null,null,null,null,null,null,null,null,null,null,null,null,null,null,null,null,null,null,null,null,null,null,null,null,null,null,null,null,null,null,null,"2019-11-27","","W",0]
[null,null,null,null,null,null,null,null,null,null,null,null,null,null,null,null,null,null,null,null,null,null,null,null,null,null,null,null,null,null,null,null,null,null,null,null,null,null,"2019-11-28","Thanksgiving","Th",1]
[null,null,null,null,null,null,null,null,null,null,null,null,null,null,null,null,null,null,null,null,null,null,null,null,null,null,null,null,null,null,null,null,null,null,null,null,null,null,"2019-11-29","","F",0]
[null,null,null,null,null,null,null,null,null,null,null,null,null,null,null,null,null,null,null,null,null,null,null,null,null,null,null,null,null,null,null,null,null,null,null,null,null,null,"2019-11-30","","Sa",0]
[null,null,null,null,null,null,null,null,null,null,null,null,null,null,null,null,null,null,null,null,null,null,null,null,null,null,null,null,null,null,null,null,null,null,null,null,null,null,"2019-12-01",null,"Su"]
[null,null,null,null,null,null,null,null,null,null,null,null,null,null,null,null,null,null,null,null,null,null,null,null,null,null,null,null,null,null,null,null,null,null,null,null,null,null,"2019-12-02",null,"M"]